Back
From: metabase:user:320bfe00-2aae-11df-837a-5e0a49663a4f
Subject: PASS Catalyst-Controller-ActionRole-0.15 v5.19.10 GNU/Linux
Date: 2014-02-22T08:31:28Z
This distribution has been tested as part of the CPAN Testers
project, supporting the Perl programming language. See
http://wiki.cpantesters.org/ for more information or email
questions to cpan-testers-discuss@perl.org
--
Dear Florian Ragwitz,
This is a computer-generated report for Catalyst-Controller-ActionRole-0.15
on perl 5.19.10, created by CPAN-Reporter-1.2010.
Thank you for uploading your work to CPAN. Congratulations!
All tests were successful.
Sections of this report:
* Tester comments
* Program output
* Prerequisites
* Environment and other context
------------------------------
TESTER COMMENTS
------------------------------
Additional comments from tester:
this report is from an automated smoke testing program
and was not reviewed by a human for accuracy
------------------------------
PROGRAM OUTPUT
------------------------------
Output from '/usr/bin/make test':
PERL_DL_NONLAZY=1 /tmp/basesmoker-reloperl-li9F/bin/perl "-MExtUtils::Command::MM" "-MTest::Harness" "-e" "undef *Test::Harness::Switches; test_harness(0, 'blib/lib', 'blib/arch')" t/*.t
Class::MOP::load_class is deprecated at /home/sand/src/perl/repoperls/installed-perls/perl/v5.19.9-27-g591cc29/127e/lib/site_perl/5.19.10/x86_64-linux-ld/Class/MOP.pm line 73.
Class::MOP::load_class("TestApp::ActionRole::Kooh") called at /tmp/loop_over_bdir-18600-2CkWyS/Catalyst-Controller-ActionRole-0.15-RkUGlV/blib/lib/Catalyst/Controller/ActionRole.pm line 50
Catalyst::Controller::ActionRole::_build__action_roles(TestApp::Controller::Bar=HASH(0x3f50a88)) called at native delegation method Catalyst::Controller::ActionRole::_action_roles (elements) of attribute _action_roles (defined at /tmp/loop_over_bdir-18600-2CkWyS/Catalyst-Controller-ActionRole-0.15-RkUGlV/blib/lib/Catalyst/Controller/ActionRole.pm line 37) line 9
Catalyst::Controller::ActionRole::_action_roles(TestApp::Controller::Bar=HASH(0x3f50a88)) called at /home/sand/src/perl/repoperls/installed-perls/perl/v5.19.9-27-g591cc29/127e/lib/site_perl/5.19.10/Catalyst/Controller.pm line 84
Catalyst::Controller::BUILD(TestApp::Controller::Bar=HASH(0x3f50a88), HASH(0x3f547a8)) called at /home/sand/src/perl/repoperls/installed-perls/perl/v5.19.9-27-g591cc29/127e/lib/site_perl/5.19.10/x86_64-linux-ld/Class/MOP/Method.pm line 128
Class::MOP::Method::execute(Moose::Meta::Class::__ANON__::SERIAL::6=HASH(0x3755ea0), TestApp::Controller::Bar=HASH(0x3f50a88), HASH(0x3f547a8)) called at /home/sand/src/perl/repoperls/installed-perls/perl/v5.19.9-27-g591cc29/127e/lib/site_perl/5.19.10/x86_64-linux-ld/Moose/Object.pm line 56
Moose::Object::BUILDALL(TestApp::Controller::Bar=HASH(0x3f50a88), HASH(0x3f547a8)) called at /home/sand/src/perl/repoperls/installed-perls/perl/v5.19.9-27-g591cc29/127e/lib/site_perl/5.19.10/x86_64-linux-ld/Moose/Meta/Class.pm line 282
Moose::Meta::Class::new_object(Moose::Meta::Class::__ANON__::SERIAL::5=HASH(0x3f091a8), HASH(0x3f547a8)) called at /home/sand/src/perl/repoperls/installed-perls/perl/v5.19.9-27-g591cc29/127e/lib/site_perl/5.19.10/x86_64-linux-ld/Moose/Object.pm line 27
Moose::Object::new("TestApp::Controller::Bar", "TestApp", HASH(0x3d254b0)) called at constructor Catalyst::Controller::new (defined at /home/sand/src/perl/repoperls/installed-perls/perl/v5.19.9-27-g591cc29/127e/lib/site_perl/5.19.10/Catalyst/Controller.pm line 573) line 4
Catalyst::Controller::new("TestApp::Controller::Bar", "TestApp", HASH(0x3d254b0)) called at /home/sand/src/perl/repoperls/installed-perls/perl/v5.19.9-27-g591cc29/127e/lib/site_perl/5.19.10/Catalyst/Component.pm line 123
Catalyst::Component::COMPONENT("TestApp::Controller::Bar", "TestApp", HASH(0x3d254b0)) called at /home/sand/src/perl/repoperls/installed-perls/perl/v5.19.9-27-g591cc29/127e/lib/site_perl/5.19.10/Catalyst.pm line 2637
eval {...} called at /home/sand/src/perl/repoperls/installed-perls/perl/v5.19.9-27-g591cc29/127e/lib/site_perl/5.19.10/Catalyst.pm line 2637
Catalyst::setup_component("TestApp", "TestApp::Controller::Bar") called at /home/sand/src/perl/repoperls/installed-perls/perl/v5.19.9-27-g591cc29/127e/lib/site_perl/5.19.10/Catalyst.pm line 2564
Catalyst::setup_components("TestApp") called at /home/sand/src/perl/repoperls/installed-perls/perl/v5.19.9-27-g591cc29/127e/lib/site_perl/5.19.10/Catalyst.pm line 1180
Catalyst::setup("TestApp") called at /tmp/loop_over_bdir-18600-2CkWyS/Catalyst-Controller-ActionRole-0.15-RkUGlV/t/lib/TestApp.pm line 9
require TestApp.pm called at /home/sand/src/perl/repoperls/installed-perls/perl/v5.19.9-27-g591cc29/127e/lib/site_perl/5.19.10/Module/Runtime.pm line 317
Module::Runtime::require_module("TestApp") called at /home/sand/src/perl/repoperls/installed-perls/perl/v5.19.9-27-g591cc29/127e/lib/site_perl/5.19.10/Class/Load.pm line 179
Class::Load::try {...} () called at /home/sand/src/perl/repoperls/installed-perls/perl/v5.19.9-27-g591cc29/127e/lib/site_perl/5.19.10/Try/Tiny.pm line 77
eval {...} called at /home/sand/src/perl/repoperls/installed-perls/perl/v5.19.9-27-g591cc29/127e/lib/site_perl/5.19.10/Try/Tiny.pm line 72
Try::Tiny::try(CODE(0x2cea4f0), Try::Tiny::Catch=REF(0x2cee7c8)) called at /home/sand/src/perl/repoperls/installed-perls/perl/v5.19.9-27-g591cc29/127e/lib/site_perl/5.19.10/Class/Load.pm line 185
Class::Load::try_load_class("TestApp", undef) called at /home/sand/src/perl/repoperls/installed-perls/perl/v5.19.9-27-g591cc29/127e/lib/site_perl/5.19.10/Class/Load.pm line 40
Class::Load::load_class("TestApp") called at /home/sand/src/perl/repoperls/installed-perls/perl/v5.19.9-27-g591cc29/127e/lib/site_perl/5.19.10/Catalyst/Test.pm line 29
Catalyst::Test::_build_request_export("Catalyst::Test", HASH(0x1ad5b10)) called at /home/sand/src/perl/repoperls/installed-perls/perl/v5.19.9-27-g591cc29/127e/lib/site_perl/5.19.10/Catalyst/Test.pm line 92
Catalyst::Test::__ANON__("Catalyst::Test", "all", HASH(0x1ad5ae0), HASH(0x1d01b28)) called at /home/sand/src/perl/repoperls/installed-perls/perl/v5.19.9-27-g591cc29/127e/lib/site_perl/5.19.10/Sub/Exporter.pm line 108
Sub::Exporter::_expand_group("Catalyst::Test", HASH(0x301fd70), ARRAY(0x1c7e7b0), HASH(0x1d01b28), HASH(0x1ad5b40), HASH(0x1d01d98)) called at /home/sand/src/perl/repoperls/installed-perls/perl/v5.19.9-27-g591cc29/127e/lib/site_perl/5.19.10/Sub/Exporter.pm line 39
Sub::Exporter::_expand_groups("Catalyst::Test", HASH(0x301fd70), ARRAY(0x1ad54b0), HASH(0x1d01b28)) called at /home/sand/src/perl/repoperls/installed-perls/perl/v5.19.9-27-g591cc29/127e/lib/site_perl/5.19.10/Sub/Exporter.pm line 323
Sub::Exporter::__ANON__("Catalyst::Test", "-all", HASH(0x1c7e1f8)) called at /home/sand/src/perl/repoperls/installed-perls/perl/v5.19.9-27-g591cc29/127e/lib/site_perl/5.19.10/Catalyst/Test.pm line 155
Catalyst::Test::import("Catalyst::Test", "TestApp") called at t/action-class.t line 8
main::BEGIN() called at /tmp/loop_over_bdir-18600-2CkWyS/Catalyst-Controller-ActionRole-0.15-RkUGlV/t/lib/TestApp.pm line 0
eval {...} called at /tmp/loop_over_bdir-18600-2CkWyS/Catalyst-Controller-ActionRole-0.15-RkUGlV/t/lib/TestApp.pm line 0
Class::MOP::load_first_existing_class is deprecated at /home/sand/src/perl/repoperls/installed-perls/perl/v5.19.9-27-g591cc29/127e/lib/site_perl/5.19.10/x86_64-linux-ld/Class/MOP.pm line 82.
Class::MOP::load_first_existing_class("TestApp::ActionRole::Shared", "Catalyst::ActionRole::Shared") called at /tmp/loop_over_bdir-18600-2CkWyS/Catalyst-Controller-ActionRole-0.15-RkUGlV/blib/lib/Catalyst/Controller/ActionRole.pm line 120
Catalyst::Controller::ActionRole::__ANON__("Shared") called at /home/sand/src/perl/repoperls/installed-perls/perl/v5.19.9-27-g591cc29/127e/lib/site_perl/5.19.10/String/RewritePrefix.pm line 44
String::RewritePrefix::__ANON__("Shared") called at /home/sand/src/perl/repoperls/installed-perls/perl/v5.19.9-27-g591cc29/127e/lib/site_perl/5.19.10/String/RewritePrefix.pm line 18
String::RewritePrefix::rewrite("String::RewritePrefix", HASH(0x3f6b1e8), "Shared") called at /tmp/loop_over_bdir-18600-2CkWyS/Catalyst-Controller-ActionRole-0.15-RkUGlV/blib/lib/Catalyst/Controller/ActionRole.pm line 125
Catalyst::Controller::ActionRole::_expand_role_shortname(TestApp::Controller::ExecutionViaConfig=HASH(0x3f6ade0), "Shared") called at /tmp/loop_over_bdir-18600-2CkWyS/Catalyst-Controller-ActionRole-0.15-RkUGlV/blib/lib/Catalyst/Controller/ActionRole.pm line 49
Catalyst::Controller::ActionRole::_build__action_roles(TestApp::Controller::ExecutionViaConfig=HASH(0x3f6ade0)) called at native delegation method Catalyst::Controller::ActionRole::_action_roles (elements) of attribute _action_roles (defined at /tmp/loop_over_bdir-18600-2CkWyS/Catalyst-Controller-ActionRole-0.15-RkUGlV/blib/lib/Catalyst/Controller/ActionRole.pm line 37) line 9
Catalyst::Controller::ActionRole::_action_roles(TestApp::Controller::ExecutionViaConfig=HASH(0x3f6ade0)) called at /home/sand/src/perl/repoperls/installed-perls/perl/v5.19.9-27-g591cc29/127e/lib/site_perl/5.19.10/Catalyst/Controller.pm line 84
Catalyst::Controller::BUILD(TestApp::Controller::ExecutionViaConfig=HASH(0x3f6ade0), HASH(0x3f69c68)) called at /home/sand/src/perl/repoperls/installed-perls/perl/v5.19.9-27-g591cc29/127e/lib/site_perl/5.19.10/x86_64-linux-ld/Class/MOP/Method.pm line 128
Class::MOP::Method::execute(Moose::Meta::Class::__ANON__::SERIAL::6=HASH(0x3755ea0), TestApp::Controller::ExecutionViaConfig=HASH(0x3f6ade0), HASH(0x3f69c68)) called at /home/sand/src/perl/repoperls/installed-perls/perl/v5.19.9-27-g591cc29/127e/lib/site_perl/5.19.10/x86_64-linux-ld/Moose/Object.pm line 56
Moose::Object::BUILDALL(TestApp::Controller::ExecutionViaConfig=HASH(0x3f6ade0), HASH(0x3f69c68)) called at /home/sand/src/perl/repoperls/installed-perls/perl/v5.19.9-27-g591cc29/127e/lib/site_perl/5.19.10/x86_64-linux-ld/Moose/Meta/Class.pm line 282
Moose::Meta::Class::new_object(Moose::Meta::Class::__ANON__::SERIAL::5=HASH(0x3f48a60), HASH(0x3f69c68)) called at /home/sand/src/perl/repoperls/installed-perls/perl/v5.19.9-27-g591cc29/127e/lib/site_perl/5.19.10/x86_64-linux-ld/Moose/Object.pm line 27
Moose::Object::new("TestApp::Controller::ExecutionViaConfig", "TestApp", HASH(0x3f6aac8)) called at constructor Catalyst::Controller::new (defined at /home/sand/src/perl/repoperls/installed-perls/perl/v5.19.9-27-g591cc29/127e/lib/site_perl/5.19.10/Catalyst/Controller.pm line 573) line 4
Catalyst::Controller::new("TestApp::Controller::ExecutionViaConfig", "TestApp", HASH(0x3f6aac8)) called at /home/sand/src/perl/repoperls/installed-perls/perl/v5.19.9-27-g591cc29/127e/lib/site_perl/5.19.10/Catalyst/Component.pm line 123
Catalyst::Component::COMPONENT("TestApp::Controller::ExecutionViaConfig", "TestApp", HASH(0x3f6aac8)) called at /home/sand/src/perl/repoperls/installed-perls/perl/v5.19.9-27-g591cc29/127e/lib/site_perl/5.19.10/Catalyst.pm line 2637
eval {...} called at /home/sand/src/perl/repoperls/installed-perls/perl/v5.19.9-27-g591cc29/127e/lib/site_perl/5.19.10/Catalyst.pm line 2637
Catalyst::setup_component("TestApp", "TestApp::Controller::ExecutionViaConfig") called at /home/sand/src/perl/repoperls/installed-perls/perl/v5.19.9-27-g591cc29/127e/lib/site_perl/5.19.10/Catalyst.pm line 2564
Catalyst::setup_components("TestApp") called at /home/sand/src/perl/repoperls/installed-perls/perl/v5.19.9-27-g591cc29/127e/lib/site_perl/5.19.10/Catalyst.pm line 1180
Catalyst::setup("TestApp") called at /tmp/loop_over_bdir-18600-2CkWyS/Catalyst-Controller-ActionRole-0.15-RkUGlV/t/lib/TestApp.pm line 9
require TestApp.pm called at /home/sand/src/perl/repoperls/installed-perls/perl/v5.19.9-27-g591cc29/127e/lib/site_perl/5.19.10/Module/Runtime.pm line 317
Module::Runtime::require_module("TestApp") called at /home/sand/src/perl/repoperls/installed-perls/perl/v5.19.9-27-g591cc29/127e/lib/site_perl/5.19.10/Class/Load.pm line 179
Class::Load::try {...} () called at /home/sand/src/perl/repoperls/installed-perls/perl/v5.19.9-27-g591cc29/127e/lib/site_perl/5.19.10/Try/Tiny.pm line 77
eval {...} called at /home/sand/src/perl/repoperls/installed-perls/perl/v5.19.9-27-g591cc29/127e/lib/site_perl/5.19.10/Try/Tiny.pm line 72
Try::Tiny::try(CODE(0x2cea4f0), Try::Tiny::Catch=REF(0x2cee7c8)) called at /home/sand/src/perl/repoperls/installed-perls/perl/v5.19.9-27-g591cc29/127e/lib/site_perl/5.19.10/Class/Load.pm line 185
Class::Load::try_load_class("TestApp", undef) called at /home/sand/src/perl/repoperls/installed-perls/perl/v5.19.9-27-g591cc29/127e/lib/site_perl/5.19.10/Class/Load.pm line 40
Class::Load::load_class("TestApp") called at /home/sand/src/perl/repoperls/installed-perls/perl/v5.19.9-27-g591cc29/127e/lib/site_perl/5.19.10/Catalyst/Test.pm line 29
Catalyst::Test::_build_request_export("Catalyst::Test", HASH(0x1ad5b10)) called at /home/sand/src/perl/repoperls/installed-perls/perl/v5.19.9-27-g591cc29/127e/lib/site_perl/5.19.10/Catalyst/Test.pm line 92
Catalyst::Test::__ANON__("Catalyst::Test", "all", HASH(0x1ad5ae0), HASH(0x1d01b28)) called at /home/sand/src/perl/repoperls/installed-perls/perl/v5.19.9-27-g591cc29/127e/lib/site_perl/5.19.10/Sub/Exporter.pm line 108
Sub::Exporter::_expand_group("Catalyst::Test", HASH(0x301fd70), ARRAY(0x1c7e7b0), HASH(0x1d01b28), HASH(0x1ad5b40), HASH(0x1d01d98)) called at /home/sand/src/perl/repoperls/installed-perls/perl/v5.19.9-27-g591cc29/127e/lib/site_perl/5.19.10/Sub/Exporter.pm line 39
Sub::Exporter::_expand_groups("Catalyst::Test", HASH(0x301fd70), ARRAY(0x1ad54b0), HASH(0x1d01b28)) called at /home/sand/src/perl/repoperls/installed-perls/perl/v5.19.9-27-g591cc29/127e/lib/site_perl/5.19.10/Sub/Exporter.pm line 323
Sub::Exporter::__ANON__("Catalyst::Test", "-all", HASH(0x1c7e1f8)) called at /home/sand/src/perl/repoperls/installed-perls/perl/v5.19.9-27-g591cc29/127e/lib/site_perl/5.19.10/Catalyst/Test.pm line 155
Catalyst::Test::import("Catalyst::Test", "TestApp") called at t/action-class.t line 8
main::BEGIN() called at /tmp/loop_over_bdir-18600-2CkWyS/Catalyst-Controller-ActionRole-0.15-RkUGlV/t/lib/TestApp.pm line 0
eval {...} called at /tmp/loop_over_bdir-18600-2CkWyS/Catalyst-Controller-ActionRole-0.15-RkUGlV/t/lib/TestApp.pm line 0
t/action-class.t .......... ok
Class::MOP::load_class is deprecated at /home/sand/src/perl/repoperls/installed-perls/perl/v5.19.9-27-g591cc29/127e/lib/site_perl/5.19.10/x86_64-linux-ld/Class/MOP.pm line 73.
Class::MOP::load_class("TestApp::ActionRole::Kooh") called at /tmp/loop_over_bdir-18600-2CkWyS/Catalyst-Controller-ActionRole-0.15-RkUGlV/blib/lib/Catalyst/Controller/ActionRole.pm line 50
Catalyst::Controller::ActionRole::_build__action_roles(TestApp::Controller::Bar=HASH(0x47b88b8)) called at native delegation method Catalyst::Controller::ActionRole::_action_roles (elements) of attribute _action_roles (defined at /tmp/loop_over_bdir-18600-2CkWyS/Catalyst-Controller-ActionRole-0.15-RkUGlV/blib/lib/Catalyst/Controller/ActionRole.pm line 37) line 9
Catalyst::Controller::ActionRole::_action_roles(TestApp::Controller::Bar=HASH(0x47b88b8)) called at /home/sand/src/perl/repoperls/installed-perls/perl/v5.19.9-27-g591cc29/127e/lib/site_perl/5.19.10/Catalyst/Controller.pm line 84
Catalyst::Controller::BUILD(TestApp::Controller::Bar=HASH(0x47b88b8), HASH(0x47b87c8)) called at /home/sand/src/perl/repoperls/installed-perls/perl/v5.19.9-27-g591cc29/127e/lib/site_perl/5.19.10/x86_64-linux-ld/Class/MOP/Method.pm line 128
Class::MOP::Method::execute(Moose::Meta::Class::__ANON__::SERIAL::6=HASH(0x3fb7d20), TestApp::Controller::Bar=HASH(0x47b88b8), HASH(0x47b87c8)) called at /home/sand/src/perl/repoperls/installed-perls/perl/v5.19.9-27-g591cc29/127e/lib/site_perl/5.19.10/x86_64-linux-ld/Moose/Object.pm line 56
Moose::Object::BUILDALL(TestApp::Controller::Bar=HASH(0x47b88b8), HASH(0x47b87c8)) called at /home/sand/src/perl/repoperls/installed-perls/perl/v5.19.9-27-g591cc29/127e/lib/site_perl/5.19.10/x86_64-linux-ld/Moose/Meta/Class.pm line 282
Moose::Meta::Class::new_object(Moose::Meta::Class::__ANON__::SERIAL::5=HASH(0x476ae28), HASH(0x47b87c8)) called at /home/sand/src/perl/repoperls/installed-perls/perl/v5.19.9-27-g591cc29/127e/lib/site_perl/5.19.10/x86_64-linux-ld/Moose/Object.pm line 27
Moose::Object::new("TestApp::Controller::Bar", "TestApp", HASH(0x4707170)) called at constructor Catalyst::Controller::new (defined at /home/sand/src/perl/repoperls/installed-perls/perl/v5.19.9-27-g591cc29/127e/lib/site_perl/5.19.10/Catalyst/Controller.pm line 573) line 4
Catalyst::Controller::new("TestApp::Controller::Bar", "TestApp", HASH(0x4707170)) called at /home/sand/src/perl/repoperls/installed-perls/perl/v5.19.9-27-g591cc29/127e/lib/site_perl/5.19.10/Catalyst/Component.pm line 123
Catalyst::Component::COMPONENT("TestApp::Controller::Bar", "TestApp", HASH(0x4707170)) called at /home/sand/src/perl/repoperls/installed-perls/perl/v5.19.9-27-g591cc29/127e/lib/site_perl/5.19.10/Catalyst.pm line 2637
eval {...} called at /home/sand/src/perl/repoperls/installed-perls/perl/v5.19.9-27-g591cc29/127e/lib/site_perl/5.19.10/Catalyst.pm line 2637
Catalyst::setup_component("TestApp", "TestApp::Controller::Bar") called at /home/sand/src/perl/repoperls/installed-perls/perl/v5.19.9-27-g591cc29/127e/lib/site_perl/5.19.10/Catalyst.pm line 2564
Catalyst::setup_components("TestApp") called at /home/sand/src/perl/repoperls/installed-perls/perl/v5.19.9-27-g591cc29/127e/lib/site_perl/5.19.10/Catalyst.pm line 1180
Catalyst::setup("TestApp") called at /tmp/loop_over_bdir-18600-2CkWyS/Catalyst-Controller-ActionRole-0.15-RkUGlV/t/lib/TestApp.pm line 9
require TestApp.pm called at /home/sand/src/perl/repoperls/installed-perls/perl/v5.19.9-27-g591cc29/127e/lib/site_perl/5.19.10/Module/Runtime.pm line 317
Module::Runtime::require_module("TestApp") called at /home/sand/src/perl/repoperls/installed-perls/perl/v5.19.9-27-g591cc29/127e/lib/site_perl/5.19.10/Class/Load.pm line 179
Class::Load::try {...} () called at /home/sand/src/perl/repoperls/installed-perls/perl/v5.19.9-27-g591cc29/127e/lib/site_perl/5.19.10/Try/Tiny.pm line 77
eval {...} called at /home/sand/src/perl/repoperls/installed-perls/perl/v5.19.9-27-g591cc29/127e/lib/site_perl/5.19.10/Try/Tiny.pm line 72
Try::Tiny::try(CODE(0x3508cb0), Try::Tiny::Catch=REF(0x35087a0)) called at /home/sand/src/perl/repoperls/installed-perls/perl/v5.19.9-27-g591cc29/127e/lib/site_perl/5.19.10/Class/Load.pm line 185
Class::Load::try_load_class("TestApp", undef) called at /home/sand/src/perl/repoperls/installed-perls/perl/v5.19.9-27-g591cc29/127e/lib/site_perl/5.19.10/Class/Load.pm line 40
Class::Load::load_class("TestApp") called at /home/sand/src/perl/repoperls/installed-perls/perl/v5.19.9-27-g591cc29/127e/lib/site_perl/5.19.10/Catalyst/Test.pm line 29
Catalyst::Test::_build_request_export("Catalyst::Test", HASH(0x2337bb0)) called at /home/sand/src/perl/repoperls/installed-perls/perl/v5.19.9-27-g591cc29/127e/lib/site_perl/5.19.10/Catalyst/Test.pm line 92
Catalyst::Test::__ANON__("Catalyst::Test", "all", HASH(0x2337b80), HASH(0x2563ea8)) called at /home/sand/src/perl/repoperls/installed-perls/perl/v5.19.9-27-g591cc29/127e/lib/site_perl/5.19.10/Sub/Exporter.pm line 108
Sub::Exporter::_expand_group("Catalyst::Test", HASH(0x3881f80), ARRAY(0x24e0880), HASH(0x2563ea8), HASH(0x2337be0), HASH(0x2563ed8)) called at /home/sand/src/perl/repoperls/installed-perls/perl/v5.19.9-27-g591cc29/127e/lib/site_perl/5.19.10/Sub/Exporter.pm line 39
Sub::Exporter::_expand_groups("Catalyst::Test", HASH(0x3881f80), ARRAY(0x2337550), HASH(0x2563ea8)) called at /home/sand/src/perl/repoperls/installed-perls/perl/v5.19.9-27-g591cc29/127e/lib/site_perl/5.19.10/Sub/Exporter.pm line 323
Sub::Exporter::__ANON__("Catalyst::Test", "-all", HASH(0x24e02c8)) called at /home/sand/src/perl/repoperls/installed-perls/perl/v5.19.9-27-g591cc29/127e/lib/site_perl/5.19.10/Catalyst/Test.pm line 155
Catalyst::Test::import("Catalyst::Test", "TestApp") called at t/basic.t line 8
main::BEGIN() called at /tmp/loop_over_bdir-18600-2CkWyS/Catalyst-Controller-ActionRole-0.15-RkUGlV/t/lib/TestApp.pm line 0
eval {...} called at /tmp/loop_over_bdir-18600-2CkWyS/Catalyst-Controller-ActionRole-0.15-RkUGlV/t/lib/TestApp.pm line 0
Class::MOP::load_first_existing_class is deprecated at /home/sand/src/perl/repoperls/installed-perls/perl/v5.19.9-27-g591cc29/127e/lib/site_perl/5.19.10/x86_64-linux-ld/Class/MOP.pm line 82.
Class::MOP::load_first_existing_class("TestApp::ActionRole::Shared", "Catalyst::ActionRole::Shared") called at /tmp/loop_over_bdir-18600-2CkWyS/Catalyst-Controller-ActionRole-0.15-RkUGlV/blib/lib/Catalyst/Controller/ActionRole.pm line 120
Catalyst::Controller::ActionRole::__ANON__("Shared") called at /home/sand/src/perl/repoperls/installed-perls/perl/v5.19.9-27-g591cc29/127e/lib/site_perl/5.19.10/String/RewritePrefix.pm line 44
String::RewritePrefix::__ANON__("Shared") called at /home/sand/src/perl/repoperls/installed-perls/perl/v5.19.9-27-g591cc29/127e/lib/site_perl/5.19.10/String/RewritePrefix.pm line 18
String::RewritePrefix::rewrite("String::RewritePrefix", HASH(0x47ccd98), "Shared") called at /tmp/loop_over_bdir-18600-2CkWyS/Catalyst-Controller-ActionRole-0.15-RkUGlV/blib/lib/Catalyst/Controller/ActionRole.pm line 125
Catalyst::Controller::ActionRole::_expand_role_shortname(TestApp::Controller::ExecutionViaConfig=HASH(0x47cc990), "Shared") called at /tmp/loop_over_bdir-18600-2CkWyS/Catalyst-Controller-ActionRole-0.15-RkUGlV/blib/lib/Catalyst/Controller/ActionRole.pm line 49
Catalyst::Controller::ActionRole::_build__action_roles(TestApp::Controller::ExecutionViaConfig=HASH(0x47cc990)) called at native delegation method Catalyst::Controller::ActionRole::_action_roles (elements) of attribute _action_roles (defined at /tmp/loop_over_bdir-18600-2CkWyS/Catalyst-Controller-ActionRole-0.15-RkUGlV/blib/lib/Catalyst/Controller/ActionRole.pm line 37) line 9
Catalyst::Controller::ActionRole::_action_roles(TestApp::Controller::ExecutionViaConfig=HASH(0x47cc990)) called at /home/sand/src/perl/repoperls/installed-perls/perl/v5.19.9-27-g591cc29/127e/lib/site_perl/5.19.10/Catalyst/Controller.pm line 84
Catalyst::Controller::BUILD(TestApp::Controller::ExecutionViaConfig=HASH(0x47cc990), HASH(0x47c59d8)) called at /home/sand/src/perl/repoperls/installed-perls/perl/v5.19.9-27-g591cc29/127e/lib/site_perl/5.19.10/x86_64-linux-ld/Class/MOP/Method.pm line 128
Class::MOP::Method::execute(Moose::Meta::Class::__ANON__::SERIAL::6=HASH(0x3fb7d20), TestApp::Controller::ExecutionViaConfig=HASH(0x47cc990), HASH(0x47c59d8)) called at /home/sand/src/perl/repoperls/installed-perls/perl/v5.19.9-27-g591cc29/127e/lib/site_perl/5.19.10/x86_64-linux-ld/Moose/Object.pm line 56
Moose::Object::BUILDALL(TestApp::Controller::ExecutionViaConfig=HASH(0x47cc990), HASH(0x47c59d8)) called at /home/sand/src/perl/repoperls/installed-perls/perl/v5.19.9-27-g591cc29/127e/lib/site_perl/5.19.10/x86_64-linux-ld/Moose/Meta/Class.pm line 282
Moose::Meta::Class::new_object(Moose::Meta::Class::__ANON__::SERIAL::5=HASH(0x47ab470), HASH(0x47c59d8)) called at /home/sand/src/perl/repoperls/installed-perls/perl/v5.19.9-27-g591cc29/127e/lib/site_perl/5.19.10/x86_64-linux-ld/Moose/Object.pm line 27
Moose::Object::new("TestApp::Controller::ExecutionViaConfig", "TestApp", HASH(0x47cc690)) called at constructor Catalyst::Controller::new (defined at /home/sand/src/perl/repoperls/installed-perls/perl/v5.19.9-27-g591cc29/127e/lib/site_perl/5.19.10/Catalyst/Controller.pm line 573) line 4
Catalyst::Controller::new("TestApp::Controller::ExecutionViaConfig", "TestApp", HASH(0x47cc690)) called at /home/sand/src/perl/repoperls/installed-perls/perl/v5.19.9-27-g591cc29/127e/lib/site_perl/5.19.10/Catalyst/Component.pm line 123
Catalyst::Component::COMPONENT("TestApp::Controller::ExecutionViaConfig", "TestApp", HASH(0x47cc690)) called at /home/sand/src/perl/repoperls/installed-perls/perl/v5.19.9-27-g591cc29/127e/lib/site_perl/5.19.10/Catalyst.pm line 2637
eval {...} called at /home/sand/src/perl/repoperls/installed-perls/perl/v5.19.9-27-g591cc29/127e/lib/site_perl/5.19.10/Catalyst.pm line 2637
Catalyst::setup_component("TestApp", "TestApp::Controller::ExecutionViaConfig") called at /home/sand/src/perl/repoperls/installed-perls/perl/v5.19.9-27-g591cc29/127e/lib/site_perl/5.19.10/Catalyst.pm line 2564
Catalyst::setup_components("TestApp") called at /home/sand/src/perl/repoperls/installed-perls/perl/v5.19.9-27-g591cc29/127e/lib/site_perl/5.19.10/Catalyst.pm line 1180
Catalyst::setup("TestApp") called at /tmp/loop_over_bdir-18600-2CkWyS/Catalyst-Controller-ActionRole-0.15-RkUGlV/t/lib/TestApp.pm line 9
require TestApp.pm called at /home/sand/src/perl/repoperls/installed-perls/perl/v5.19.9-27-g591cc29/127e/lib/site_perl/5.19.10/Module/Runtime.pm line 317
Module::Runtime::require_module("TestApp") called at /home/sand/src/perl/repoperls/installed-perls/perl/v5.19.9-27-g591cc29/127e/lib/site_perl/5.19.10/Class/Load.pm line 179
Class::Load::try {...} () called at /home/sand/src/perl/repoperls/installed-perls/perl/v5.19.9-27-g591cc29/127e/lib/site_perl/5.19.10/Try/Tiny.pm line 77
eval {...} called at /home/sand/src/perl/repoperls/installed-perls/perl/v5.19.9-27-g591cc29/127e/lib/site_perl/5.19.10/Try/Tiny.pm line 72
Try::Tiny::try(CODE(0x3508cb0), Try::Tiny::Catch=REF(0x35087a0)) called at /home/sand/src/perl/repoperls/installed-perls/perl/v5.19.9-27-g591cc29/127e/lib/site_perl/5.19.10/Class/Load.pm line 185
Class::Load::try_load_class("TestApp", undef) called at /home/sand/src/perl/repoperls/installed-perls/perl/v5.19.9-27-g591cc29/127e/lib/site_perl/5.19.10/Class/Load.pm line 40
Class::Load::load_class("TestApp") called at /home/sand/src/perl/repoperls/installed-perls/perl/v5.19.9-27-g591cc29/127e/lib/site_perl/5.19.10/Catalyst/Test.pm line 29
Catalyst::Test::_build_request_export("Catalyst::Test", HASH(0x2337bb0)) called at /home/sand/src/perl/repoperls/installed-perls/perl/v5.19.9-27-g591cc29/127e/lib/site_perl/5.19.10/Catalyst/Test.pm line 92
Catalyst::Test::__ANON__("Catalyst::Test", "all", HASH(0x2337b80), HASH(0x2563ea8)) called at /home/sand/src/perl/repoperls/installed-perls/perl/v5.19.9-27-g591cc29/127e/lib/site_perl/5.19.10/Sub/Exporter.pm line 108
Sub::Exporter::_expand_group("Catalyst::Test", HASH(0x3881f80), ARRAY(0x24e0880), HASH(0x2563ea8), HASH(0x2337be0), HASH(0x2563ed8)) called at /home/sand/src/perl/repoperls/installed-perls/perl/v5.19.9-27-g591cc29/127e/lib/site_perl/5.19.10/Sub/Exporter.pm line 39
Sub::Exporter::_expand_groups("Catalyst::Test", HASH(0x3881f80), ARRAY(0x2337550), HASH(0x2563ea8)) called at /home/sand/src/perl/repoperls/installed-perls/perl/v5.19.9-27-g591cc29/127e/lib/site_perl/5.19.10/Sub/Exporter.pm line 323
Sub::Exporter::__ANON__("Catalyst::Test", "-all", HASH(0x24e02c8)) called at /home/sand/src/perl/repoperls/installed-perls/perl/v5.19.9-27-g591cc29/127e/lib/site_perl/5.19.10/Catalyst/Test.pm line 155
Catalyst::Test::import("Catalyst::Test", "TestApp") called at t/basic.t line 8
main::BEGIN() called at /tmp/loop_over_bdir-18600-2CkWyS/Catalyst-Controller-ActionRole-0.15-RkUGlV/t/lib/TestApp.pm line 0
eval {...} called at /tmp/loop_over_bdir-18600-2CkWyS/Catalyst-Controller-ActionRole-0.15-RkUGlV/t/lib/TestApp.pm line 0
t/basic.t ................. ok
Class::MOP::load_first_existing_class is deprecated at /home/sand/src/perl/repoperls/installed-perls/perl/v5.19.9-27-g591cc29/127e/lib/site_perl/5.19.10/x86_64-linux-ld/Class/MOP.pm line 82.
Class::MOP::load_first_existing_class("TestAppREST::ActionRole::Moo", "Catalyst::ActionRole::Moo") called at /tmp/loop_over_bdir-18600-2CkWyS/Catalyst-Controller-ActionRole-0.15-RkUGlV/blib/lib/Catalyst/Controller/ActionRole.pm line 120
Catalyst::Controller::ActionRole::__ANON__("Moo") called at /home/sand/src/perl/repoperls/installed-perls/perl/v5.19.9-27-g591cc29/127e/lib/site_perl/5.19.10/String/RewritePrefix.pm line 44
String::RewritePrefix::__ANON__("Moo") called at /home/sand/src/perl/repoperls/installed-perls/perl/v5.19.9-27-g591cc29/127e/lib/site_perl/5.19.10/String/RewritePrefix.pm line 18
String::RewritePrefix::rewrite("String::RewritePrefix", HASH(0x34d21e0), "Moo") called at /tmp/loop_over_bdir-18600-2CkWyS/Catalyst-Controller-ActionRole-0.15-RkUGlV/blib/lib/Catalyst/Controller/ActionRole.pm line 125
Catalyst::Controller::ActionRole::_expand_role_shortname(TestAppREST::Controller::Foo=HASH(0x346e178), "Moo") called at /tmp/loop_over_bdir-18600-2CkWyS/Catalyst-Controller-ActionRole-0.15-RkUGlV/blib/lib/Catalyst/Controller/ActionRole.pm line 134
Catalyst::Controller::ActionRole::_parse_Does_attr(TestAppREST::Controller::Foo=HASH(0x346e178), "TestAppREST", "foo", "Moo") called at /home/sand/src/perl/repoperls/installed-perls/perl/v5.19.9-27-g591cc29/127e/lib/site_perl/5.19.10/Catalyst/Controller.pm line 441
Catalyst::Controller::_parse_attr(TestAppREST::Controller::Foo=HASH(0x346e178), "TestAppREST", "foo", "Does", ARRAY(0x34cd8e0)) called at /home/sand/src/perl/repoperls/installed-perls/perl/v5.19.9-27-g591cc29/127e/lib/site_perl/5.19.10/Catalyst/Controller.pm line 427
Catalyst::Controller::_parse_attrs(TestAppREST::Controller::Foo=HASH(0x346e178), "TestAppREST", "foo", "Local", "Does('Moo')", "ActionClass('REST')") called at /home/sand/src/perl/repoperls/installed-perls/perl/v5.19.9-27-g591cc29/127e/lib/site_perl/5.19.10/Catalyst/Controller.pm line 279
Catalyst::Controller::register_action_methods(TestAppREST::Controller::Foo=HASH(0x346e178), "TestAppREST", Moose::Meta::Class::__ANON__::SERIAL::3=HASH(0x34b8988), Moose::Meta::Class::__ANON__::SERIAL::3=HASH(0x34c5200), Moose::Meta::Class::__ANON__::SERIAL::3=HASH(0x34c4930), Moose::Meta::Class::__ANON__::SERIAL::3=HASH(0x34c5608), Moose::Meta::Class::__ANON__::SERIAL::3=HASH(0x34c53b0), Moose::Meta::Class::__ANON__::SERIAL::3=HASH(0x34cd130)) called at /home/sand/src/perl/repoperls/installed-perls/perl/v5.19.9-27-g591cc29/127e/lib/site_perl/5.19.10/Catalyst/Controller.pm line 257
Catalyst::Controller::register_actions(TestAppREST::Controller::Foo=HASH(0x346e178), "TestAppREST") called at /home/sand/src/perl/repoperls/installed-perls/perl/v5.19.9-27-g591cc29/127e/lib/site_perl/5.19.10/Catalyst/Dispatcher.pm line 609
Catalyst::Dispatcher::setup_actions(Catalyst::Dispatcher=HASH(0x2f9a680), "TestAppREST") called at /home/sand/src/perl/repoperls/installed-perls/perl/v5.19.9-27-g591cc29/127e/lib/site_perl/5.19.10/Catalyst.pm line 2524
Catalyst::setup_actions("TestAppREST") called at /home/sand/src/perl/repoperls/installed-perls/perl/v5.19.9-27-g591cc29/127e/lib/site_perl/5.19.10/Catalyst.pm line 1241
Catalyst::setup("TestAppREST") called at /tmp/loop_over_bdir-18600-2CkWyS/Catalyst-Controller-ActionRole-0.15-RkUGlV/t/lib/TestAppREST.pm line 9
require TestAppREST.pm called at /home/sand/src/perl/repoperls/installed-perls/perl/v5.19.9-27-g591cc29/127e/lib/site_perl/5.19.10/Module/Runtime.pm line 317
Module::Runtime::require_module("TestAppREST") called at /home/sand/src/perl/repoperls/installed-perls/perl/v5.19.9-27-g591cc29/127e/lib/site_perl/5.19.10/Class/Load.pm line 179
Class::Load::try {...} () called at /home/sand/src/perl/repoperls/installed-perls/perl/v5.19.9-27-g591cc29/127e/lib/site_perl/5.19.10/Try/Tiny.pm line 77
eval {...} called at /home/sand/src/perl/repoperls/installed-perls/perl/v5.19.9-27-g591cc29/127e/lib/site_perl/5.19.10/Try/Tiny.pm line 72
Try::Tiny::try(CODE(0x2b2da68), Try::Tiny::Catch=REF(0x2b30760)) called at /home/sand/src/perl/repoperls/installed-perls/perl/v5.19.9-27-g591cc29/127e/lib/site_perl/5.19.10/Class/Load.pm line 185
Class::Load::try_load_class("TestAppREST", undef) called at /home/sand/src/perl/repoperls/installed-perls/perl/v5.19.9-27-g591cc29/127e/lib/site_perl/5.19.10/Class/Load.pm line 40
Class::Load::load_class("TestAppREST") called at /home/sand/src/perl/repoperls/installed-perls/perl/v5.19.9-27-g591cc29/127e/lib/site_perl/5.19.10/Catalyst/Test.pm line 29
Catalyst::Test::_build_request_export("Catalyst::Test", HASH(0x2ba9dc0)) called at /home/sand/src/perl/repoperls/installed-perls/perl/v5.19.9-27-g591cc29/127e/lib/site_perl/5.19.10/Catalyst/Test.pm line 92
Catalyst::Test::__ANON__("Catalyst::Test", "all", HASH(0x2ba9d90), HASH(0x1e1fa78)) called at /home/sand/src/perl/repoperls/installed-perls/perl/v5.19.9-27-g591cc29/127e/lib/site_perl/5.19.10/Sub/Exporter.pm line 108
Sub::Exporter::_expand_group("Catalyst::Test", HASH(0x2b995a0), ARRAY(0x1e00ac8), HASH(0x1e1fa78), HASH(0x2ba9df0), HASH(0x2b19380)) called at /home/sand/src/perl/repoperls/installed-perls/perl/v5.19.9-27-g591cc29/127e/lib/site_perl/5.19.10/Sub/Exporter.pm line 39
Sub::Exporter::_expand_groups("Catalyst::Test", HASH(0x2b995a0), ARRAY(0x2ba9760), HASH(0x1e1fa78)) called at /home/sand/src/perl/repoperls/installed-perls/perl/v5.19.9-27-g591cc29/127e/lib/site_perl/5.19.10/Sub/Exporter.pm line 323
Sub::Exporter::__ANON__("Catalyst::Test", "-all", HASH(0x2b0f270)) called at /home/sand/src/perl/repoperls/installed-perls/perl/v5.19.9-27-g591cc29/127e/lib/site_perl/5.19.10/Catalyst/Test.pm line 155
Catalyst::Test::import("Catalyst::Test", "TestAppREST") called at t/basic_rest.t line 16
main::BEGIN() called at /tmp/loop_over_bdir-18600-2CkWyS/Catalyst-Controller-ActionRole-0.15-RkUGlV/t/lib/TestAppREST.pm line 0
eval {...} called at /tmp/loop_over_bdir-18600-2CkWyS/Catalyst-Controller-ActionRole-0.15-RkUGlV/t/lib/TestAppREST.pm line 0
Class::MOP::load_class is deprecated at /home/sand/src/perl/repoperls/installed-perls/perl/v5.19.9-27-g591cc29/127e/lib/site_perl/5.19.10/x86_64-linux-ld/Class/MOP.pm line 73.
Class::MOP::load_class("TestAppREST::ActionRole::Moo") called at /tmp/loop_over_bdir-18600-2CkWyS/Catalyst-Controller-ActionRole-0.15-RkUGlV/blib/lib/Catalyst/Controller/ActionRole.pm line 69
Class::MOP::Class:::around(CODE(0x29bd7b0), TestAppREST::Controller::Foo=HASH(0x346e178), "name", "foo", "code", CODE(0x2e8f640), "reverse", "foo/foo", "namespace", ...) called at /home/sand/src/perl/repoperls/installed-perls/perl/v5.19.9-27-g591cc29/127e/lib/site_perl/5.19.10/x86_64-linux-ld/Class/MOP/Method/Wrapped.pm line 163
Class::MOP::Method::Wrapped::__ANON__(TestAppREST::Controller::Foo=HASH(0x346e178), "name", "foo", "code", CODE(0x2e8f640), "reverse", "foo/foo", "namespace", "foo", ...) called at /home/sand/src/perl/repoperls/installed-perls/perl/v5.19.9-27-g591cc29/127e/lib/site_perl/5.19.10/x86_64-linux-ld/Class/MOP/Method/Wrapped.pm line 92
Catalyst::Controller::ActionRole::create_action(TestAppREST::Controller::Foo=HASH(0x346e178), "name", "foo", "code", CODE(0x2e8f640), "reverse", "foo/foo", "namespace", "foo", ...) called at /home/sand/src/perl/repoperls/installed-perls/perl/v5.19.9-27-g591cc29/127e/lib/site_perl/5.19.10/Catalyst/Controller.pm line 288
Catalyst::Controller::register_action_methods(TestAppREST::Controller::Foo=HASH(0x346e178), "TestAppREST", Moose::Meta::Class::__ANON__::SERIAL::3=HASH(0x34b8988), Moose::Meta::Class::__ANON__::SERIAL::3=HASH(0x34c5200), Moose::Meta::Class::__ANON__::SERIAL::3=HASH(0x34c4930), Moose::Meta::Class::__ANON__::SERIAL::3=HASH(0x34c5608), Moose::Meta::Class::__ANON__::SERIAL::3=HASH(0x34c53b0), Moose::Meta::Class::__ANON__::SERIAL::3=HASH(0x34cd130)) called at /home/sand/src/perl/repoperls/installed-perls/perl/v5.19.9-27-g591cc29/127e/lib/site_perl/5.19.10/Catalyst/Controller.pm line 257
Catalyst::Controller::register_actions(TestAppREST::Controller::Foo=HASH(0x346e178), "TestAppREST") called at /home/sand/src/perl/repoperls/installed-perls/perl/v5.19.9-27-g591cc29/127e/lib/site_perl/5.19.10/Catalyst/Dispatcher.pm line 609
Catalyst::Dispatcher::setup_actions(Catalyst::Dispatcher=HASH(0x2f9a680), "TestAppREST") called at /home/sand/src/perl/repoperls/installed-perls/perl/v5.19.9-27-g591cc29/127e/lib/site_perl/5.19.10/Catalyst.pm line 2524
Catalyst::setup_actions("TestAppREST") called at /home/sand/src/perl/repoperls/installed-perls/perl/v5.19.9-27-g591cc29/127e/lib/site_perl/5.19.10/Catalyst.pm line 1241
Catalyst::setup("TestAppREST") called at /tmp/loop_over_bdir-18600-2CkWyS/Catalyst-Controller-ActionRole-0.15-RkUGlV/t/lib/TestAppREST.pm line 9
require TestAppREST.pm called at /home/sand/src/perl/repoperls/installed-perls/perl/v5.19.9-27-g591cc29/127e/lib/site_perl/5.19.10/Module/Runtime.pm line 317
Module::Runtime::require_module("TestAppREST") called at /home/sand/src/perl/repoperls/installed-perls/perl/v5.19.9-27-g591cc29/127e/lib/site_perl/5.19.10/Class/Load.pm line 179
Class::Load::try {...} () called at /home/sand/src/perl/repoperls/installed-perls/perl/v5.19.9-27-g591cc29/127e/lib/site_perl/5.19.10/Try/Tiny.pm line 77
eval {...} called at /home/sand/src/perl/repoperls/installed-perls/perl/v5.19.9-27-g591cc29/127e/lib/site_perl/5.19.10/Try/Tiny.pm line 72
Try::Tiny::try(CODE(0x2b2da68), Try::Tiny::Catch=REF(0x2b30760)) called at /home/sand/src/perl/repoperls/installed-perls/perl/v5.19.9-27-g591cc29/127e/lib/site_perl/5.19.10/Class/Load.pm line 185
Class::Load::try_load_class("TestAppREST", undef) called at /home/sand/src/perl/repoperls/installed-perls/perl/v5.19.9-27-g591cc29/127e/lib/site_perl/5.19.10/Class/Load.pm line 40
Class::Load::load_class("TestAppREST") called at /home/sand/src/perl/repoperls/installed-perls/perl/v5.19.9-27-g591cc29/127e/lib/site_perl/5.19.10/Catalyst/Test.pm line 29
Catalyst::Test::_build_request_export("Catalyst::Test", HASH(0x2ba9dc0)) called at /home/sand/src/perl/repoperls/installed-perls/perl/v5.19.9-27-g591cc29/127e/lib/site_perl/5.19.10/Catalyst/Test.pm line 92
Catalyst::Test::__ANON__("Catalyst::Test", "all", HASH(0x2ba9d90), HASH(0x1e1fa78)) called at /home/sand/src/perl/repoperls/installed-perls/perl/v5.19.9-27-g591cc29/127e/lib/site_perl/5.19.10/Sub/Exporter.pm line 108
Sub::Exporter::_expand_group("Catalyst::Test", HASH(0x2b995a0), ARRAY(0x1e00ac8), HASH(0x1e1fa78), HASH(0x2ba9df0), HASH(0x2b19380)) called at /home/sand/src/perl/repoperls/installed-perls/perl/v5.19.9-27-g591cc29/127e/lib/site_perl/5.19.10/Sub/Exporter.pm line 39
Sub::Exporter::_expand_groups("Catalyst::Test", HASH(0x2b995a0), ARRAY(0x2ba9760), HASH(0x1e1fa78)) called at /home/sand/src/perl/repoperls/installed-perls/perl/v5.19.9-27-g591cc29/127e/lib/site_perl/5.19.10/Sub/Exporter.pm line 323
Sub::Exporter::__ANON__("Catalyst::Test", "-all", HASH(0x2b0f270)) called at /home/sand/src/perl/repoperls/installed-perls/perl/v5.19.9-27-g591cc29/127e/lib/site_perl/5.19.10/Catalyst/Test.pm line 155
Catalyst::Test::import("Catalyst::Test", "TestAppREST") called at t/basic_rest.t line 16
main::BEGIN() called at /tmp/loop_over_bdir-18600-2CkWyS/Catalyst-Controller-ActionRole-0.15-RkUGlV/t/lib/TestAppREST.pm line 0
eval {...} called at /tmp/loop_over_bdir-18600-2CkWyS/Catalyst-Controller-ActionRole-0.15-RkUGlV/t/lib/TestAppREST.pm line 0
t/basic_rest.t ............ ok
Class::MOP::load_class is deprecated at /home/sand/src/perl/repoperls/installed-perls/perl/v5.19.9-27-g591cc29/127e/lib/site_perl/5.19.10/x86_64-linux-ld/Class/MOP.pm line 73.
Class::MOP::load_class("TestApp::ActionRole::Kooh") called at /tmp/loop_over_bdir-18600-2CkWyS/Catalyst-Controller-ActionRole-0.15-RkUGlV/blib/lib/Catalyst/Controller/ActionRole.pm line 50
Catalyst::Controller::ActionRole::_build__action_roles(TestApp::Controller::Bar=HASH(0x35a3d30)) called at native delegation method Catalyst::Controller::ActionRole::_action_roles (elements) of attribute _action_roles (defined at /tmp/loop_over_bdir-18600-2CkWyS/Catalyst-Controller-ActionRole-0.15-RkUGlV/blib/lib/Catalyst/Controller/ActionRole.pm line 37) line 9
Catalyst::Controller::ActionRole::_action_roles(TestApp::Controller::Bar=HASH(0x35a3d30)) called at /home/sand/src/perl/repoperls/installed-perls/perl/v5.19.9-27-g591cc29/127e/lib/site_perl/5.19.10/Catalyst/Controller.pm line 84
Catalyst::Controller::BUILD(TestApp::Controller::Bar=HASH(0x35a3d30), HASH(0x35b8188)) called at /home/sand/src/perl/repoperls/installed-perls/perl/v5.19.9-27-g591cc29/127e/lib/site_perl/5.19.10/x86_64-linux-ld/Class/MOP/Method.pm line 128
Class::MOP::Method::execute(Moose::Meta::Class::__ANON__::SERIAL::7=HASH(0x2d9aca0), TestApp::Controller::Bar=HASH(0x35a3d30), HASH(0x35b8188)) called at /home/sand/src/perl/repoperls/installed-perls/perl/v5.19.9-27-g591cc29/127e/lib/site_perl/5.19.10/x86_64-linux-ld/Moose/Object.pm line 56
Moose::Object::BUILDALL(TestApp::Controller::Bar=HASH(0x35a3d30), HASH(0x35b8188)) called at /home/sand/src/perl/repoperls/installed-perls/perl/v5.19.9-27-g591cc29/127e/lib/site_perl/5.19.10/x86_64-linux-ld/Moose/Meta/Class.pm line 282
Moose::Meta::Class::new_object(Moose::Meta::Class::__ANON__::SERIAL::5=HASH(0x3594e28), HASH(0x35b8188)) called at /home/sand/src/perl/repoperls/installed-perls/perl/v5.19.9-27-g591cc29/127e/lib/site_perl/5.19.10/x86_64-linux-ld/Moose/Object.pm line 27
Moose::Object::new("TestApp::Controller::Bar", "TestApp", HASH(0x3516408)) called at constructor Catalyst::Controller::new (defined at /home/sand/src/perl/repoperls/installed-perls/perl/v5.19.9-27-g591cc29/127e/lib/site_perl/5.19.10/Catalyst/Controller.pm line 573) line 4
Catalyst::Controller::new("TestApp::Controller::Bar", "TestApp", HASH(0x3516408)) called at /home/sand/src/perl/repoperls/installed-perls/perl/v5.19.9-27-g591cc29/127e/lib/site_perl/5.19.10/Catalyst/Component.pm line 123
Catalyst::Component::COMPONENT("TestApp::Controller::Bar", "TestApp", HASH(0x3516408)) called at /home/sand/src/perl/repoperls/installed-perls/perl/v5.19.9-27-g591cc29/127e/lib/site_perl/5.19.10/Catalyst.pm line 2637
eval {...} called at /home/sand/src/perl/repoperls/installed-perls/perl/v5.19.9-27-g591cc29/127e/lib/site_perl/5.19.10/Catalyst.pm line 2637
Catalyst::setup_component("TestApp", "TestApp::Controller::Bar") called at /home/sand/src/perl/repoperls/installed-perls/perl/v5.19.9-27-g591cc29/127e/lib/site_perl/5.19.10/Catalyst.pm line 2564
Catalyst::setup_components("TestApp") called at /home/sand/src/perl/repoperls/installed-perls/perl/v5.19.9-27-g591cc29/127e/lib/site_perl/5.19.10/Catalyst.pm line 1180
Catalyst::setup("TestApp") called at /tmp/loop_over_bdir-18600-2CkWyS/Catalyst-Controller-ActionRole-0.15-RkUGlV/t/lib/TestApp.pm line 9
require TestApp.pm called at /home/sand/src/perl/repoperls/installed-perls/perl/v5.19.9-27-g591cc29/127e/lib/site_perl/5.19.10/Module/Runtime.pm line 317
Module::Runtime::require_module("TestApp") called at /home/sand/src/perl/repoperls/installed-perls/perl/v5.19.9-27-g591cc29/127e/lib/site_perl/5.19.10/Class/Load.pm line 179
Class::Load::try {...} () called at /home/sand/src/perl/repoperls/installed-perls/perl/v5.19.9-27-g591cc29/127e/lib/site_perl/5.19.10/Try/Tiny.pm line 77
eval {...} called at /home/sand/src/perl/repoperls/installed-perls/perl/v5.19.9-27-g591cc29/127e/lib/site_perl/5.19.10/Try/Tiny.pm line 72
Try::Tiny::try(CODE(0x22eb330), Try::Tiny::Catch=REF(0x2359668)) called at /home/sand/src/perl/repoperls/installed-perls/perl/v5.19.9-27-g591cc29/127e/lib/site_perl/5.19.10/Class/Load.pm line 185
Class::Load::try_load_class("TestApp", undef) called at /home/sand/src/perl/repoperls/installed-perls/perl/v5.19.9-27-g591cc29/127e/lib/site_perl/5.19.10/Class/Load.pm line 40
Class::Load::load_class("TestApp") called at /home/sand/src/perl/repoperls/installed-perls/perl/v5.19.9-27-g591cc29/127e/lib/site_perl/5.19.10/Catalyst/Test.pm line 29
Catalyst::Test::_build_request_export("Catalyst::Test", HASH(0x12de5c0)) called at /home/sand/src/perl/repoperls/installed-perls/perl/v5.19.9-27-g591cc29/127e/lib/site_perl/5.19.10/Catalyst/Test.pm line 92
Catalyst::Test::__ANON__("Catalyst::Test", "all", HASH(0x12de590), HASH(0x1345fa8)) called at /home/sand/src/perl/repoperls/installed-perls/perl/v5.19.9-27-g591cc29/127e/lib/site_perl/5.19.10/Sub/Exporter.pm line 108
Sub::Exporter::_expand_group("Catalyst::Test", HASH(0x2663880), ARRAY(0x12bdf88), HASH(0x1345fa8), HASH(0x12de5f0), HASH(0x13f9118)) called at /home/sand/src/perl/repoperls/installed-perls/perl/v5.19.9-27-g591cc29/127e/lib/site_perl/5.19.10/Sub/Exporter.pm line 39
Sub::Exporter::_expand_groups("Catalyst::Test", HASH(0x2663880), ARRAY(0x12ddf60), HASH(0x1345fa8)) called at /home/sand/src/perl/repoperls/installed-perls/perl/v5.19.9-27-g591cc29/127e/lib/site_perl/5.19.10/Sub/Exporter.pm line 323
Sub::Exporter::__ANON__("Catalyst::Test", "-all", HASH(0x12bd7a8)) called at /home/sand/src/perl/repoperls/installed-perls/perl/v5.19.9-27-g591cc29/127e/lib/site_perl/5.19.10/Catalyst/Test.pm line 155
Catalyst::Test::import("Catalyst::Test", "TestApp") called at t/execution-via-config.t line 8
main::BEGIN() called at /tmp/loop_over_bdir-18600-2CkWyS/Catalyst-Controller-ActionRole-0.15-RkUGlV/t/lib/TestApp.pm line 0
eval {...} called at /tmp/loop_over_bdir-18600-2CkWyS/Catalyst-Controller-ActionRole-0.15-RkUGlV/t/lib/TestApp.pm line 0
Class::MOP::load_first_existing_class is deprecated at /home/sand/src/perl/repoperls/installed-perls/perl/v5.19.9-27-g591cc29/127e/lib/site_perl/5.19.10/x86_64-linux-ld/Class/MOP.pm line 82.
Class::MOP::load_first_existing_class("TestApp::ActionRole::Shared", "Catalyst::ActionRole::Shared") called at /tmp/loop_over_bdir-18600-2CkWyS/Catalyst-Controller-ActionRole-0.15-RkUGlV/blib/lib/Catalyst/Controller/ActionRole.pm line 120
Catalyst::Controller::ActionRole::__ANON__("Shared") called at /home/sand/src/perl/repoperls/installed-perls/perl/v5.19.9-27-g591cc29/127e/lib/site_perl/5.19.10/String/RewritePrefix.pm line 44
String::RewritePrefix::__ANON__("Shared") called at /home/sand/src/perl/repoperls/installed-perls/perl/v5.19.9-27-g591cc29/127e/lib/site_perl/5.19.10/String/RewritePrefix.pm line 18
String::RewritePrefix::rewrite("String::RewritePrefix", HASH(0x35cfd68), "Shared") called at /tmp/loop_over_bdir-18600-2CkWyS/Catalyst-Controller-ActionRole-0.15-RkUGlV/blib/lib/Catalyst/Controller/ActionRole.pm line 125
Catalyst::Controller::ActionRole::_expand_role_shortname(TestApp::Controller::ExecutionViaConfig=HASH(0x35cf960), "Shared") called at /tmp/loop_over_bdir-18600-2CkWyS/Catalyst-Controller-ActionRole-0.15-RkUGlV/blib/lib/Catalyst/Controller/ActionRole.pm line 49
Catalyst::Controller::ActionRole::_build__action_roles(TestApp::Controller::ExecutionViaConfig=HASH(0x35cf960)) called at native delegation method Catalyst::Controller::ActionRole::_action_roles (elements) of attribute _action_roles (defined at /tmp/loop_over_bdir-18600-2CkWyS/Catalyst-Controller-ActionRole-0.15-RkUGlV/blib/lib/Catalyst/Controller/ActionRole.pm line 37) line 9
Catalyst::Controller::ActionRole::_action_roles(TestApp::Controller::ExecutionViaConfig=HASH(0x35cf960)) called at /home/sand/src/perl/repoperls/installed-perls/perl/v5.19.9-27-g591cc29/127e/lib/site_perl/5.19.10/Catalyst/Controller.pm line 84
Catalyst::Controller::BUILD(TestApp::Controller::ExecutionViaConfig=HASH(0x35cf960), HASH(0x35c8958)) called at /home/sand/src/perl/repoperls/installed-perls/perl/v5.19.9-27-g591cc29/127e/lib/site_perl/5.19.10/x86_64-linux-ld/Class/MOP/Method.pm line 128
Class::MOP::Method::execute(Moose::Meta::Class::__ANON__::SERIAL::7=HASH(0x2d9aca0), TestApp::Controller::ExecutionViaConfig=HASH(0x35cf960), HASH(0x35c8958)) called at /home/sand/src/perl/repoperls/installed-perls/perl/v5.19.9-27-g591cc29/127e/lib/site_perl/5.19.10/x86_64-linux-ld/Moose/Object.pm line 56
Moose::Object::BUILDALL(TestApp::Controller::ExecutionViaConfig=HASH(0x35cf960), HASH(0x35c8958)) called at /home/sand/src/perl/repoperls/installed-perls/perl/v5.19.9-27-g591cc29/127e/lib/site_perl/5.19.10/x86_64-linux-ld/Moose/Meta/Class.pm line 282
Moose::Meta::Class::new_object(Moose::Meta::Class::__ANON__::SERIAL::5=HASH(0x35ad680), HASH(0x35c8958)) called at /home/sand/src/perl/repoperls/installed-perls/perl/v5.19.9-27-g591cc29/127e/lib/site_perl/5.19.10/x86_64-linux-ld/Moose/Object.pm line 27
Moose::Object::new("TestApp::Controller::ExecutionViaConfig", "TestApp", HASH(0x35cf648)) called at constructor Catalyst::Controller::new (defined at /home/sand/src/perl/repoperls/installed-perls/perl/v5.19.9-27-g591cc29/127e/lib/site_perl/5.19.10/Catalyst/Controller.pm line 573) line 4
Catalyst::Controller::new("TestApp::Controller::ExecutionViaConfig", "TestApp", HASH(0x35cf648)) called at /home/sand/src/perl/repoperls/installed-perls/perl/v5.19.9-27-g591cc29/127e/lib/site_perl/5.19.10/Catalyst/Component.pm line 123
Catalyst::Component::COMPONENT("TestApp::Controller::ExecutionViaConfig", "TestApp", HASH(0x35cf648)) called at /home/sand/src/perl/repoperls/installed-perls/perl/v5.19.9-27-g591cc29/127e/lib/site_perl/5.19.10/Catalyst.pm line 2637
eval {...} called at /home/sand/src/perl/repoperls/installed-perls/perl/v5.19.9-27-g591cc29/127e/lib/site_perl/5.19.10/Catalyst.pm line 2637
Catalyst::setup_component("TestApp", "TestApp::Controller::ExecutionViaConfig") called at /home/sand/src/perl/repoperls/installed-perls/perl/v5.19.9-27-g591cc29/127e/lib/site_perl/5.19.10/Catalyst.pm line 2564
Catalyst::setup_components("TestApp") called at /home/sand/src/perl/repoperls/installed-perls/perl/v5.19.9-27-g591cc29/127e/lib/site_perl/5.19.10/Catalyst.pm line 1180
Catalyst::setup("TestApp") called at /tmp/loop_over_bdir-18600-2CkWyS/Catalyst-Controller-ActionRole-0.15-RkUGlV/t/lib/TestApp.pm line 9
require TestApp.pm called at /home/sand/src/perl/repoperls/installed-perls/perl/v5.19.9-27-g591cc29/127e/lib/site_perl/5.19.10/Module/Runtime.pm line 317
Module::Runtime::require_module("TestApp") called at /home/sand/src/perl/repoperls/installed-perls/perl/v5.19.9-27-g591cc29/127e/lib/site_perl/5.19.10/Class/Load.pm line 179
Class::Load::try {...} () called at /home/sand/src/perl/repoperls/installed-perls/perl/v5.19.9-27-g591cc29/127e/lib/site_perl/5.19.10/Try/Tiny.pm line 77
eval {...} called at /home/sand/src/perl/repoperls/installed-perls/perl/v5.19.9-27-g591cc29/127e/lib/site_perl/5.19.10/Try/Tiny.pm line 72
Try::Tiny::try(CODE(0x22eb330), Try::Tiny::Catch=REF(0x2359668)) called at /home/sand/src/perl/repoperls/installed-perls/perl/v5.19.9-27-g591cc29/127e/lib/site_perl/5.19.10/Class/Load.pm line 185
Class::Load::try_load_class("TestApp", undef) called at /home/sand/src/perl/repoperls/installed-perls/perl/v5.19.9-27-g591cc29/127e/lib/site_perl/5.19.10/Class/Load.pm line 40
Class::Load::load_class("TestApp") called at /home/sand/src/perl/repoperls/installed-perls/perl/v5.19.9-27-g591cc29/127e/lib/site_perl/5.19.10/Catalyst/Test.pm line 29
Catalyst::Test::_build_request_export("Catalyst::Test", HASH(0x12de5c0)) called at /home/sand/src/perl/repoperls/installed-perls/perl/v5.19.9-27-g591cc29/127e/lib/site_perl/5.19.10/Catalyst/Test.pm line 92
Catalyst::Test::__ANON__("Catalyst::Test", "all", HASH(0x12de590), HASH(0x1345fa8)) called at /home/sand/src/perl/repoperls/installed-perls/perl/v5.19.9-27-g591cc29/127e/lib/site_perl/5.19.10/Sub/Exporter.pm line 108
Sub::Exporter::_expand_group("Catalyst::Test", HASH(0x2663880), ARRAY(0x12bdf88), HASH(0x1345fa8), HASH(0x12de5f0), HASH(0x13f9118)) called at /home/sand/src/perl/repoperls/installed-perls/perl/v5.19.9-27-g591cc29/127e/lib/site_perl/5.19.10/Sub/Exporter.pm line 39
Sub::Exporter::_expand_groups("Catalyst::Test", HASH(0x2663880), ARRAY(0x12ddf60), HASH(0x1345fa8)) called at /home/sand/src/perl/repoperls/installed-perls/perl/v5.19.9-27-g591cc29/127e/lib/site_perl/5.19.10/Sub/Exporter.pm line 323
Sub::Exporter::__ANON__("Catalyst::Test", "-all", HASH(0x12bd7a8)) called at /home/sand/src/perl/repoperls/installed-perls/perl/v5.19.9-27-g591cc29/127e/lib/site_perl/5.19.10/Catalyst/Test.pm line 155
Catalyst::Test::import("Catalyst::Test", "TestApp") called at t/execution-via-config.t line 8
main::BEGIN() called at /tmp/loop_over_bdir-18600-2CkWyS/Catalyst-Controller-ActionRole-0.15-RkUGlV/t/lib/TestApp.pm line 0
eval {...} called at /tmp/loop_over_bdir-18600-2CkWyS/Catalyst-Controller-ActionRole-0.15-RkUGlV/t/lib/TestApp.pm line 0
t/execution-via-config.t .. ok
Class::MOP::load_class is deprecated at /home/sand/src/perl/repoperls/installed-perls/perl/v5.19.9-27-g591cc29/127e/lib/site_perl/5.19.10/x86_64-linux-ld/Class/MOP.pm line 73.
Class::MOP::load_class("TestApp::ActionRole::Kooh") called at /tmp/loop_over_bdir-18600-2CkWyS/Catalyst-Controller-ActionRole-0.15-RkUGlV/blib/lib/Catalyst/Controller/ActionRole.pm line 50
Catalyst::Controller::ActionRole::_build__action_roles(TestApp::Controller::Bar=HASH(0x3518a58)) called at native delegation method Catalyst::Controller::ActionRole::_action_roles (elements) of attribute _action_roles (defined at /tmp/loop_over_bdir-18600-2CkWyS/Catalyst-Controller-ActionRole-0.15-RkUGlV/blib/lib/Catalyst/Controller/ActionRole.pm line 37) line 9
Catalyst::Controller::ActionRole::_action_roles(TestApp::Controller::Bar=HASH(0x3518a58)) called at /home/sand/src/perl/repoperls/installed-perls/perl/v5.19.9-27-g591cc29/127e/lib/site_perl/5.19.10/Catalyst/Controller.pm line 84
Catalyst::Controller::BUILD(TestApp::Controller::Bar=HASH(0x3518a58), HASH(0x3518638)) called at /home/sand/src/perl/repoperls/installed-perls/perl/v5.19.9-27-g591cc29/127e/lib/site_perl/5.19.10/x86_64-linux-ld/Class/MOP/Method.pm line 128
Class::MOP::Method::execute(Moose::Meta::Class::__ANON__::SERIAL::7=HASH(0x2d1b6a0), TestApp::Controller::Bar=HASH(0x3518a58), HASH(0x3518638)) called at /home/sand/src/perl/repoperls/installed-perls/perl/v5.19.9-27-g591cc29/127e/lib/site_perl/5.19.10/x86_64-linux-ld/Moose/Object.pm line 56
Moose::Object::BUILDALL(TestApp::Controller::Bar=HASH(0x3518a58), HASH(0x3518638)) called at /home/sand/src/perl/repoperls/installed-perls/perl/v5.19.9-27-g591cc29/127e/lib/site_perl/5.19.10/x86_64-linux-ld/Moose/Meta/Class.pm line 282
Moose::Meta::Class::new_object(Moose::Meta::Class::__ANON__::SERIAL::5=HASH(0x34f3528), HASH(0x3518638)) called at /home/sand/src/perl/repoperls/installed-perls/perl/v5.19.9-27-g591cc29/127e/lib/site_perl/5.19.10/x86_64-linux-ld/Moose/Object.pm line 27
Moose::Object::new("TestApp::Controller::Bar", "TestApp", HASH(0x346a778)) called at constructor Catalyst::Controller::new (defined at /home/sand/src/perl/repoperls/installed-perls/perl/v5.19.9-27-g591cc29/127e/lib/site_perl/5.19.10/Catalyst/Controller.pm line 573) line 4
Catalyst::Controller::new("TestApp::Controller::Bar", "TestApp", HASH(0x346a778)) called at /home/sand/src/perl/repoperls/installed-perls/perl/v5.19.9-27-g591cc29/127e/lib/site_perl/5.19.10/Catalyst/Component.pm line 123
Catalyst::Component::COMPONENT("TestApp::Controller::Bar", "TestApp", HASH(0x346a778)) called at /home/sand/src/perl/repoperls/installed-perls/perl/v5.19.9-27-g591cc29/127e/lib/site_perl/5.19.10/Catalyst.pm line 2637
eval {...} called at /home/sand/src/perl/repoperls/installed-perls/perl/v5.19.9-27-g591cc29/127e/lib/site_perl/5.19.10/Catalyst.pm line 2637
Catalyst::setup_component("TestApp", "TestApp::Controller::Bar") called at /home/sand/src/perl/repoperls/installed-perls/perl/v5.19.9-27-g591cc29/127e/lib/site_perl/5.19.10/Catalyst.pm line 2564
Catalyst::setup_components("TestApp") called at /home/sand/src/perl/repoperls/installed-perls/perl/v5.19.9-27-g591cc29/127e/lib/site_perl/5.19.10/Catalyst.pm line 1180
Catalyst::setup("TestApp") called at /tmp/loop_over_bdir-18600-2CkWyS/Catalyst-Controller-ActionRole-0.15-RkUGlV/t/lib/TestApp.pm line 9
require TestApp.pm called at /home/sand/src/perl/repoperls/installed-perls/perl/v5.19.9-27-g591cc29/127e/lib/site_perl/5.19.10/Module/Runtime.pm line 317
Module::Runtime::require_module("TestApp") called at /home/sand/src/perl/repoperls/installed-perls/perl/v5.19.9-27-g591cc29/127e/lib/site_perl/5.19.10/Class/Load.pm line 179
Class::Load::try {...} () called at /home/sand/src/perl/repoperls/installed-perls/perl/v5.19.9-27-g591cc29/127e/lib/site_perl/5.19.10/Try/Tiny.pm line 77
eval {...} called at /home/sand/src/perl/repoperls/installed-perls/perl/v5.19.9-27-g591cc29/127e/lib/site_perl/5.19.10/Try/Tiny.pm line 72
Try::Tiny::try(CODE(0x22ae930), Try::Tiny::Catch=REF(0x22ae420)) called at /home/sand/src/perl/repoperls/installed-perls/perl/v5.19.9-27-g591cc29/127e/lib/site_perl/5.19.10/Class/Load.pm line 185
Class::Load::try_load_class("TestApp", undef) called at /home/sand/src/perl/repoperls/installed-perls/perl/v5.19.9-27-g591cc29/127e/lib/site_perl/5.19.10/Class/Load.pm line 40
Class::Load::load_class("TestApp") called at /home/sand/src/perl/repoperls/installed-perls/perl/v5.19.9-27-g591cc29/127e/lib/site_perl/5.19.10/Catalyst/Test.pm line 29
Catalyst::Test::_build_request_export("Catalyst::Test", HASH(0x125f5e0)) called at /home/sand/src/perl/repoperls/installed-perls/perl/v5.19.9-27-g591cc29/127e/lib/site_perl/5.19.10/Catalyst/Test.pm line 92
Catalyst::Test::__ANON__("Catalyst::Test", "all", HASH(0x125f5b0), HASH(0x137a128)) called at /home/sand/src/perl/repoperls/installed-perls/perl/v5.19.9-27-g591cc29/127e/lib/site_perl/5.19.10/Sub/Exporter.pm line 108
Sub::Exporter::_expand_group("Catalyst::Test", HASH(0x25e32c0), ARRAY(0x123ef58), HASH(0x137a128), HASH(0x125f610), HASH(0x12c6fc8)) called at /home/sand/src/perl/repoperls/installed-perls/perl/v5.19.9-27-g591cc29/127e/lib/site_perl/5.19.10/Sub/Exporter.pm line 39
Sub::Exporter::_expand_groups("Catalyst::Test", HASH(0x25e32c0), ARRAY(0x125ef80), HASH(0x137a128)) called at /home/sand/src/perl/repoperls/installed-perls/perl/v5.19.9-27-g591cc29/127e/lib/site_perl/5.19.10/Sub/Exporter.pm line 323
Sub::Exporter::__ANON__("Catalyst::Test", "-all", HASH(0x123e778)) called at /home/sand/src/perl/repoperls/installed-perls/perl/v5.19.9-27-g591cc29/127e/lib/site_perl/5.19.10/Catalyst/Test.pm line 155
Catalyst::Test::import("Catalyst::Test", "TestApp") called at t/execution-via-does.t line 8
main::BEGIN() called at /tmp/loop_over_bdir-18600-2CkWyS/Catalyst-Controller-ActionRole-0.15-RkUGlV/t/lib/TestApp.pm line 0
eval {...} called at /tmp/loop_over_bdir-18600-2CkWyS/Catalyst-Controller-ActionRole-0.15-RkUGlV/t/lib/TestApp.pm line 0
Class::MOP::load_first_existing_class is deprecated at /home/sand/src/perl/repoperls/installed-perls/perl/v5.19.9-27-g591cc29/127e/lib/site_perl/5.19.10/x86_64-linux-ld/Class/MOP.pm line 82.
Class::MOP::load_first_existing_class("TestApp::ActionRole::Shared", "Catalyst::ActionRole::Shared") called at /tmp/loop_over_bdir-18600-2CkWyS/Catalyst-Controller-ActionRole-0.15-RkUGlV/blib/lib/Catalyst/Controller/ActionRole.pm line 120
Catalyst::Controller::ActionRole::__ANON__("Shared") called at /home/sand/src/perl/repoperls/installed-perls/perl/v5.19.9-27-g591cc29/127e/lib/site_perl/5.19.10/String/RewritePrefix.pm line 44
String::RewritePrefix::__ANON__("Shared") called at /home/sand/src/perl/repoperls/installed-perls/perl/v5.19.9-27-g591cc29/127e/lib/site_perl/5.19.10/String/RewritePrefix.pm line 18
String::RewritePrefix::rewrite("String::RewritePrefix", HASH(0x3530138), "Shared") called at /tmp/loop_over_bdir-18600-2CkWyS/Catalyst-Controller-ActionRole-0.15-RkUGlV/blib/lib/Catalyst/Controller/ActionRole.pm line 125
Catalyst::Controller::ActionRole::_expand_role_shortname(TestApp::Controller::ExecutionViaConfig=HASH(0x352fd30), "Shared") called at /tmp/loop_over_bdir-18600-2CkWyS/Catalyst-Controller-ActionRole-0.15-RkUGlV/blib/lib/Catalyst/Controller/ActionRole.pm line 49
Catalyst::Controller::ActionRole::_build__action_roles(TestApp::Controller::ExecutionViaConfig=HASH(0x352fd30)) called at native delegation method Catalyst::Controller::ActionRole::_action_roles (elements) of attribute _action_roles (defined at /tmp/loop_over_bdir-18600-2CkWyS/Catalyst-Controller-ActionRole-0.15-RkUGlV/blib/lib/Catalyst/Controller/ActionRole.pm line 37) line 9
Catalyst::Controller::ActionRole::_action_roles(TestApp::Controller::ExecutionViaConfig=HASH(0x352fd30)) called at /home/sand/src/perl/repoperls/installed-perls/perl/v5.19.9-27-g591cc29/127e/lib/site_perl/5.19.10/Catalyst/Controller.pm line 84
Catalyst::Controller::BUILD(TestApp::Controller::ExecutionViaConfig=HASH(0x352fd30), HASH(0x352f868)) called at /home/sand/src/perl/repoperls/installed-perls/perl/v5.19.9-27-g591cc29/127e/lib/site_perl/5.19.10/x86_64-linux-ld/Class/MOP/Method.pm line 128
Class::MOP::Method::execute(Moose::Meta::Class::__ANON__::SERIAL::7=HASH(0x2d1b6a0), TestApp::Controller::ExecutionViaConfig=HASH(0x352fd30), HASH(0x352f868)) called at /home/sand/src/perl/repoperls/installed-perls/perl/v5.19.9-27-g591cc29/127e/lib/site_perl/5.19.10/x86_64-linux-ld/Moose/Object.pm line 56
Moose::Object::BUILDALL(TestApp::Controller::ExecutionViaConfig=HASH(0x352fd30), HASH(0x352f868)) called at /home/sand/src/perl/repoperls/installed-perls/perl/v5.19.9-27-g591cc29/127e/lib/site_perl/5.19.10/x86_64-linux-ld/Moose/Meta/Class.pm line 282
Moose::Meta::Class::new_object(Moose::Meta::Class::__ANON__::SERIAL::5=HASH(0x350d8d8), HASH(0x352f868)) called at /home/sand/src/perl/repoperls/installed-perls/perl/v5.19.9-27-g591cc29/127e/lib/site_perl/5.19.10/x86_64-linux-ld/Moose/Object.pm line 27
Moose::Object::new("TestApp::Controller::ExecutionViaConfig", "TestApp", HASH(0x352fa48)) called at constructor Catalyst::Controller::new (defined at /home/sand/src/perl/repoperls/installed-perls/perl/v5.19.9-27-g591cc29/127e/lib/site_perl/5.19.10/Catalyst/Controller.pm line 573) line 4
Catalyst::Controller::new("TestApp::Controller::ExecutionViaConfig", "TestApp", HASH(0x352fa48)) called at /home/sand/src/perl/repoperls/installed-perls/perl/v5.19.9-27-g591cc29/127e/lib/site_perl/5.19.10/Catalyst/Component.pm line 123
Catalyst::Component::COMPONENT("TestApp::Controller::ExecutionViaConfig", "TestApp", HASH(0x352fa48)) called at /home/sand/src/perl/repoperls/installed-perls/perl/v5.19.9-27-g591cc29/127e/lib/site_perl/5.19.10/Catalyst.pm line 2637
eval {...} called at /home/sand/src/perl/repoperls/installed-perls/perl/v5.19.9-27-g591cc29/127e/lib/site_perl/5.19.10/Catalyst.pm line 2637
Catalyst::setup_component("TestApp", "TestApp::Controller::ExecutionViaConfig") called at /home/sand/src/perl/repoperls/installed-perls/perl/v5.19.9-27-g591cc29/127e/lib/site_perl/5.19.10/Catalyst.pm line 2564
Catalyst::setup_components("TestApp") called at /home/sand/src/perl/repoperls/installed-perls/perl/v5.19.9-27-g591cc29/127e/lib/site_perl/5.19.10/Catalyst.pm line 1180
Catalyst::setup("TestApp") called at /tmp/loop_over_bdir-18600-2CkWyS/Catalyst-Controller-ActionRole-0.15-RkUGlV/t/lib/TestApp.pm line 9
require TestApp.pm called at /home/sand/src/perl/repoperls/installed-perls/perl/v5.19.9-27-g591cc29/127e/lib/site_perl/5.19.10/Module/Runtime.pm line 317
Module::Runtime::require_module("TestApp") called at /home/sand/src/perl/repoperls/installed-perls/perl/v5.19.9-27-g591cc29/127e/lib/site_perl/5.19.10/Class/Load.pm line 179
Class::Load::try {...} () called at /home/sand/src/perl/repoperls/installed-perls/perl/v5.19.9-27-g591cc29/127e/lib/site_perl/5.19.10/Try/Tiny.pm line 77
eval {...} called at /home/sand/src/perl/repoperls/installed-perls/perl/v5.19.9-27-g591cc29/127e/lib/site_perl/5.19.10/Try/Tiny.pm line 72
Try::Tiny::try(CODE(0x22ae930), Try::Tiny::Catch=REF(0x22ae420)) called at /home/sand/src/perl/repoperls/installed-perls/perl/v5.19.9-27-g591cc29/127e/lib/site_perl/5.19.10/Class/Load.pm line 185
Class::Load::try_load_class("TestApp", undef) called at /home/sand/src/perl/repoperls/installed-perls/perl/v5.19.9-27-g591cc29/127e/lib/site_perl/5.19.10/Class/Load.pm line 40
Class::Load::load_class("TestApp") called at /home/sand/src/perl/repoperls/installed-perls/perl/v5.19.9-27-g591cc29/127e/lib/site_perl/5.19.10/Catalyst/Test.pm line 29
Catalyst::Test::_build_request_export("Catalyst::Test", HASH(0x125f5e0)) called at /home/sand/src/perl/repoperls/installed-perls/perl/v5.19.9-27-g591cc29/127e/lib/site_perl/5.19.10/Catalyst/Test.pm line 92
Catalyst::Test::__ANON__("Catalyst::Test", "all", HASH(0x125f5b0), HASH(0x137a128)) called at /home/sand/src/perl/repoperls/installed-perls/perl/v5.19.9-27-g591cc29/127e/lib/site_perl/5.19.10/Sub/Exporter.pm line 108
Sub::Exporter::_expand_group("Catalyst::Test", HASH(0x25e32c0), ARRAY(0x123ef58), HASH(0x137a128), HASH(0x125f610), HASH(0x12c6fc8)) called at /home/sand/src/perl/repoperls/installed-perls/perl/v5.19.9-27-g591cc29/127e/lib/site_perl/5.19.10/Sub/Exporter.pm line 39
Sub::Exporter::_expand_groups("Catalyst::Test", HASH(0x25e32c0), ARRAY(0x125ef80), HASH(0x137a128)) called at /home/sand/src/perl/repoperls/installed-perls/perl/v5.19.9-27-g591cc29/127e/lib/site_perl/5.19.10/Sub/Exporter.pm line 323
Sub::Exporter::__ANON__("Catalyst::Test", "-all", HASH(0x123e778)) called at /home/sand/src/perl/repoperls/installed-perls/perl/v5.19.9-27-g591cc29/127e/lib/site_perl/5.19.10/Catalyst/Test.pm line 155
Catalyst::Test::import("Catalyst::Test", "TestApp") called at t/execution-via-does.t line 8
main::BEGIN() called at /tmp/loop_over_bdir-18600-2CkWyS/Catalyst-Controller-ActionRole-0.15-RkUGlV/t/lib/TestApp.pm line 0
eval {...} called at /tmp/loop_over_bdir-18600-2CkWyS/Catalyst-Controller-ActionRole-0.15-RkUGlV/t/lib/TestApp.pm line 0
t/execution-via-does.t .... ok
t/release-eol.t ........... skipped: these tests are for release candidate testing
t/release-no-tabs.t ....... skipped: these tests are for release candidate testing
t/release-pod-coverage.t .. skipped: these tests are for release candidate testing
t/release-pod-syntax.t .... skipped: these tests are for release candidate testing
All tests successful.
Files=9, Tests=43, 3 wallclock secs ( 0.03 usr 0.01 sys + 3.23 cusr 0.14 csys = 3.41 CPU)
Result: PASS
------------------------------
PREREQUISITES
------------------------------
Prerequisite modules loaded:
requires:
Module Need Have
---------------------- ------- --------
Catalyst::Controller 0 0
Catalyst::Runtime 5.80025 5.90060
Catalyst::Utils 0 0
Class::MOP 0 2.1204
List::Util 0 1.38
Moose 0 2.1204
Moose::Meta::Class 0 2.1204
MooseX::Types::Moose 0 0.41
namespace::clean 0 0.24
String::RewritePrefix 0.004 0.007
build_requires:
Module Need Have
---------------------- ------- --------
Catalyst 0 5.90060
Catalyst::Action 0 0
Catalyst::Action::REST 0 1.14
Catalyst::Test 0 0
FindBin 0 1.51
Moose::Role 0 2.1204
parent 0 0.228
Test::More 0 1.001002
configure_requires:
Module Need Have
---------------------- ------- --------
ExtUtils::MakeMaker 6.31 6.90
------------------------------
ENVIRONMENT AND OTHER CONTEXT
------------------------------
Environment variables:
AUTOMATED_TESTING = 1
LANG = en_US.UTF-8
LANGUAGE = en_US:en
PATH = /usr/lib/ccache:/home/sand/bin:/usr/local/bin:/usr/bin:/bin:/usr/bin/X11:/usr/games:/usr/local/perl/bin:/usr/X11/bin:/sbin:/usr/sbin
PERL5LIB =
PERL5OPT =
PERL5_CPANPLUS_IS_RUNNING = 22961
PERL5_CPAN_IS_RUNNING = 22961
PERL_MM_USE_DEFAULT = 1
SHELL = /usr/bin/zsh
TERM = screen
Perl special variables (and OS-specific diagnostics, for MSWin32):
$^X = /tmp/basesmoker-reloperl-li9F/bin/perl
$UID/$EUID = 1005 / 1005
$GID = 1005 1005
$EGID = 1005 1005
Perl module toolchain versions installed:
Module Have
------------------- --------
CPAN 2.00
CPAN::Meta 2.133380
Cwd 3.47
ExtUtils::CBuilder 0.280216
ExtUtils::Command 1.18
ExtUtils::Install 1.62
ExtUtils::MakeMaker 6.90
ExtUtils::Manifest 1.63
ExtUtils::ParseXS 3.23
File::Spec 3.47
JSON 2.90
JSON::PP 2.27203
Module::Build 0.4205
Module::Signature 0.73
Parse::CPAN::Meta 1.4413
Test::Harness 3.30
Test::More 1.001002
YAML 0.90
YAML::Syck 1.27
version 0.9908
--
Summary of my perl5 (revision 5 version 19 subversion 10) configuration:
Commit id: 591cc29275ca89af0933d32727b40e5162cd19c1
Platform:
osname=linux, osvers=3.10-3-amd64, archname=x86_64-linux-ld
uname='linux k83 3.10-3-amd64 #1 smp debian 3.10.11-1 (2013-09-10) x86_64 gnulinux '
config_args='-Dprefix=/home/sand/src/perl/repoperls/installed-perls/perl/v5.19.9-27-g591cc29/127e -Dmyhostname=k83 -Dinstallusrbinperl=n -Uversiononly -Dusedevel -des -Ui_db -Uuseithreads -Duselongdouble -DDEBUGGING=-g'
hint=recommended, useposix=true, d_sigaction=define
useithreads=undef, usemultiplicity=undef
use64bitint=define, use64bitall=define, uselongdouble=define
usemymalloc=n, bincompat5005=undef
Compiler:
cc='cc', ccflags ='-fno-strict-aliasing -pipe -fstack-protector -I/usr/local/include -D_LARGEFILE_SOURCE -D_FILE_OFFSET_BITS=64',
optimize='-O2 -g',
cppflags='-fno-strict-aliasing -pipe -fstack-protector -I/usr/local/include'
ccversion='', gccversion='4.8.2', gccosandvers=''
intsize=4, longsize=8, ptrsize=8, doublesize=8, byteorder=12345678
d_longlong=define, longlongsize=8, d_longdbl=define, longdblsize=16
ivtype='long', ivsize=8, nvtype='long double', nvsize=16, Off_t='off_t', lseeksize=8
alignbytes=16, prototype=define
Linker and Libraries:
ld='cc', ldflags =' -fstack-protector -L/usr/local/lib'
libpth=/usr/local/lib /usr/lib/gcc/x86_64-linux-gnu/4.8/include-fixed /usr/include/x86_64-linux-gnu /usr/lib /lib/x86_64-linux-gnu /lib/../lib /usr/lib/x86_64-linux-gnu /usr/lib/../lib /lib
libs=-lnsl -lgdbm -ldb -ldl -lm -lcrypt -lutil -lc -lgdbm_compat
perllibs=-lnsl -ldl -lm -lcrypt -lutil -lc
libc=libc-2.17.so, so=so, useshrplib=false, libperl=libperl.a
gnulibc_version='2.17'
Dynamic Linking:
dlsrc=dl_dlopen.xs, dlext=so, d_dlsymun=undef, ccdlflags='-Wl,-E'
cccdlflags='-fPIC', lddlflags='-shared -O2 -g -L/usr/local/lib -fstack-protector'
Characteristics of this binary (from libperl):
Compile-time options: HAS_TIMES PERLIO_LAYERS PERL_DONT_CREATE_GVSV
PERL_HASH_FUNC_ONE_AT_A_TIME_HARD PERL_MALLOC_WRAP
PERL_NEW_COPY_ON_WRITE PERL_PRESERVE_IVUV
PERL_USE_DEVEL USE_64_BIT_ALL USE_64_BIT_INT
USE_LARGE_FILES USE_LOCALE USE_LOCALE_COLLATE
USE_LOCALE_CTYPE USE_LOCALE_NUMERIC USE_LONG_DOUBLE
USE_PERLIO USE_PERL_ATOF
Built under linux
Compiled at Feb 21 2014 18:06:23
%ENV:
PERL5LIB=""
PERL5OPT=""
PERL5_CPANPLUS_IS_RUNNING="22961"
PERL5_CPAN_IS_RUNNING="22961"
PERL_MM_USE_DEFAULT="1"
@INC:
/home/sand/src/perl/repoperls/installed-perls/perl/v5.19.9-27-g591cc29/127e/lib/site_perl/5.19.10/x86_64-linux-ld
/home/sand/src/perl/repoperls/installed-perls/perl/v5.19.9-27-g591cc29/127e/lib/site_perl/5.19.10
/home/sand/src/perl/repoperls/installed-perls/perl/v5.19.9-27-g591cc29/127e/lib/5.19.10/x86_64-linux-ld
/home/sand/src/perl/repoperls/installed-perls/perl/v5.19.9-27-g591cc29/127e/lib/5.19.10
.