Astro-FITS-CFITSIO-FileName v0.08 Perl 5 v5.37.3 x86_64-linux-thread-multi

Status
Pass
From
Andreas J. König (ANDK)
Dist
Astro-FITS-CFITSIO-FileName v0.08
Platform
Perl 5 v5.37.3 x86_64-linux-thread-multi
Date
2023-05-13 22:01:33
ID
b931447a-f1d9-11ed-97f0-db0584d7aa17
This distribution has been tested as part of the CPAN Testers
project, supporting the Perl programming language.  See
http://wiki.cpantesters.org/ for more information or email
questions to cpan-testers-discuss@perl.org


--
Dear Diab Jerius,

This is a computer-generated report for Astro-FITS-CFITSIO-FileName-0.08
on perl 5.37.3, created by CPAN-Reporter-1.2018.

Thank you for uploading your work to CPAN.  Congratulations!
All tests were successful.

Sections of this report:

    * Tester comments
    * Program output
    * Prerequisites
    * Environment and other context

------------------------------
TESTER COMMENTS
------------------------------

Additional comments from tester:

this report is from an automated smoke testing program
and was not reviewed by a human for accuracy

------------------------------
PROGRAM OUTPUT
------------------------------

Output from './Build test':

t/00-compile.t ......... ok
# 
# Versions for all modules listed in MYMETA.json (including optional ones):
# 
# === Configure Requires ===
# 
#     Module               Want  Have
#     ------------------- ----- -----
#     Module::Build::Tiny 0.034 0.039
# 
# === Test Requires ===
# 
#     Module              Want     Have
#     ------------------- ---- --------
#     Data::Dump           any     1.25
#     ExtUtils::MakeMaker  any     7.70
#     File::Spec           any     3.86
#     IO::Handle           any     1.49
#     IPC::Open3           any     1.22
#     Test2::V0            any 0.000148
#     Test::More           any 1.302191
#     vars                 any     1.05
# 
# === Test Recommends ===
# 
#     Module         Want     Have
#     ---------- -------- --------
#     CPAN::Meta 2.120900 2.150010
# 
# === Runtime Requires ===
# 
#     Module                     Want     Have
#     ---------------------- -------- --------
#     Carp                        any     1.53
#     Exporter::Shiny        1.002000 1.006000
#     Moo                         any 2.005004
#     MooX::Tag::TO_HASH         0.05     0.05
#     Ref::Util                   any    0.204
#     Scalar::Util                any     1.63
#     Text::Balanced              any     2.06
#     Type::Library               any 2.004000
#     Type::Tiny::Class           any 2.004000
#     Types::Common::Numeric      any 2.004000
#     Types::Standard             any 2.004000
#     experimental                any    0.028
#     namespace::clean            any     0.27
#     overload                    any     1.35
#     perl                   5.026003 5.037003
#     strict                      any     1.12
#     warnings                    any     1.58
# 
t/00-report-prereqs.t .. ok
t/bin_spec.t ........... ok
t/leaves.t ............. ok
t/misc.t ............... ok
t/new.t ................ ok
t/types.t .............. ok
All tests successful.
Files=7, Tests=46,  4 wallclock secs ( 0.06 usr  0.02 sys +  2.13 cusr  0.47 csys =  2.68 CPU)
Result: PASS

------------------------------
PREREQUISITES
------------------------------

Prerequisite modules loaded:

requires:

    Module                 Need     Have    
    ---------------------- -------- --------
    Carp                   0        1.53    
    experimental           0        0.028   
    Exporter::Shiny        1.002000 1.006000
    Moo                    0        2.005004
    MooX::Tag::TO_HASH     0.05     0.05    
    namespace::clean       0        0.27    
    overload               0        1.35    
    perl                   5.026003 5.037003
    Ref::Util              0        0.204   
    Scalar::Util           0        1.63    
    strict                 0        1.12    
    Text::Balanced         0        2.06    
    Type::Library          0        2.004000
    Type::Tiny::Class      0        2.004000
    Types::Common::Numeric 0        2.004000
    Types::Standard        0        2.004000
    warnings               0        1.58    

build_requires:

    Module                 Need     Have    
    ---------------------- -------- --------
    Data::Dump             0        1.25    
    ExtUtils::MakeMaker    0        7.70    
    File::Spec             0        3.86    
    IO::Handle             0        1.49    
    IPC::Open3             0        1.22    
    Test2::V0              0        0.000148
    Test::More             0        1.302191
    vars                   0        1.05    

configure_requires:

    Module                 Need     Have    
    ---------------------- -------- --------
    Module::Build::Tiny    0.034    0.039   


------------------------------
ENVIRONMENT AND OTHER CONTEXT
------------------------------

Environment variables:

    AUTOMATED_TESTING = 1
    LANG = en_US.UTF-8
    LANGUAGE = en_US:en
    PATH = /home/sand/bin:/usr/local/bin:/usr/bin:/bin:/usr/games:/usr/local/perl/bin:/usr/X11/bin:/sbin:/usr/sbin
    PERL5LIB = 
    PERL5OPT = 
    PERL5_CPANPLUS_IS_RUNNING = 242420
    PERL5_CPAN_IS_RUNNING = 242420
    PERL_CANARY_STABILITY_NOPROMPT = 1
    PERL_MM_USE_DEFAULT = 1
    PERL_USE_UNSAFE_INC = 1
    SHELL = /usr/bin/zsh
    TERM = screen

Perl special variables (and OS-specific diagnostics, for MSWin32):

    $^X = /home/sand/src/perl/repoperls/installed-perls/host/k93msid/v5.37.3/29fb/bin/perl
    $UID/$EUID = 1005 / 1005
    $GID = 1005 1005
    $EGID = 1005 1005

Perl module toolchain versions installed:

    Module              Have    
    ------------------- --------
    CPAN                2.34    
    CPAN::Meta          2.150010
    Cwd                 3.86    
    ExtUtils::CBuilder  0.280237
    ExtUtils::Command   7.70    
    ExtUtils::Install   2.20    
    ExtUtils::MakeMaker 7.70    
    ExtUtils::Manifest  1.73    
    ExtUtils::ParseXS   3.45    
    File::Spec          3.86    
    JSON                4.09    
    JSON::PP            4.16    
    Module::Build       0.4231  
    Module::Signature   0.88    
    Parse::CPAN::Meta   2.150010
    Test::Harness       3.44    
    Test::More          1.302191
    YAML                1.30    
    YAML::Syck          1.34    
    version             0.9929  


--

Summary of my perl5 (revision 5 version 37 subversion 3) configuration:
  Commit id: 29b290ccaa79f40de7d941c9a79810119f5c6363
  Platform:
    osname=linux
    osvers=5.19.0-1-amd64
    archname=x86_64-linux-thread-multi
    uname='linux k93msid 5.19.0-1-amd64 #1 smp preempt_dynamic debian 5.19.6-1 (2022-09-01) x86_64 gnulinux '
    config_args='-Dprefix=/home/sand/src/perl/repoperls/installed-perls/host/k93msid/v5.37.3/29fb -Dmyhostname=k93msid -Dinstallusrbinperl=n -Uversiononly -Dusedevel -des -Ui_db -Dlibswanted=cl pthread socket inet nsl gdbm dbm malloc dl ld sun m crypt sec util c cposix posix ucb BSD gdbm_compat -Duseithreads -Uuselongdouble -DEBUGGING=both'
    hint=recommended
    useposix=true
    d_sigaction=define
    useithreads=define
    usemultiplicity=define
    use64bitint=define
    use64bitall=define
    uselongdouble=undef
    usemymalloc=n
    default_inc_excludes_dot=define
  Compiler:
    cc='cc'
    ccflags ='-D_REENTRANT -D_GNU_SOURCE -fwrapv -DDEBUGGING -fno-strict-aliasing -pipe -fstack-protector-strong -I/usr/local/include -D_LARGEFILE_SOURCE -D_FILE_OFFSET_BITS=64 -D_FORTIFY_SOURCE=2'
    optimize='-O2 -g'
    cppflags='-D_REENTRANT -D_GNU_SOURCE -fwrapv -DDEBUGGING -fno-strict-aliasing -pipe -fstack-protector-strong -I/usr/local/include'
    ccversion=''
    gccversion='12.2.0'
    gccosandvers=''
    intsize=4
    longsize=8
    ptrsize=8
    doublesize=8
    byteorder=12345678
    doublekind=3
    d_longlong=define
    longlongsize=8
    d_longdbl=define
    longdblsize=16
    longdblkind=3
    ivtype='long'
    ivsize=8
    nvtype='double'
    nvsize=8
    Off_t='off_t'
    lseeksize=8
    alignbytes=8
    prototype=define
  Linker and Libraries:
    ld='cc'
    ldflags =' -fstack-protector-strong -L/usr/local/lib'
    libpth=/usr/local/lib /usr/lib/x86_64-linux-gnu /usr/lib /usr/lib64
    libs=-lpthread -lnsl -ldl -lm -lcrypt -lutil -lc
    perllibs=-lpthread -lnsl -ldl -lm -lcrypt -lutil -lc
    libc=/lib/x86_64-linux-gnu/libc.so.6
    so=so
    useshrplib=false
    libperl=libperl.a
    gnulibc_version='2.34'
  Dynamic Linking:
    dlsrc=dl_dlopen.xs
    dlext=so
    d_dlsymun=undef
    ccdlflags='-Wl,-E'
    cccdlflags='-fPIC'
    lddlflags='-shared -O2 -g -L/usr/local/lib -fstack-protector-strong'


Characteristics of this binary (from libperl): 
  Compile-time options:
    DEBUGGING
    HAS_TIMES
    MULTIPLICITY
    PERLIO_LAYERS
    PERL_COPY_ON_WRITE
    PERL_DONT_CREATE_GVSV
    PERL_HASH_FUNC_SIPHASH13
    PERL_HASH_USE_SBOX32
    PERL_MALLOC_WRAP
    PERL_OP_PARENT
    PERL_PRESERVE_IVUV
    PERL_TRACK_MEMPOOL
    PERL_USE_DEVEL
    PERL_USE_SAFE_PUTENV
    USE_64_BIT_ALL
    USE_64_BIT_INT
    USE_ITHREADS
    USE_LARGE_FILES
    USE_LOCALE
    USE_LOCALE_COLLATE
    USE_LOCALE_CTYPE
    USE_LOCALE_NUMERIC
    USE_LOCALE_TIME
    USE_PERLIO
    USE_PERL_ATOF
    USE_REENTRANT_API
    USE_THREAD_SAFE_LOCALE
  Built under linux
  Compiled at Sep 10 2022 16:58:29
  %ENV:
    PERL5LIB=""
    PERL5OPT=""
    PERL5_CPANPLUS_IS_RUNNING="242420"
    PERL5_CPAN_IS_RUNNING="242420"
    PERL_CANARY_STABILITY_NOPROMPT="1"
    PERL_MM_USE_DEFAULT="1"
    PERL_USE_UNSAFE_INC="1"
  @INC:
    /home/sand/src/perl/repoperls/installed-perls/host/k93msid/v5.37.3/29fb/lib/site_perl/5.37.3/x86_64-linux-thread-multi
    /home/sand/src/perl/repoperls/installed-perls/host/k93msid/v5.37.3/29fb/lib/site_perl/5.37.3
    /home/sand/src/perl/repoperls/installed-perls/host/k93msid/v5.37.3/29fb/lib/5.37.3/x86_64-linux-thread-multi
    /home/sand/src/perl/repoperls/installed-perls/host/k93msid/v5.37.3/29fb/lib/5.37.3
    .