Back
From: metabase:user:30ae4450-2aae-11df-837a-5e0a49663a4f
Subject: PASS Perl-Critic-More-1.003 v5.22.1
Date: 2016-02-19T21:06:21Z
This distribution has been tested as part of the CPAN Testers
project, supporting the Perl programming language. See
http://wiki.cpantesters.org/ for more information or email
questions to cpan-testers-discuss@perl.org
--
Dear Jeffrey Ryan Thalhammer,
This is a computer-generated report for Perl-Critic-More-1.003
on perl 5.22.1, created by CPAN-Reporter-1.2015.
Thank you for uploading your work to CPAN. Congratulations!
All tests were successful.
Sections of this report:
* Tester comments
* Program output
* Prerequisites
* Environment and other context
------------------------------
TESTER COMMENTS
------------------------------
Additional comments from tester:
this report is from an automated smoke testing program
and was not reviewed by a human for accuracy
------------------------------
PROGRAM OUTPUT
------------------------------
Output from 'K:\Sasha\perl\strawberry-perl-5.22.1.2-64bit\perl\bin\perl.exe ./Build test':
File 'MANIFEST.SKIP' does not exist: Creating a temporary 'MANIFEST.SKIP'
Added to MANIFEST: Build.PL
Added to MANIFEST: Changes
Added to MANIFEST: inc/Perl/Critic/Module/Build.pm
Added to MANIFEST: lib/Perl/Critic/More.pm
Added to MANIFEST: lib/Perl/Critic/Policy/CodeLayout/RequireASCII.pm
Added to MANIFEST: lib/Perl/Critic/Policy/Editor/RequireEmacsFileVariables.pm
Added to MANIFEST: lib/Perl/Critic/Policy/ErrorHandling/RequireUseOfExceptions.pm
Added to MANIFEST: lib/Perl/Critic/Policy/Modules/PerlMinimumVersion.pm
Added to MANIFEST: lib/Perl/Critic/Policy/Modules/RequirePerlVersion.pm
Added to MANIFEST: lib/Perl/Critic/Policy/ValuesAndExpressions/RequireConstantOnLeftSideOfEquality.pm
Added to MANIFEST: lib/Perl/Critic/Policy/ValuesAndExpressions/RestrictLongStrings.pm
Added to MANIFEST: LICENSE
Added to MANIFEST: Makefile.PL
Added to MANIFEST: MANIFEST
Added to MANIFEST: META.json
Added to MANIFEST: META.yml
Added to MANIFEST: README
Added to MANIFEST: t/00_compile.t
Added to MANIFEST: t/20_policies.t
Added to MANIFEST: t/20_policies_codelayout.t
Added to MANIFEST: t/20_policies_editor.t
Added to MANIFEST: t/20_policies_modules.t
Added to MANIFEST: t/20_policies_valuesandexpressions.t
Added to MANIFEST: t/98_pod_syntax.t
Added to MANIFEST: t/99_pod_coverage.t
Added to MANIFEST: t/ErrorHandling/RequireUseOfExceptions.run
Added to MANIFEST: t/ValuesAndExpressions/RequireConstantOnLeftSideOfEquality.run
Added to MANIFEST: TODO.pod
Added to MANIFEST: xt/author/40_criticize.t
Added to MANIFEST: xt/author/40_perlcriticrc
Added to MANIFEST: xt/author/92_changelog.t
Added to MANIFEST: xt/author/93_version.t
Added to MANIFEST: xt/author/94_includes.t
Added to MANIFEST: xt/author/95_kwalitee.t
Added to MANIFEST: xt/author/96_filenames.t
Added to MANIFEST: xt/author/perltidyrc
Creating Makefile.PL
Creating README using Pod::Text
Created META.yml and META.json
t\00_compile.t ........................ ok
t\20_policies.t ....................... ok
t\20_policies_codelayout.t ............ ok
t\20_policies_editor.t ................ ok
t\20_policies_modules.t ............... ok
t\20_policies_valuesandexpressions.t .. ok
t\98_pod_syntax.t ..................... ok
t\99_pod_coverage.t ................... ok
All tests successful.
Files=8, Tests=63, 17 wallclock secs ( 0.09 usr + 0.05 sys = 0.14 CPU)
Result: PASS
------------------------------
PREREQUISITES
------------------------------
Prerequisite modules loaded:
requires:
Module Need Have
------------- ----- --------
Perl::Critic 1.098 1.126
Readonly 1.03 2.00
build_requires:
Module Need Have
------------- ----- --------
Test::More 0 1.001014
configure_requires:
Module Need Have
------------- ----- --------
Module::Build 0.4 0.4214
------------------------------
ENVIRONMENT AND OTHER CONTEXT
------------------------------
Environment variables:
AUTOMATED_TESTING = 1
COMSPEC = C:\Windows\system32\cmd.exe
NONINTERACTIVE_TESTING = 1
NUMBER_OF_PROCESSORS = 4
PATH = K:\Sasha\perl\strawberry-perl-5.22.1.2-64bit\perl\site\bin;K:\Sasha\perl\strawberry-perl-5.22.1.2-64bit\perl\bin;K:\Sasha\perl\strawberry-perl-5.22.1.2-64bit\c\bin;C:\Program Files\Far Manager\;C:\Program Files (x86)\AMD APP\bin\x86_64;C:\Program Files (x86)\AMD APP\bin\x86;C:\Windows\system32;C:\Windows;C:\Windows\System32\Wbem;C:\Windows\System32\WindowsPowerShell\v1.0\;C:\Program Files (x86)\ATI Technologies\ATI.ACE\Core-Static;C:\Program Files (x86)\Skype\Phone\
PERL5LIB =
PERL5OPT =
PERL5_CPANPLUS_IS_RUNNING = 2484
PERL5_CPAN_IS_RUNNING = 2484
PERL5_CPAN_IS_RUNNING_IN_RECURSION = 2532,2484
PERL_CR_SMOKER_CURRENT = Test::Apocalypse
PERL_EXTUTILS_AUTOINSTALL = --defaultdeps
PERL_MM_USE_DEFAULT = 1
PROCESSOR_IDENTIFIER = AMD64 Family 18 Model 1 Stepping 0, AuthenticAMD
TEMP = C:\Users\1824~1\AppData\Local\Temp
Perl special variables (and OS-specific diagnostics, for MSWin32):
$^X = K:\Sasha\perl\strawberry-perl-5.22.1.2-64bit\perl\bin\perl.exe
$UID/$EUID = 0 / 0
$GID = 0
$EGID = 0
Win32::GetOSName = Win7
Win32::GetOSVersion = Service Pack 1, 6, 1, 7601, 2, 1, 0, 256, 1
Win32::FsType = NTFS
Win32::IsAdminUser = 0
Perl module toolchain versions installed:
Module Have
------------------- --------
CPAN 2.11
CPAN::Meta 2.150005
Cwd 3.60
ExtUtils::CBuilder 0.280224
ExtUtils::Command 7.10
ExtUtils::Install 2.04
ExtUtils::MakeMaker 7.10
ExtUtils::Manifest 1.70
ExtUtils::ParseXS 3.30
File::Spec 3.60
JSON 2.90
JSON::PP 2.27300
Module::Build 0.4214
Module::Signature 0.79
Parse::CPAN::Meta 1.4417
Test::Harness 3.36
Test::More 1.001014
YAML 1.15
YAML::Syck n/a
version 0.9912
--
Summary of my perl5 (revision 5 version 22 subversion 1) configuration:
Platform:
osname=MSWin32, osvers=6.3, archname=MSWin32-x64-multi-thread
uname='Win32 strawberry-perl 5.22.1.2 #1 Wed Jan 6 19:19:42 2016 x64'
config_args='undef'
hint=recommended, useposix=true, d_sigaction=undef
useithreads=define, usemultiplicity=define
use64bitint=define, use64bitall=undef, uselongdouble=undef
usemymalloc=n, bincompat5005=undef
Compiler:
cc='gcc', ccflags =' -s -O2 -DWIN32 -DWIN64 -DCONSERVATIVE -DPERL_TEXTMODE_SCRIPTS -DPERL_IMPLICIT_CONTEXT -DPERL_IMPLICIT_SYS -fwrapv -fno-strict-aliasing -mms-bitfields',
optimize='-s -O2',
cppflags='-DWIN32'
ccversion='', gccversion='4.9.2', gccosandvers=''
intsize=4, longsize=4, ptrsize=8, doublesize=8, byteorder=12345678, doublekind=3
d_longlong=define, longlongsize=8, d_longdbl=define, longdblsize=16, longdblkind=3
ivtype='long long', ivsize=8, nvtype='double', nvsize=8, Off_t='long long', lseeksize=8
alignbytes=8, prototype=define
Linker and Libraries:
ld='g++.exe', ldflags ='-s -L"K:\Sasha\perl\strawberry-perl-5.22.1.2-64bit\perl\lib\CORE" -L"K:\Sasha\perl\strawberry-perl-5.22.1.2-64bit\c\lib"'
libpth=K:\Sasha\perl\strawberry-perl-5.22.1.2-64bit\c\lib K:\Sasha\perl\strawberry-perl-5.22.1.2-64bit\c\x86_64-w64-mingw32\lib K:\Sasha\perl\strawberry-perl-5.22.1.2-64bit\c\lib\gcc\x86_64-w64-mingw32\4.9.2
libs=-lmoldname -lkernel32 -luser32 -lgdi32 -lwinspool -lcomdlg32 -ladvapi32 -lshell32 -lole32 -loleaut32 -lnetapi32 -luuid -lws2_32 -lmpr -lwinmm -lversion -lodbc32 -lodbccp32 -lcomctl32
perllibs=-lmoldname -lkernel32 -luser32 -lgdi32 -lwinspool -lcomdlg32 -ladvapi32 -lshell32 -lole32 -loleaut32 -lnetapi32 -luuid -lws2_32 -lmpr -lwinmm -lversion -lodbc32 -lodbccp32 -lcomctl32
libc=, so=dll, useshrplib=true, libperl=libperl522.a
gnulibc_version=''
Dynamic Linking:
dlsrc=dl_win32.xs, dlext=xs.dll, d_dlsymun=undef, ccdlflags=' '
cccdlflags=' ', lddlflags='-mdll -s -L"K:\Sasha\perl\strawberry-perl-5.22.1.2-64bit\perl\lib\CORE" -L"K:\Sasha\perl\strawberry-perl-5.22.1.2-64bit\c\lib"'
Characteristics of this binary (from libperl):
Compile-time options: HAS_TIMES HAVE_INTERP_INTERN MULTIPLICITY
PERLIO_LAYERS PERL_DONT_CREATE_GVSV
PERL_HASH_FUNC_ONE_AT_A_TIME_HARD
PERL_IMPLICIT_CONTEXT PERL_IMPLICIT_SYS
PERL_MALLOC_WRAP PERL_NEW_COPY_ON_WRITE
PERL_PRESERVE_IVUV USE_64_BIT_INT USE_ITHREADS
USE_LARGE_FILES USE_LOCALE USE_LOCALE_COLLATE
USE_LOCALE_CTYPE USE_LOCALE_NUMERIC USE_LOCALE_TIME
USE_PERLIO USE_PERL_ATOF
Built under MSWin32
Compiled at Jan 6 2016 19:25:30
%ENV:
PERL5_CPANPLUS_IS_RUNNING="2484"
PERL5_CPAN_IS_RUNNING="2484"
PERL5_CPAN_IS_RUNNING_IN_RECURSION="2532,2484"
PERL_CR_SMOKER_CURRENT="Test::Apocalypse"
PERL_EXTUTILS_AUTOINSTALL="--defaultdeps"
PERL_MM_USE_DEFAULT="1"
@INC:
K:/Sasha/perl/strawberry-perl-5.22.1.2-64bit/perl/site/lib
K:/Sasha/perl/strawberry-perl-5.22.1.2-64bit/perl/vendor/lib
K:/Sasha/perl/strawberry-perl-5.22.1.2-64bit/perl/lib
.