Back
From: metabase:user:30977d10-2aae-11df-837a-5e0a49663a4f
Subject: PASS Web-Request-0.11 v5.25.8 SunOS/Solaris
Date: 2017-01-25T18:47:29Z
This distribution has been tested as part of the CPAN Testers
project, supporting the Perl programming language. See
http://wiki.cpantesters.org/ for more information or email
questions to cpan-testers-discuss@perl.org
--
Dear Jesse Luehrs,
This is a computer-generated report for Web-Request-0.11
on perl 5.25.8, created by CPAN-Reporter-1.2018.
Thank you for uploading your work to CPAN. Congratulations!
All tests were successful.
Sections of this report:
* Tester comments
* Program output
* Prerequisites
* Environment and other context
------------------------------
TESTER COMMENTS
------------------------------
Additional comments from tester:
this report is from an automated smoke testing program
and was not reviewed by a human for accuracy
------------------------------
PROGRAM OUTPUT
------------------------------
Output from '/usr/bin/make test':
PERL_DL_NONLAZY=1 "/home/stro/perl/5.25.8/bin/perl" "-MExtUtils::Command::MM" "-MTest::Harness" "-e" "undef *Test::Harness::Switches; test_harness(0, 'blib/lib', 'blib/arch')" t/*.t
t/00-compile.t ................. ok
t/base.t ....................... ok
t/body.t ....................... ok
t/content-on-get.t ............. ok
t/content.t .................... ok
t/cookie.t ..................... ok
t/double_port.t ................ ok
t/encoding.t ................... ok
t/hostname.t ................... ok
t/many_upload.t ................ ok
t/multi_read.t ................. ok
t/new.t ........................ ok
t/parameters.t ................. ok
t/params.t ..................... ok
t/path_info.t .................. ok
t/path_info_escaped.t .......... ok
t/readbody.t ................... ok
t/request_uri.t ................ ok
t/response-body.t .............. ok
t/response-compatible.t ........ ok
t/response-cookie.t ............ ok
t/response-new.t ............... ok
t/response-redirect.t .......... ok
t/response-streaming-cookie.t .. ok
t/response-streaming-utf8.t .... ok
t/response-streaming.t ......... ok
t/response-to_app.t ............ ok
t/response.t ................... ok
t/upload-basename.t ............ ok
t/upload-large.t ............... ok
t/upload.t ..................... ok
t/uri.t ........................ ok
t/uri_utf8.t ................... ok
All tests successful.
Files=33, Tests=244, 17 wallclock secs ( 0.14 usr 0.08 sys + 12.84 cusr 1.76 csys = 14.82 CPU)
Result: PASS
------------------------------
PREREQUISITES
------------------------------
Prerequisite modules loaded:
requires:
Module Need Have
---------------------------- ---- --------
Encode 0 2.88
File::Spec::Unix 0 3.66
HTTP::Body 0 1.22
HTTP::Headers 0 6.11
HTTP::Message::PSGI 0 0
Module::Runtime 0 0.014
Moose 0 2.1807
Moose::Util::TypeConstraints 0 2.1807
Plack::Util 0 0
Stream::Buffered 0 0.03
strict 0 1.11
URI 0 1.71
URI::Escape 0 3.31
warnings 0 1.37
build_requires:
Module Need Have
---------------------------- ---- --------
Data::Dumper 0 2.166
File::Find 0 1.34
File::Temp 0 0.2304
FindBin 0 1.51
HTTP::Request 0 6.11
HTTP::Request::Common 0 6.11
IO::String 0 1.08
Plack::App::URLMap 0 0
Plack::Test 0 0
Test::More 0.88 1.302075
Try::Tiny 0 0.28
utf8 0 1.19
configure_requires:
Module Need Have
---------------------------- ---- --------
ExtUtils::MakeMaker 6.30 7.24
------------------------------
ENVIRONMENT AND OTHER CONTEXT
------------------------------
Environment variables:
AUTOMATED_TESTING = 1
LANG = en_US.UTF-8
PATH = /usr/gnu/bin:/usr/bin:/usr/sbin:/sbin:/usr/sfw/bin:
PERL5LIB =
PERL5OPT =
PERL5_CPANPLUS_IS_RUNNING = 4552
PERL5_CPAN_IS_RUNNING = 4552
PERL5_CPAN_IS_RUNNING_IN_RECURSION = 11757,4552
PERL_CR_SMOKER_CURRENT = Web-Request-Role-JSON-1.000
PERL_EXTUTILS_AUTOINSTALL = --defaultdeps
PERL_MM_USE_DEFAULT = 1
SHELL = /bin/bash
TERM = xterm
Perl special variables (and OS-specific diagnostics, for MSWin32):
$^X = /home/stro/perl/5.25.8/bin/perl
$UID/$EUID = 101 / 101
$GID = 10 10
$EGID = 10 10
Perl module toolchain versions installed:
Module Have
------------------- ----------
CPAN 2.14_01
CPAN::Meta 2.150010
Cwd 3.66
ExtUtils::CBuilder 0.280225
ExtUtils::Command 7.24
ExtUtils::Install 2.04
ExtUtils::MakeMaker 7.24
ExtUtils::Manifest 1.70
ExtUtils::ParseXS 3.33
File::Spec 3.66
JSON 2.90
JSON::PP 2.27400_02
Module::Build 0.4220
Module::Signature 0.81
Parse::CPAN::Meta 2.150010
Test::Harness 3.36_01
Test::More 1.302075
YAML 1.21
YAML::Syck 1.29
version 0.9917
--
Summary of my perl5 (revision 5 version 25 subversion 8) configuration:
Platform:
osname=solaris
osvers=2.11
archname=i86pc-solaris
uname='sunos vm-openindiana-001 5.11 illumos-2816291 i86pc i386 i86pc '
config_args='-Dcc=gcc'
hint=recommended
useposix=true
d_sigaction=define
useithreads=undef
usemultiplicity=undef
use64bitint=undef
use64bitall=undef
uselongdouble=undef
usemymalloc=n
bincompat5005=undef
Compiler:
cc='gcc'
ccflags ='-fno-strict-aliasing -pipe -I/usr/gnu/include -D_LARGEFILE_SOURCE -D_FILE_OFFSET_BITS=64 -DPERL_USE_SAFE_PUTENV'
optimize='-O'
cppflags='-fno-strict-aliasing -pipe -I/usr/gnu/include'
ccversion=''
gccversion='3.4.3 (csl-sol210-3_4-20050802)'
gccosandvers='solaris2.11'
intsize=4
longsize=4
ptrsize=4
doublesize=8
byteorder=1234
doublekind=3
d_longlong=define
longlongsize=8
d_longdbl=define
longdblsize=12
longdblkind=3
ivtype='long'
ivsize=4
nvtype='double'
nvsize=8
Off_t='off_t'
lseeksize=8
alignbytes=4
prototype=define
Linker and Libraries:
ld='gcc'
ldflags =' -L/usr/gnu/lib '
libpth=/usr/gcc/3.4/lib /usr/lib /usr/gnu/lib /usr/ccs/lib
libs=-lpthread -lsocket -lnsl -lgdbm -ldb -ldl -lm -lc
perllibs=-lpthread -lsocket -lnsl -ldl -lm -lc
libc=/lib/libc.so
so=so
useshrplib=true
libperl=libperl.so
gnulibc_version=''
Dynamic Linking:
dlsrc=dl_dlopen.xs
dlext=so
d_dlsymun=undef
ccdlflags=' -R /home/stro/perl/5.25.8/lib/5.25.8/i86pc-solaris/CORE'
cccdlflags='-fPIC'
lddlflags='-shared -L/usr/gnu/lib'
Characteristics of this binary (from libperl):
Compile-time options:
HAS_TIMES
PERLIO_LAYERS
PERL_COPY_ON_WRITE
PERL_DONT_CREATE_GVSV
PERL_HASH_FUNC_ONE_AT_A_TIME_HARD
PERL_MALLOC_WRAP
PERL_OP_PARENT
PERL_PRESERVE_IVUV
PERL_USE_SAFE_PUTENV
USE_LARGE_FILES
USE_LOCALE
USE_LOCALE_COLLATE
USE_LOCALE_CTYPE
USE_LOCALE_NUMERIC
USE_LOCALE_TIME
USE_PERLIO
USE_PERL_ATOF
Built under solaris
Compiled at Dec 23 2016 23:01:13
%ENV:
PERL5LIB=""
PERL5OPT=""
PERL5_CPANPLUS_IS_RUNNING="4552"
PERL5_CPAN_IS_RUNNING="4552"
PERL5_CPAN_IS_RUNNING_IN_RECURSION="11757,4552"
PERL_CR_SMOKER_CURRENT="Web-Request-Role-JSON-1.000"
PERL_EXTUTILS_AUTOINSTALL="--defaultdeps"
PERL_MM_USE_DEFAULT="1"
@INC:
/home/stro/perl/5.25.8/lib/site_perl/5.25.8/i86pc-solaris
/home/stro/perl/5.25.8/lib/site_perl/5.25.8
/home/stro/perl/5.25.8/lib/5.25.8/i86pc-solaris
/home/stro/perl/5.25.8/lib/5.25.8
.