Dancer-Plugin-Swagger v0.3.0 Perl 5 v5.14.4 x86_64-linux

Status
Pass
From
Slaven Rezić
Dist
Dancer-Plugin-Swagger v0.3.0
Platform
Perl 5 v5.14.4 x86_64-linux
Date
2021-06-03 18:22:57
ID
b8be2a64-c498-11eb-b5b8-bc141f24ea8f
This distribution has been tested as part of the CPAN Testers
project, supporting the Perl programming language.  See
http://wiki.cpantesters.org/ for more information or email
questions to cpan-testers-discuss@perl.org


--
Dear Yanick Champoux,

This is a computer-generated report for Dancer-Plugin-Swagger-0.3.0
on perl 5.14.4, created by CPAN-Reporter-1.2018.

Thank you for uploading your work to CPAN.  Congratulations!
All tests were successful.

Sections of this report:

    * Tester comments
    * Program output
    * Prerequisites
    * Environment and other context

------------------------------
TESTER COMMENTS
------------------------------

Additional comments from tester:

none provided

------------------------------
PROGRAM OUTPUT
------------------------------

Output from '/usr/bin/make test':

Skip blib/lib/auto/share/dist/Dancer-Plugin-Swagger/shared-files.tar.gz (unchanged)
PERL_DL_NONLAZY=1 "/opt/perl-5.14.4/bin/perl" "-MExtUtils::Command::MM" "-MTest::Harness" "-e" "undef *Test::Harness::Switches; test_harness(0, 'blib/lib', 'blib/arch')" t/*.t
t/00-compile.t ......... ok
# 
# Versions for all modules listed in MYMETA.json (including optional ones):
# 
# === Configure Requires ===
# 
#     Module                  Want Have
#     ----------------------- ---- ----
#     ExtUtils::MakeMaker      any 7.62
#     File::ShareDir::Install 0.06 0.13
# 
# === Build Requires ===
# 
#     Module              Want Have
#     ------------------- ---- ----
#     ExtUtils::MakeMaker  any 7.62
# 
# === Test Requires ===
# 
#     Module                     Want     Have
#     -------------------------- ---- --------
#     ExtUtils::MakeMaker         any     7.62
#     File::Spec                  any     3.75
#     IO::Handle                  any     1.45
#     IPC::Open3                  any   1.0901
#     Test::Deep                  any    1.130
#     Test::More                  any 1.302185
#     Test::WWW::Mechanize::PSGI  any     0.39
# 
# === Test Recommends ===
# 
#     Module         Want     Have
#     ---------- -------- --------
#     CPAN::Meta 2.120900 2.150010
# 
# === Runtime Requires ===
# 
#     Module                  Want     Have
#     ----------------------- ---- --------
#     Carp                     any     1.50
#     Class::Load              any     0.25
#     Clone                    any     0.45
#     Dancer                   any   1.3513
#     Dancer::Plugin           any   1.3513
#     Dancer::Plugin::REST     any     0.11
#     Dancer::Response         any   1.3513
#     File::ShareDir::Tarball  any    0.2.2
#     Hash::Merge              any    0.302
#     JSON                     any     4.03
#     List::AllUtils           any     0.19
#     Module::Version          any    0.201
#     Moo                      any 2.005004
#     MooX::Singleton          any     1.20
#     MooseX::MungeHas         any    0.011
#     Path::Tiny               any    0.118
#     PerlX::Maybe             any    1.201
#     overload                 any     1.13
#     strict                   any     1.04
#     warnings                 any     1.12
# 
t/00-report-prereqs.t .. ok
t/basic.t .............. ok
t/definition.t ......... ok
All tests successful.
Files=4, Tests=12,  1 wallclock secs ( 0.02 usr  0.01 sys +  0.76 cusr  0.28 csys =  1.07 CPU)
Result: PASS

------------------------------
PREREQUISITES
------------------------------

Prerequisite modules loaded:

requires:

    Module                     Need  Have    
    -------------------------- ----- --------
    Carp                       0     1.50    
    Class::Load                0     0.25    
    Clone                      0     0.45    
    Dancer                     0     1.3513  
    Dancer::Plugin             0     1.3513  
    Dancer::Plugin::REST       0     0.11    
    Dancer::Response           0     1.3513  
    File::ShareDir::Tarball    0     0.2.2   
    Hash::Merge                0     0.302   
    JSON                       0     4.03    
    List::AllUtils             0     0.19    
    Module::Version            0     0.201   
    Moo                        0     2.005004
    MooseX::MungeHas           0     0.011   
    MooX::Singleton            0     1.20    
    overload                   0     1.13    
    Path::Tiny                 0     0.118   
    perl                       5.006 5.014004
    PerlX::Maybe               0     1.201   
    strict                     0     1.04    
    warnings                   0     1.12    

build_requires:

    Module                     Need  Have    
    -------------------------- ----- --------
    ExtUtils::MakeMaker        0     7.62    
    File::Spec                 0     3.75    
    IO::Handle                 0     1.45    
    IPC::Open3                 0     1.0901  
    Test::Deep                 0     1.130   
    Test::More                 0     1.302185
    Test::WWW::Mechanize::PSGI 0     0.39    

configure_requires:

    Module                     Need  Have    
    -------------------------- ----- --------
    ExtUtils::MakeMaker        0     7.62    
    File::ShareDir::Install    0.06  0.13    


------------------------------
ENVIRONMENT AND OTHER CONTEXT
------------------------------

Environment variables:

    LANG = en_US.UTF-8
    PATH = /usr/local/bin:/usr/bin:/bin:/usr/local/sbin:/usr/sbin:/sbin:/home/cpansand/bin/linux-gnu:/home/cpansand/bin/sh:/home/cpansand/bin:/usr/games:/home/cpansand/devel:/home/eserte/src/srezic-misc/scripts
    PERL5LIB = 
    PERL5OPT = 
    PERL5_CPANPLUS_IS_RUNNING = 5221
    PERL5_CPAN_IS_RUNNING = 5221
    PERL5_CPAN_IS_RUNNING_IN_RECURSION = 2976,5221
    PERLDOC = -MPod::Perldoc::ToTextOverstrike
    PERL_BATCH = yes
    PERL_CANARY_STABILITY_NOPROMPT = 1
    PERL_CPAN_REPORTER_CONFIG = /var/tmp/cpansmoker-1023/2021060316/cpanreporter_000_config.ini
    PERL_EXTUTILS_AUTOINSTALL = --defaultdeps
    PERL_USE_UNSAFE_INC = 1
    SHELL = /usr/bin/zsh
    TERM = screen
    TMPDIR = /var/tmp/cpansmoker-1023/2021060316

Perl special variables (and OS-specific diagnostics, for MSWin32):

    $^X = /opt/perl-5.14.4/bin/perl
    $UID/$EUID = 1023 / 1023
    $GID = 1023 1023
    $EGID = 1023 1023

Perl module toolchain versions installed:

    Module              Have    
    ------------------- --------
    CPAN                2.28    
    CPAN::Meta          2.150010
    Cwd                 3.75    
    ExtUtils::CBuilder  0.280236
    ExtUtils::Command   7.62    
    ExtUtils::Install   2.20    
    ExtUtils::MakeMaker 7.62    
    ExtUtils::Manifest  1.73    
    ExtUtils::ParseXS   3.35    
    File::Spec          3.75    
    JSON                4.03    
    JSON::PP            4.06    
    Module::Build       0.4231  
    Module::Signature   0.87    
    Parse::CPAN::Meta   2.150010
    Test::Harness       3.42    
    Test::More          1.302185
    YAML                1.30    
    YAML::Syck          1.34    
    version             0.9929  


--

Summary of my perl5 (revision 5 version 14 subversion 4) configuration:
   
  Platform:
    osname=linux, osvers=4.15.0-91-generic, archname=x86_64-linux
    uname='linux ubuntu18 4.15.0-91-generic #92-ubuntu smp fri feb 28 11:09:48 utc 2020 x86_64 x86_64 x86_64 gnulinux '
    config_args='-ds -e -Dprefix=/opt/perl-5.14.4 -Dcf_email=srezic@cpan.org'
    hint=recommended, useposix=true, d_sigaction=define
    useithreads=undef, usemultiplicity=undef
    useperlio=define, d_sfio=undef, uselargefiles=define, usesocks=undef
    use64bitint=define, use64bitall=define, uselongdouble=undef
    usemymalloc=n, bincompat5005=undef
  Compiler:
    cc='cc', ccflags ='-fwrapv -fno-strict-aliasing -pipe -fstack-protector -I/usr/local/include -D_LARGEFILE_SOURCE -D_FILE_OFFSET_BITS=64',
    optimize='-O2',
    cppflags='-fwrapv -fno-strict-aliasing -pipe -fstack-protector -I/usr/local/include'
    ccversion='', gccversion='7.5.0', gccosandvers=''
    intsize=4, longsize=8, ptrsize=8, doublesize=8, byteorder=12345678
    d_longlong=define, longlongsize=8, d_longdbl=define, longdblsize=16
    ivtype='long', ivsize=8, nvtype='double', nvsize=8, Off_t='off_t', lseeksize=8
    alignbytes=8, prototype=define
  Linker and Libraries:
    ld='cc', ldflags =' -fstack-protector -L/usr/local/lib'
    libpth=/usr/local/lib /lib/x86_64-linux-gnu /lib/../lib /usr/lib/x86_64-linux-gnu /usr/lib/../lib /lib /usr/lib
    libs=-lnsl -lgdbm -ldb -ldl -lm -lcrypt -lutil -lc
    perllibs=-lnsl -ldl -lm -lcrypt -lutil -lc
    libc=libc-2.27.so, so=so, useshrplib=false, libperl=libperl.a
    gnulibc_version='2.27'
  Dynamic Linking:
    dlsrc=dl_dlopen.xs, dlext=so, d_dlsymun=undef, ccdlflags='-Wl,-E'
    cccdlflags='-fPIC', lddlflags='-shared -O2 -L/usr/local/lib -fstack-protector'


Characteristics of this binary (from libperl): 
  Compile-time options: PERL_DONT_CREATE_GVSV PERL_MALLOC_WRAP
                        PERL_PRESERVE_IVUV USE_64_BIT_ALL USE_64_BIT_INT
                        USE_LARGE_FILES USE_PERLIO USE_PERL_ATOF
  Locally applied patches:
	Devel::PatchPerl 1.90
  Built under linux
  Compiled at Mar 31 2020 20:33:09
  %ENV:
    PERL5LIB=""
    PERL5OPT=""
    PERL5_CPANPLUS_IS_RUNNING="5221"
    PERL5_CPAN_IS_RUNNING="5221"
    PERL5_CPAN_IS_RUNNING_IN_RECURSION="2976,5221"
    PERLDOC="-MPod::Perldoc::ToTextOverstrike"
    PERL_BATCH="yes"
    PERL_CANARY_STABILITY_NOPROMPT="1"
    PERL_CPAN_REPORTER_CONFIG="/var/tmp/cpansmoker-1023/2021060316/cpanreporter_000_config.ini"
    PERL_EXTUTILS_AUTOINSTALL="--defaultdeps"
    PERL_USE_UNSAFE_INC="1"
  @INC:
    /opt/perl-5.14.4/lib/site_perl/5.14.4/x86_64-linux
    /opt/perl-5.14.4/lib/site_perl/5.14.4
    /opt/perl-5.14.4/lib/5.14.4/x86_64-linux
    /opt/perl-5.14.4/lib/5.14.4
    .