File-ExtAttr v1.09 Perl 5 v5.38.2 x86_64-linux-gnu-thread-multi

Status
Pass
From
Smylers
Dist
File-ExtAttr v1.09
Platform
Perl 5 v5.38.2 x86_64-linux-gnu-thread-multi
Date
2024-11-28 17:46:39
ID
b8b714fe-adb0-11ef-98a7-bc75c19e119e
This distribution has been tested as part of the CPAN Testers
project, supporting the Perl programming language.  See
http://wiki.cpantesters.org/ for more information or email
questions to cpan-testers-discuss@perl.org


--
Dear RICHDAWE,

This is a computer-generated report for File-ExtAttr-1.09
on perl 5.38.2, created by App::cpanminus::reporter 0.22 (1.7047).

Thank you for uploading your work to CPAN.  Congratulations!
All tests were successful.

Sections of this report:

    * Tester comments
    * Program output
    * Prerequisites
    * Environment and other context

------------------------------
TESTER COMMENTS
------------------------------

Additional comments from tester:

none provided

------------------------------
PROGRAM OUTPUT
------------------------------

Output from '':

Building and testing File-ExtAttr-1.09
cp lib/File/ExtAttr.pm blib/lib/File/ExtAttr.pm
AutoSplitting blib/lib/File/ExtAttr.pm (blib/lib/auto/File/ExtAttr)
cp lib/File/ExtAttr/Tie.pm blib/lib/File/ExtAttr/Tie.pm
Running Mkbootstrap for ExtAttr ()
chmod 644 "ExtAttr.bs"
"/usr/bin/perl" -MExtUtils::Command::MM -e 'cp_nonempty' -- ExtAttr.bs blib/arch/auto/File/ExtAttr/ExtAttr.bs 644
"/usr/bin/perl" "/usr/share/perl/5.38/ExtUtils/xsubpp"  -typemap '/usr/share/perl/5.38/ExtUtils/typemap' -typemap '/home/smylers/.cpanm/work/1732815975.53160/File-ExtAttr-1.09/typemap'  ExtAttr.xs > ExtAttr.xsc
mv ExtAttr.xsc ExtAttr.c
x86_64-linux-gnu-gcc -c  -I. -I/usr/include -D_REENTRANT -D_GNU_SOURCE -DDEBIAN -fwrapv -fno-strict-aliasing -pipe -I/usr/local/include -D_LARGEFILE_SOURCE -D_FILE_OFFSET_BITS=64 -O2 -g   -DVERSION=\"1.09\" -DXS_VERSION=\"1.09\" -fPIC "-I/usr/lib/x86_64-linux-gnu/perl/5.38/CORE"   ExtAttr.c
x86_64-linux-gnu-gcc -c  -I. -I/usr/include -D_REENTRANT -D_GNU_SOURCE -DDEBIAN -fwrapv -fno-strict-aliasing -pipe -I/usr/local/include -D_LARGEFILE_SOURCE -D_FILE_OFFSET_BITS=64 -O2 -g   -DVERSION=\"1.09\" -DXS_VERSION=\"1.09\" -fPIC "-I/usr/lib/x86_64-linux-gnu/perl/5.38/CORE"   extattr_bsd.c
x86_64-linux-gnu-gcc -c  -I. -I/usr/include -D_REENTRANT -D_GNU_SOURCE -DDEBIAN -fwrapv -fno-strict-aliasing -pipe -I/usr/local/include -D_LARGEFILE_SOURCE -D_FILE_OFFSET_BITS=64 -O2 -g   -DVERSION=\"1.09\" -DXS_VERSION=\"1.09\" -fPIC "-I/usr/lib/x86_64-linux-gnu/perl/5.38/CORE"   extattr_linux.c
x86_64-linux-gnu-gcc -c  -I. -I/usr/include -D_REENTRANT -D_GNU_SOURCE -DDEBIAN -fwrapv -fno-strict-aliasing -pipe -I/usr/local/include -D_LARGEFILE_SOURCE -D_FILE_OFFSET_BITS=64 -O2 -g   -DVERSION=\"1.09\" -DXS_VERSION=\"1.09\" -fPIC "-I/usr/lib/x86_64-linux-gnu/perl/5.38/CORE"   extattr_macosx.c
x86_64-linux-gnu-gcc -c  -I. -I/usr/include -D_REENTRANT -D_GNU_SOURCE -DDEBIAN -fwrapv -fno-strict-aliasing -pipe -I/usr/local/include -D_LARGEFILE_SOURCE -D_FILE_OFFSET_BITS=64 -O2 -g   -DVERSION=\"1.09\" -DXS_VERSION=\"1.09\" -fPIC "-I/usr/lib/x86_64-linux-gnu/perl/5.38/CORE"   extattr_solaris.c
x86_64-linux-gnu-gcc -c  -I. -I/usr/include -D_REENTRANT -D_GNU_SOURCE -DDEBIAN -fwrapv -fno-strict-aliasing -pipe -I/usr/local/include -D_LARGEFILE_SOURCE -D_FILE_OFFSET_BITS=64 -O2 -g   -DVERSION=\"1.09\" -DXS_VERSION=\"1.09\" -fPIC "-I/usr/lib/x86_64-linux-gnu/perl/5.38/CORE"   flags.c
rm -f blib/arch/auto/File/ExtAttr/ExtAttr.so
x86_64-linux-gnu-gcc  -shared -L/usr/local/lib -fstack-protector-strong  ExtAttr.o extattr_bsd.o extattr_linux.o extattr_macosx.o extattr_solaris.o flags.o  -o blib/arch/auto/File/ExtAttr/ExtAttr.so  \
      \
  
chmod 755 blib/arch/auto/File/ExtAttr/ExtAttr.so
Manifying 2 pod documents
"/usr/bin/perl" -MExtUtils::Command::MM -e 'cp_nonempty' -- ExtAttr.bs blib/arch/auto/File/ExtAttr/ExtAttr.bs 644
PERL_DL_NONLAZY=1 "/usr/bin/perl" "-MExtUtils::Command::MM" "-MTest::Harness" "-e" "undef *Test::Harness::Switches; test_harness(0, 'blib/lib', 'blib/arch')" t/*.t
# Testing File::ExtAttr 1.09, Perl 5.038002, /usr/bin/perl
t/00load.t ........... ok
t/01distribution.t ... skipped: Test::Distribution not installed
t/02load-all.t ....... ok
t/03pod-coverage.t ... skipped: Test::Pod::Coverage 1.04 required for testing POD coverage
t/04yaml-meta.t ...... skipped: Test::YAML::Meta required for testing META.yml
t/11basic.t .......... ok
t/12empty.t .......... ok
t/13long.t ........... ok
t/14optional.t ....... ok
t/15create.t ......... ok
t/16replace.t ........ ok
t/17createreplace.t .. ok
t/18list.t ........... ok
t/20tie-basic.t ...... ok
t/22tie-nonuser.t .... ok
t/30nsbasic.t ........ ok
t/31nsmultiple.t ..... ok
t/32nsnonuser.t ...... ok
t/33nslong.t ......... ok
t/39nsempty.t ........ ok
t/80memleakget.t ..... ok
t/81closed.t ......... ok
All tests successful.
Files=22, Tests=6484,  3 wallclock secs ( 0.45 usr  0.05 sys +  2.02 cusr  0.25 csys =  2.77 CPU)
Result: PASS

------------------------------
PREREQUISITES
------------------------------

Prerequisite modules loaded:

runtime:

    Module              Need Have
    ------------------- ---- ----
    Carp                0    1.54
    Scalar::Util        0    1.63

build:

    Module              Need Have
    ------------------- ---- ----
    ExtUtils::MakeMaker 0    7.70

configure:

    Module              Need Have
    ------------------- ---- ----
    ExtUtils::MakeMaker 0    7.70


------------------------------
ENVIRONMENT AND OTHER CONTEXT
------------------------------

Environment variables:

    LANG = en_GB.utf8
    LANGUAGE = en_GB:en
    LC_COLLATE = C
    PATH = /home/smylers/.cargo/bin:/home/smylers/bin:/usr/local/sbin:/usr/local/bin:/snap/bin:/sbin:/bin:/usr/sbin:/usr/bin:/usr/X11R6/bin:/usr/games
    PERL_CPANM_OPT = --sudo --prompt
    SHELL = /bin/bash
    TERM = xterm
    TMPDIR = /home/smylers/tmp/

Perl special variables (and OS-specific diagnostics, for MSWin32):

    EGID = 1001 4 27 110 113 117 119 1001 1002 1004 1009
    EUID = 1001
    EXECUTABLE_NAME = /usr/bin/perl
    GID = 1001 4 27 110 113 117 119 1001 1002 1004 1009
    UID = 1001

Perl module toolchain versions installed:

    Module              Have    
    ------------------- --------
    CPAN                2.36    
    CPAN::Meta          2.150010
    Cwd                 3.89    
    ExtUtils::CBuilder  0.280238
    ExtUtils::Command   7.70    
    ExtUtils::Install   2.22    
    ExtUtils::MakeMaker 7.70    
    ExtUtils::Manifest  1.73    
    ExtUtils::ParseXS   3.51    
    File::Spec          3.88    
    JSON                4.10    
    JSON::PP            4.16    
    Module::Build       0.4234  
    Module::Signature   0.88    
    Parse::CPAN::Meta   2.150010
    Test::Harness       3.44    
    Test::More          1.302204
    YAML                n/a     
    YAML::Syck          n/a     
    version             0.9930  


--

Summary of my perl5 (revision 5 version 38 subversion 2) configuration:
   
  Platform:
    osname=linux
    osvers=6.1.0
    archname=x86_64-linux-gnu-thread-multi
    uname='linux localhost 6.1.0 #1 smp debian 6.1.0 x86_64 gnulinux '
    config_args='-Dmksymlinks -Dusethreads -Duselargefiles -Dcc=x86_64-linux-gnu-gcc -Dcpp=x86_64-linux-gnu-cpp -Dld=x86_64-linux-gnu-gcc -Dccflags=-DDEBIAN -Wdate-time -D_FORTIFY_SOURCE=3 -g -O2 -fno-omit-frame-pointer -mno-omit-leaf-frame-pointer -ffile-prefix-map=/dummy/build/dir=. -flto=auto -ffat-lto-objects -fstack-protector-strong -fstack-clash-protection -Wformat -Werror=format-security -fcf-protection -fdebug-prefix-map=/dummy/build/dir=/usr/src/perl-5.38.2-3.2build2 -Dldflags= -Wl,-Bsymbolic-functions -flto=auto -ffat-lto-objects -Wl,-z,relro -Dlddlflags=-shared -Wl,-Bsymbolic-functions -flto=auto -ffat-lto-objects -Wl,-z,relro -Dcccdlflags=-fPIC -Darchname=x86_64-linux-gnu -Dprefix=/usr -Dprivlib=/usr/share/perl/5.38 -Darchlib=/usr/lib/x86_64-linux-gnu/perl/5.38 -Dvendorprefix=/usr -Dvendorlib=/usr/share/perl5 -Dvendorarch=/usr/lib/x86_64-linux-gnu/perl5/5.38 -Dsiteprefix=/usr/local -Dsitelib=/usr/local/share/perl/5.38.2 -Dsitearch=/usr/local/lib/x86_64-linux-gnu/perl/5.38.2 -Dman1dir=/usr/share/man/man1 -Dman3dir=/usr/share/man/man3 -Dsiteman1dir=/usr/local/man/man1 -Dsiteman3dir=/usr/local/man/man3 -Duse64bitint -Dman1ext=1 -Dman3ext=3perl -Dpager=/usr/bin/sensible-pager -Uafs -Ud_csh -Ud_ualarm -Uusesfio -Uusenm -Ui_libutil -Ui_xlocale -Uversiononly -Ud_strlcpy -Ud_strlcat -DDEBUGGING=-g -Doptimize=-O2 -dEs -Duseshrplib -Dlibperl=libperl.so.5.38.2'
    hint=recommended
    useposix=true
    d_sigaction=define
    useithreads=define
    usemultiplicity=define
    use64bitint=define
    use64bitall=define
    uselongdouble=undef
    usemymalloc=n
    default_inc_excludes_dot=define
  Compiler:
    cc='x86_64-linux-gnu-gcc'
    ccflags ='-D_REENTRANT -D_GNU_SOURCE -DDEBIAN -fwrapv -fno-strict-aliasing -pipe -I/usr/local/include -D_LARGEFILE_SOURCE -D_FILE_OFFSET_BITS=64'
    optimize='-O2 -g'
    cppflags='-D_REENTRANT -D_GNU_SOURCE -DDEBIAN -fwrapv -fno-strict-aliasing -pipe -I/usr/local/include'
    ccversion=''
    gccversion='13.2.0'
    gccosandvers=''
    intsize=4
    longsize=8
    ptrsize=8
    doublesize=8
    byteorder=12345678
    doublekind=3
    d_longlong=define
    longlongsize=8
    d_longdbl=define
    longdblsize=16
    longdblkind=3
    ivtype='long'
    ivsize=8
    nvtype='double'
    nvsize=8
    Off_t='off_t'
    lseeksize=8
    alignbytes=8
    prototype=define
  Linker and Libraries:
    ld='x86_64-linux-gnu-gcc'
    ldflags =' -fstack-protector-strong -L/usr/local/lib'
    libpth=/usr/local/lib /usr/lib/x86_64-linux-gnu /usr/lib /lib/x86_64-linux-gnu /lib
    libs=-lgdbm -lgdbm_compat -ldb -ldl -lm -lpthread -lc -lcrypt
    perllibs=-ldl -lm -lpthread -lc -lcrypt
    libc=/lib/x86_64-linux-gnu/libc.so.6
    so=so
    useshrplib=true
    libperl=libperl.so.5.38
    gnulibc_version='2.39'
  Dynamic Linking:
    dlsrc=dl_dlopen.xs
    dlext=so
    d_dlsymun=undef
    ccdlflags='-Wl,-E'
    cccdlflags='-fPIC'
    lddlflags='-shared -L/usr/local/lib -fstack-protector-strong'


Characteristics of this binary (from libperl): 
  Compile-time options:
    HAS_LONG_DOUBLE
    HAS_STRTOLD
    HAS_TIMES
    MULTIPLICITY
    PERLIO_LAYERS
    PERL_COPY_ON_WRITE
    PERL_DONT_CREATE_GVSV
    PERL_HASH_FUNC_SIPHASH13
    PERL_HASH_USE_SBOX32
    PERL_MALLOC_WRAP
    PERL_OP_PARENT
    PERL_PRESERVE_IVUV
    PERL_USE_SAFE_PUTENV
    USE_64_BIT_ALL
    USE_64_BIT_INT
    USE_ITHREADS
    USE_LARGE_FILES
    USE_LOCALE
    USE_LOCALE_COLLATE
    USE_LOCALE_CTYPE
    USE_LOCALE_NUMERIC
    USE_LOCALE_TIME
    USE_PERLIO
    USE_PERL_ATOF
    USE_REENTRANT_API
    USE_THREAD_SAFE_LOCALE
  Locally applied patches:
    DEBPKG:debian/cpan_definstalldirs - Provide a sensible INSTALLDIRS default for modules installed from CPAN.
    DEBPKG:debian/db_file_ver - https://bugs.debian.org/340047 Remove overly restrictive DB_File version check.
    DEBPKG:debian/doc_info - Replace generic man(1) instructions with Debian-specific information.
    DEBPKG:debian/enc2xs_inc - https://bugs.debian.org/290336 Tweak enc2xs to follow symlinks and ignore missing @INC directories.
    DEBPKG:debian/errno_ver - https://bugs.debian.org/343351 Remove Errno version check due to upgrade problems with long-running processes.
    DEBPKG:debian/libperl_embed_doc - https://bugs.debian.org/186778 Note that libperl-dev package is required for embedded linking
    DEBPKG:fixes/respect_umask - Respect umask during installation
    DEBPKG:debian/writable_site_dirs - Set umask approproately for site install directories
    DEBPKG:debian/extutils_set_libperl_path - EU:MM: set location of libperl.a under /usr/lib
    DEBPKG:debian/no_packlist_perllocal - Don't install .packlist or perllocal.pod for perl or vendor
    DEBPKG:debian/fakeroot - Postpone LD_LIBRARY_PATH evaluation to the binary targets.
    DEBPKG:debian/instmodsh_doc - Debian policy doesn't install .packlist files for core or vendor.
    DEBPKG:debian/ld_run_path - Remove standard libs from LD_RUN_PATH as per Debian policy.
    DEBPKG:debian/libnet_config_path - Set location of libnet.cfg to /etc/perl/Net as /usr may not be writable.
    DEBPKG:debian/perlivp - https://bugs.debian.org/510895 Make perlivp skip include directories in /usr/local
    DEBPKG:debian/squelch-locale-warnings - https://bugs.debian.org/508764 Squelch locale warnings in Debian package maintainer scripts
    DEBPKG:debian/patchlevel - https://bugs.debian.org/567489 List packaged patches for 5.38.2-3.2build2 in patchlevel.h
    DEBPKG:fixes/document_makemaker_ccflags - https://bugs.debian.org/628522 [rt.cpan.org #68613] Document that CCFLAGS should include $Config{ccflags}
    DEBPKG:debian/find_html2text - https://bugs.debian.org/640479 Configure CPAN::Distribution with correct name of html2text
    DEBPKG:debian/perl5db-x-terminal-emulator.patch - https://bugs.debian.org/668490 Invoke x-terminal-emulator rather than xterm in perl5db.pl
    DEBPKG:debian/cpan-missing-site-dirs - https://bugs.debian.org/688842 Fix CPAN::FirstTime defaults with nonexisting site dirs if a parent is writable
    DEBPKG:debian/makemaker-pasthru - https://bugs.debian.org/758471 Pass LD settings through to subdirectories
    DEBPKG:debian/makemaker-manext - https://bugs.debian.org/247370 Make EU::MakeMaker honour MANnEXT settings in generated manpage headers
    DEBPKG:debian/kfreebsd-softupdates - https://bugs.debian.org/796798 Work around Debian Bug#796798
    DEBPKG:debian/hurd-softupdates - https://bugs.debian.org/822735 Fix t/op/stat.t failures on hurd
    DEBPKG:fixes/math_complex_doc_great_circle - https://bugs.debian.org/697567 [rt.cpan.org #114104] Math::Trig: clarify definition of great_circle_midpoint
    DEBPKG:fixes/math_complex_doc_angle_units - https://bugs.debian.org/731505 [rt.cpan.org #114106] Math::Trig: document angle units
    DEBPKG:fixes/cpan_web_link - https://bugs.debian.org/367291 CPAN: Add link to main CPAN web site
    DEBPKG:debian/installman-utf8 - https://bugs.debian.org/840211 Generate man pages with UTF-8 characters
    DEBPKG:debian/perldoc-pager - https://bugs.debian.org/870340 [rt.cpan.org #120229] Fix perldoc terminal escapes when sensible-pager is less
    DEBPKG:debian/prune_libs - https://bugs.debian.org/128355 Prune the list of libraries wanted to what we actually need.
    DEBPKG:debian/mod_paths - Tweak @INC ordering for Debian
    DEBPKG:debian/deprecate-with-apt - https://bugs.debian.org/747628 Point users to Debian packages of deprecated core modules
    DEBPKG:debian/disable-stack-check - https://bugs.debian.org/902779 [GH #16607] Disable debugperl stack extension checks for binary compatibility with perl
    DEBPKG:debian/perlbug-editor - https://bugs.debian.org/922609 Use "editor" as the default perlbug editor, as per Debian policy
    DEBPKG:debian/eu-mm-perl-base - https://bugs.debian.org/962138 Suppress an ExtUtils::MakeMaker warning about our non-default @INC
    DEBPKG:fixes/io_socket_ip_ipv6 - Disable getaddrinfo(3) AI_ADDRCONFIG for localhost and IPv4 numeric addresses
    DEBPKG:debian/usrmerge-lib64 - https://bugs.debian.org/914128 Configure / libpth.U: Do not adjust glibpth when /usr/lib64 is present.
    DEBPKG:debian/usrmerge-realpath - https://bugs.debian.org/914128 Configure / libpth.U: use realpath --no-symlinks on Debian
    DEBPKG:fixes/x32-io-msg-skip - https://bugs.debian.org/922609 Skip io/msg.t on x32 due to broken System V message queues
    DEBPKG:debian/configure-regen - https://bugs.debian.org/762638 Regenerate Configure et al. after probe unit changes
    DEBPKG:fixes/bignum-recursion - https://bugs.debian.org/1012704 [rt.cpan.org #146411] Fix CPAN RT #146411
    DEBPKG:fixes/math-bigfloat-subclass - https://bugs.debian.org/1043234 Fix Math::BigFloat subclass numeric comparison
    DEBPKG:fixes/unbreak-locale-initialization - [GH #21366] https://bugs.debian.org/1060679 Revert "locale.c: Do uselocale() earlier in init process"
  Built under linux
  Compiled at Apr  5 2024 19:57:12
  %ENV:
    PERL_CPANM_OPT="--sudo --prompt"
  @INC:
    /etc/perl
    /usr/local/lib/x86_64-linux-gnu/perl/5.38.2
    /usr/local/share/perl/5.38.2
    /usr/lib/x86_64-linux-gnu/perl5/5.38
    /usr/share/perl5
    /usr/lib/x86_64-linux-gnu/perl-base
    /usr/lib/x86_64-linux-gnu/perl/5.38
    /usr/share/perl/5.38
    /usr/local/lib/site_perl