Back
From: metabase:user:320bfe00-2aae-11df-837a-5e0a49663a4f
Subject: PASS HTML-FormFu-Model-DBIC-2.00 v5.19.8 GNU/Linux
Date: 2014-05-05T16:02:56Z
This distribution has been tested as part of the CPAN Testers
project, supporting the Perl programming language. See
http://wiki.cpantesters.org/ for more information or email
questions to cpan-testers-discuss@perl.org
--
Dear Carl Franks,
This is a computer-generated report for HTML-FormFu-Model-DBIC-2.00
on perl 5.19.8, created by CPAN-Reporter-1.2011.
Thank you for uploading your work to CPAN. Congratulations!
All tests were successful.
Sections of this report:
* Tester comments
* Program output
* Prerequisites
* Environment and other context
------------------------------
TESTER COMMENTS
------------------------------
Additional comments from tester:
this report is from an automated smoke testing program
and was not reviewed by a human for accuracy
------------------------------
PROGRAM OUTPUT
------------------------------
Output from '/usr/bin/make test':
PERL_DL_NONLAZY=1 /home/sand/src/perl/repoperls/installed-perls/perl/v5.19.8/127e/bin/perl "-MExtUtils::Command::MM" "-MTest::Harness" "-e" "undef *Test::Harness::Switches; test_harness(0, 'blib/lib', 'blib/arch')" t/constraints/*.t t/create/*.t t/default_values/*.t t/options_from_model/*.t t/update/*.t t/x_roundtrip/*.t
t/constraints/dbic_unique.t ................................... ok
t/constraints/dbic_unique_repeatable_id_field.t ............... ok
t/create/basic.t .............................................. ok
t/default_values/basic.t ...................................... ok
t/default_values/basic_nested.t ............................... ok
t/default_values/belongs_to_lookup_table.t .................... ok
t/default_values/belongs_to_lookup_table_combobox.t ........... ok
t/default_values/empty_rows_zero.t ............................ ok
t/default_values/has_many_combobox.t .......................... ok
t/default_values/has_many_repeatable.t ........................ ok
t/default_values/has_many_repeatable_delete_true.t ............ ok
t/default_values/has_many_repeatable_label.t .................. ok
t/default_values/has_many_repeatable_nested.t ................. ok
t/default_values/has_many_repeatable_new.t .................... ok
t/default_values/has_many_select.t ............................ ok
t/default_values/has_one.t .................................... ok
t/default_values/has_one_nested.t ............................. ok
t/default_values/label.t ...................................... ok
t/default_values/many_to_many-has_many.t ...................... ok
t/default_values/many_to_many_checkboxgroup.t ................. ok
t/default_values/many_to_many_repeatable.t .................... ok
t/default_values/many_to_many_repeatable_nested.t ............. ok
t/default_values/many_to_many_repeatable_new.t ................ ok
t/default_values/many_to_many_select.t ........................ ok
t/default_values/many_to_many_select_nested.t ................. ok
t/default_values/methods.t .................................... ok
t/default_values/might_have.t ................................. ok
t/default_values/might_have_missing.t ......................... ok
t/default_values/multi_label.t ................................ ok
t/default_values/nested_name_accessor.t ....................... ok
t/default_values/opt_accessor.t ............................... ok
t/default_values/opt_accessor_nested.t ........................ ok
t/options_from_model/belongs_to.t ............................. ok
t/options_from_model/belongs_to_combobox.t .................... ok
t/options_from_model/belongs_to_config_zero.t ................. ok
t/options_from_model/belongs_to_config_zero_combobox.t ........ ok
t/options_from_model/belongs_to_localize_label.t .............. ok
t/options_from_model/condition_from_stash.t ................... ok
t/options_from_model/condition_from_stash_combobox.t .......... ok
t/options_from_model/condition_from_stash_combobox_complex.t .. ok
t/options_from_model/condition_from_stash_complex.t ........... ok
t/options_from_model/constraint_autoset.t ..................... ok
t/options_from_model/enum_select.t ............................ ok
t/options_from_model/has_many_repeatable_select.t ............. ok
t/options_from_model/many_to_many_select.t .................... ok
t/options_from_model/many_to_many_select_restricted.t ......... ok
t/update/add_valid.t .......................................... ok
t/update/basic_create.t ....................................... ok
t/update/basic_update.t ....................................... ok
t/update/belongs_to.t ......................................... ok
t/update/belongs_to_combobox.t ................................ ok
t/update/belongs_to_create.t .................................. ok
t/update/belongs_to_create_required.t ......................... ok
t/update/belongs_to_lookup_table_combobox.t ................... ok
t/update/belongs_to_select.t .................................. ok
t/update/column_without_field.t ............................... ok
t/update/has_many_repeatable.t ................................ ok
t/update/has_many_repeatable_delete_true.t .................... ok
t/update/has_many_repeatable_many_new.t ....................... ok
t/update/has_many_repeatable_many_new_exceed_max.t ............ ok
t/update/has_many_repeatable_new.t ............................ ok
t/update/has_many_repeatable_new_date.t ....................... ok
t/update/has_many_repeatable_new_dependon.t ................... ok
t/update/has_many_repeatable_new_empty.t ...................... ok
t/update/has_many_repeatable_new_implicit.t ................... ok
t/update/has_many_repeatable_new_required_when.t .............. ok
t/update/has_one.t ............................................ ok
t/update/has_one_create.t ..................................... ok
t/update/has_one_no_id.t ...................................... ok
t/update/has_one_select.t ..................................... ok
t/update/ignore_if_empty.t .................................... ok
t/update/many_to_many-has_many.t .............................. ok
DBIx::Class::ResultSet::search_rs(): search( %condition ) is deprecated, use search( \%condition ) instead at /tmp/loop_over_bdir-23149-wCtV0k/HTML-FormFu-Model-DBIC-2.00-KVirvb/blib/lib/HTML/FormFu/Model/DBIC.pm line 888
t/update/many_to_many_checkboxgroup.t ......................... ok
t/update/many_to_many_checkboxgroup_read_only.t ............... ok
DBIx::Class::ResultSet::search_rs(): search( %condition ) is deprecated, use search( \%condition ) instead at /tmp/loop_over_bdir-23149-wCtV0k/HTML-FormFu-Model-DBIC-2.00-KVirvb/blib/lib/HTML/FormFu/Model/DBIC.pm line 888
t/update/many_to_many_checkboxgroup_restricted.t .............. ok
t/update/many_to_many_checkboxgroup_unselected.t .............. ok
t/update/many_to_many_repeatable.t ............................ ok
t/update/many_to_many_repeatable_new.t ........................ ok
DBIx::Class::ResultSet::search_rs(): search( %condition ) is deprecated, use search( \%condition ) instead at /tmp/loop_over_bdir-23149-wCtV0k/HTML-FormFu-Model-DBIC-2.00-KVirvb/blib/lib/HTML/FormFu/Model/DBIC.pm line 888
t/update/many_to_many_select.t ................................ ok
t/update/many_to_many_select_unselected.t ..................... ok
t/update/methods.t ............................................ ok
t/update/might_have.t ......................................... ok
t/update/might_have_create.t .................................. ok
t/update/might_have_delete_if_empty.t ......................... ok
t/update/nested_create.t ...................................... ok
t/update/nested_create_checkbox.t ............................. ok
t/update/nested_name_accessor.t ............................... ok
t/update/nested_repeatable_write.t ............................ ok
t/update/null_if_empty.t ...................................... ok
t/update/opt_accessor.t ....................................... ok
t/update/opt_accessor_nested.t ................................ ok
t/update/unchecked_not_null_checkbox.t ........................ ok
t/x_roundtrip/checkbox_false2true.t ........................... ok
t/x_roundtrip/checkbox_true2false.t ........................... ok
All tests successful.
Files=94, Tests=607, 172 wallclock secs ( 0.28 usr 0.06 sys + 104.96 cusr 5.84 csys = 111.14 CPU)
Result: PASS
------------------------------
PREREQUISITES
------------------------------
Prerequisite modules loaded:
requires:
Module Need Have
------------------------ ------- --------
DBD::SQLite 0 1.42
DBIx::Class 0.08108 0.08270
HTML::FormFu 2.00 2.00
List::MoreUtils 0 0.33
Storable 0 2.48
Task::Weaken 0 1.04
build_requires:
Module Need Have
------------------------ ------- --------
DateTime::Format::SQLite 0 0.11
Locale::Maketext 0 1.25_01
SQL::Translator 0.11016 0.11018
Test::More 0.99 1.001003
configure_requires:
Module Need Have
------------------------ ------- --------
ExtUtils::MakeMaker 6.30 6.98
------------------------------
ENVIRONMENT AND OTHER CONTEXT
------------------------------
Environment variables:
AUTOMATED_TESTING = 1
LANG = en_US.UTF-8
LANGUAGE = en_US:en
PATH = /usr/lib/ccache:/home/sand/bin:/usr/local/bin:/usr/bin:/bin:/usr/games:/usr/local/perl/bin:/usr/X11/bin:/sbin:/usr/sbin
PERL5LIB =
PERL5OPT =
PERL5_CPANPLUS_IS_RUNNING = 23150
PERL5_CPAN_IS_RUNNING = 23150
PERL_MM_USE_DEFAULT = 1
SHELL = /usr/bin/zsh
TERM = screen
Perl special variables (and OS-specific diagnostics, for MSWin32):
$^X = /home/sand/src/perl/repoperls/installed-perls/perl/v5.19.8/127e/bin/perl
$UID/$EUID = 1005 / 1005
$GID = 1005 1005
$EGID = 1005 1005
Perl module toolchain versions installed:
Module Have
------------------- --------
CPAN 2.05
CPAN::Meta 2.141170
Cwd 3.46_01
ExtUtils::CBuilder 0.280216
ExtUtils::Command 1.18
ExtUtils::Install 1.67
ExtUtils::MakeMaker 6.98
ExtUtils::Manifest 1.63
ExtUtils::ParseXS 3.24
File::Spec 3.46_01
JSON 2.90
JSON::PP 2.27203
Module::Build 0.4205
Module::Signature 0.73
Parse::CPAN::Meta 1.4414
Test::Harness 3.30
Test::More 1.001003
YAML 0.90
YAML::Syck 1.27
version 0.9908
--
Summary of my perl5 (revision 5 version 19 subversion 8) configuration:
Commit id: f1a26846dca563375a36bab4a5086c67edf623c1
Platform:
osname=linux, osvers=3.13-1-amd64, archname=x86_64-linux-ld
uname='linux k83 3.13-1-amd64 #1 smp debian 3.13.7-1 (2014-03-25) x86_64 gnulinux '
config_args='-Dprefix=/home/sand/src/perl/repoperls/installed-perls/perl/v5.19.8/127e -Dmyhostname=k83 -Dinstallusrbinperl=n -Uversiononly -Dusedevel -des -Ui_db -Uuseithreads -Duselongdouble -DDEBUGGING=-g'
hint=recommended, useposix=true, d_sigaction=define
useithreads=undef, usemultiplicity=undef
use64bitint=define, use64bitall=define, uselongdouble=define
usemymalloc=n, bincompat5005=undef
Compiler:
cc='cc', ccflags ='-fno-strict-aliasing -pipe -fstack-protector -I/usr/local/include -D_LARGEFILE_SOURCE -D_FILE_OFFSET_BITS=64',
optimize='-O2 -g',
cppflags='-fno-strict-aliasing -pipe -fstack-protector -I/usr/local/include'
ccversion='', gccversion='4.8.2', gccosandvers=''
intsize=4, longsize=8, ptrsize=8, doublesize=8, byteorder=12345678
d_longlong=define, longlongsize=8, d_longdbl=define, longdblsize=16
ivtype='long', ivsize=8, nvtype='long double', nvsize=16, Off_t='off_t', lseeksize=8
alignbytes=16, prototype=define
Linker and Libraries:
ld='cc', ldflags =' -fstack-protector -L/usr/local/lib'
libpth=/usr/local/lib /usr/lib/gcc/x86_64-linux-gnu/4.8/include-fixed /usr/include/x86_64-linux-gnu /usr/lib /lib/x86_64-linux-gnu /lib/../lib /usr/lib/x86_64-linux-gnu /usr/lib/../lib /lib
libs=-lnsl -lgdbm -ldb -ldl -lm -lcrypt -lutil -lc -lgdbm_compat
perllibs=-lnsl -ldl -lm -lcrypt -lutil -lc
libc=, so=so, useshrplib=false, libperl=libperl.a
gnulibc_version='2.18'
Dynamic Linking:
dlsrc=dl_dlopen.xs, dlext=so, d_dlsymun=undef, ccdlflags='-Wl,-E'
cccdlflags='-fPIC', lddlflags='-shared -O2 -g -L/usr/local/lib -fstack-protector'
Characteristics of this binary (from libperl):
Compile-time options: HAS_TIMES PERLIO_LAYERS PERL_DONT_CREATE_GVSV
PERL_HASH_FUNC_ONE_AT_A_TIME_HARD PERL_MALLOC_WRAP
PERL_NEW_COPY_ON_WRITE PERL_PRESERVE_IVUV
PERL_USE_DEVEL USE_64_BIT_ALL USE_64_BIT_INT
USE_LARGE_FILES USE_LOCALE USE_LOCALE_COLLATE
USE_LOCALE_CTYPE USE_LOCALE_NUMERIC USE_LONG_DOUBLE
USE_PERLIO USE_PERL_ATOF
Built under linux
Compiled at Apr 2 2014 06:21:44
%ENV:
PERL5LIB=""
PERL5OPT=""
PERL5_CPANPLUS_IS_RUNNING="23150"
PERL5_CPAN_IS_RUNNING="23150"
PERL_MM_USE_DEFAULT="1"
@INC:
/home/sand/src/perl/repoperls/installed-perls/perl/v5.19.8/127e/lib/site_perl/5.19.8/x86_64-linux-ld
/home/sand/src/perl/repoperls/installed-perls/perl/v5.19.8/127e/lib/site_perl/5.19.8
/home/sand/src/perl/repoperls/installed-perls/perl/v5.19.8/127e/lib/5.19.8/x86_64-linux-ld
/home/sand/src/perl/repoperls/installed-perls/perl/v5.19.8/127e/lib/5.19.8
.