CatalystX-SimpleLogin v0.21 Perl 5 v5.41.14 i86pc-solaris-thread-multi-64
- Status
- Pass
- From
- Carlos Guevara
- Dist
-
CatalystX-SimpleLogin v0.21
- Platform
- Perl 5 v5.41.14 i86pc-solaris-thread-multi-64
- Date
- 2025-06-10 12:37:50
- ID
- b8b2d616-45f7-11f0-816e-bd3548dff23e
This distribution has been tested as part of the CPAN Testers
project, supporting the Perl programming language. See
http://wiki.cpantesters.org/ for more information or email
questions to cpan-testers-discuss@perl.org
--
Dear Alexander Hartmaier,
This is a computer-generated report for CatalystX-SimpleLogin-0.21
on perl 5.41.14, created by CPAN-Reporter-1.2020.
Thank you for uploading your work to CPAN. Congratulations!
All tests were successful.
Sections of this report:
* Tester comments
* Program output
* Prerequisites
* Environment and other context
------------------------------
TESTER COMMENTS
------------------------------
Additional comments from tester:
this report is from an automated smoke testing program
and was not reviewed by a human for accuracy
------------------------------
PROGRAM OUTPUT
------------------------------
Output from '/usr/bin/make test':
PERL_DL_NONLAZY=1 "/export/home/cpan/bin/perl/bin/perl5.41.14" "-MExtUtils::Command::MM" "-MTest::Harness" "-e" "undef *Test::Harness::Switches; test_harness(0, 'inc', 'blib/lib', 'blib/arch')" t/*.t
t/00-load.t ........................... ok
[warn] Attempted to use view 'TestApp::View::HTML', but does not exist
t/01-live-test.t ...................... ok
[warn] Attempted to use view 'TestAppRedirect::View::HTML', but does not exist
t/02-redirect-test.t .................. ok
t/03-login-form.t ..................... ok
[warn] Attempted to use view 'TestAppRedirect::View::HTML', but does not exist
t/04-test-role-apply-order.t .......... ok
[warn] Attempted to use view 'TestAppRedirect::View::HTML', but does not exist
t/05-login-redirect-custom-message.t .. ok
[warn] Attempted to use view 'TestAppRenderTT::View::HTML', but does not exist
t/06-rendertt.t ....................... ok
t/07-openid-live.t .................... skipped: OpenID dependencies not installed
t/08-dbic-mappedfields.t .............. skipped: One of the required classes for this test Can't locate Catalyst/Authentication/Store/DBIx/Class.pm in @INC (you may need to install the Catalyst::Authentication::Store::DBIx::Class module) (@INC entries checked: /export/home/cpan/.cpan/build/CatalystX-SimpleLogin-0.21-0/t/lib /export/home/cpan/.cpan/build/CatalystX-SimpleLogin-0.21-0/inc /export/home/cpan/.cpan/build/CatalystX-SimpleLogin-0.21-0/blib/lib /export/home/cpan/.cpan/build/CatalystX-SimpleLogin-0.21-0/blib/arch /export/home/cpan/bin/perl/lib/site_perl/5.41.14/i86pc-solaris-thread-multi-64 /export/home/cpan/bin/perl/lib/site_perl/5.41.14 /export/home/cpan/bin/perl/lib/5.41.14/i86pc-solaris-thread-multi-64 /export/home/cpan/bin/perl/lib/5.41.14 .) at t/08-dbic-mappedfields.t line 18.
[warn] Attempted to use view 'TestAppClearSession::View::HTML', but does not exist
t/09-clearsession.t ................... ok
[warn] Attempted to use view 'TestAppFormArgs::View::HTML', but does not exist
t/10-form-args.t ...................... ok
[warn] Attempted to use view 'TestApp::View::HTML', but does not exist
t/chained_parts.t ..................... ok
All tests successful.
Files=12, Tests=100, 14 wallclock secs ( 0.06 usr 0.03 sys + 12.55 cusr 1.10 csys = 13.73 CPU)
Result: PASS
------------------------------
PREREQUISITES
------------------------------
Prerequisite modules loaded:
requires:
Module Need Have
---------------------------------------- ------- --------
Catalyst::Action::RenderView 0 0.17
Catalyst::Action::REST 0.74 1.21
Catalyst::ActionRole::ACL 0 0.07
Catalyst::Plugin::Authentication 0 0.10024
Catalyst::Plugin::Session 0.35 0.43
Catalyst::Plugin::Session::State::Cookie 0 0.18
Catalyst::Runtime 5.80013 5.90132
Catalyst::View::TT 0 0.46
CatalystX::Component::Traits 0.13 0.19
CatalystX::InjectComponent 0 0.025
Class::Load 0.20 0.25
File::Temp 0 0.2311
HTML::FormHandler 0.28001 0.40068
HTTP::Request::Common 0 7.00
Moose 0 2.2207
MooseX::MethodAttributes 0.18 0.32
MooseX::RelatedClassRoles 0.004 0.004
MooseX::Types 0 0.51
MooseX::Types::Common 0 0.001015
namespace::autoclean 0 0.31
SQL::Translator 0 1.66
Test::Exception 0 0.43
Test::More 0.94 1.302214
Try::Tiny 0.24 0.32
build_requires:
Module Need Have
---------------------------------------- ------- --------
Catalyst::Action::RenderView 0 0.17
Catalyst::ActionRole::ACL 0 0.07
Catalyst::Plugin::Session::State::Cookie 0 0.18
CatalystX::InjectComponent 0 0.025
Class::Load 0.20 0.25
ExtUtils::MakeMaker 6.36 7.76
File::Temp 0 0.2311
HTTP::Request::Common 0 7.00
SQL::Translator 0 1.66
Test::Exception 0 0.43
Test::More 0.94 1.302214
configure_requires:
Module Need Have
---------------------------------------- ------- --------
ExtUtils::MakeMaker 6.36 7.76
------------------------------
ENVIRONMENT AND OTHER CONTEXT
------------------------------
Environment variables:
AUTOMATED_TESTING = 1
DATE_MANIP_TEST_DM5 = 1
LANG = en_US.UTF-8
LC_ALL = C
NONINTERACTIVE_TESTING = 1
NO_NETWORK_TESTING = 1
PATH = /export/home/cpan/bin/perl/bin:/usr/bin:/usr/sbin:/sbin:/opt/ooce/bin:/usr/gnu/bin
PERL5LIB =
PERL5OPT =
PERL5_CPANPLUS_IS_RUNNING = 28728
PERL5_CPAN_IS_RUNNING = 28728
PERL_MM_USE_DEFAULT = 1
PERL_USE_UNSAFE_INC = 1
SHELL = /bin/sh
TERM = screen
Perl special variables (and OS-specific diagnostics, for MSWin32):
$^X = /export/home/cpan/bin/perl/bin/perl5.41.14
$UID/$EUID = 101 / 101
$GID = 1 1
$EGID = 1 1
Perl module toolchain versions installed:
Module Have
------------------- --------
CPAN 2.38
CPAN::Meta 2.150010
Cwd 3.94
ExtUtils::CBuilder 0.280241
ExtUtils::Command 7.76
ExtUtils::Install 2.22
ExtUtils::MakeMaker 7.76
ExtUtils::Manifest 1.75
ExtUtils::ParseXS 3.57
File::Spec 3.94
JSON 4.10
JSON::PP 4.16
Module::Build 0.4234
Module::Signature 0.89
Parse::CPAN::Meta 2.150010
Test2 1.302214
Test::Harness 3.52
Test::More 1.302214
YAML 1.31
YAML::Syck 1.34
version 0.9933
--
Summary of my perl5 (revision 5 version 41 subversion 14) configuration:
Commit id: d6f09a896842e5288af5d3817756b67a919ad7ad
Platform:
osname=solaris
osvers=2.11
archname=i86pc-solaris-thread-multi-64
uname='sunos cjg-omniosce 5.11 omnios-r151052-5ce47a2ab6 i86pc i386 i86pc '
config_args='-des -Dprefix=/export/home/cpan/bin/perl -Dscriptdir=/export/home/cpan/bin/perl/bin -Dusedevel -Duse64bitall -Dcc=gcc -Duseithreads'
hint=recommended
useposix=true
d_sigaction=define
useithreads=define
usemultiplicity=define
use64bitint=define
use64bitall=define
uselongdouble=undef
usemymalloc=n
default_inc_excludes_dot=define
Compiler:
cc='gcc'
ccflags ='-D_REENTRANT -m64 -fwrapv -fno-strict-aliasing -pipe -fstack-protector-strong -D_LARGEFILE_SOURCE -D_FILE_OFFSET_BITS=64 -D_FORTIFY_SOURCE=2'
optimize='-O'
cppflags='-D_REENTRANT -m64 -fwrapv -fno-strict-aliasing -pipe -fstack-protector-strong'
ccversion=''
gccversion='14.2.0'
gccosandvers=''
intsize=4
longsize=8
ptrsize=8
doublesize=8
byteorder=12345678
doublekind=3
d_longlong=define
longlongsize=8
d_longdbl=define
longdblsize=16
longdblkind=3
ivtype='long'
ivsize=8
nvtype='double'
nvsize=8
Off_t='off_t'
lseeksize=8
alignbytes=8
prototype=define
Linker and Libraries:
ld='gcc'
ldflags =' -m64 -fstack-protector-strong -L/usr/gnu/lib '
libpth=/opt/gcc-14/lib /usr/lib /usr/gnu/lib /usr/ccs/lib
libs=-lpthread -lsocket -lnsl -ldl -lm -lc
perllibs=-lpthread -lsocket -lnsl -ldl -lm -lc
libc=/lib/libc.so
so=so
useshrplib=true
libperl=libperl.so
gnulibc_version=''
Dynamic Linking:
dlsrc=dl_dlopen.xs
dlext=so
d_dlsymun=undef
ccdlflags=' -R /export/home/cpan/bin/perl/lib/5.41.14/i86pc-solaris-thread-multi-64/CORE'
cccdlflags='-fPIC'
lddlflags=' -shared -m64 -L/usr/gnu/lib -fstack-protector-strong'
Characteristics of this binary (from libperl):
Compile-time options:
HAS_LONG_DOUBLE
HAS_STRTOLD
HAS_TIMES
MULTIPLICITY
PERLIO_LAYERS
PERL_COPY_ON_WRITE
PERL_DONT_CREATE_GVSV
PERL_HASH_FUNC_SIPHASH13
PERL_HASH_USE_SBOX32
PERL_MALLOC_WRAP
PERL_OP_PARENT
PERL_PRESERVE_IVUV
PERL_USE_DEVEL
PERL_USE_SAFE_PUTENV
USE_64_BIT_ALL
USE_64_BIT_INT
USE_ITHREADS
USE_LARGE_FILES
USE_LOCALE
USE_LOCALE_COLLATE
USE_LOCALE_CTYPE
USE_LOCALE_NUMERIC
USE_LOCALE_TIME
USE_PERLIO
USE_PERL_ATOF
USE_REENTRANT_API
USE_THREAD_SAFE_LOCALE
Built under solaris
Compiled at Jun 9 2025 21:59:32
%ENV:
PERL5LIB=""
PERL5OPT=""
PERL5_CPANPLUS_IS_RUNNING="28728"
PERL5_CPAN_IS_RUNNING="28728"
PERL_MM_USE_DEFAULT="1"
PERL_USE_UNSAFE_INC="1"
@INC:
/export/home/cpan/bin/perl/lib/site_perl/5.41.14/i86pc-solaris-thread-multi-64
/export/home/cpan/bin/perl/lib/site_perl/5.41.14
/export/home/cpan/bin/perl/lib/5.41.14/i86pc-solaris-thread-multi-64
/export/home/cpan/bin/perl/lib/5.41.14
.