Report for HTTP-Session2-1.09

Back
From: metabase:user:30977d10-2aae-11df-837a-5e0a49663a4f
Subject: PASS HTTP-Session2-1.09 v5.22.1 GNU/Linux
Date: 2015-12-29T20:49:57Z

This distribution has been tested as part of the CPAN Testers
project, supporting the Perl programming language.  See
http://wiki.cpantesters.org/ for more information or email
questions to cpan-testers-discuss@perl.org


--
Dear Tokuhiro Matsuno'',

This is a computer-generated report for HTTP-Session2-1.09
on perl 5.22.1, created by CPAN-Reporter-1.2015.

Thank you for uploading your work to CPAN.  Congratulations!
All tests were successful.

Sections of this report:

    * Tester comments
    * Program output
    * Prerequisites
    * Environment and other context

------------------------------
TESTER COMMENTS
------------------------------

Additional comments from tester:

this report is from an automated smoke testing program
and was not reviewed by a human for accuracy

------------------------------
PROGRAM OUTPUT
------------------------------

Output from './Build test':

t/00_compile.t .............. ok
Secret string too short at /home/stro/cpan/build/5.22.1t/build/HTTP-Session2-1.09-TuRPdB/blib/lib/HTTP/Session2/Base.pm line 79.
	HTTP::Session2::Base::__ANON__(HTTP::Session2::ServerStore=HASH(0x11f5b98), "s3cret") called at t/01_server_side.t line 23
	main::__ANON__("client -> server: request without cookie", CODE(0x11f5928)) called at t/01_server_side.t line 25
	main::__ANON__() called at /home/stro/perl/5.22.1t/lib/5.22.1/Test/Builder.pm line 261
	Test::Builder::__ANON__() called at /home/stro/perl/5.22.1t/lib/5.22.1/Test/Builder.pm line 266
	eval {...} called at /home/stro/perl/5.22.1t/lib/5.22.1/Test/Builder.pm line 266
	Test::Builder::subtest(Test::Builder=HASH(0xcbe368), "First request", CODE(0x11b5298)) called at /home/stro/perl/5.22.1t/lib/5.22.1/Test/More.pm line 771
	Test::More::subtest("First request", CODE(0x11b5298)) called at t/01_server_side.t line 11
	main::scenario("First request", CODE(0x11b5298)) called at t/01_server_side.t line 31
Secret string too short at /home/stro/cpan/build/5.22.1t/build/HTTP-Session2-1.09-TuRPdB/blib/lib/HTTP/Session2/Base.pm line 79.
	HTTP::Session2::Base::__ANON__(HTTP::Session2::ServerStore=HASH(0x11f5aa8), "s3cret") called at t/01_server_side.t line 40
	main::__ANON__("client -> server: request without cookie", CODE(0x11f5a90)) called at t/01_server_side.t line 42
	main::__ANON__() called at /home/stro/perl/5.22.1t/lib/5.22.1/Test/Builder.pm line 261
	Test::Builder::__ANON__() called at /home/stro/perl/5.22.1t/lib/5.22.1/Test/Builder.pm line 266
	eval {...} called at /home/stro/perl/5.22.1t/lib/5.22.1/Test/Builder.pm line 266
	Test::Builder::subtest(Test::Builder=HASH(0xcbe368), "Store something without login", CODE(0x11c6b08)) called at /home/stro/perl/5.22.1t/lib/5.22.1/Test/More.pm line 771
	Test::More::subtest("Store something without login", CODE(0x11c6b08)) called at t/01_server_side.t line 11
	main::scenario("Store something without login", CODE(0x11c6b08)) called at t/01_server_side.t line 58
Secret string too short at /home/stro/cpan/build/5.22.1t/build/HTTP-Session2-1.09-TuRPdB/blib/lib/HTTP/Session2/Base.pm line 79.
	HTTP::Session2::Base::__ANON__(HTTP::Session2::ServerStore=HASH(0x11f5520), "s3cret") called at t/01_server_side.t line 70
	main::__ANON__("client -> server: request without cookie", CODE(0x122d998)) called at t/01_server_side.t line 72
	main::__ANON__() called at /home/stro/perl/5.22.1t/lib/5.22.1/Test/Builder.pm line 261
	Test::Builder::__ANON__() called at /home/stro/perl/5.22.1t/lib/5.22.1/Test/Builder.pm line 266
	eval {...} called at /home/stro/perl/5.22.1t/lib/5.22.1/Test/Builder.pm line 266
	Test::Builder::subtest(Test::Builder=HASH(0xcbe368), "Login", CODE(0xebb198)) called at /home/stro/perl/5.22.1t/lib/5.22.1/Test/More.pm line 771
	Test::More::subtest("Login", CODE(0xebb198)) called at t/01_server_side.t line 11
	main::scenario("Login", CODE(0xebb198)) called at t/01_server_side.t line 96
Secret string too short at /home/stro/cpan/build/5.22.1t/build/HTTP-Session2-1.09-TuRPdB/blib/lib/HTTP/Session2/Base.pm line 79.
	HTTP::Session2::Base::__ANON__(HTTP::Session2::ServerStore=HASH(0x11f5f58), "s3cret") called at t/01_server_side.t line 108
	main::__ANON__("client -> server: request without cookie", CODE(0xebaf28)) called at t/01_server_side.t line 110
	main::__ANON__() called at /home/stro/perl/5.22.1t/lib/5.22.1/Test/Builder.pm line 261
	Test::Builder::__ANON__() called at /home/stro/perl/5.22.1t/lib/5.22.1/Test/Builder.pm line 266
	eval {...} called at /home/stro/perl/5.22.1t/lib/5.22.1/Test/Builder.pm line 266
	Test::Builder::subtest(Test::Builder=HASH(0xcbe368), "In a login session", CODE(0xebb858)) called at /home/stro/perl/5.22.1t/lib/5.22.1/Test/More.pm line 771
	Test::More::subtest("In a login session", CODE(0xebb858)) called at t/01_server_side.t line 11
	main::scenario("In a login session", CODE(0xebb858)) called at t/01_server_side.t line 124
Secret string too short at /home/stro/cpan/build/5.22.1t/build/HTTP-Session2-1.09-TuRPdB/blib/lib/HTTP/Session2/Base.pm line 79.
	HTTP::Session2::Base::__ANON__(HTTP::Session2::ServerStore=HASH(0x11f6168), "s3cret") called at t/01_server_side.t line 131
	main::__ANON__("client -> server: request without cookie", CODE(0x121e090)) called at t/01_server_side.t line 138
	main::__ANON__() called at /home/stro/perl/5.22.1t/lib/5.22.1/Test/Builder.pm line 261
	Test::Builder::__ANON__() called at /home/stro/perl/5.22.1t/lib/5.22.1/Test/Builder.pm line 266
	eval {...} called at /home/stro/perl/5.22.1t/lib/5.22.1/Test/Builder.pm line 266
	Test::Builder::subtest(Test::Builder=HASH(0xcbe368), "Logout", CODE(0x11f5448)) called at /home/stro/perl/5.22.1t/lib/5.22.1/Test/More.pm line 771
	Test::More::subtest("Logout", CODE(0x11f5448)) called at t/01_server_side.t line 11
	main::scenario("Logout", CODE(0x11f5448)) called at t/01_server_side.t line 153
t/01_server_side.t .......... ok
Secret string too short at /home/stro/cpan/build/5.22.1t/build/HTTP-Session2-1.09-TuRPdB/blib/lib/HTTP/Session2/Base.pm line 79.
	HTTP::Session2::Base::__ANON__(HTTP::Session2::ClientStore=HASH(0xb0e798), "s3cret") called at t/02_client_side.t line 17
	main::__ANON__("client -> server: request without cookie", CODE(0x10b5738)) called at t/02_client_side.t line 22
	main::__ANON__() called at /home/stro/perl/5.22.1t/lib/5.22.1/Test/Builder.pm line 261
	Test::Builder::__ANON__() called at /home/stro/perl/5.22.1t/lib/5.22.1/Test/Builder.pm line 266
	eval {...} called at /home/stro/perl/5.22.1t/lib/5.22.1/Test/Builder.pm line 266
	Test::Builder::subtest(Test::Builder=HASH(0xb381a8), "First request", CODE(0xd30210)) called at /home/stro/perl/5.22.1t/lib/5.22.1/Test/More.pm line 771
	Test::More::subtest("First request", CODE(0xd30210)) called at t/02_client_side.t line 9
	main::scenario("First request", CODE(0xd30210)) called at t/02_client_side.t line 28
Secret string too short at /home/stro/cpan/build/5.22.1t/build/HTTP-Session2-1.09-TuRPdB/blib/lib/HTTP/Session2/Base.pm line 79.
	HTTP::Session2::Base::__ANON__(HTTP::Session2::ClientStore=HASH(0x10b5918), "s3cret") called at t/02_client_side.t line 33
	main::__ANON__("client -> server: request without cookie", CODE(0x10b5720)) called at t/02_client_side.t line 38
	main::__ANON__() called at /home/stro/perl/5.22.1t/lib/5.22.1/Test/Builder.pm line 261
	Test::Builder::__ANON__() called at /home/stro/perl/5.22.1t/lib/5.22.1/Test/Builder.pm line 266
	eval {...} called at /home/stro/perl/5.22.1t/lib/5.22.1/Test/Builder.pm line 266
	Test::Builder::subtest(Test::Builder=HASH(0xb381a8), "Store something without login", CODE(0x109eb90)) called at /home/stro/perl/5.22.1t/lib/5.22.1/Test/More.pm line 771
	Test::More::subtest("Store something without login", CODE(0x109eb90)) called at t/02_client_side.t line 9
	main::scenario("Store something without login", CODE(0x109eb90)) called at t/02_client_side.t line 54
Do not use HTTP::Session2::ClientStore. Use HTTP::Session2::ServerStore or HTTP::Session2::ClientStore2 instead. at /home/stro/cpan/build/5.22.1t/build/HTTP-Session2-1.09-TuRPdB/blib/lib/HTTP/Session2/ClientStore.pm line 25.
Secret string too short at /home/stro/cpan/build/5.22.1t/build/HTTP-Session2-1.09-TuRPdB/blib/lib/HTTP/Session2/Base.pm line 79.
	HTTP::Session2::Base::__ANON__(HTTP::Session2::ClientStore=HASH(0x10b5b88), "s3cret") called at t/02_client_side.t line 60
	main::__ANON__("client -> server: request without cookie", CODE(0x10ecd38)) called at t/02_client_side.t line 66
	main::__ANON__() called at /home/stro/perl/5.22.1t/lib/5.22.1/Test/Builder.pm line 261
	Test::Builder::__ANON__() called at /home/stro/perl/5.22.1t/lib/5.22.1/Test/Builder.pm line 266
	eval {...} called at /home/stro/perl/5.22.1t/lib/5.22.1/Test/Builder.pm line 266
	Test::Builder::subtest(Test::Builder=HASH(0xb381a8), "Login", CODE(0x109edb8)) called at /home/stro/perl/5.22.1t/lib/5.22.1/Test/More.pm line 771
	Test::More::subtest("Login", CODE(0x109edb8)) called at t/02_client_side.t line 9
	main::scenario("Login", CODE(0x109edb8)) called at t/02_client_side.t line 86
Do not use HTTP::Session2::ClientStore. Use HTTP::Session2::ServerStore or HTTP::Session2::ClientStore2 instead. at /home/stro/cpan/build/5.22.1t/build/HTTP-Session2-1.09-TuRPdB/blib/lib/HTTP/Session2/ClientStore.pm line 35.
Do not use HTTP::Session2::ClientStore. Use HTTP::Session2::ServerStore or HTTP::Session2::ClientStore2 instead. at /home/stro/cpan/build/5.22.1t/build/HTTP-Session2-1.09-TuRPdB/blib/lib/HTTP/Session2/ClientStore.pm line 25.
Secret string too short at /home/stro/cpan/build/5.22.1t/build/HTTP-Session2-1.09-TuRPdB/blib/lib/HTTP/Session2/Base.pm line 79.
	HTTP::Session2::Base::__ANON__(HTTP::Session2::ClientStore=HASH(0x10ecc60), "s3cret") called at t/02_client_side.t line 92
	main::__ANON__("client -> server: request without cookie", CODE(0xbe5ed8)) called at t/02_client_side.t line 98
	main::__ANON__() called at /home/stro/perl/5.22.1t/lib/5.22.1/Test/Builder.pm line 261
	Test::Builder::__ANON__() called at /home/stro/perl/5.22.1t/lib/5.22.1/Test/Builder.pm line 266
	eval {...} called at /home/stro/perl/5.22.1t/lib/5.22.1/Test/Builder.pm line 266
	Test::Builder::subtest(Test::Builder=HASH(0xb381a8), "In a login session", CODE(0x109f280)) called at /home/stro/perl/5.22.1t/lib/5.22.1/Test/More.pm line 771
	Test::More::subtest("In a login session", CODE(0x109f280)) called at t/02_client_side.t line 9
	main::scenario("In a login session", CODE(0x109f280)) called at t/02_client_side.t line 107
Do not use HTTP::Session2::ClientStore. Use HTTP::Session2::ServerStore or HTTP::Session2::ClientStore2 instead. at /home/stro/cpan/build/5.22.1t/build/HTTP-Session2-1.09-TuRPdB/blib/lib/HTTP/Session2/ClientStore.pm line 35.
Do not use HTTP::Session2::ClientStore. Use HTTP::Session2::ServerStore or HTTP::Session2::ClientStore2 instead. at /home/stro/cpan/build/5.22.1t/build/HTTP-Session2-1.09-TuRPdB/blib/lib/HTTP/Session2/ClientStore.pm line 25.
Secret string too short at /home/stro/cpan/build/5.22.1t/build/HTTP-Session2-1.09-TuRPdB/blib/lib/HTTP/Session2/Base.pm line 79.
	HTTP::Session2::Base::__ANON__(HTTP::Session2::ClientStore=HASH(0x10b5750), "s3cret") called at t/02_client_side.t line 112
	main::__ANON__("client -> server: request without cookie", CODE(0x10b5828)) called at t/02_client_side.t line 118
	main::__ANON__() called at /home/stro/perl/5.22.1t/lib/5.22.1/Test/Builder.pm line 261
	Test::Builder::__ANON__() called at /home/stro/perl/5.22.1t/lib/5.22.1/Test/Builder.pm line 266
	eval {...} called at /home/stro/perl/5.22.1t/lib/5.22.1/Test/Builder.pm line 266
	Test::Builder::subtest(Test::Builder=HASH(0xb381a8), "Logout", CODE(0x109f730)) called at /home/stro/perl/5.22.1t/lib/5.22.1/Test/More.pm line 771
	Test::More::subtest("Logout", CODE(0x109f730)) called at t/02_client_side.t line 9
	main::scenario("Logout", CODE(0x109f730)) called at t/02_client_side.t line 131
t/02_client_side.t .......... ok
Secret string too short at /home/stro/cpan/build/5.22.1t/build/HTTP-Session2-1.09-TuRPdB/blib/lib/HTTP/Session2/Base.pm line 79.
	HTTP::Session2::Base::__ANON__(HTTP::Session2::ServerStore=HASH(0x2b58730), "s3cret") called at t/03_mech.t line 121
	main::server_session(HASH(0x2b58370)) called at t/03_mech.t line 17
	main::__ANON__(HASH(0x2b58370)) called at /home/stro/perl/5.22.1t/lib/site_perl/5.22.1/Test/WWW/Mechanize/PSGI.pm line 39
	Test::WWW::Mechanize::PSGI::try {...} () called at /home/stro/perl/5.22.1t/lib/site_perl/5.22.1/Try/Tiny.pm line 92
	eval {...} called at /home/stro/perl/5.22.1t/lib/site_perl/5.22.1/Try/Tiny.pm line 83
	Try::Tiny::try(CODE(0x2b6a770), Try::Tiny::Catch=REF(0x1cb87e0)) called at /home/stro/perl/5.22.1t/lib/site_perl/5.22.1/Test/WWW/Mechanize/PSGI.pm line 46
	Test::WWW::Mechanize::PSGI::simple_request(Test::WWW::Mechanize::PSGI=HASH(0x2a00e60), HTTP::Request=HASH(0x2ae8bf0), undef, undef) called at /home/stro/perl/5.22.1t/lib/site_perl/5.22.1/LWP/UserAgent.pm line 282
	LWP::UserAgent::request(Test::WWW::Mechanize::PSGI=HASH(0x2a00e60), HTTP::Request=HASH(0x2ae8bf0)) called at /home/stro/perl/5.22.1t/lib/site_perl/5.22.1/WWW/Mechanize.pm line 2598
	WWW::Mechanize::_make_request(Test::WWW::Mechanize::PSGI=HASH(0x2a00e60), HTTP::Request=HASH(0x2ae8bf0)) called at /home/stro/perl/5.22.1t/lib/site_perl/5.22.1/WWW/Mechanize.pm line 2312
	WWW::Mechanize::request(Test::WWW::Mechanize::PSGI=HASH(0x2a00e60), HTTP::Request=HASH(0x2ae8bf0)) called at /home/stro/perl/5.22.1t/lib/site_perl/5.22.1/LWP/UserAgent.pm line 411
	LWP::UserAgent::get(Test::WWW::Mechanize::PSGI=HASH(0x2a00e60), "/") called at /home/stro/perl/5.22.1t/lib/site_perl/5.22.1/WWW/Mechanize.pm line 407
	WWW::Mechanize::get(Test::WWW::Mechanize::PSGI=HASH(0x2a00e60), "/") called at /home/stro/perl/5.22.1t/lib/site_perl/5.22.1/Test/WWW/Mechanize.pm line 159
	Test::WWW::Mechanize::get_ok(Test::WWW::Mechanize::PSGI=HASH(0x2a00e60), "/") called at t/03_mech.t line 74
Secret string too short at /home/stro/cpan/build/5.22.1t/build/HTTP-Session2-1.09-TuRPdB/blib/lib/HTTP/Session2/Base.pm line 79.
	HTTP::Session2::Base::__ANON__(HTTP::Session2::ServerStore=HASH(0x2b83ce8), "s3cret") called at t/03_mech.t line 121
	main::server_session(HASH(0x2b590a8)) called at t/03_mech.t line 17
	main::__ANON__(HASH(0x2b590a8)) called at /home/stro/perl/5.22.1t/lib/site_perl/5.22.1/Test/WWW/Mechanize/PSGI.pm line 39
	Test::WWW::Mechanize::PSGI::try {...} () called at /home/stro/perl/5.22.1t/lib/site_perl/5.22.1/Try/Tiny.pm line 92
	eval {...} called at /home/stro/perl/5.22.1t/lib/site_perl/5.22.1/Try/Tiny.pm line 83
	Try::Tiny::try(CODE(0x2b59150), Try::Tiny::Catch=REF(0x2b58610)) called at /home/stro/perl/5.22.1t/lib/site_perl/5.22.1/Test/WWW/Mechanize/PSGI.pm line 46
	Test::WWW::Mechanize::PSGI::simple_request(Test::WWW::Mechanize::PSGI=HASH(0x2a00e60), HTTP::Request=HASH(0x2b58928), undef, undef) called at /home/stro/perl/5.22.1t/lib/site_perl/5.22.1/LWP/UserAgent.pm line 282
	LWP::UserAgent::request(Test::WWW::Mechanize::PSGI=HASH(0x2a00e60), HTTP::Request=HASH(0x2b58928)) called at /home/stro/perl/5.22.1t/lib/site_perl/5.22.1/WWW/Mechanize.pm line 2598
	WWW::Mechanize::_make_request(Test::WWW::Mechanize::PSGI=HASH(0x2a00e60), HTTP::Request=HASH(0x2b58928)) called at /home/stro/perl/5.22.1t/lib/site_perl/5.22.1/WWW/Mechanize.pm line 2312
	WWW::Mechanize::request(Test::WWW::Mechanize::PSGI=HASH(0x2a00e60), HTTP::Request=HASH(0x2b58928)) called at /home/stro/perl/5.22.1t/lib/site_perl/5.22.1/LWP/UserAgent.pm line 419
	LWP::UserAgent::post(Test::WWW::Mechanize::PSGI=HASH(0x2a00e60), "/wishlist?foo", HASH(0x269c758)) called at /home/stro/perl/5.22.1t/lib/site_perl/5.22.1/Test/WWW/Mechanize.pm line 236
	Test::WWW::Mechanize::post_ok(Test::WWW::Mechanize::PSGI=HASH(0x2a00e60), "/wishlist?foo") called at t/03_mech.t line 75
Secret string too short at /home/stro/cpan/build/5.22.1t/build/HTTP-Session2-1.09-TuRPdB/blib/lib/HTTP/Session2/Base.pm line 79.
	HTTP::Session2::Base::__ANON__(HTTP::Session2::ServerStore=HASH(0x2b845a0), "s3cret") called at t/03_mech.t line 121
	main::server_session(HASH(0x2b84120)) called at t/03_mech.t line 17
	main::__ANON__(HASH(0x2b84120)) called at /home/stro/perl/5.22.1t/lib/site_perl/5.22.1/Test/WWW/Mechanize/PSGI.pm line 39
	Test::WWW::Mechanize::PSGI::try {...} () called at /home/stro/perl/5.22.1t/lib/site_perl/5.22.1/Try/Tiny.pm line 92
	eval {...} called at /home/stro/perl/5.22.1t/lib/site_perl/5.22.1/Try/Tiny.pm line 83
	Try::Tiny::try(CODE(0x2b59090), Try::Tiny::Catch=REF(0x2b83bf8)) called at /home/stro/perl/5.22.1t/lib/site_perl/5.22.1/Test/WWW/Mechanize/PSGI.pm line 46
	Test::WWW::Mechanize::PSGI::simple_request(Test::WWW::Mechanize::PSGI=HASH(0x2a00e60), HTTP::Request=HASH(0x2b58dd8), undef, undef) called at /home/stro/perl/5.22.1t/lib/site_perl/5.22.1/LWP/UserAgent.pm line 282
	LWP::UserAgent::request(Test::WWW::Mechanize::PSGI=HASH(0x2a00e60), HTTP::Request=HASH(0x2b58dd8)) called at /home/stro/perl/5.22.1t/lib/site_perl/5.22.1/WWW/Mechanize.pm line 2598
	WWW::Mechanize::_make_request(Test::WWW::Mechanize::PSGI=HASH(0x2a00e60), HTTP::Request=HASH(0x2b58dd8)) called at /home/stro/perl/5.22.1t/lib/site_perl/5.22.1/WWW/Mechanize.pm line 2312
	WWW::Mechanize::request(Test::WWW::Mechanize::PSGI=HASH(0x2a00e60), HTTP::Request=HASH(0x2b58dd8)) called at /home/stro/perl/5.22.1t/lib/site_perl/5.22.1/LWP/UserAgent.pm line 411
	LWP::UserAgent::get(Test::WWW::Mechanize::PSGI=HASH(0x2a00e60), "http://localhost/wishlist") called at /home/stro/perl/5.22.1t/lib/site_perl/5.22.1/WWW/Mechanize.pm line 407
	WWW::Mechanize::get(Test::WWW::Mechanize::PSGI=HASH(0x2a00e60), "/wishlist") called at /home/stro/perl/5.22.1t/lib/site_perl/5.22.1/Test/WWW/Mechanize.pm line 159
	Test::WWW::Mechanize::get_ok(Test::WWW::Mechanize::PSGI=HASH(0x2a00e60), "/wishlist") called at t/03_mech.t line 76
Secret string too short at /home/stro/cpan/build/5.22.1t/build/HTTP-Session2-1.09-TuRPdB/blib/lib/HTTP/Session2/Base.pm line 79.
	HTTP::Session2::Base::__ANON__(HTTP::Session2::ServerStore=HASH(0x2b88ff8), "s3cret") called at t/03_mech.t line 121
	main::server_session(HASH(0x2b88ea8)) called at t/03_mech.t line 17
	main::__ANON__(HASH(0x2b88ea8)) called at /home/stro/perl/5.22.1t/lib/site_perl/5.22.1/Test/WWW/Mechanize/PSGI.pm line 39
	Test::WWW::Mechanize::PSGI::try {...} () called at /home/stro/perl/5.22.1t/lib/site_perl/5.22.1/Try/Tiny.pm line 92
	eval {...} called at /home/stro/perl/5.22.1t/lib/site_perl/5.22.1/Try/Tiny.pm line 83
	Try::Tiny::try(CODE(0x2b84720), Try::Tiny::Catch=REF(0x2b84420)) called at /home/stro/perl/5.22.1t/lib/site_perl/5.22.1/Test/WWW/Mechanize/PSGI.pm line 46
	Test::WWW::Mechanize::PSGI::simple_request(Test::WWW::Mechanize::PSGI=HASH(0x2a00e60), HTTP::Request=HASH(0x2b844f8), undef, undef) called at /home/stro/perl/5.22.1t/lib/site_perl/5.22.1/LWP/UserAgent.pm line 282
	LWP::UserAgent::request(Test::WWW::Mechanize::PSGI=HASH(0x2a00e60), HTTP::Request=HASH(0x2b844f8)) called at /home/stro/perl/5.22.1t/lib/site_perl/5.22.1/WWW/Mechanize.pm line 2598
	WWW::Mechanize::_make_request(Test::WWW::Mechanize::PSGI=HASH(0x2a00e60), HTTP::Request=HASH(0x2b844f8)) called at /home/stro/perl/5.22.1t/lib/site_perl/5.22.1/WWW/Mechanize.pm line 2312
	WWW::Mechanize::request(Test::WWW::Mechanize::PSGI=HASH(0x2a00e60), HTTP::Request=HASH(0x2b844f8)) called at /home/stro/perl/5.22.1t/lib/site_perl/5.22.1/LWP/UserAgent.pm line 419
	LWP::UserAgent::post(Test::WWW::Mechanize::PSGI=HASH(0x2a00e60), "/wishlist?bar") called at t/03_mech.t line 78
Secret string too short at /home/stro/cpan/build/5.22.1t/build/HTTP-Session2-1.09-TuRPdB/blib/lib/HTTP/Session2/Base.pm line 79.
	HTTP::Session2::Base::__ANON__(HTTP::Session2::ServerStore=HASH(0x2b89550), "s3cret") called at t/03_mech.t line 121
	main::server_session(HASH(0x2b89370)) called at t/03_mech.t line 17
	main::__ANON__(HASH(0x2b89370)) called at /home/stro/perl/5.22.1t/lib/site_perl/5.22.1/Test/WWW/Mechanize/PSGI.pm line 39
	Test::WWW::Mechanize::PSGI::try {...} () called at /home/stro/perl/5.22.1t/lib/site_perl/5.22.1/Try/Tiny.pm line 92
	eval {...} called at /home/stro/perl/5.22.1t/lib/site_perl/5.22.1/Try/Tiny.pm line 83
	Try::Tiny::try(CODE(0x2b847c8), Try::Tiny::Catch=REF(0x2b847b0)) called at /home/stro/perl/5.22.1t/lib/site_perl/5.22.1/Test/WWW/Mechanize/PSGI.pm line 46
	Test::WWW::Mechanize::PSGI::simple_request(Test::WWW::Mechanize::PSGI=HASH(0x2a00e60), HTTP::Request=HASH(0x2b88f50), undef, undef) called at /home/stro/perl/5.22.1t/lib/site_perl/5.22.1/LWP/UserAgent.pm line 282
	LWP::UserAgent::request(Test::WWW::Mechanize::PSGI=HASH(0x2a00e60), HTTP::Request=HASH(0x2b88f50)) called at /home/stro/perl/5.22.1t/lib/site_perl/5.22.1/WWW/Mechanize.pm line 2598
	WWW::Mechanize::_make_request(Test::WWW::Mechanize::PSGI=HASH(0x2a00e60), HTTP::Request=HASH(0x2b88f50)) called at /home/stro/perl/5.22.1t/lib/site_perl/5.22.1/WWW/Mechanize.pm line 2312
	WWW::Mechanize::request(Test::WWW::Mechanize::PSGI=HASH(0x2a00e60), HTTP::Request=HASH(0x2b88f50)) called at /home/stro/perl/5.22.1t/lib/site_perl/5.22.1/LWP/UserAgent.pm line 419
	LWP::UserAgent::post(Test::WWW::Mechanize::PSGI=HASH(0x2a00e60), "/wishlist?bar", HASH(0x269c758)) called at /home/stro/perl/5.22.1t/lib/site_perl/5.22.1/Test/WWW/Mechanize.pm line 236
	Test::WWW::Mechanize::post_ok(Test::WWW::Mechanize::PSGI=HASH(0x2a00e60), "/wishlist?bar") called at t/03_mech.t line 81
Secret string too short at /home/stro/cpan/build/5.22.1t/build/HTTP-Session2-1.09-TuRPdB/blib/lib/HTTP/Session2/Base.pm line 79.
	HTTP::Session2::Base::__ANON__(HTTP::Session2::ServerStore=HASH(0x2b89988), "s3cret") called at t/03_mech.t line 121
	main::server_session(HASH(0x2b89520)) called at t/03_mech.t line 17
	main::__ANON__(HASH(0x2b89520)) called at /home/stro/perl/5.22.1t/lib/site_perl/5.22.1/Test/WWW/Mechanize/PSGI.pm line 39
	Test::WWW::Mechanize::PSGI::try {...} () called at /home/stro/perl/5.22.1t/lib/site_perl/5.22.1/Try/Tiny.pm line 92
	eval {...} called at /home/stro/perl/5.22.1t/lib/site_perl/5.22.1/Try/Tiny.pm line 83
	Try::Tiny::try(CODE(0x2b848b8), Try::Tiny::Catch=REF(0x2b892c8)) called at /home/stro/perl/5.22.1t/lib/site_perl/5.22.1/Test/WWW/Mechanize/PSGI.pm line 46
	Test::WWW::Mechanize::PSGI::simple_request(Test::WWW::Mechanize::PSGI=HASH(0x2a00e60), HTTP::Request=HASH(0x2b84540), undef, undef) called at /home/stro/perl/5.22.1t/lib/site_perl/5.22.1/LWP/UserAgent.pm line 282
	LWP::UserAgent::request(Test::WWW::Mechanize::PSGI=HASH(0x2a00e60), HTTP::Request=HASH(0x2b84540)) called at /home/stro/perl/5.22.1t/lib/site_perl/5.22.1/WWW/Mechanize.pm line 2598
	WWW::Mechanize::_make_request(Test::WWW::Mechanize::PSGI=HASH(0x2a00e60), HTTP::Request=HASH(0x2b84540)) called at /home/stro/perl/5.22.1t/lib/site_perl/5.22.1/WWW/Mechanize.pm line 2312
	WWW::Mechanize::request(Test::WWW::Mechanize::PSGI=HASH(0x2a00e60), HTTP::Request=HASH(0x2b84540)) called at /home/stro/perl/5.22.1t/lib/site_perl/5.22.1/LWP/UserAgent.pm line 411
	LWP::UserAgent::get(Test::WWW::Mechanize::PSGI=HASH(0x2a00e60), "http://localhost/wishlist") called at /home/stro/perl/5.22.1t/lib/site_perl/5.22.1/WWW/Mechanize.pm line 407
	WWW::Mechanize::get(Test::WWW::Mechanize::PSGI=HASH(0x2a00e60), "/wishlist") called at /home/stro/perl/5.22.1t/lib/site_perl/5.22.1/Test/WWW/Mechanize.pm line 159
	Test::WWW::Mechanize::get_ok(Test::WWW::Mechanize::PSGI=HASH(0x2a00e60), "/wishlist") called at t/03_mech.t line 82
Secret string too short at /home/stro/cpan/build/5.22.1t/build/HTTP-Session2-1.09-TuRPdB/blib/lib/HTTP/Session2/Base.pm line 79.
	HTTP::Session2::Base::__ANON__(HTTP::Session2::ServerStore=HASH(0x2b8e500), "s3cret") called at t/03_mech.t line 121
	main::server_session(HASH(0x2b89640)) called at t/03_mech.t line 17
	main::__ANON__(HASH(0x2b89640)) called at /home/stro/perl/5.22.1t/lib/site_perl/5.22.1/Test/WWW/Mechanize/PSGI.pm line 39
	Test::WWW::Mechanize::PSGI::try {...} () called at /home/stro/perl/5.22.1t/lib/site_perl/5.22.1/Try/Tiny.pm line 92
	eval {...} called at /home/stro/perl/5.22.1t/lib/site_perl/5.22.1/Try/Tiny.pm line 83
	Try::Tiny::try(CODE(0x2b89670), Try::Tiny::Catch=REF(0x2b89688)) called at /home/stro/perl/5.22.1t/lib/site_perl/5.22.1/Test/WWW/Mechanize/PSGI.pm line 46
	Test::WWW::Mechanize::PSGI::simple_request(Test::WWW::Mechanize::PSGI=HASH(0x2a00e60), HTTP::Request=HASH(0x2b89778), undef, undef) called at /home/stro/perl/5.22.1t/lib/site_perl/5.22.1/LWP/UserAgent.pm line 282
	LWP::UserAgent::request(Test::WWW::Mechanize::PSGI=HASH(0x2a00e60), HTTP::Request=HASH(0x2b89778)) called at /home/stro/perl/5.22.1t/lib/site_perl/5.22.1/WWW/Mechanize.pm line 2598
	WWW::Mechanize::_make_request(Test::WWW::Mechanize::PSGI=HASH(0x2a00e60), HTTP::Request=HASH(0x2b89778)) called at /home/stro/perl/5.22.1t/lib/site_perl/5.22.1/WWW/Mechanize.pm line 2312
	WWW::Mechanize::request(Test::WWW::Mechanize::PSGI=HASH(0x2a00e60), HTTP::Request=HASH(0x2b89778)) called at /home/stro/perl/5.22.1t/lib/site_perl/5.22.1/LWP/UserAgent.pm line 419
	LWP::UserAgent::post(Test::WWW::Mechanize::PSGI=HASH(0x2a00e60), "/account/login?john", HASH(0x269c758)) called at /home/stro/perl/5.22.1t/lib/site_perl/5.22.1/Test/WWW/Mechanize.pm line 236
	Test::WWW::Mechanize::post_ok(Test::WWW::Mechanize::PSGI=HASH(0x2a00e60), "/account/login?john") called at t/03_mech.t line 84
Secret string too short at /home/stro/cpan/build/5.22.1t/build/HTTP-Session2-1.09-TuRPdB/blib/lib/HTTP/Session2/Base.pm line 79.
	HTTP::Session2::Base::__ANON__(HTTP::Session2::ServerStore=HASH(0x2b8e650), "s3cret") called at t/03_mech.t line 121
	main::server_session(HASH(0x2b89448)) called at t/03_mech.t line 17
	main::__ANON__(HASH(0x2b89448)) called at /home/stro/perl/5.22.1t/lib/site_perl/5.22.1/Test/WWW/Mechanize/PSGI.pm line 39
	Test::WWW::Mechanize::PSGI::try {...} () called at /home/stro/perl/5.22.1t/lib/site_perl/5.22.1/Try/Tiny.pm line 92
	eval {...} called at /home/stro/perl/5.22.1t/lib/site_perl/5.22.1/Try/Tiny.pm line 83
	Try::Tiny::try(CODE(0x2b89688), Try::Tiny::Catch=REF(0x2b89be0)) called at /home/stro/perl/5.22.1t/lib/site_perl/5.22.1/Test/WWW/Mechanize/PSGI.pm line 46
	Test::WWW::Mechanize::PSGI::simple_request(Test::WWW::Mechanize::PSGI=HASH(0x2a00e60), HTTP::Request=HASH(0x2b84840), undef, undef) called at /home/stro/perl/5.22.1t/lib/site_perl/5.22.1/LWP/UserAgent.pm line 282
	LWP::UserAgent::request(Test::WWW::Mechanize::PSGI=HASH(0x2a00e60), HTTP::Request=HASH(0x2b84840)) called at /home/stro/perl/5.22.1t/lib/site_perl/5.22.1/WWW/Mechanize.pm line 2598
	WWW::Mechanize::_make_request(Test::WWW::Mechanize::PSGI=HASH(0x2a00e60), HTTP::Request=HASH(0x2b84840)) called at /home/stro/perl/5.22.1t/lib/site_perl/5.22.1/WWW/Mechanize.pm line 2312
	WWW::Mechanize::request(Test::WWW::Mechanize::PSGI=HASH(0x2a00e60), HTTP::Request=HASH(0x2b84840)) called at /home/stro/perl/5.22.1t/lib/site_perl/5.22.1/LWP/UserAgent.pm line 411
	LWP::UserAgent::get(Test::WWW::Mechanize::PSGI=HASH(0x2a00e60), "http://localhost/wishlist") called at /home/stro/perl/5.22.1t/lib/site_perl/5.22.1/WWW/Mechanize.pm line 407
	WWW::Mechanize::get(Test::WWW::Mechanize::PSGI=HASH(0x2a00e60), "/wishlist") called at /home/stro/perl/5.22.1t/lib/site_perl/5.22.1/Test/WWW/Mechanize.pm line 159
	Test::WWW::Mechanize::get_ok(Test::WWW::Mechanize::PSGI=HASH(0x2a00e60), "/wishlist", "Wishlist is still available") called at t/03_mech.t line 85
Secret string too short at /home/stro/cpan/build/5.22.1t/build/HTTP-Session2-1.09-TuRPdB/blib/lib/HTTP/Session2/Base.pm line 79.
	HTTP::Session2::Base::__ANON__(HTTP::Session2::ServerStore=HASH(0x2b8eec0), "s3cret") called at t/03_mech.t line 121
	main::server_session(HASH(0x2b8e4b8)) called at t/03_mech.t line 17
	main::__ANON__(HASH(0x2b8e4b8)) called at /home/stro/perl/5.22.1t/lib/site_perl/5.22.1/Test/WWW/Mechanize/PSGI.pm line 39
	Test::WWW::Mechanize::PSGI::try {...} () called at /home/stro/perl/5.22.1t/lib/site_perl/5.22.1/Try/Tiny.pm line 92
	eval {...} called at /home/stro/perl/5.22.1t/lib/site_perl/5.22.1/Try/Tiny.pm line 83
	Try::Tiny::try(CODE(0x2b898b0), Try::Tiny::Catch=REF(0x2b8e638)) called at /home/stro/perl/5.22.1t/lib/site_perl/5.22.1/Test/WWW/Mechanize/PSGI.pm line 46
	Test::WWW::Mechanize::PSGI::simple_request(Test::WWW::Mechanize::PSGI=HASH(0x2a00e60), HTTP::Request=HASH(0x2b84168), undef, undef) called at /home/stro/perl/5.22.1t/lib/site_perl/5.22.1/LWP/UserAgent.pm line 282
	LWP::UserAgent::request(Test::WWW::Mechanize::PSGI=HASH(0x2a00e60), HTTP::Request=HASH(0x2b84168)) called at /home/stro/perl/5.22.1t/lib/site_perl/5.22.1/WWW/Mechanize.pm line 2598
	WWW::Mechanize::_make_request(Test::WWW::Mechanize::PSGI=HASH(0x2a00e60), HTTP::Request=HASH(0x2b84168)) called at /home/stro/perl/5.22.1t/lib/site_perl/5.22.1/WWW/Mechanize.pm line 2312
	WWW::Mechanize::request(Test::WWW::Mechanize::PSGI=HASH(0x2a00e60), HTTP::Request=HASH(0x2b84168)) called at /home/stro/perl/5.22.1t/lib/site_perl/5.22.1/LWP/UserAgent.pm line 419
	LWP::UserAgent::post(Test::WWW::Mechanize::PSGI=HASH(0x2a00e60), "/wishlist?baz") called at t/03_mech.t line 87
Secret string too short at /home/stro/cpan/build/5.22.1t/build/HTTP-Session2-1.09-TuRPdB/blib/lib/HTTP/Session2/Base.pm line 79.
	HTTP::Session2::Base::__ANON__(HTTP::Session2::ServerStore=HASH(0x2b8f340), "s3cret") called at t/03_mech.t line 121
	main::server_session(HASH(0x2b8ea70)) called at t/03_mech.t line 17
	main::__ANON__(HASH(0x2b8ea70)) called at /home/stro/perl/5.22.1t/lib/site_perl/5.22.1/Test/WWW/Mechanize/PSGI.pm line 39
	Test::WWW::Mechanize::PSGI::try {...} () called at /home/stro/perl/5.22.1t/lib/site_perl/5.22.1/Try/Tiny.pm line 92
	eval {...} called at /home/stro/perl/5.22.1t/lib/site_perl/5.22.1/Try/Tiny.pm line 83
	Try::Tiny::try(CODE(0x2b8ecb0), Try::Tiny::Catch=REF(0x2b8eb30)) called at /home/stro/perl/5.22.1t/lib/site_perl/5.22.1/Test/WWW/Mechanize/PSGI.pm line 46
	Test::WWW::Mechanize::PSGI::simple_request(Test::WWW::Mechanize::PSGI=HASH(0x2a00e60), HTTP::Request=HASH(0x2b840c0), undef, undef) called at /home/stro/perl/5.22.1t/lib/site_perl/5.22.1/LWP/UserAgent.pm line 282
	LWP::UserAgent::request(Test::WWW::Mechanize::PSGI=HASH(0x2a00e60), HTTP::Request=HASH(0x2b840c0)) called at /home/stro/perl/5.22.1t/lib/site_perl/5.22.1/WWW/Mechanize.pm line 2598
	WWW::Mechanize::_make_request(Test::WWW::Mechanize::PSGI=HASH(0x2a00e60), HTTP::Request=HASH(0x2b840c0)) called at /home/stro/perl/5.22.1t/lib/site_perl/5.22.1/WWW/Mechanize.pm line 2312
	WWW::Mechanize::request(Test::WWW::Mechanize::PSGI=HASH(0x2a00e60), HTTP::Request=HASH(0x2b840c0)) called at /home/stro/perl/5.22.1t/lib/site_perl/5.22.1/LWP/UserAgent.pm line 419
	LWP::UserAgent::post(Test::WWW::Mechanize::PSGI=HASH(0x2a00e60), "/wishlist?baz", HASH(0x269c758)) called at /home/stro/perl/5.22.1t/lib/site_perl/5.22.1/Test/WWW/Mechanize.pm line 236
	Test::WWW::Mechanize::post_ok(Test::WWW::Mechanize::PSGI=HASH(0x2a00e60), "/wishlist?baz") called at t/03_mech.t line 90
Secret string too short at /home/stro/cpan/build/5.22.1t/build/HTTP-Session2-1.09-TuRPdB/blib/lib/HTTP/Session2/Base.pm line 79.
	HTTP::Session2::Base::__ANON__(HTTP::Session2::ServerStore=HASH(0x2b93d58), "s3cret") called at t/03_mech.t line 121
	main::server_session(HASH(0x2b8f310)) called at t/03_mech.t line 17
	main::__ANON__(HASH(0x2b8f310)) called at /home/stro/perl/5.22.1t/lib/site_perl/5.22.1/Test/WWW/Mechanize/PSGI.pm line 39
	Test::WWW::Mechanize::PSGI::try {...} () called at /home/stro/perl/5.22.1t/lib/site_perl/5.22.1/Try/Tiny.pm line 92
	eval {...} called at /home/stro/perl/5.22.1t/lib/site_perl/5.22.1/Try/Tiny.pm line 83
	Try::Tiny::try(CODE(0x2b8f160), Try::Tiny::Catch=REF(0x2b8eff8)) called at /home/stro/perl/5.22.1t/lib/site_perl/5.22.1/Test/WWW/Mechanize/PSGI.pm line 46
	Test::WWW::Mechanize::PSGI::simple_request(Test::WWW::Mechanize::PSGI=HASH(0x2a00e60), HTTP::Request=HASH(0x2b83ca0), undef, undef) called at /home/stro/perl/5.22.1t/lib/site_perl/5.22.1/LWP/UserAgent.pm line 282
	LWP::UserAgent::request(Test::WWW::Mechanize::PSGI=HASH(0x2a00e60), HTTP::Request=HASH(0x2b83ca0)) called at /home/stro/perl/5.22.1t/lib/site_perl/5.22.1/WWW/Mechanize.pm line 2598
	WWW::Mechanize::_make_request(Test::WWW::Mechanize::PSGI=HASH(0x2a00e60), HTTP::Request=HASH(0x2b83ca0)) called at /home/stro/perl/5.22.1t/lib/site_perl/5.22.1/WWW/Mechanize.pm line 2312
	WWW::Mechanize::request(Test::WWW::Mechanize::PSGI=HASH(0x2a00e60), HTTP::Request=HASH(0x2b83ca0)) called at /home/stro/perl/5.22.1t/lib/site_perl/5.22.1/LWP/UserAgent.pm line 411
	LWP::UserAgent::get(Test::WWW::Mechanize::PSGI=HASH(0x2a00e60), "http://localhost/wishlist") called at /home/stro/perl/5.22.1t/lib/site_perl/5.22.1/WWW/Mechanize.pm line 407
	WWW::Mechanize::get(Test::WWW::Mechanize::PSGI=HASH(0x2a00e60), "/wishlist") called at /home/stro/perl/5.22.1t/lib/site_perl/5.22.1/Test/WWW/Mechanize.pm line 159
	Test::WWW::Mechanize::get_ok(Test::WWW::Mechanize::PSGI=HASH(0x2a00e60), "/wishlist", "Wishlist is still available") called at t/03_mech.t line 91
Secret string too short at /home/stro/cpan/build/5.22.1t/build/HTTP-Session2-1.09-TuRPdB/blib/lib/HTTP/Session2/Base.pm line 79.
	HTTP::Session2::Base::__ANON__(HTTP::Session2::ServerStore=HASH(0x2b94268), "s3cret") called at t/03_mech.t line 121
	main::server_session(HASH(0x2b8f2c8)) called at t/03_mech.t line 17
	main::__ANON__(HASH(0x2b8f2c8)) called at /home/stro/perl/5.22.1t/lib/site_perl/5.22.1/Test/WWW/Mechanize/PSGI.pm line 39
	Test::WWW::Mechanize::PSGI::try {...} () called at /home/stro/perl/5.22.1t/lib/site_perl/5.22.1/Try/Tiny.pm line 92
	eval {...} called at /home/stro/perl/5.22.1t/lib/site_perl/5.22.1/Try/Tiny.pm line 83
	Try::Tiny::try(CODE(0x2b8ef98), Try::Tiny::Catch=REF(0x2b93a58)) called at /home/stro/perl/5.22.1t/lib/site_perl/5.22.1/Test/WWW/Mechanize/PSGI.pm line 46
	Test::WWW::Mechanize::PSGI::simple_request(Test::WWW::Mechanize::PSGI=HASH(0x2a00e60), HTTP::Request=HASH(0x2b8f430), undef, undef) called at /home/stro/perl/5.22.1t/lib/site_perl/5.22.1/LWP/UserAgent.pm line 282
	LWP::UserAgent::request(Test::WWW::Mechanize::PSGI=HASH(0x2a00e60), HTTP::Request=HASH(0x2b8f430)) called at /home/stro/perl/5.22.1t/lib/site_perl/5.22.1/WWW/Mechanize.pm line 2598
	WWW::Mechanize::_make_request(Test::WWW::Mechanize::PSGI=HASH(0x2a00e60), HTTP::Request=HASH(0x2b8f430)) called at /home/stro/perl/5.22.1t/lib/site_perl/5.22.1/WWW/Mechanize.pm line 2312
	WWW::Mechanize::request(Test::WWW::Mechanize::PSGI=HASH(0x2a00e60), HTTP::Request=HASH(0x2b8f430)) called at /home/stro/perl/5.22.1t/lib/site_perl/5.22.1/LWP/UserAgent.pm line 411
	LWP::UserAgent::get(Test::WWW::Mechanize::PSGI=HASH(0x2a00e60), "http://localhost/my/name") called at /home/stro/perl/5.22.1t/lib/site_perl/5.22.1/WWW/Mechanize.pm line 407
	WWW::Mechanize::get(Test::WWW::Mechanize::PSGI=HASH(0x2a00e60), "/my/name") called at /home/stro/perl/5.22.1t/lib/site_perl/5.22.1/Test/WWW/Mechanize.pm line 159
	Test::WWW::Mechanize::get_ok(Test::WWW::Mechanize::PSGI=HASH(0x2a00e60), "/my/name") called at t/03_mech.t line 93
Secret string too short at /home/stro/cpan/build/5.22.1t/build/HTTP-Session2-1.09-TuRPdB/blib/lib/HTTP/Session2/Base.pm line 79.
	HTTP::Session2::Base::__ANON__(HTTP::Session2::ServerStore=HASH(0x2b94808), "s3cret") called at t/03_mech.t line 121
	main::server_session(HASH(0x2b94538)) called at t/03_mech.t line 17
	main::__ANON__(HASH(0x2b94538)) called at /home/stro/perl/5.22.1t/lib/site_perl/5.22.1/Test/WWW/Mechanize/PSGI.pm line 39
	Test::WWW::Mechanize::PSGI::try {...} () called at /home/stro/perl/5.22.1t/lib/site_perl/5.22.1/Try/Tiny.pm line 92
	eval {...} called at /home/stro/perl/5.22.1t/lib/site_perl/5.22.1/Try/Tiny.pm line 83
	Try::Tiny::try(CODE(0x2b943b8), Try::Tiny::Catch=REF(0x2b93f98)) called at /home/stro/perl/5.22.1t/lib/site_perl/5.22.1/Test/WWW/Mechanize/PSGI.pm line 46
	Test::WWW::Mechanize::PSGI::simple_request(Test::WWW::Mechanize::PSGI=HASH(0x2a00e60), HTTP::Request=HASH(0x2b94178), undef, undef) called at /home/stro/perl/5.22.1t/lib/site_perl/5.22.1/LWP/UserAgent.pm line 282
	LWP::UserAgent::request(Test::WWW::Mechanize::PSGI=HASH(0x2a00e60), HTTP::Request=HASH(0x2b94178)) called at /home/stro/perl/5.22.1t/lib/site_perl/5.22.1/WWW/Mechanize.pm line 2598
	WWW::Mechanize::_make_request(Test::WWW::Mechanize::PSGI=HASH(0x2a00e60), HTTP::Request=HASH(0x2b94178)) called at /home/stro/perl/5.22.1t/lib/site_perl/5.22.1/WWW/Mechanize.pm line 2312
	WWW::Mechanize::request(Test::WWW::Mechanize::PSGI=HASH(0x2a00e60), HTTP::Request=HASH(0x2b94178)) called at /home/stro/perl/5.22.1t/lib/site_perl/5.22.1/LWP/UserAgent.pm line 419
	LWP::UserAgent::post(Test::WWW::Mechanize::PSGI=HASH(0x2a00e60), "/account/logout?john") called at t/03_mech.t line 97
Secret string too short at /home/stro/cpan/build/5.22.1t/build/HTTP-Session2-1.09-TuRPdB/blib/lib/HTTP/Session2/Base.pm line 79.
	HTTP::Session2::Base::__ANON__(HTTP::Session2::ClientStore=HASH(0x2b84810), "s3cret") called at t/03_mech.t line 127
	main::client_session(HASH(0x2b94748)) called at t/03_mech.t line 17
	main::__ANON__(HASH(0x2b94748)) called at /home/stro/perl/5.22.1t/lib/site_perl/5.22.1/Test/WWW/Mechanize/PSGI.pm line 39
	Test::WWW::Mechanize::PSGI::try {...} () called at /home/stro/perl/5.22.1t/lib/site_perl/5.22.1/Try/Tiny.pm line 92
	eval {...} called at /home/stro/perl/5.22.1t/lib/site_perl/5.22.1/Try/Tiny.pm line 83
	Try::Tiny::try(CODE(0x2b59168), Try::Tiny::Catch=REF(0x2b945b0)) called at /home/stro/perl/5.22.1t/lib/site_perl/5.22.1/Test/WWW/Mechanize/PSGI.pm line 46
	Test::WWW::Mechanize::PSGI::simple_request(Test::WWW::Mechanize::PSGI=HASH(0x2a139a8), HTTP::Request=HASH(0x1f958c8), undef, undef) called at /home/stro/perl/5.22.1t/lib/site_perl/5.22.1/LWP/UserAgent.pm line 282
	LWP::UserAgent::request(Test::WWW::Mechanize::PSGI=HASH(0x2a139a8), HTTP::Request=HASH(0x1f958c8)) called at /home/stro/perl/5.22.1t/lib/site_perl/5.22.1/WWW/Mechanize.pm line 2598
	WWW::Mechanize::_make_request(Test::WWW::Mechanize::PSGI=HASH(0x2a139a8), HTTP::Request=HASH(0x1f958c8)) called at /home/stro/perl/5.22.1t/lib/site_perl/5.22.1/WWW/Mechanize.pm line 2312
	WWW::Mechanize::request(Test::WWW::Mechanize::PSGI=HASH(0x2a139a8), HTTP::Request=HASH(0x1f958c8)) called at /home/stro/perl/5.22.1t/lib/site_perl/5.22.1/LWP/UserAgent.pm line 411
	LWP::UserAgent::get(Test::WWW::Mechanize::PSGI=HASH(0x2a139a8), "/") called at /home/stro/perl/5.22.1t/lib/site_perl/5.22.1/WWW/Mechanize.pm line 407
	WWW::Mechanize::get(Test::WWW::Mechanize::PSGI=HASH(0x2a139a8), "/") called at /home/stro/perl/5.22.1t/lib/site_perl/5.22.1/Test/WWW/Mechanize.pm line 159
	Test::WWW::Mechanize::get_ok(Test::WWW::Mechanize::PSGI=HASH(0x2a139a8), "/") called at t/03_mech.t line 74
Secret string too short at /home/stro/cpan/build/5.22.1t/build/HTTP-Session2-1.09-TuRPdB/blib/lib/HTTP/Session2/Base.pm line 79.
	HTTP::Session2::Base::__ANON__(HTTP::Session2::ClientStore=HASH(0x2b84480), "s3cret") called at t/03_mech.t line 127
	main::client_session(HASH(0x2b96d70)) called at t/03_mech.t line 17
	main::__ANON__(HASH(0x2b96d70)) called at /home/stro/perl/5.22.1t/lib/site_perl/5.22.1/Test/WWW/Mechanize/PSGI.pm line 39
	Test::WWW::Mechanize::PSGI::try {...} () called at /home/stro/perl/5.22.1t/lib/site_perl/5.22.1/Try/Tiny.pm line 92
	eval {...} called at /home/stro/perl/5.22.1t/lib/site_perl/5.22.1/Try/Tiny.pm line 83
	Try::Tiny::try(CODE(0x2b58f28), Try::Tiny::Catch=REF(0x2b83a00)) called at /home/stro/perl/5.22.1t/lib/site_perl/5.22.1/Test/WWW/Mechanize/PSGI.pm line 46
	Test::WWW::Mechanize::PSGI::simple_request(Test::WWW::Mechanize::PSGI=HASH(0x2a139a8), HTTP::Request=HASH(0x2a00e60), undef, undef) called at /home/stro/perl/5.22.1t/lib/site_perl/5.22.1/LWP/UserAgent.pm line 282
	LWP::UserAgent::request(Test::WWW::Mechanize::PSGI=HASH(0x2a139a8), HTTP::Request=HASH(0x2a00e60)) called at /home/stro/perl/5.22.1t/lib/site_perl/5.22.1/WWW/Mechanize.pm line 2598
	WWW::Mechanize::_make_request(Test::WWW::Mechanize::PSGI=HASH(0x2a139a8), HTTP::Request=HASH(0x2a00e60)) called at /home/stro/perl/5.22.1t/lib/site_perl/5.22.1/WWW/Mechanize.pm line 2312
	WWW::Mechanize::request(Test::WWW::Mechanize::PSGI=HASH(0x2a139a8), HTTP::Request=HASH(0x2a00e60)) called at /home/stro/perl/5.22.1t/lib/site_perl/5.22.1/LWP/UserAgent.pm line 419
	LWP::UserAgent::post(Test::WWW::Mechanize::PSGI=HASH(0x2a139a8), "/wishlist?foo", HASH(0x269c758)) called at /home/stro/perl/5.22.1t/lib/site_perl/5.22.1/Test/WWW/Mechanize.pm line 236
	Test::WWW::Mechanize::post_ok(Test::WWW::Mechanize::PSGI=HASH(0x2a139a8), "/wishlist?foo") called at t/03_mech.t line 75
Do not use HTTP::Session2::ClientStore. Use HTTP::Session2::ServerStore or HTTP::Session2::ClientStore2 instead. at /home/stro/cpan/build/5.22.1t/build/HTTP-Session2-1.09-TuRPdB/blib/lib/HTTP/Session2/ClientStore.pm line 25.
Secret string too short at /home/stro/cpan/build/5.22.1t/build/HTTP-Session2-1.09-TuRPdB/blib/lib/HTTP/Session2/Base.pm line 79.
	HTTP::Session2::Base::__ANON__(HTTP::Session2::ClientStore=HASH(0x2b89778), "s3cret") called at t/03_mech.t line 127
	main::client_session(HASH(0x2b58448)) called at t/03_mech.t line 17
	main::__ANON__(HASH(0x2b58448)) called at /home/stro/perl/5.22.1t/lib/site_perl/5.22.1/Test/WWW/Mechanize/PSGI.pm line 39
	Test::WWW::Mechanize::PSGI::try {...} () called at /home/stro/perl/5.22.1t/lib/site_perl/5.22.1/Try/Tiny.pm line 92
	eval {...} called at /home/stro/perl/5.22.1t/lib/site_perl/5.22.1/Try/Tiny.pm line 83
	Try::Tiny::try(CODE(0x2b88ff8), Try::Tiny::Catch=REF(0x2b84450)) called at /home/stro/perl/5.22.1t/lib/site_perl/5.22.1/Test/WWW/Mechanize/PSGI.pm line 46
	Test::WWW::Mechanize::PSGI::simple_request(Test::WWW::Mechanize::PSGI=HASH(0x2a139a8), HTTP::Request=HASH(0x2a00f08), undef, undef) called at /home/stro/perl/5.22.1t/lib/site_perl/5.22.1/LWP/UserAgent.pm line 282
	LWP::UserAgent::request(Test::WWW::Mechanize::PSGI=HASH(0x2a139a8), HTTP::Request=HASH(0x2a00f08)) called at /home/stro/perl/5.22.1t/lib/site_perl/5.22.1/WWW/Mechanize.pm line 2598
	WWW::Mechanize::_make_request(Test::WWW::Mechanize::PSGI=HASH(0x2a139a8), HTTP::Request=HASH(0x2a00f08)) called at /home/stro/perl/5.22.1t/lib/site_perl/5.22.1/WWW/Mechanize.pm line 2312
	WWW::Mechanize::request(Test::WWW::Mechanize::PSGI=HASH(0x2a139a8), HTTP::Request=HASH(0x2a00f08)) called at /home/stro/perl/5.22.1t/lib/site_perl/5.22.1/LWP/UserAgent.pm line 411
	LWP::UserAgent::get(Test::WWW::Mechanize::PSGI=HASH(0x2a139a8), "http://localhost/wishlist") called at /home/stro/perl/5.22.1t/lib/site_perl/5.22.1/WWW/Mechanize.pm line 407
	WWW::Mechanize::get(Test::WWW::Mechanize::PSGI=HASH(0x2a139a8), "/wishlist") called at /home/stro/perl/5.22.1t/lib/site_perl/5.22.1/Test/WWW/Mechanize.pm line 159
	Test::WWW::Mechanize::get_ok(Test::WWW::Mechanize::PSGI=HASH(0x2a139a8), "/wishlist") called at t/03_mech.t line 76
Do not use HTTP::Session2::ClientStore. Use HTTP::Session2::ServerStore or HTTP::Session2::ClientStore2 instead. at /home/stro/cpan/build/5.22.1t/build/HTTP-Session2-1.09-TuRPdB/blib/lib/HTTP/Session2/ClientStore.pm line 35.
Secret string too short at /home/stro/cpan/build/5.22.1t/build/HTTP-Session2-1.09-TuRPdB/blib/lib/HTTP/Session2/Base.pm line 79.
	HTTP::Session2::Base::__ANON__(HTTP::Session2::ClientStore=HASH(0x2b8e8d8), "s3cret") called at t/03_mech.t line 127
	main::client_session(HASH(0x2b8ec80)) called at t/03_mech.t line 17
	main::__ANON__(HASH(0x2b8ec80)) called at /home/stro/perl/5.22.1t/lib/site_perl/5.22.1/Test/WWW/Mechanize/PSGI.pm line 39
	Test::WWW::Mechanize::PSGI::try {...} () called at /home/stro/perl/5.22.1t/lib/site_perl/5.22.1/Try/Tiny.pm line 92
	eval {...} called at /home/stro/perl/5.22.1t/lib/site_perl/5.22.1/Try/Tiny.pm line 83
	Try::Tiny::try(CODE(0x2b84450), Try::Tiny::Catch=REF(0x2b84918)) called at /home/stro/perl/5.22.1t/lib/site_perl/5.22.1/Test/WWW/Mechanize/PSGI.pm line 46
	Test::WWW::Mechanize::PSGI::simple_request(Test::WWW::Mechanize::PSGI=HASH(0x2a139a8), HTTP::Request=HASH(0x2b89bf8), undef, undef) called at /home/stro/perl/5.22.1t/lib/site_perl/5.22.1/LWP/UserAgent.pm line 282
	LWP::UserAgent::request(Test::WWW::Mechanize::PSGI=HASH(0x2a139a8), HTTP::Request=HASH(0x2b89bf8)) called at /home/stro/perl/5.22.1t/lib/site_perl/5.22.1/WWW/Mechanize.pm line 2598
	WWW::Mechanize::_make_request(Test::WWW::Mechanize::PSGI=HASH(0x2a139a8), HTTP::Request=HASH(0x2b89bf8)) called at /home/stro/perl/5.22.1t/lib/site_perl/5.22.1/WWW/Mechanize.pm line 2312
	WWW::Mechanize::request(Test::WWW::Mechanize::PSGI=HASH(0x2a139a8), HTTP::Request=HASH(0x2b89bf8)) called at /home/stro/perl/5.22.1t/lib/site_perl/5.22.1/LWP/UserAgent.pm line 419
	LWP::UserAgent::post(Test::WWW::Mechanize::PSGI=HASH(0x2a139a8), "/wishlist?bar") called at t/03_mech.t line 78
Do not use HTTP::Session2::ClientStore. Use HTTP::Session2::ServerStore or HTTP::Session2::ClientStore2 instead. at /home/stro/cpan/build/5.22.1t/build/HTTP-Session2-1.09-TuRPdB/blib/lib/HTTP/Session2/ClientStore.pm line 35.
Secret string too short at /home/stro/cpan/build/5.22.1t/build/HTTP-Session2-1.09-TuRPdB/blib/lib/HTTP/Session2/Base.pm line 79.
	HTTP::Session2::Base::__ANON__(HTTP::Session2::ClientStore=HASH(0x2b840d8), "s3cret") called at t/03_mech.t line 127
	main::client_session(HASH(0x2b84918)) called at t/03_mech.t line 17
	main::__ANON__(HASH(0x2b84918)) called at /home/stro/perl/5.22.1t/lib/site_perl/5.22.1/Test/WWW/Mechanize/PSGI.pm line 39
	Test::WWW::Mechanize::PSGI::try {...} () called at /home/stro/perl/5.22.1t/lib/site_perl/5.22.1/Try/Tiny.pm line 92
	eval {...} called at /home/stro/perl/5.22.1t/lib/site_perl/5.22.1/Try/Tiny.pm line 83
	Try::Tiny::try(CODE(0x2b89af0), Try::Tiny::Catch=REF(0x2b88f80)) called at /home/stro/perl/5.22.1t/lib/site_perl/5.22.1/Test/WWW/Mechanize/PSGI.pm line 46
	Test::WWW::Mechanize::PSGI::simple_request(Test::WWW::Mechanize::PSGI=HASH(0x2a139a8), HTTP::Request=HASH(0x2b88f68), undef, undef) called at /home/stro/perl/5.22.1t/lib/site_perl/5.22.1/LWP/UserAgent.pm line 282
	LWP::UserAgent::request(Test::WWW::Mechanize::PSGI=HASH(0x2a139a8), HTTP::Request=HASH(0x2b88f68)) called at /home/stro/perl/5.22.1t/lib/site_perl/5.22.1/WWW/Mechanize.pm line 2598
	WWW::Mechanize::_make_request(Test::WWW::Mechanize::PSGI=HASH(0x2a139a8), HTTP::Request=HASH(0x2b88f68)) called at /home/stro/perl/5.22.1t/lib/site_perl/5.22.1/WWW/Mechanize.pm line 2312
	WWW::Mechanize::request(Test::WWW::Mechanize::PSGI=HASH(0x2a139a8), HTTP::Request=HASH(0x2b88f68)) called at /home/stro/perl/5.22.1t/lib/site_perl/5.22.1/LWP/UserAgent.pm line 419
	LWP::UserAgent::post(Test::WWW::Mechanize::PSGI=HASH(0x2a139a8), "/wishlist?bar", HASH(0x269c758)) called at /home/stro/perl/5.22.1t/lib/site_perl/5.22.1/Test/WWW/Mechanize.pm line 236
	Test::WWW::Mechanize::post_ok(Test::WWW::Mechanize::PSGI=HASH(0x2a139a8), "/wishlist?bar") called at t/03_mech.t line 81
Do not use HTTP::Session2::ClientStore. Use HTTP::Session2::ServerStore or HTTP::Session2::ClientStore2 instead. at /home/stro/cpan/build/5.22.1t/build/HTTP-Session2-1.09-TuRPdB/blib/lib/HTTP/Session2/ClientStore.pm line 35.
Do not use HTTP::Session2::ClientStore. Use HTTP::Session2::ServerStore or HTTP::Session2::ClientStore2 instead. at /home/stro/cpan/build/5.22.1t/build/HTTP-Session2-1.09-TuRPdB/blib/lib/HTTP/Session2/ClientStore.pm line 25.
Secret string too short at /home/stro/cpan/build/5.22.1t/build/HTTP-Session2-1.09-TuRPdB/blib/lib/HTTP/Session2/Base.pm line 79.
	HTTP::Session2::Base::__ANON__(HTTP::Session2::ClientStore=HASH(0x2b8f1c0), "s3cret") called at t/03_mech.t line 127
	main::client_session(HASH(0x2b88f80)) called at t/03_mech.t line 17
	main::__ANON__(HASH(0x2b88f80)) called at /home/stro/perl/5.22.1t/lib/site_perl/5.22.1/Test/WWW/Mechanize/PSGI.pm line 39
	Test::WWW::Mechanize::PSGI::try {...} () called at /home/stro/perl/5.22.1t/lib/site_perl/5.22.1/Try/Tiny.pm line 92
	eval {...} called at /home/stro/perl/5.22.1t/lib/site_perl/5.22.1/Try/Tiny.pm line 83
	Try::Tiny::try(CODE(0x2b89c70), Try::Tiny::Catch=REF(0x2b8e8f0)) called at /home/stro/perl/5.22.1t/lib/site_perl/5.22.1/Test/WWW/Mechanize/PSGI.pm line 46
	Test::WWW::Mechanize::PSGI::simple_request(Test::WWW::Mechanize::PSGI=HASH(0x2a139a8), HTTP::Request=HASH(0x2b897c0), undef, undef) called at /home/stro/perl/5.22.1t/lib/site_perl/5.22.1/LWP/UserAgent.pm line 282
	LWP::UserAgent::request(Test::WWW::Mechanize::PSGI=HASH(0x2a139a8), HTTP::Request=HASH(0x2b897c0)) called at /home/stro/perl/5.22.1t/lib/site_perl/5.22.1/WWW/Mechanize.pm line 2598
	WWW::Mechanize::_make_request(Test::WWW::Mechanize::PSGI=HASH(0x2a139a8), HTTP::Request=HASH(0x2b897c0)) called at /home/stro/perl/5.22.1t/lib/site_perl/5.22.1/WWW/Mechanize.pm line 2312
	WWW::Mechanize::request(Test::WWW::Mechanize::PSGI=HASH(0x2a139a8), HTTP::Request=HASH(0x2b897c0)) called at /home/stro/perl/5.22.1t/lib/site_perl/5.22.1/LWP/UserAgent.pm line 411
	LWP::UserAgent::get(Test::WWW::Mechanize::PSGI=HASH(0x2a139a8), "http://localhost/wishlist") called at /home/stro/perl/5.22.1t/lib/site_perl/5.22.1/WWW/Mechanize.pm line 407
	WWW::Mechanize::get(Test::WWW::Mechanize::PSGI=HASH(0x2a139a8), "/wishlist") called at /home/stro/perl/5.22.1t/lib/site_perl/5.22.1/Test/WWW/Mechanize.pm line 159
	Test::WWW::Mechanize::get_ok(Test::WWW::Mechanize::PSGI=HASH(0x2a139a8), "/wishlist") called at t/03_mech.t line 82
Do not use HTTP::Session2::ClientStore. Use HTTP::Session2::ServerStore or HTTP::Session2::ClientStore2 instead. at /home/stro/cpan/build/5.22.1t/build/HTTP-Session2-1.09-TuRPdB/blib/lib/HTTP/Session2/ClientStore.pm line 35.
Secret string too short at /home/stro/cpan/build/5.22.1t/build/HTTP-Session2-1.09-TuRPdB/blib/lib/HTTP/Session2/Base.pm line 79.
	HTTP::Session2::Base::__ANON__(HTTP::Session2::ClientStore=HASH(0x2b8ed40), "s3cret") called at t/03_mech.t line 127
	main::client_session(HASH(0x2b8e4a0)) called at t/03_mech.t line 17
	main::__ANON__(HASH(0x2b8e4a0)) called at /home/stro/perl/5.22.1t/lib/site_perl/5.22.1/Test/WWW/Mechanize/PSGI.pm line 39
	Test::WWW::Mechanize::PSGI::try {...} () called at /home/stro/perl/5.22.1t/lib/site_perl/5.22.1/Try/Tiny.pm line 92
	eval {...} called at /home/stro/perl/5.22.1t/lib/site_perl/5.22.1/Try/Tiny.pm line 83
	Try::Tiny::try(CODE(0x2b8ee60), Try::Tiny::Catch=REF(0x2b8ece0)) called at /home/stro/perl/5.22.1t/lib/site_perl/5.22.1/Test/WWW/Mechanize/PSGI.pm line 46
	Test::WWW::Mechanize::PSGI::simple_request(Test::WWW::Mechanize::PSGI=HASH(0x2a139a8), HTTP::Request=HASH(0x2b8eb18), undef, undef) called at /home/stro/perl/5.22.1t/lib/site_perl/5.22.1/LWP/UserAgent.pm line 282
	LWP::UserAgent::request(Test::WWW::Mechanize::PSGI=HASH(0x2a139a8), HTTP::Request=HASH(0x2b8eb18)) called at /home/stro/perl/5.22.1t/lib/site_perl/5.22.1/WWW/Mechanize.pm line 2598
	WWW::Mechanize::_make_request(Test::WWW::Mechanize::PSGI=HASH(0x2a139a8), HTTP::Request=HASH(0x2b8eb18)) called at /home/stro/perl/5.22.1t/lib/site_perl/5.22.1/WWW/Mechanize.pm line 2312
	WWW::Mechanize::request(Test::WWW::Mechanize::PSGI=HASH(0x2a139a8), HTTP::Request=HASH(0x2b8eb18)) called at /home/stro/perl/5.22.1t/lib/site_perl/5.22.1/LWP/UserAgent.pm line 419
	LWP::UserAgent::post(Test::WWW::Mechanize::PSGI=HASH(0x2a139a8), "/account/login?john", HASH(0x269c758)) called at /home/stro/perl/5.22.1t/lib/site_perl/5.22.1/Test/WWW/Mechanize.pm line 236
	Test::WWW::Mechanize::post_ok(Test::WWW::Mechanize::PSGI=HASH(0x2a139a8), "/account/login?john") called at t/03_mech.t line 84
Do not use HTTP::Session2::ClientStore. Use HTTP::Session2::ServerStore or HTTP::Session2::ClientStore2 instead. at /home/stro/cpan/build/5.22.1t/build/HTTP-Session2-1.09-TuRPdB/blib/lib/HTTP/Session2/ClientStore.pm line 35.
Do not use HTTP::Session2::ClientStore. Use HTTP::Session2::ServerStore or HTTP::Session2::ClientStore2 instead. at /home/stro/cpan/build/5.22.1t/build/HTTP-Session2-1.09-TuRPdB/blib/lib/HTTP/Session2/ClientStore.pm line 35.
Do not use HTTP::Session2::ClientStore. Use HTTP::Session2::ServerStore or HTTP::Session2::ClientStore2 instead. at /home/stro/cpan/build/5.22.1t/build/HTTP-Session2-1.09-TuRPdB/blib/lib/HTTP/Session2/ClientStore.pm line 25.
Secret string too short at /home/stro/cpan/build/5.22.1t/build/HTTP-Session2-1.09-TuRPdB/blib/lib/HTTP/Session2/Base.pm line 79.
	HTTP::Session2::Base::__ANON__(HTTP::Session2::ClientStore=HASH(0x2b944c0), "s3cret") called at t/03_mech.t line 127
	main::client_session(HASH(0x2b8ece0)) called at t/03_mech.t line 17
	main::__ANON__(HASH(0x2b8ece0)) called at /home/stro/perl/5.22.1t/lib/site_perl/5.22.1/Test/WWW/Mechanize/PSGI.pm line 39
	Test::WWW::Mechanize::PSGI::try {...} () called at /home/stro/perl/5.22.1t/lib/site_perl/5.22.1/Try/Tiny.pm line 92
	eval {...} called at /home/stro/perl/5.22.1t/lib/site_perl/5.22.1/Try/Tiny.pm line 83
	Try::Tiny::try(CODE(0x2b893d0), Try::Tiny::Catch=REF(0x2b93f80)) called at /home/stro/perl/5.22.1t/lib/site_perl/5.22.1/Test/WWW/Mechanize/PSGI.pm line 46
	Test::WWW::Mechanize::PSGI::simple_request(Test::WWW::Mechanize::PSGI=HASH(0x2a139a8), HTTP::Request=HASH(0x2b8e6e0), undef, undef) called at /home/stro/perl/5.22.1t/lib/site_perl/5.22.1/LWP/UserAgent.pm line 282
	LWP::UserAgent::request(Test::WWW::Mechanize::PSGI=HASH(0x2a139a8), HTTP::Request=HASH(0x2b8e6e0)) called at /home/stro/perl/5.22.1t/lib/site_perl/5.22.1/WWW/Mechanize.pm line 2598
	WWW::Mechanize::_make_request(Test::WWW::Mechanize::PSGI=HASH(0x2a139a8), HTTP::Request=HASH(0x2b8e6e0)) called at /home/stro/perl/5.22.1t/lib/site_perl/5.22.1/WWW/Mechanize.pm line 2312
	WWW::Mechanize::request(Test::WWW::Mechanize::PSGI=HASH(0x2a139a8), HTTP::Request=HASH(0x2b8e6e0)) called at /home/stro/perl/5.22.1t/lib/site_perl/5.22.1/LWP/UserAgent.pm line 411
	LWP::UserAgent::get(Test::WWW::Mechanize::PSGI=HASH(0x2a139a8), "http://localhost/wishlist") called at /home/stro/perl/5.22.1t/lib/site_perl/5.22.1/WWW/Mechanize.pm line 407
	WWW::Mechanize::get(Test::WWW::Mechanize::PSGI=HASH(0x2a139a8), "/wishlist") called at /home/stro/perl/5.22.1t/lib/site_perl/5.22.1/Test/WWW/Mechanize.pm line 159
	Test::WWW::Mechanize::get_ok(Test::WWW::Mechanize::PSGI=HASH(0x2a139a8), "/wishlist", "Wishlist is still available") called at t/03_mech.t line 85
Do not use HTTP::Session2::ClientStore. Use HTTP::Session2::ServerStore or HTTP::Session2::ClientStore2 instead. at /home/stro/cpan/build/5.22.1t/build/HTTP-Session2-1.09-TuRPdB/blib/lib/HTTP/Session2/ClientStore.pm line 35.
Secret string too short at /home/stro/cpan/build/5.22.1t/build/HTTP-Session2-1.09-TuRPdB/blib/lib/HTTP/Session2/Base.pm line 79.
	HTTP::Session2::Base::__ANON__(HTTP::Session2::ClientStore=HASH(0x2aa0708), "s3cret") called at t/03_mech.t line 127
	main::client_session(HASH(0x2b840c0)) called at t/03_mech.t line 17
	main::__ANON__(HASH(0x2b840c0)) called at /home/stro/perl/5.22.1t/lib/site_perl/5.22.1/Test/WWW/Mechanize/PSGI.pm line 39
	Test::WWW::Mechanize::PSGI::try {...} () called at /home/stro/perl/5.22.1t/lib/site_perl/5.22.1/Try/Tiny.pm line 92
	eval {...} called at /home/stro/perl/5.22.1t/lib/site_perl/5.22.1/Try/Tiny.pm line 83
	Try::Tiny::try(CODE(0x2b8eef0), Try::Tiny::Catch=REF(0x2b8f430)) called at /home/stro/perl/5.22.1t/lib/site_perl/5.22.1/Test/WWW/Mechanize/PSGI.pm line 46
	Test::WWW::Mechanize::PSGI::simple_request(Test::WWW::Mechanize::PSGI=HASH(0x2a139a8), HTTP::Request=HASH(0x2b89b68), undef, undef) called at /home/stro/perl/5.22.1t/lib/site_perl/5.22.1/LWP/UserAgent.pm line 282
	LWP::UserAgent::request(Test::WWW::Mechanize::PSGI=HASH(0x2a139a8), HTTP::Request=HASH(0x2b89b68)) called at /home/stro/perl/5.22.1t/lib/site_perl/5.22.1/WWW/Mechanize.pm line 2598
	WWW::Mechanize::_make_request(Test::WWW::Mechanize::PSGI=HASH(0x2a139a8), HTTP::Request=HASH(0x2b89b68)) called at /home/stro/perl/5.22.1t/lib/site_perl/5.22.1/WWW/Mechanize.pm line 2312
	WWW::Mechanize::request(Test::WWW::Mechanize::PSGI=HASH(0x2a139a8), HTTP::Request=HASH(0x2b89b68)) called at /home/stro/perl/5.22.1t/lib/site_perl/5.22.1/LWP/UserAgent.pm line 419
	LWP::UserAgent::post(Test::WWW::Mechanize::PSGI=HASH(0x2a139a8), "/wishlist?baz") called at t/03_mech.t line 87
Do not use HTTP::Session2::ClientStore. Use HTTP::Session2::ServerStore or HTTP::Session2::ClientStore2 instead. at /home/stro/cpan/build/5.22.1t/build/HTTP-Session2-1.09-TuRPdB/blib/lib/HTTP/Session2/ClientStore.pm line 35.
Secret string too short at /home/stro/cpan/build/5.22.1t/build/HTTP-Session2-1.09-TuRPdB/blib/lib/HTTP/Session2/Base.pm line 79.
	HTTP::Session2::Base::__ANON__(HTTP::Session2::ClientStore=HASH(0x2b94628), "s3cret") called at t/03_mech.t line 127
	main::client_session(HASH(0x2b93e48)) called at t/03_mech.t line 17
	main::__ANON__(HASH(0x2b93e48)) called at /home/stro/perl/5.22.1t/lib/site_perl/5.22.1/Test/WWW/Mechanize/PSGI.pm line 39
	Test::WWW::Mechanize::PSGI::try {...} () called at /home/stro/perl/5.22.1t/lib/site_perl/5.22.1/Try/Tiny.pm line 92
	eval {...} called at /home/stro/perl/5.22.1t/lib/site_perl/5.22.1/Try/Tiny.pm line 83
	Try::Tiny::try(CODE(0x2b93b60), Try::Tiny::Catch=REF(0x2b94490)) called at /home/stro/perl/5.22.1t/lib/site_perl/5.22.1/Test/WWW/Mechanize/PSGI.pm line 46
	Test::WWW::Mechanize::PSGI::simple_request(Test::WWW::Mechanize::PSGI=HASH(0x2a139a8), HTTP::Request=HASH(0x2b83d00), undef, undef) called at /home/stro/perl/5.22.1t/lib/site_perl/5.22.1/LWP/UserAgent.pm line 282
	LWP::UserAgent::request(Test::WWW::Mechanize::PSGI=HASH(0x2a139a8), HTTP::Request=HASH(0x2b83d00)) called at /home/stro/perl/5.22.1t/lib/site_perl/5.22.1/WWW/Mechanize.pm line 2598
	WWW::Mechanize::_make_request(Test::WWW::Mechanize::PSGI=HASH(0x2a139a8), HTTP::Request=HASH(0x2b83d00)) called at /home/stro/perl/5.22.1t/lib/site_perl/5.22.1/WWW/Mechanize.pm line 2312
	WWW::Mechanize::request(Test::WWW::Mechanize::PSGI=HASH(0x2a139a8), HTTP::Request=HASH(0x2b83d00)) called at /home/stro/perl/5.22.1t/lib/site_perl/5.22.1/LWP/UserAgent.pm line 419
	LWP::UserAgent::post(Test::WWW::Mechanize::PSGI=HASH(0x2a139a8), "/wishlist?baz", HASH(0x269c758)) called at /home/stro/perl/5.22.1t/lib/site_perl/5.22.1/Test/WWW/Mechanize.pm line 236
	Test::WWW::Mechanize::post_ok(Test::WWW::Mechanize::PSGI=HASH(0x2a139a8), "/wishlist?baz") called at t/03_mech.t line 90
Do not use HTTP::Session2::ClientStore. Use HTTP::Session2::ServerStore or HTTP::Session2::ClientStore2 instead. at /home/stro/cpan/build/5.22.1t/build/HTTP-Session2-1.09-TuRPdB/blib/lib/HTTP/Session2/ClientStore.pm line 35.
Do not use HTTP::Session2::ClientStore. Use HTTP::Session2::ServerStore or HTTP::Session2::ClientStore2 instead. at /home/stro/cpan/build/5.22.1t/build/HTTP-Session2-1.09-TuRPdB/blib/lib/HTTP/Session2/ClientStore.pm line 25.
Secret string too short at /home/stro/cpan/build/5.22.1t/build/HTTP-Session2-1.09-TuRPdB/blib/lib/HTTP/Session2/Base.pm line 79.
	HTTP::Session2::Base::__ANON__(HTTP::Session2::ClientStore=HASH(0x2b949a0), "s3cret") called at t/03_mech.t line 127
	main::client_session(HASH(0x2b94490)) called at t/03_mech.t line 17
	main::__ANON__(HASH(0x2b94490)) called at /home/stro/perl/5.22.1t/lib/site_perl/5.22.1/Test/WWW/Mechanize/PSGI.pm line 39
	Test::WWW::Mechanize::PSGI::try {...} () called at /home/stro/perl/5.22.1t/lib/site_perl/5.22.1/Try/Tiny.pm line 92
	eval {...} called at /home/stro/perl/5.22.1t/lib/site_perl/5.22.1/Try/Tiny.pm line 83
	Try::Tiny::try(CODE(0x2b96ff8), Try::Tiny::Catch=REF(0x2b8e7a0)) called at /home/stro/perl/5.22.1t/lib/site_perl/5.22.1/Test/WWW/Mechanize/PSGI.pm line 46
	Test::WWW::Mechanize::PSGI::simple_request(Test::WWW::Mechanize::PSGI=HASH(0x2a139a8), HTTP::Request=HASH(0x2b942f8), undef, undef) called at /home/stro/perl/5.22.1t/lib/site_perl/5.22.1/LWP/UserAgent.pm line 282
	LWP::UserAgent::request(Test::WWW::Mechanize::PSGI=HASH(0x2a139a8), HTTP::Request=HASH(0x2b942f8)) called at /home/stro/perl/5.22.1t/lib/site_perl/5.22.1/WWW/Mechanize.pm line 2598
	WWW::Mechanize::_make_request(Test::WWW::Mechanize::PSGI=HASH(0x2a139a8), HTTP::Request=HASH(0x2b942f8)) called at /home/stro/perl/5.22.1t/lib/site_perl/5.22.1/WWW/Mechanize.pm line 2312
	WWW::Mechanize::request(Test::WWW::Mechanize::PSGI=HASH(0x2a139a8), HTTP::Request=HASH(0x2b942f8)) called at /home/stro/perl/5.22.1t/lib/site_perl/5.22.1/LWP/UserAgent.pm line 411
	LWP::UserAgent::get(Test::WWW::Mechanize::PSGI=HASH(0x2a139a8), "http://localhost/wishlist") called at /home/stro/perl/5.22.1t/lib/site_perl/5.22.1/WWW/Mechanize.pm line 407
	WWW::Mechanize::get(Test::WWW::Mechanize::PSGI=HASH(0x2a139a8), "/wishlist") called at /home/stro/perl/5.22.1t/lib/site_perl/5.22.1/Test/WWW/Mechanize.pm line 159
	Test::WWW::Mechanize::get_ok(Test::WWW::Mechanize::PSGI=HASH(0x2a139a8), "/wishlist", "Wishlist is still available") called at t/03_mech.t line 91
Do not use HTTP::Session2::ClientStore. Use HTTP::Session2::ServerStore or HTTP::Session2::ClientStore2 instead. at /home/stro/cpan/build/5.22.1t/build/HTTP-Session2-1.09-TuRPdB/blib/lib/HTTP/Session2/ClientStore.pm line 35.
Secret string too short at /home/stro/cpan/build/5.22.1t/build/HTTP-Session2-1.09-TuRPdB/blib/lib/HTTP/Session2/Base.pm line 79.
	HTTP::Session2::Base::__ANON__(HTTP::Session2::ClientStore=HASH(0x2b97688), "s3cret") called at t/03_mech.t line 127
	main::client_session(HASH(0x2b944d8)) called at t/03_mech.t line 17
	main::__ANON__(HASH(0x2b944d8)) called at /home/stro/perl/5.22.1t/lib/site_perl/5.22.1/Test/WWW/Mechanize/PSGI.pm line 39
	Test::WWW::Mechanize::PSGI::try {...} () called at /home/stro/perl/5.22.1t/lib/site_perl/5.22.1/Try/Tiny.pm line 92
	eval {...} called at /home/stro/perl/5.22.1t/lib/site_perl/5.22.1/Try/Tiny.pm line 83
	Try::Tiny::try(CODE(0x2b94028), Try::Tiny::Catch=REF(0x2b96e60)) called at /home/stro/perl/5.22.1t/lib/site_perl/5.22.1/Test/WWW/Mechanize/PSGI.pm line 46
	Test::WWW::Mechanize::PSGI::simple_request(Test::WWW::Mechanize::PSGI=HASH(0x2a139a8), HTTP::Request=HASH(0x2b84420), undef, undef) called at /home/stro/perl/5.22.1t/lib/site_perl/5.22.1/LWP/UserAgent.pm line 282
	LWP::UserAgent::request(Test::WWW::Mechanize::PSGI=HASH(0x2a139a8), HTTP::Request=HASH(0x2b84420)) called at /home/stro/perl/5.22.1t/lib/site_perl/5.22.1/WWW/Mechanize.pm line 2598
	WWW::Mechanize::_make_request(Test::WWW::Mechanize::PSGI=HASH(0x2a139a8), HTTP::Request=HASH(0x2b84420)) called at /home/stro/perl/5.22.1t/lib/site_perl/5.22.1/WWW/Mechanize.pm line 2312
	WWW::Mechanize::request(Test::WWW::Mechanize::PSGI=HASH(0x2a139a8), HTTP::Request=HASH(0x2b84420)) called at /home/stro/perl/5.22.1t/lib/site_perl/5.22.1/LWP/UserAgent.pm line 411
	LWP::UserAgent::get(Test::WWW::Mechanize::PSGI=HASH(0x2a139a8), "http://localhost/my/name") called at /home/stro/perl/5.22.1t/lib/site_perl/5.22.1/WWW/Mechanize.pm line 407
	WWW::Mechanize::get(Test::WWW::Mechanize::PSGI=HASH(0x2a139a8), "/my/name") called at /home/stro/perl/5.22.1t/lib/site_perl/5.22.1/Test/WWW/Mechanize.pm line 159
	Test::WWW::Mechanize::get_ok(Test::WWW::Mechanize::PSGI=HASH(0x2a139a8), "/my/name") called at t/03_mech.t line 93
Do not use HTTP::Session2::ClientStore. Use HTTP::Session2::ServerStore or HTTP::Session2::ClientStore2 instead. at /home/stro/cpan/build/5.22.1t/build/HTTP-Session2-1.09-TuRPdB/blib/lib/HTTP/Session2/ClientStore.pm line 35.
Secret string too short at /home/stro/cpan/build/5.22.1t/build/HTTP-Session2-1.09-TuRPdB/blib/lib/HTTP/Session2/Base.pm line 79.
	HTTP::Session2::Base::__ANON__(HTTP::Session2::ClientStore=HASH(0x2b97b68), "s3cret") called at t/03_mech.t line 127
	main::client_session(HASH(0x2b97b08)) called at t/03_mech.t line 17
	main::__ANON__(HASH(0x2b97b08)) called at /home/stro/perl/5.22.1t/lib/site_perl/5.22.1/Test/WWW/Mechanize/PSGI.pm line 39
	Test::WWW::Mechanize::PSGI::try {...} () called at /home/stro/perl/5.22.1t/lib/site_perl/5.22.1/Try/Tiny.pm line 92
	eval {...} called at /home/stro/perl/5.22.1t/lib/site_perl/5.22.1/Try/Tiny.pm line 83
	Try::Tiny::try(CODE(0x2b977f0), Try::Tiny::Catch=REF(0x2b973b8)) called at /home/stro/perl/5.22.1t/lib/site_perl/5.22.1/Test/WWW/Mechanize/PSGI.pm line 46
	Test::WWW::Mechanize::PSGI::simple_request(Test::WWW::Mechanize::PSGI=HASH(0x2a139a8), HTTP::Request=HASH(0x2b975b0), undef, undef) called at /home/stro/perl/5.22.1t/lib/site_perl/5.22.1/LWP/UserAgent.pm line 282
	LWP::UserAgent::request(Test::WWW::Mechanize::PSGI=HASH(0x2a139a8), HTTP::Request=HASH(0x2b975b0)) called at /home/stro/perl/5.22.1t/lib/site_perl/5.22.1/WWW/Mechanize.pm line 2598
	WWW::Mechanize::_make_request(Test::WWW::Mechanize::PSGI=HASH(0x2a139a8), HTTP::Request=HASH(0x2b975b0)) called at /home/stro/perl/5.22.1t/lib/site_perl/5.22.1/WWW/Mechanize.pm line 2312
	WWW::Mechanize::request(Test::WWW::Mechanize::PSGI=HASH(0x2a139a8), HTTP::Request=HASH(0x2b975b0)) called at /home/stro/perl/5.22.1t/lib/site_perl/5.22.1/LWP/UserAgent.pm line 419
	LWP::UserAgent::post(Test::WWW::Mechanize::PSGI=HASH(0x2a139a8), "/account/logout?john") called at t/03_mech.t line 97
Do not use HTTP::Session2::ClientStore. Use HTTP::Session2::ServerStore or HTTP::Session2::ClientStore2 instead. at /home/stro/cpan/build/5.22.1t/build/HTTP-Session2-1.09-TuRPdB/blib/lib/HTTP/Session2/ClientStore.pm line 35.
Do not use HTTP::Session2::ClientStore. Use HTTP::Session2::ServerStore or HTTP::Session2::ClientStore2 instead. at /home/stro/cpan/build/5.22.1t/build/HTTP-Session2-1.09-TuRPdB/blib/lib/HTTP/Session2/ClientStore.pm line 35.
t/03_mech.t ................. ok
Do not use HTTP::Session2::ClientStore. Use HTTP::Session2::ServerStore or HTTP::Session2::ClientStore2 instead. at /home/stro/cpan/build/5.22.1t/build/HTTP-Session2-1.09-TuRPdB/blib/lib/HTTP/Session2/ClientStore.pm line 25.
t/04_plack_response.t ....... ok
Secret string too short at /home/stro/cpan/build/5.22.1t/build/HTTP-Session2-1.09-TuRPdB/blib/lib/HTTP/Session2/Base.pm line 79.
	HTTP::Session2::Base::__ANON__(HTTP::Session2::ClientStore=HASH(0x12de438), "s3cret") called at t/05_keep_me_signed_in.t line 20
Do not use HTTP::Session2::ClientStore. Use HTTP::Session2::ServerStore or HTTP::Session2::ClientStore2 instead. at /home/stro/cpan/build/5.22.1t/build/HTTP-Session2-1.09-TuRPdB/blib/lib/HTTP/Session2/ClientStore.pm line 25.
t/05_keep_me_signed_in.t .... ok
Secret string too short at /home/stro/cpan/build/5.22.1t/build/HTTP-Session2-1.09-TuRPdB/blib/lib/HTTP/Session2/Base.pm line 79.
	HTTP::Session2::Base::__ANON__(HTTP::Session2::Base=HASH(0x243d000), "i am secret") called at t/06_base_abstract.t line 7
t/06_base_abstract.t ........ ok
Secret string too short at /home/stro/cpan/build/5.22.1t/build/HTTP-Session2-1.09-TuRPdB/blib/lib/HTTP/Session2/Base.pm line 79.
	HTTP::Session2::Base::__ANON__(HTTP::Session2::ClientStore=HASH(0x141b830), "secret") called at t/07_client_store.t line 23
	main::__ANON__() called at /home/stro/perl/5.22.1t/lib/5.22.1/Test/Builder.pm line 261
	Test::Builder::__ANON__() called at /home/stro/perl/5.22.1t/lib/5.22.1/Test/Builder.pm line 266
	eval {...} called at /home/stro/perl/5.22.1t/lib/5.22.1/Test/Builder.pm line 266
	Test::Builder::subtest(Test::Builder=HASH(0x9c9c48), "get/set/remove", CODE(0xf1d448)) called at /home/stro/perl/5.22.1t/lib/5.22.1/Test/More.pm line 771
	Test::More::subtest("get/set/remove", CODE(0xf1d448)) called at t/07_client_store.t line 31
Secret string too short at /home/stro/cpan/build/5.22.1t/build/HTTP-Session2-1.09-TuRPdB/blib/lib/HTTP/Session2/Base.pm line 79.
	HTTP::Session2::Base::__ANON__(HTTP::Session2::ClientStore=HASH(0x99ff58), "secret") called at t/07_client_store.t line 35
	main::__ANON__() called at /home/stro/perl/5.22.1t/lib/5.22.1/Test/Builder.pm line 261
	Test::Builder::__ANON__() called at /home/stro/perl/5.22.1t/lib/5.22.1/Test/Builder.pm line 266
	eval {...} called at /home/stro/perl/5.22.1t/lib/5.22.1/Test/Builder.pm line 266
	Test::Builder::subtest(Test::Builder=HASH(0x9c9c48), "validate_token", CODE(0x13ea950)) called at /home/stro/perl/5.22.1t/lib/5.22.1/Test/More.pm line 771
	Test::More::subtest("validate_token", CODE(0x13ea950)) called at t/07_client_store.t line 71
Do not use HTTP::Session2::ClientStore. Use HTTP::Session2::ServerStore or HTTP::Session2::ClientStore2 instead. at /home/stro/cpan/build/5.22.1t/build/HTTP-Session2-1.09-TuRPdB/blib/lib/HTTP/Session2/ClientStore.pm line 25.
Secret string too short at /home/stro/cpan/build/5.22.1t/build/HTTP-Session2-1.09-TuRPdB/blib/lib/HTTP/Session2/Base.pm line 79.
	HTTP::Session2::Base::__ANON__(HTTP::Session2::ClientStore=HASH(0x9a9518), "secret") called at t/07_client_store.t line 51
	main::__ANON__() called at /home/stro/perl/5.22.1t/lib/5.22.1/Test/Builder.pm line 261
	Test::Builder::__ANON__() called at /home/stro/perl/5.22.1t/lib/5.22.1/Test/Builder.pm line 266
	eval {...} called at /home/stro/perl/5.22.1t/lib/5.22.1/Test/Builder.pm line 266
	Test::Builder::subtest(Test::Builder=HASH(0x9c9c48), "bad", CODE(0x9a8fc0)) called at /home/stro/perl/5.22.1t/lib/5.22.1/Test/More.pm line 771
	Test::More::subtest("bad", CODE(0x9a8fc0)) called at t/07_client_store.t line 57
	main::__ANON__() called at /home/stro/perl/5.22.1t/lib/5.22.1/Test/Builder.pm line 261
	Test::Builder::__ANON__() called at /home/stro/perl/5.22.1t/lib/5.22.1/Test/Builder.pm line 266
	eval {...} called at /home/stro/perl/5.22.1t/lib/5.22.1/Test/Builder.pm line 266
	Test::Builder::subtest(Test::Builder=HASH(0x9c9c48), "validate_token", CODE(0x13ea950)) called at /home/stro/perl/5.22.1t/lib/5.22.1/Test/More.pm line 771
	Test::More::subtest("validate_token", CODE(0x13ea950)) called at t/07_client_store.t line 71
Do not use HTTP::Session2::ClientStore. Use HTTP::Session2::ServerStore or HTTP::Session2::ClientStore2 instead. at /home/stro/cpan/build/5.22.1t/build/HTTP-Session2-1.09-TuRPdB/blib/lib/HTTP/Session2/ClientStore.pm line 35.
Secret string too short at /home/stro/cpan/build/5.22.1t/build/HTTP-Session2-1.09-TuRPdB/blib/lib/HTTP/Session2/Base.pm line 79.
	HTTP::Session2::Base::__ANON__(HTTP::Session2::ClientStore=HASH(0x9a96f8), "secret") called at t/07_client_store.t line 65
	main::__ANON__() called at /home/stro/perl/5.22.1t/lib/5.22.1/Test/Builder.pm line 261
	Test::Builder::__ANON__() called at /home/stro/perl/5.22.1t/lib/5.22.1/Test/Builder.pm line 266
	eval {...} called at /home/stro/perl/5.22.1t/lib/5.22.1/Test/Builder.pm line 266
	Test::Builder::subtest(Test::Builder=HASH(0x9c9c48), "good", CODE(0x9a8fc0)) called at /home/stro/perl/5.22.1t/lib/5.22.1/Test/More.pm line 771
	Test::More::subtest("good", CODE(0x9a8fc0)) called at t/07_client_store.t line 70
	main::__ANON__() called at /home/stro/perl/5.22.1t/lib/5.22.1/Test/Builder.pm line 261
	Test::Builder::__ANON__() called at /home/stro/perl/5.22.1t/lib/5.22.1/Test/Builder.pm line 266
	eval {...} called at /home/stro/perl/5.22.1t/lib/5.22.1/Test/Builder.pm line 266
	Test::Builder::subtest(Test::Builder=HASH(0x9c9c48), "validate_token", CODE(0x13ea950)) called at /home/stro/perl/5.22.1t/lib/5.22.1/Test/More.pm line 771
	Test::More::subtest("validate_token", CODE(0x13ea950)) called at t/07_client_store.t line 71
Do not use HTTP::Session2::ClientStore. Use HTTP::Session2::ServerStore or HTTP::Session2::ClientStore2 instead. at /home/stro/cpan/build/5.22.1t/build/HTTP-Session2-1.09-TuRPdB/blib/lib/HTTP/Session2/ClientStore.pm line 35.
Secret string too short at /home/stro/cpan/build/5.22.1t/build/HTTP-Session2-1.09-TuRPdB/blib/lib/HTTP/Session2/Base.pm line 79.
	HTTP::Session2::Base::__ANON__(HTTP::Session2::ClientStore=HASH(0x9a8cf0), "secret") called at t/07_client_store.t line 76
	main::__ANON__() called at /home/stro/perl/5.22.1t/lib/5.22.1/Test/Builder.pm line 261
	Test::Builder::__ANON__() called at /home/stro/perl/5.22.1t/lib/5.22.1/Test/Builder.pm line 266
	eval {...} called at /home/stro/perl/5.22.1t/lib/5.22.1/Test/Builder.pm line 266
	Test::Builder::subtest(Test::Builder=HASH(0x9c9c48), "ignore_old", CODE(0x141b158)) called at /home/stro/perl/5.22.1t/lib/5.22.1/Test/More.pm line 771
	Test::More::subtest("ignore_old", CODE(0x141b158)) called at t/07_client_store.t line 106
Do not use HTTP::Session2::ClientStore. Use HTTP::Session2::ServerStore or HTTP::Session2::ClientStore2 instead. at /home/stro/cpan/build/5.22.1t/build/HTTP-Session2-1.09-TuRPdB/blib/lib/HTTP/Session2/ClientStore.pm line 25.
Secret string too short at /home/stro/cpan/build/5.22.1t/build/HTTP-Session2-1.09-TuRPdB/blib/lib/HTTP/Session2/Base.pm line 79.
	HTTP::Session2::Base::__ANON__(HTTP::Session2::ClientStore=HASH(0x9a9128), "secret") called at t/07_client_store.t line 87
	main::__ANON__() called at /home/stro/perl/5.22.1t/lib/5.22.1/Test/Builder.pm line 261
	Test::Builder::__ANON__() called at /home/stro/perl/5.22.1t/lib/5.22.1/Test/Builder.pm line 266
	eval {...} called at /home/stro/perl/5.22.1t/lib/5.22.1/Test/Builder.pm line 266
	Test::Builder::subtest(Test::Builder=HASH(0x9c9c48), "ignore_old disabled", CODE(0x9a9890)) called at /home/stro/perl/5.22.1t/lib/5.22.1/Test/More.pm line 771
	Test::More::subtest("ignore_old disabled", CODE(0x9a9890)) called at t/07_client_store.t line 95
	main::__ANON__() called at /home/stro/perl/5.22.1t/lib/5.22.1/Test/Builder.pm line 261
	Test::Builder::__ANON__() called at /home/stro/perl/5.22.1t/lib/5.22.1/Test/Builder.pm line 266
	eval {...} called at /home/stro/perl/5.22.1t/lib/5.22.1/Test/Builder.pm line 266
	Test::Builder::subtest(Test::Builder=HASH(0x9c9c48), "ignore_old", CODE(0x141b158)) called at /home/stro/perl/5.22.1t/lib/5.22.1/Test/More.pm line 771
	Test::More::subtest("ignore_old", CODE(0x141b158)) called at t/07_client_store.t line 106
Do not use HTTP::Session2::ClientStore. Use HTTP::Session2::ServerStore or HTTP::Session2::ClientStore2 instead. at /home/stro/cpan/build/5.22.1t/build/HTTP-Session2-1.09-TuRPdB/blib/lib/HTTP/Session2/ClientStore.pm line 35.
Secret string too short at /home/stro/cpan/build/5.22.1t/build/HTTP-Session2-1.09-TuRPdB/blib/lib/HTTP/Session2/Base.pm line 79.
	HTTP::Session2::Base::__ANON__(HTTP::Session2::ClientStore=HASH(0x9c9c30), "secret") called at t/07_client_store.t line 97
	main::__ANON__() called at /home/stro/perl/5.22.1t/lib/5.22.1/Test/Builder.pm line 261
	Test::Builder::__ANON__() called at /home/stro/perl/5.22.1t/lib/5.22.1/Test/Builder.pm line 266
	eval {...} called at /home/stro/perl/5.22.1t/lib/5.22.1/Test/Builder.pm line 266
	Test::Builder::subtest(Test::Builder=HASH(0x9c9c48), "ignore_old enabled", CODE(0x9a9890)) called at /home/stro/perl/5.22.1t/lib/5.22.1/Test/More.pm line 771
	Test::More::subtest("ignore_old enabled", CODE(0x9a9890)) called at t/07_client_store.t line 105
	main::__ANON__() called at /home/stro/perl/5.22.1t/lib/5.22.1/Test/Builder.pm line 261
	Test::Builder::__ANON__() called at /home/stro/perl/5.22.1t/lib/5.22.1/Test/Builder.pm line 266
	eval {...} called at /home/stro/perl/5.22.1t/lib/5.22.1/Test/Builder.pm line 266
	Test::Builder::subtest(Test::Builder=HASH(0x9c9c48), "ignore_old", CODE(0x141b158)) called at /home/stro/perl/5.22.1t/lib/5.22.1/Test/More.pm line 771
	Test::More::subtest("ignore_old", CODE(0x141b158)) called at t/07_client_store.t line 106
t/07_client_store.t ......... ok
Secret string too short at /home/stro/cpan/build/5.22.1t/build/HTTP-Session2-1.09-TuRPdB/blib/lib/HTTP/Session2/Base.pm line 79.
	HTTP::Session2::Base::__ANON__(HTTP::Session2::Expired=HASH(0x259dd60), 33333) called at t/08_expired.t line 7
t/08_expired.t .............. ok
# /dev/urandom available
# /dev/urandom(1): QlwN38jPG14ZabITdBgITRgQdOfEE4H
# /dev/urandom(2): a4FlyYNEVOJLq5dHzwqa-0tKUACxFxg
# perl:            e3e9f78862f70a7c2121a5098dded83
t/09_random.t ............... ok
t/11_secret_string.t ........ ok
Secret string too short at /home/stro/cpan/build/5.22.1t/build/HTTP-Session2-1.09-TuRPdB/blib/lib/HTTP/Session2/Base.pm line 79.
	HTTP::Session2::Base::__ANON__(HTTP::Session2::ClientStore2=HASH(0x25f4f88), "s3cret") called at t/client_store2/01_basic.t line 24
	main::__ANON__("client -> server: request without cookie", CODE(0x25f4b20)) called at t/client_store2/01_basic.t line 30
	main::__ANON__() called at /home/stro/perl/5.22.1t/lib/5.22.1/Test/Builder.pm line 261
	Test::Builder::__ANON__() called at /home/stro/perl/5.22.1t/lib/5.22.1/Test/Builder.pm line 266
	eval {...} called at /home/stro/perl/5.22.1t/lib/5.22.1/Test/Builder.pm line 266
	Test::Builder::subtest(Test::Builder=HASH(0x1fd9358), "First request", CODE(0x1f91008)) called at /home/stro/perl/5.22.1t/lib/5.22.1/Test/More.pm line 771
	Test::More::subtest("First request", CODE(0x1f91008)) called at t/client_store2/01_basic.t line 9
	main::scenario("First request", CODE(0x1f91008)) called at t/client_store2/01_basic.t line 36
Secret string too short at /home/stro/cpan/build/5.22.1t/build/HTTP-Session2-1.09-TuRPdB/blib/lib/HTTP/Session2/Base.pm line 79.
	HTTP::Session2::Base::__ANON__(HTTP::Session2::ClientStore2=HASH(0x25f4d30), "s3cret") called at t/client_store2/01_basic.t line 41
	main::__ANON__("client -> server: request without cookie", CODE(0x25f4c88)) called at t/client_store2/01_basic.t line 47
	main::__ANON__() called at /home/stro/perl/5.22.1t/lib/5.22.1/Test/Builder.pm line 261
	Test::Builder::__ANON__() called at /home/stro/perl/5.22.1t/lib/5.22.1/Test/Builder.pm line 266
	eval {...} called at /home/stro/perl/5.22.1t/lib/5.22.1/Test/Builder.pm line 266
	Test::Builder::subtest(Test::Builder=HASH(0x1fd9358), "Store something without login", CODE(0x1f91008)) called at /home/stro/perl/5.22.1t/lib/5.22.1/Test/More.pm line 771
	Test::More::subtest("Store something without login", CODE(0x1f91008)) called at t/client_store2/01_basic.t line 9
	main::scenario("Store something without login", CODE(0x1f91008)) called at t/client_store2/01_basic.t line 63
Secret string too short at /home/stro/cpan/build/5.22.1t/build/HTTP-Session2-1.09-TuRPdB/blib/lib/HTTP/Session2/Base.pm line 79.
	HTTP::Session2::Base::__ANON__(HTTP::Session2::ClientStore2=HASH(0x25fec48), "s3cret") called at t/client_store2/01_basic.t line 69
	main::__ANON__("client -> server: request without cookie", CODE(0x2618f50)) called at t/client_store2/01_basic.t line 76
	main::__ANON__() called at /home/stro/perl/5.22.1t/lib/5.22.1/Test/Builder.pm line 261
	Test::Builder::__ANON__() called at /home/stro/perl/5.22.1t/lib/5.22.1/Test/Builder.pm line 266
	eval {...} called at /home/stro/perl/5.22.1t/lib/5.22.1/Test/Builder.pm line 266
	Test::Builder::subtest(Test::Builder=HASH(0x1fd9358), "Login", CODE(0x1f91008)) called at /home/stro/perl/5.22.1t/lib/5.22.1/Test/More.pm line 771
	Test::More::subtest("Login", CODE(0x1f91008)) called at t/client_store2/01_basic.t line 9
	main::scenario("Login", CODE(0x1f91008)) called at t/client_store2/01_basic.t line 96
Ciphertext does not begin with a valid header for 'salt' header mode at /home/stro/cpan/build/5.22.1t/build/HTTP-Session2-1.09-TuRPdB/blib/lib/HTTP/Session2/ClientStore2.pm line 81.
Ciphertext does not begin with a valid header for 'salt' header mode at /home/stro/cpan/build/5.22.1t/build/HTTP-Session2-1.09-TuRPdB/blib/lib/HTTP/Session2/ClientStore2.pm line 81.
Secret string too short at /home/stro/cpan/build/5.22.1t/build/HTTP-Session2-1.09-TuRPdB/blib/lib/HTTP/Session2/Base.pm line 79.
	HTTP::Session2::Base::__ANON__(HTTP::Session2::ClientStore2=HASH(0x25feff0), "s3cret") called at t/client_store2/01_basic.t line 102
	main::__ANON__("client -> server: request without cookie", CODE(0x2618db8)) called at t/client_store2/01_basic.t line 109
	main::__ANON__() called at /home/stro/perl/5.22.1t/lib/5.22.1/Test/Builder.pm line 261
	Test::Builder::__ANON__() called at /home/stro/perl/5.22.1t/lib/5.22.1/Test/Builder.pm line 266
	eval {...} called at /home/stro/perl/5.22.1t/lib/5.22.1/Test/Builder.pm line 266
	Test::Builder::subtest(Test::Builder=HASH(0x1fd9358), "In a login session", CODE(0x1f91008)) called at /home/stro/perl/5.22.1t/lib/5.22.1/Test/More.pm line 771
	Test::More::subtest("In a login session", CODE(0x1f91008)) called at t/client_store2/01_basic.t line 9
	main::scenario("In a login session", CODE(0x1f91008)) called at t/client_store2/01_basic.t line 118
Ciphertext does not begin with a valid header for 'salt' header mode at /home/stro/cpan/build/5.22.1t/build/HTTP-Session2-1.09-TuRPdB/blib/lib/HTTP/Session2/ClientStore2.pm line 81.
Secret string too short at /home/stro/cpan/build/5.22.1t/build/HTTP-Session2-1.09-TuRPdB/blib/lib/HTTP/Session2/Base.pm line 79.
	HTTP::Session2::Base::__ANON__(HTTP::Session2::ClientStore2=HASH(0x25de388), "s3cret") called at t/client_store2/01_basic.t line 123
	main::__ANON__("client -> server: request without cookie", CODE(0x25fef18)) called at t/client_store2/01_basic.t line 130
	main::__ANON__() called at /home/stro/perl/5.22.1t/lib/5.22.1/Test/Builder.pm line 261
	Test::Builder::__ANON__() called at /home/stro/perl/5.22.1t/lib/5.22.1/Test/Builder.pm line 266
	eval {...} called at /home/stro/perl/5.22.1t/lib/5.22.1/Test/Builder.pm line 266
	Test::Builder::subtest(Test::Builder=HASH(0x1fd9358), "Logout", CODE(0x1f91008)) called at /home/stro/perl/5.22.1t/lib/5.22.1/Test/More.pm line 771
	Test::More::subtest("Logout", CODE(0x1f91008)) called at t/client_store2/01_basic.t line 9
	main::scenario("Logout", CODE(0x1f91008)) called at t/client_store2/01_basic.t line 143
Ciphertext does not begin with a valid header for 'salt' header mode at /home/stro/cpan/build/5.22.1t/build/HTTP-Session2-1.09-TuRPdB/blib/lib/HTTP/Session2/ClientStore2.pm line 81.
t/client_store2/01_basic.t .. ok
t/client_store2/02_mech.t ... ok
t/client_store2/03_colon.t .. ok
All tests successful.
Files=14, Tests=83,  1 wallclock secs ( 0.06 usr  0.01 sys +  0.89 cusr  0.06 csys =  1.02 CPU)
Result: PASS

------------------------------
PREREQUISITES
------------------------------

Prerequisite modules loaded:

requires:

    Module                     Need     Have    
    -------------------------- -------- --------
    Cookie::Baker              0        0.06    
    Crypt::CBC                 0        2.33    
    Data::MessagePack          0        0.49    
    Digest::HMAC               0        1.03    
    Digest::SHA                0        5.95    
    Digest::SHA1               0        2.13    
    MIME::Base64               3.11     3.15    
    Mouse                      0        v2.4.5  
    parent                     0        0.232   
    perl                       5.008005 5.022001
    Time::HiRes                0        1.9726  

build_requires:

    Module                     Need     Have    
    -------------------------- -------- --------
    Crypt::Rijndael            0        1.13    
    Plack::Request             0        1.0039  
    Plack::Response            0        1.0039  
    Test::More                 0.98     1.001014
    Test::WWW::Mechanize::PSGI 0        0.35    

configure_requires:

    Module                     Need     Have    
    -------------------------- -------- --------
    Module::Build              0.38     0.4214  


------------------------------
ENVIRONMENT AND OTHER CONTEXT
------------------------------

Environment variables:

    AUTOMATED_TESTING = 1
    LANG = en_US.UTF-8
    PATH = /usr/local/bin:/usr/bin:/bin:/usr/local/games:/usr/games
    PERL5LIB = 
    PERL5OPT = 
    PERL5_CPANPLUS_IS_RUNNING = 15266
    PERL5_CPAN_IS_RUNNING = 15266
    PERL5_CPAN_IS_RUNNING_IN_RECURSION = 10300,15266
    PERL_CR_SMOKER_CURRENT = Amon2-CLI-0.01
    PERL_EXTUTILS_AUTOINSTALL = --defaultdeps
    PERL_MM_USE_DEFAULT = 1
    SHELL = /bin/bash
    TERM = xterm

Perl special variables (and OS-specific diagnostics, for MSWin32):

    $^X = /home/stro/perl/5.22.1t/bin/perl
    $UID/$EUID = 1000 / 1000
    $GID = 1000 24 25 29 30 44 46 108 114 1000
    $EGID = 1000 24 25 29 30 44 46 108 114 1000

Perl module toolchain versions installed:

    Module              Have    
    ------------------- --------
    CPAN                2.11    
    CPAN::Meta          2.150005
    Cwd                 3.56    
    ExtUtils::CBuilder  0.280221
    ExtUtils::Command   7.10    
    ExtUtils::Install   2.04    
    ExtUtils::MakeMaker 7.10    
    ExtUtils::Manifest  1.70    
    ExtUtils::ParseXS   3.28    
    File::Spec          3.56    
    JSON                2.90    
    JSON::PP            2.27300 
    Module::Build       0.4214  
    Module::Signature   n/a     
    Parse::CPAN::Meta   1.4414  
    Test::Harness       3.35    
    Test::More          1.001014
    YAML                1.15    
    YAML::Syck          1.29    
    version             0.9909  


--

Summary of my perl5 (revision 5 version 22 subversion 1) configuration:
   
  Platform:
    osname=linux, osvers=3.16.0-4-amd64, archname=x86_64-linux-thread-multi
    uname='linux vm-debian-001 3.16.0-4-amd64 #1 smp debian 3.16.7-ckt11-1 (2015-05-24) x86_64 gnulinux '
    config_args=''
    hint=recommended, useposix=true, d_sigaction=define
    useithreads=define, usemultiplicity=define
    use64bitint=define, use64bitall=define, uselongdouble=undef
    usemymalloc=n, bincompat5005=undef
  Compiler:
    cc='cc', ccflags ='-D_REENTRANT -D_GNU_SOURCE -fwrapv -fno-strict-aliasing -pipe -fstack-protector-strong -I/usr/local/include -D_LARGEFILE_SOURCE -D_FILE_OFFSET_BITS=64 -D_FORTIFY_SOURCE=2',
    optimize='-O2',
    cppflags='-D_REENTRANT -D_GNU_SOURCE -fwrapv -fno-strict-aliasing -pipe -fstack-protector-strong -I/usr/local/include'
    ccversion='', gccversion='4.9.2', gccosandvers=''
    intsize=4, longsize=8, ptrsize=8, doublesize=8, byteorder=12345678, doublekind=3
    d_longlong=define, longlongsize=8, d_longdbl=define, longdblsize=16, longdblkind=3
    ivtype='long', ivsize=8, nvtype='double', nvsize=8, Off_t='off_t', lseeksize=8
    alignbytes=8, prototype=define
  Linker and Libraries:
    ld='cc', ldflags =' -fstack-protector-strong -L/usr/local/lib'
    libpth=/usr/local/lib /usr/lib/gcc/x86_64-linux-gnu/4.9/include-fixed /usr/include/x86_64-linux-gnu /usr/lib /lib/x86_64-linux-gnu /lib/../lib /usr/lib/x86_64-linux-gnu /usr/lib/../lib /lib
    libs=-lpthread -lnsl -ldl -lm -lcrypt -lutil -lc
    perllibs=-lpthread -lnsl -ldl -lm -lcrypt -lutil -lc
    libc=libc-2.19.so, so=so, useshrplib=false, libperl=libperl.a
    gnulibc_version='2.19'
  Dynamic Linking:
    dlsrc=dl_dlopen.xs, dlext=so, d_dlsymun=undef, ccdlflags='-Wl,-E'
    cccdlflags='-fPIC', lddlflags='-shared -O2 -L/usr/local/lib -fstack-protector-strong'


Characteristics of this binary (from libperl): 
  Compile-time options: HAS_TIMES MULTIPLICITY PERLIO_LAYERS
                        PERL_DONT_CREATE_GVSV
                        PERL_HASH_FUNC_ONE_AT_A_TIME_HARD
                        PERL_IMPLICIT_CONTEXT PERL_MALLOC_WRAP
                        PERL_NEW_COPY_ON_WRITE PERL_PRESERVE_IVUV
                        USE_64_BIT_ALL USE_64_BIT_INT USE_ITHREADS
                        USE_LARGE_FILES USE_LOCALE USE_LOCALE_COLLATE
                        USE_LOCALE_CTYPE USE_LOCALE_NUMERIC USE_LOCALE_TIME
                        USE_PERLIO USE_PERL_ATOF USE_REENTRANT_API
  Built under linux
  Compiled at Dec 13 2015 19:04:04
  %ENV:
    PERL5LIB=""
    PERL5OPT=""
    PERL5_CPANPLUS_IS_RUNNING="15266"
    PERL5_CPAN_IS_RUNNING="15266"
    PERL5_CPAN_IS_RUNNING_IN_RECURSION="10300,15266"
    PERL_CR_SMOKER_CURRENT="Amon2-CLI-0.01"
    PERL_EXTUTILS_AUTOINSTALL="--defaultdeps"
    PERL_MM_USE_DEFAULT="1"
  @INC:
    /home/stro/perl/5.22.1t/lib/site_perl/5.22.1/x86_64-linux-thread-multi
    /home/stro/perl/5.22.1t/lib/site_perl/5.22.1
    /home/stro/perl/5.22.1t/lib/5.22.1/x86_64-linux-thread-multi
    /home/stro/perl/5.22.1t/lib/5.22.1
    .