MooseX-Workers v0.24 Perl 5 v5.22.4 x86_64-linux

Status
Pass
From
Slaven Rezić (SREZIC)
Dist
MooseX-Workers v0.24
Platform
Perl 5 v5.22.4 x86_64-linux
Date
2017-10-30 09:21:33
ID
b8941116-bd53-11e7-b6fa-f7eababce6c6
This distribution has been tested as part of the CPAN Testers
project, supporting the Perl programming language.  See
http://wiki.cpantesters.org/ for more information or email
questions to cpan-testers-discuss@perl.org


--
Dear Rafael Kitover,

This is a computer-generated report for MooseX-Workers-0.24
on perl 5.22.4, created by CPAN-Reporter-1.2018.

Thank you for uploading your work to CPAN.  Congratulations!
All tests were successful.

Sections of this report:

    * Tester comments
    * Program output
    * Prerequisites
    * Environment and other context

------------------------------
TESTER COMMENTS
------------------------------

Additional comments from tester:

none provided

------------------------------
PROGRAM OUTPUT
------------------------------

Output from 'make test':

PERL_DL_NONLAZY=1 "/opt/perl-5.22.4/bin/perl" "-MExtUtils::Command::MM" "-MTest::Harness" "-e" "undef *Test::Harness::Switches; test_harness(0, 'blib/lib', 'blib/arch')" t/*.t
t/00-compile.t ......................... ok
# Testing MooseX::Workers 0.24
t/00.load.t ............................ ok
t/01.worker.t .......................... ok
t/02.wheel.t ........................... ok
t/03.role.t ............................ ok
t/10.worker.enqueue.t .................. ok
t/11.worker.job.args.t ................. ok
t/11.worker.job.t ...................... ok
t/12.worker.timeout1.t ................. ok
t/13.worker.timeout2.t ................. ok
t/20.worker.SIG.TERM.t ................. ok
t/30.worker.stdout_filter.line.t ....... ok
t/31.worker.stderr_filter.reference.t .. ok
t/40.worker.stderr_filter.line.t ....... ok
t/41.worker.stderr_filter.reference.t .. ok
t/50.consolidate.worker.results.t ...... ok
t/60.pass.object.from.child.t .......... ok
t/61.set.max_workers.at.ctor.time.t .... ok
t/62.set.max_workers.at.run.time.t ..... ok
t/release-pod-syntax.t ................. skipped: these tests are for release candidate testing
All tests successful.
Files=20, Tests=407,  8 wallclock secs ( 0.03 usr  0.08 sys +  4.81 cusr  1.48 csys =  6.40 CPU)
Result: PASS

------------------------------
PREREQUISITES
------------------------------

Prerequisite modules loaded:

requires:

    Module                 Need  Have    
    ---------------------- ----- --------
    Moose                  0     2.2006  
    Moose::Role            0     2.2006  
    overload               0     1.26    
    Package::Stash         0     0.37    
    perl                   5.006 5.022004
    POE                    0     1.367   
    POE::Wheel::Run        0     1.367   
    Scalar::Util           0     1.49    
    Try::Tiny              0     0.28    

build_requires:

    Module                 Need  Have    
    ---------------------- ----- --------
    DateTime               0     1.44    
    ExtUtils::MakeMaker    0     7.04_02 
    File::Spec             0     3.56_02 
    IO::Handle             0     1.35    
    IPC::Open3             0     1.18    
    lib                    0     0.63    
    POE::Filter::Line      0     1.367   
    POE::Filter::Reference 0     1.367   
    strict                 0     1.09    
    Test::More             0     1.302096
    warnings               0     1.34    

configure_requires:

    Module                 Need  Have    
    ---------------------- ----- --------
    ExtUtils::MakeMaker    0     7.04_02 


------------------------------
ENVIRONMENT AND OTHER CONTEXT
------------------------------

Environment variables:

    LANG = en_US.UTF-8
    PATH = /usr/local/bin:/usr/bin:/bin:/usr/local/sbin:/usr/sbin:/sbin:/home/cpansand/bin/linux-gnu:/home/cpansand/bin/sh:/home/cpansand/bin:/usr/games:/home/cpansand/devel:/home/eserte/src/srezic-misc/scripts
    PERL5LIB = /home/cpansand/.cpan/build/2017103006/POE-1.367-iKMNGJ/blib/arch:/home/cpansand/.cpan/build/2017103006/POE-1.367-iKMNGJ/blib/lib:/home/cpansand/.cpan/build/2017103006/IO-Pipely-0.005-CHRFsy/blib/arch:/home/cpansand/.cpan/build/2017103006/IO-Pipely-0.005-CHRFsy/blib/lib:/home/cpansand/.cpan/build/2017103006/POE-Test-Loops-1.360-R8ji_C/blib/arch:/home/cpansand/.cpan/build/2017103006/POE-Test-Loops-1.360-R8ji_C/blib/lib
    PERL5OPT = 
    PERL5_CPANPLUS_IS_RUNNING = 24725
    PERL5_CPAN_IS_RUNNING = 24725
    PERL5_CPAN_IS_RUNNING_IN_RECURSION = 24697,24725
    PERLDOC = -MPod::Perldoc::ToTextOverstrike
    PERL_BATCH = yes
    PERL_CANARY_STABILITY_NOPROMPT = 1
    PERL_CPAN_REPORTER_CONFIG = /var/tmp/cpansmoker-1023/2017103006/cpanreporter_001_config.ini
    PERL_EXTUTILS_AUTOINSTALL = --defaultdeps
    SHELL = /bin/zsh
    TERM = screen
    TMPDIR = /var/tmp/cpansmoker-1023/2017103006

Perl special variables (and OS-specific diagnostics, for MSWin32):

    $^X = /opt/perl-5.22.4/bin/perl
    $UID/$EUID = 1023 / 1023
    $GID = 1023 1023
    $EGID = 1023 1023

Perl module toolchain versions installed:

    Module              Have      
    ------------------- ----------
    CPAN                2.11_01   
    CPAN::Meta          2.150001  
    Cwd                 3.56_02   
    ExtUtils::CBuilder  0.280221  
    ExtUtils::Command   1.20_01   
    ExtUtils::Install   2.04      
    ExtUtils::MakeMaker 7.04_02   
    ExtUtils::Manifest  1.70      
    ExtUtils::ParseXS   3.35      
    File::Spec          3.56_02   
    JSON                2.94      
    JSON::PP            2.27300_01
    Module::Build       0.4224    
    Module::Signature   n/a       
    Parse::CPAN::Meta   1.4414_001
    Test::Harness       3.35_01   
    Test::More          1.302096  
    YAML                1.23      
    YAML::Syck          1.30      
    version             0.9909    


--

Summary of my perl5 (revision 5 version 22 subversion 4) configuration:
   
  Platform:
    osname=linux, osvers=2.6.32-696.3.1.el6.x86_64, archname=x86_64-linux
    uname='linux centos6 2.6.32-696.3.1.el6.x86_64 #1 smp tue may 30 19:52:55 utc 2017 x86_64 x86_64 x86_64 gnulinux '
    config_args='-ds -e -Dprefix=/opt/perl-5.22.4 -Dcf_email=srezic@cpan.org'
    hint=recommended, useposix=true, d_sigaction=define
    useithreads=undef, usemultiplicity=undef
    use64bitint=define, use64bitall=define, uselongdouble=undef
    usemymalloc=n, bincompat5005=undef
  Compiler:
    cc='cc', ccflags ='-fwrapv -fno-strict-aliasing -pipe -fstack-protector -I/usr/local/include -D_LARGEFILE_SOURCE -D_FILE_OFFSET_BITS=64 -D_FORTIFY_SOURCE=2',
    optimize='-O2',
    cppflags='-fwrapv -fno-strict-aliasing -pipe -fstack-protector -I/usr/local/include'
    ccversion='', gccversion='4.4.7 20120313 (Red Hat 4.4.7-18)', gccosandvers=''
    intsize=4, longsize=8, ptrsize=8, doublesize=8, byteorder=12345678, doublekind=3
    d_longlong=define, longlongsize=8, d_longdbl=define, longdblsize=16, longdblkind=3
    ivtype='long', ivsize=8, nvtype='double', nvsize=8, Off_t='off_t', lseeksize=8
    alignbytes=8, prototype=define
  Linker and Libraries:
    ld='cc', ldflags =' -fstack-protector -L/usr/local/lib'
    libpth=/usr/local/lib /usr/lib /lib/../lib64 /usr/lib/../lib64 /lib /lib64 /usr/lib64 /usr/local/lib64
    libs=-lpthread -lnsl -lgdbm -ldb -ldl -lm -lcrypt -lutil -lc
    perllibs=-lpthread -lnsl -ldl -lm -lcrypt -lutil -lc
    libc=libc-2.12.so, so=so, useshrplib=false, libperl=libperl.a
    gnulibc_version='2.12'
  Dynamic Linking:
    dlsrc=dl_dlopen.xs, dlext=so, d_dlsymun=undef, ccdlflags='-Wl,-E'
    cccdlflags='-fPIC', lddlflags='-shared -O2 -L/usr/local/lib -fstack-protector'


Characteristics of this binary (from libperl): 
  Compile-time options: HAS_TIMES PERLIO_LAYERS PERL_DONT_CREATE_GVSV
                        PERL_HASH_FUNC_ONE_AT_A_TIME_HARD PERL_MALLOC_WRAP
                        PERL_NEW_COPY_ON_WRITE PERL_PRESERVE_IVUV
                        USE_64_BIT_ALL USE_64_BIT_INT USE_LARGE_FILES
                        USE_LOCALE USE_LOCALE_COLLATE USE_LOCALE_CTYPE
                        USE_LOCALE_NUMERIC USE_LOCALE_TIME USE_PERLIO
                        USE_PERL_ATOF
  Built under linux
  Compiled at Sep 16 2017 21:36:19
  %ENV:
    PERL5LIB="/home/cpansand/.cpan/build/2017103006/POE-1.367-iKMNGJ/blib/arch:/home/cpansand/.cpan/build/2017103006/POE-1.367-iKMNGJ/blib/lib:/home/cpansand/.cpan/build/2017103006/IO-Pipely-0.005-CHRFsy/blib/arch:/home/cpansand/.cpan/build/2017103006/IO-Pipely-0.005-CHRFsy/blib/lib:/home/cpansand/.cpan/build/2017103006/POE-Test-Loops-1.360-R8ji_C/blib/arch:/home/cpansand/.cpan/build/2017103006/POE-Test-Loops-1.360-R8ji_C/blib/lib"
    PERL5OPT=""
    PERL5_CPANPLUS_IS_RUNNING="24725"
    PERL5_CPAN_IS_RUNNING="24725"
    PERL5_CPAN_IS_RUNNING_IN_RECURSION="24697,24725"
    PERLDOC="-MPod::Perldoc::ToTextOverstrike"
    PERL_BATCH="yes"
    PERL_CANARY_STABILITY_NOPROMPT="1"
    PERL_CPAN_REPORTER_CONFIG="/var/tmp/cpansmoker-1023/2017103006/cpanreporter_001_config.ini"
    PERL_EXTUTILS_AUTOINSTALL="--defaultdeps"
  @INC:
    /home/cpansand/.cpan/build/2017103006/POE-1.367-iKMNGJ/blib/arch
    /home/cpansand/.cpan/build/2017103006/POE-1.367-iKMNGJ/blib/lib
    /home/cpansand/.cpan/build/2017103006/IO-Pipely-0.005-CHRFsy/blib/arch
    /home/cpansand/.cpan/build/2017103006/IO-Pipely-0.005-CHRFsy/blib/lib
    /home/cpansand/.cpan/build/2017103006/POE-Test-Loops-1.360-R8ji_C/blib/arch
    /home/cpansand/.cpan/build/2017103006/POE-Test-Loops-1.360-R8ji_C/blib/lib
    /opt/perl-5.22.4/lib/site_perl/5.22.4/x86_64-linux
    /opt/perl-5.22.4/lib/site_perl/5.22.4
    /opt/perl-5.22.4/lib/5.22.4/x86_64-linux
    /opt/perl-5.22.4/lib/5.22.4
    .