Alien-spatialite v1.09 Perl 5 v5.38.0 RC2 x86_64-linux-ld
- Status
- Pass
- From
- Andreas J. König (ANDK)
- Dist
-
Alien-spatialite v1.09
- Platform
- Perl 5 v5.38.0 RC2 x86_64-linux-ld
- Date
- 2023-06-26 16:15:51
- ID
- b83c6d9e-143c-11ee-9fdd-51eee28722c8
This distribution has been tested as part of the CPAN Testers
project, supporting the Perl programming language. See
http://wiki.cpantesters.org/ for more information or email
questions to cpan-testers-discuss@perl.org
--
Dear Shawn Laffan,
This is a computer-generated report for Alien-spatialite-1.09
on perl 5.38.0, created by CPAN-Reporter-1.2019.
Thank you for uploading your work to CPAN. Congratulations!
All tests were successful.
Sections of this report:
* Tester comments
* Program output
* Prerequisites
* Environment and other context
------------------------------
TESTER COMMENTS
------------------------------
Additional comments from tester:
this report is from an automated smoke testing program
and was not reviewed by a human for accuracy
------------------------------
PROGRAM OUTPUT
------------------------------
Output from '/usr/bin/make test':
"/tmp/basesmoker-reloperl-eB6f/bin/perl" -MAlien::Build::MM=cmd -e test
Alien::Build::Plugin::PkgConfig::Negotiate> Using PkgConfig plugin: PkgConfig::CommandLine
Downloaded spatialite version is 5.0.1
Running under CI or automated testing
PERL_DL_NONLAZY=1 "/tmp/basesmoker-reloperl-eB6f/bin/perl" "-MExtUtils::Command::MM" "-MTest::Harness" "-e" "undef *Test::Harness::Switches; test_harness(0, 'blib/lib', 'blib/arch')" t/*.t
# Testing Alien::spatialite 1.09, Perl 5.038000, /tmp/basesmoker-reloperl-eB6f/bin/perl
t/00-load.t .... ok
# NAME=spatialite
# VERSION=5.0.1
# CFLAGS: -I/home/sand/src/perl/repoperls/installed-perls/host/k93jammy/v5.38.0-RC2/5674/lib/site_perl/5.38.0/x86_64-linux-ld/auto/share/dist/Alien-geos-af/include -I/home/sand/src/perl/repoperls/installed-perls/host/k93jammy/v5.38.0-RC2/5674/lib/site_perl/5.38.0/x86_64-linux-ld/auto/share/dist/Alien-freexl/include -I/home/sand/src/perl/repoperls/installed-perls/host/k93jammy/v5.38.0-RC2/5674/lib/site_perl/5.38.0/x86_64-linux-ld/auto/share/dist/Alien-sqlite/include -I/tmp/loop_over_bdir-1804645-NudCaZ/Alien-spatialite-1.09-0/blib/lib/auto/share/dist/Alien-spatialite/include
t/01-config.t .. ok
# libs: -L/home/sand/src/perl/repoperls/installed-perls/host/k93jammy/v5.38.0-RC2/5674/lib/site_perl/5.38.0/x86_64-linux-ld/auto/share/dist/Alien-geos-af/lib -L/home/sand/src/perl/repoperls/installed-perls/host/k93jammy/v5.38.0-RC2/5674/lib/site_perl/5.38.0/x86_64-linux-ld/auto/share/dist/Alien-freexl/lib -L/home/sand/src/perl/repoperls/installed-perls/host/k93jammy/v5.38.0-RC2/5674/lib/site_perl/5.38.0/x86_64-linux-ld/auto/share/dist/Alien-sqlite/lib -lgeos_c -lgeos -lstdc++ -lm -lfreexl -lm -lproj -lsqlite3 -lz -lm -L/tmp/loop_over_bdir-1804645-NudCaZ/Alien-spatialite-1.09-0/blib/lib/auto/share/dist/Alien-spatialite/lib -L/tmp/basesmoker-reloperl-eB6f/lib/site_perl/5.38.0/x86_64-linux-ld/auto/share/dist/Alien-geos-af/lib -lspatialite -lfreexl -lproj -lsqlite3 -lz -lsqlite3 -lgeos_c -lm
# cflags: -I/home/sand/src/perl/repoperls/installed-perls/host/k93jammy/v5.38.0-RC2/5674/lib/site_perl/5.38.0/x86_64-linux-ld/auto/share/dist/Alien-geos-af/include -I/home/sand/src/perl/repoperls/installed-perls/host/k93jammy/v5.38.0-RC2/5674/lib/site_perl/5.38.0/x86_64-linux-ld/auto/share/dist/Alien-freexl/include -I/home/sand/src/perl/repoperls/installed-perls/host/k93jammy/v5.38.0-RC2/5674/lib/site_perl/5.38.0/x86_64-linux-ld/auto/share/dist/Alien-sqlite/include -I/tmp/loop_over_bdir-1804645-NudCaZ/Alien-spatialite-1.09-0/blib/lib/auto/share/dist/Alien-spatialite/include
# Dynamic libs: /tmp/loop_over_bdir-1804645-NudCaZ/Alien-spatialite-1.09-0/blib/lib/auto/share/dist/Alien-spatialite/lib/libspatialite.so:/tmp/loop_over_bdir-1804645-NudCaZ/Alien-spatialite-1.09-0/blib/lib/auto/share/dist/Alien-spatialite/lib/libspatialite.so.7:/tmp/loop_over_bdir-1804645-NudCaZ/Alien-spatialite-1.09-0/blib/lib/auto/share/dist/Alien-spatialite/lib/libspatialite.so.7.1.2
# bin dir:
no bin dir found via bin_dir method
t/02-use.t ..... ok
All tests successful.
Test Summary Report
-------------------
t/02-use.t (Wstat: 0 Tests: 3 Failed: 0)
TODO passed: 3
Files=3, Tests=7, 1 wallclock secs ( 0.04 usr 0.00 sys + 1.01 cusr 0.14 csys = 1.19 CPU)
Result: PASS
------------------------------
PREREQUISITES
------------------------------
Prerequisite modules loaded:
requires:
Module Need Have
--------------------------------------- ------- --------
Alien::Base 1.41 2.80
Alien::Build 1.74 2.80
FFI::CheckLib 0.23 0.31
build_requires:
Module Need Have
--------------------------------------- ------- --------
Alien::Build 1.41 2.80
Alien::Build::MM 1.74 2.80
Alien::Build::Plugin::Cleanse::BuildDir 0 0.06
Alien::freexl 0 1.05
Alien::geos::af 1.007 1.012
Alien::patchelf 0 0.08
Alien::proj 0 1.25
Alien::sqlite 1.02 1.07
Archive::Tar 0 3.02
Config 0 5.038000
Env::ShellWords 0.01 0.02
ExtUtils::MakeMaker 6.52 7.70
FFI::CheckLib 0.23 0.31
File::Find::Rule 0 0.34
HTTP::Tiny 0.044 0.086
IO::Socket::SSL 1.56 2.083
IO::Zlib 0 1.14
Mojo::DOM58 1.00 3.001
Mozilla::CA 0 20221114
Net::SSLeay 1.49 1.92
Path::Tiny 0 0.144
PkgConfig 0.19026 0.25026
Sort::Versions 0 1.62
Test::Alien 0 2.80
URI 0 5.19
URI::Escape 0 5.19
configure_requires:
Module Need Have
--------------------------------------- ------- --------
Alien::Build 1.41 2.80
Alien::Build::MM 1.74 2.80
Alien::Build::Plugin::Build::SearchDep 0.53 2.80
Alien::Build::Plugin::Cleanse::BuildDir 0 0.06
Alien::freexl 0 1.05
Alien::geos::af 1.007 1.012
Alien::MSYS 0 0.17
Alien::proj 0 1.25
Alien::sqlite 1.02 1.07
ExtUtils::MakeMaker 6.52 7.70
File::Find::Rule 0 0.34
PkgConfig 0 0.25026
Sort::Versions 0 1.62
------------------------------
ENVIRONMENT AND OTHER CONTEXT
------------------------------
Environment variables:
AUTOMATED_TESTING = 1
LANG = en_US.UTF-8
LC_ADDRESS = de_DE.UTF-8
LC_IDENTIFICATION = de_DE.UTF-8
LC_MEASUREMENT = de_DE.UTF-8
LC_MONETARY = de_DE.UTF-8
LC_NAME = de_DE.UTF-8
LC_NUMERIC = de_DE.UTF-8
LC_PAPER = de_DE.UTF-8
LC_TELEPHONE = de_DE.UTF-8
LC_TIME = de_DE.UTF-8
PATH = /home/sand/bin:/usr/local/bin:/usr/local/sbin:/usr/sbin:/usr/bin:/sbin:/bin:/usr/games:/usr/local/games:/snap/bin:/usr/local/perl/bin:/usr/X11/bin
PERL = /tmp/basesmoker-reloperl-eB6f/bin/perl
PERL5LIB = /tmp/loop_over_bdir-1804645-NudCaZ/Simulation-Automate-1.0.1-0/blib/arch:/tmp/loop_over_bdir-1804645-NudCaZ/Simulation-Automate-1.0.1-0/blib/lib:/tmp/loop_over_bdir-1804645-NudCaZ/Device-Kiln-0.03-0/blib/arch:/tmp/loop_over_bdir-1804645-NudCaZ/Device-Kiln-0.03-0/blib/lib:/tmp/loop_over_bdir-1804645-NudCaZ/AllKnowingDNS-1.7-0/blib/arch:/tmp/loop_over_bdir-1804645-NudCaZ/AllKnowingDNS-1.7-0/blib/lib:/tmp/loop_over_bdir-1804645-NudCaZ/Dpkg-1.21.22-0/blib/arch:/tmp/loop_over_bdir-1804645-NudCaZ/Dpkg-1.21.22-0/blib/lib:/tmp/loop_over_bdir-1804645-NudCaZ/NoZone-1.3-0/blib/arch:/tmp/loop_over_bdir-1804645-NudCaZ/NoZone-1.3-0/blib/lib:/tmp/loop_over_bdir-1804645-NudCaZ/Lemonldap-NG-Cli-0.2-0/blib/arch:/tmp/loop_over_bdir-1804645-NudCaZ/Lemonldap-NG-Cli-0.2-0/blib/lib:/tmp/loop_over_bdir-1804645-NudCaZ/perl-Hardware-UPS-Perl-0.43-0/blib/arch:/tmp/loop_over_bdir-1804645-NudCaZ/perl-Hardware-UPS-Perl-0.43-0/blib/lib:/tmp/loop_over_bdir-1804645-NudCaZ/Debian-Packages-0.03-0/blib/arch:/tmp/loop_over_bdir-1804645-NudCaZ/Debian-Packages-0.03-0/blib/lib:/tmp/loop_over_bdir-1804645-NudCaZ/RackMan-1.19-0/blib/arch:/tmp/loop_over_bdir-1804645-NudCaZ/RackMan-1.19-0/blib/lib
PERL5OPT =
PERL5_CPANPLUS_IS_RUNNING = 1804653
PERL5_CPAN_IS_RUNNING = 1804653
PERL_CANARY_STABILITY_NOPROMPT = 1
PERL_MM_USE_DEFAULT = 1
PERL_USE_UNSAFE_INC = 1
SHELL = /usr/bin/zsh
TERM = screen
Perl special variables (and OS-specific diagnostics, for MSWin32):
$^X = /tmp/basesmoker-reloperl-eB6f/bin/perl
$UID/$EUID = 1005 / 1005
$GID = 1005 1005
$EGID = 1005 1005
Perl module toolchain versions installed:
Module Have
------------------- --------
CPAN 2.36
CPAN::Meta 2.150010
Cwd 3.89
ExtUtils::CBuilder 0.280238
ExtUtils::Command 7.70
ExtUtils::Install 2.22
ExtUtils::MakeMaker 7.70
ExtUtils::Manifest 1.73
ExtUtils::ParseXS 3.51
File::Spec 3.88
JSON 4.10
JSON::PP 4.16
Module::Build 0.4234
Module::Signature 0.88
Parse::CPAN::Meta 2.150010
Test2 1.302195
Test::Harness 3.44
Test::More 1.302195
YAML 1.30
YAML::Syck 1.34
version 0.9929
--
Summary of my perl5 (revision 5 version 38 subversion 0) configuration:
Commit id: 7e0355c5f679580a035fd112a69cb309c3b54a2b
Platform:
osname=linux
osvers=5.19.0-45-generic
archname=x86_64-linux-ld
uname='linux k93jammy 5.19.0-45-generic #46~22.04.1-ubuntu smp preempt_dynamic wed jun 7 15:06:04 utc 20 x86_64 x86_64 x86_64 gnulinux '
config_args='-Dprefix=/home/sand/src/perl/repoperls/installed-perls/host/k93jammy/v5.38.0-RC2/5674 -Dmyhostname=k93jammy -Dinstallusrbinperl=n -Uversiononly -Dusedevel -des -Ui_db -Dlibswanted=cl pthread socket inet nsl gdbm dbm malloc dl ld sun m crypt sec util c cposix posix ucb BSD gdbm_compat -Uuseithreads -Duselongdouble -DEBUGGING=-g'
hint=recommended
useposix=true
d_sigaction=define
useithreads=undef
usemultiplicity=undef
use64bitint=define
use64bitall=define
uselongdouble=define
usemymalloc=n
default_inc_excludes_dot=define
Compiler:
cc='cc'
ccflags ='-fwrapv -fno-strict-aliasing -pipe -fstack-protector-strong -I/usr/local/include -D_LARGEFILE_SOURCE -D_FILE_OFFSET_BITS=64'
optimize='-O2 -g'
cppflags='-fwrapv -fno-strict-aliasing -pipe -fstack-protector-strong -I/usr/local/include'
ccversion=''
gccversion='11.3.0'
gccosandvers=''
intsize=4
longsize=8
ptrsize=8
doublesize=8
byteorder=12345678
doublekind=3
d_longlong=define
longlongsize=8
d_longdbl=define
longdblsize=16
longdblkind=3
ivtype='long'
ivsize=8
nvtype='long double'
nvsize=16
Off_t='off_t'
lseeksize=8
alignbytes=16
prototype=define
Linker and Libraries:
ld='cc'
ldflags =' -fstack-protector-strong -L/usr/local/lib'
libpth=/usr/local/lib /usr/lib/x86_64-linux-gnu /usr/lib /usr/lib64
libs=-lpthread -lnsl -ldl -lm -lcrypt -lutil -lc
perllibs=-lpthread -lnsl -ldl -lm -lcrypt -lutil -lc
libc=/lib/x86_64-linux-gnu/libc.so.6
so=so
useshrplib=false
libperl=libperl.a
gnulibc_version='2.35'
Dynamic Linking:
dlsrc=dl_dlopen.xs
dlext=so
d_dlsymun=undef
ccdlflags='-Wl,-E'
cccdlflags='-fPIC'
lddlflags='-shared -O2 -g -L/usr/local/lib -fstack-protector-strong'
Characteristics of this binary (from libperl):
Compile-time options:
HAS_LONG_DOUBLE
HAS_STRTOLD
HAS_TIMES
PERLIO_LAYERS
PERL_COPY_ON_WRITE
PERL_DONT_CREATE_GVSV
PERL_HASH_FUNC_SIPHASH13
PERL_HASH_USE_SBOX32
PERL_MALLOC_WRAP
PERL_OP_PARENT
PERL_PRESERVE_IVUV
PERL_USE_DEVEL
PERL_USE_SAFE_PUTENV
USE_64_BIT_ALL
USE_64_BIT_INT
USE_LARGE_FILES
USE_LOCALE
USE_LOCALE_COLLATE
USE_LOCALE_CTYPE
USE_LOCALE_NUMERIC
USE_LOCALE_TIME
USE_LONG_DOUBLE
USE_PERLIO
USE_PERL_ATOF
Locally applied patches:
RC2
Built under linux
Compiled at Jun 24 2023 20:23:06
%ENV:
PERL="/tmp/basesmoker-reloperl-eB6f/bin/perl"
PERL5LIB="/tmp/loop_over_bdir-1804645-NudCaZ/Simulation-Automate-1.0.1-0/blib/arch:/tmp/loop_over_bdir-1804645-NudCaZ/Simulation-Automate-1.0.1-0/blib/lib:/tmp/loop_over_bdir-1804645-NudCaZ/Device-Kiln-0.03-0/blib/arch:/tmp/loop_over_bdir-1804645-NudCaZ/Device-Kiln-0.03-0/blib/lib:/tmp/loop_over_bdir-1804645-NudCaZ/AllKnowingDNS-1.7-0/blib/arch:/tmp/loop_over_bdir-1804645-NudCaZ/AllKnowingDNS-1.7-0/blib/lib:/tmp/loop_over_bdir-1804645-NudCaZ/Dpkg-1.21.22-0/blib/arch:/tmp/loop_over_bdir-1804645-NudCaZ/Dpkg-1.21.22-0/blib/lib:/tmp/loop_over_bdir-1804645-NudCaZ/NoZone-1.3-0/blib/arch:/tmp/loop_over_bdir-1804645-NudCaZ/NoZone-1.3-0/blib/lib:/tmp/loop_over_bdir-1804645-NudCaZ/Lemonldap-NG-Cli-0.2-0/blib/arch:/tmp/loop_over_bdir-1804645-NudCaZ/Lemonldap-NG-Cli-0.2-0/blib/lib:/tmp/loop_over_bdir-1804645-NudCaZ/perl-Hardware-UPS-Perl-0.43-0/blib/arch:/tmp/loop_over_bdir-1804645-NudCaZ/perl-Hardware-UPS-Perl-0.43-0/blib/lib:/tmp/loop_over_bdir-1804645-NudCaZ/Debian-Packages-0.03-0/blib/arch:/tmp/loop_over_bdir-1804645-NudCaZ/Debian-Packages-0.03-0/blib/lib:/tmp/loop_over_bdir-1804645-NudCaZ/RackMan-1.19-0/blib/arch:/tmp/loop_over_bdir-1804645-NudCaZ/RackMan-1.19-0/blib/lib"
PERL5OPT=""
PERL5_CPANPLUS_IS_RUNNING="1804653"
PERL5_CPAN_IS_RUNNING="1804653"
PERL_CANARY_STABILITY_NOPROMPT="1"
PERL_MM_USE_DEFAULT="1"
PERL_USE_UNSAFE_INC="1"
@INC:
/tmp/loop_over_bdir-1804645-NudCaZ/Simulation-Automate-1.0.1-0/blib/arch
/tmp/loop_over_bdir-1804645-NudCaZ/Simulation-Automate-1.0.1-0/blib/lib
/tmp/loop_over_bdir-1804645-NudCaZ/Device-Kiln-0.03-0/blib/arch
/tmp/loop_over_bdir-1804645-NudCaZ/Device-Kiln-0.03-0/blib/lib
/tmp/loop_over_bdir-1804645-NudCaZ/AllKnowingDNS-1.7-0/blib/arch
/tmp/loop_over_bdir-1804645-NudCaZ/AllKnowingDNS-1.7-0/blib/lib
/tmp/loop_over_bdir-1804645-NudCaZ/Dpkg-1.21.22-0/blib/arch
/tmp/loop_over_bdir-1804645-NudCaZ/Dpkg-1.21.22-0/blib/lib
/tmp/loop_over_bdir-1804645-NudCaZ/NoZone-1.3-0/blib/arch
/tmp/loop_over_bdir-1804645-NudCaZ/NoZone-1.3-0/blib/lib
/tmp/loop_over_bdir-1804645-NudCaZ/Lemonldap-NG-Cli-0.2-0/blib/arch
/tmp/loop_over_bdir-1804645-NudCaZ/Lemonldap-NG-Cli-0.2-0/blib/lib
/tmp/loop_over_bdir-1804645-NudCaZ/perl-Hardware-UPS-Perl-0.43-0/blib/arch
/tmp/loop_over_bdir-1804645-NudCaZ/perl-Hardware-UPS-Perl-0.43-0/blib/lib
/tmp/loop_over_bdir-1804645-NudCaZ/Debian-Packages-0.03-0/blib/arch
/tmp/loop_over_bdir-1804645-NudCaZ/Debian-Packages-0.03-0/blib/lib
/tmp/loop_over_bdir-1804645-NudCaZ/RackMan-1.19-0/blib/arch
/tmp/loop_over_bdir-1804645-NudCaZ/RackMan-1.19-0/blib/lib
/home/sand/src/perl/repoperls/installed-perls/host/k93jammy/v5.38.0-RC2/5674/lib/site_perl/5.38.0/x86_64-linux-ld
/home/sand/src/perl/repoperls/installed-perls/host/k93jammy/v5.38.0-RC2/5674/lib/site_perl/5.38.0
/home/sand/src/perl/repoperls/installed-perls/host/k93jammy/v5.38.0-RC2/5674/lib/5.38.0/x86_64-linux-ld
/home/sand/src/perl/repoperls/installed-perls/host/k93jammy/v5.38.0-RC2/5674/lib/5.38.0
.