CSS-Sass v3.6.4 Perl 5 v5.41.6 x86_64-linux

Status
Pass
From
Andreas J. König (ANDK)
Dist
CSS-Sass v3.6.4
Platform
Perl 5 v5.41.6 x86_64-linux
Date
2024-12-02 20:05:04
ID
b8337334-b0e8-11ef-b7b5-18f5ca69681c
This distribution has been tested as part of the CPAN Testers
project, supporting the Perl programming language.  See
http://wiki.cpantesters.org/ for more information or email
questions to cpan-testers-discuss@perl.org


--
Dear Marcel Greter,

This is a computer-generated report for CSS-Sass-3.6.4
on perl 5.41.6, created by CPAN-Reporter-1.2020.

Thank you for uploading your work to CPAN.  Congratulations!
All tests were successful.

Sections of this report:

    * Tester comments
    * Program output
    * Prerequisites
    * Environment and other context

------------------------------
TESTER COMMENTS
------------------------------

Additional comments from tester:

this report is from an automated smoke testing program
and was not reviewed by a human for accuracy

------------------------------
PROGRAM OUTPUT
------------------------------

Output from '/usr/bin/make test':

"/tmp/basesmoker-reloperl-3oIm/bin/perl" -MExtUtils::Command::MM -e 'cp_nonempty' -- Sass.bs blib/arch/auto/CSS/Sass/Sass.bs 644
PERL_DL_NONLAZY=1 "/tmp/basesmoker-reloperl-3oIm/bin/perl" "-MExtUtils::Command::MM" "-MTest::Harness" "-e" "undef *Test::Harness::Switches; test_harness(0, 'blib/lib', 'blib/arch')" t/*.t
t/00_sanity.t ........... ok
t/01_xs.t ............... ok
t/02_perl.t ............. ok
t/03_xs_functions.t ..... ok
t/04_xs_value_types.t ... ok
t/05_source_maps.t ...... ok
t/06_sass_import.t ...... ok
t/07_custom_importer.t .. ok
t/08_sass_to_scss.t ..... skipped: Moved to specs
t/09_unicode.t .......... ok
DEPRECATION WARNING on line 1 of [C-VALUE]:
The operation `#2a2b2c times #2a2b2c` is deprecated and will be an error in future versions.
Consider using Sass's color functions instead.
https://sass-lang.com/documentation/Sass/Script/Functions.html#other_color_functions

DEPRECATION WARNING on line 1 of [C-VALUE]:
The operation `#2a2b2c div #2a2b2c` is deprecated and will be an error in future versions.
Consider using Sass's color functions instead.
https://sass-lang.com/documentation/Sass/Script/Functions.html#other_color_functions

DEPRECATION WARNING on line 1 of [C-VALUE]:
The operation `#2a2b2c plus #2a2b2c` is deprecated and will be an error in future versions.
Consider using Sass's color functions instead.
https://sass-lang.com/documentation/Sass/Script/Functions.html#other_color_functions

DEPRECATION WARNING on line 1 of [C-VALUE]:
The operation `#2a2b2c minus #2a2b2c` is deprecated and will be an error in future versions.
Consider using Sass's color functions instead.
https://sass-lang.com/documentation/Sass/Script/Functions.html#other_color_functions

DEPRECATION WARNING on line 1 of [C-VALUE]:
The operation `#2a2b2c mod #2a2b2c` is deprecated and will be an error in future versions.
Consider using Sass's color functions instead.
https://sass-lang.com/documentation/Sass/Script/Functions.html#other_color_functions

DEPRECATION WARNING on line 1 of [C-VALUE]:
The operation `red plus #ff3366` is deprecated and will be an error in future versions.
Consider using Sass's color functions instead.
https://sass-lang.com/documentation/Sass/Script/Functions.html#other_color_functions

DEPRECATION WARNING on line 37 of stdin:
The operation `red plus #F36` is deprecated and will be an error in future versions.
Consider using Sass's color functions instead.
https://sass-lang.com/documentation/Sass/Script/Functions.html#other_color_functions

DEPRECATION WARNING on line 38 of stdin:
The operation `red plus #F36` is deprecated and will be an error in future versions.
Consider using Sass's color functions instead.
https://sass-lang.com/documentation/Sass/Script/Functions.html#other_color_functions

DEPRECATION WARNING on line 1 of [C-VALUE]:
The operation `red plus #ff3366` is deprecated and will be an error in future versions.
Consider using Sass's color functions instead.
https://sass-lang.com/documentation/Sass/Script/Functions.html#other_color_functions

DEPRECATION WARNING on line 1 of [C-VALUE]:
The operation `red plus #ff3366` is deprecated and will be an error in future versions.
Consider using Sass's color functions instead.
https://sass-lang.com/documentation/Sass/Script/Functions.html#other_color_functions

DEPRECATION WARNING on line 40 of stdin:
The operation `red plus #F36` is deprecated and will be an error in future versions.
Consider using Sass's color functions instead.
https://sass-lang.com/documentation/Sass/Script/Functions.html#other_color_functions

DEPRECATION WARNING on line 1 of [C-VALUE]:
The operation `red minus #ff3366` is deprecated and will be an error in future versions.
Consider using Sass's color functions instead.
https://sass-lang.com/documentation/Sass/Script/Functions.html#other_color_functions

DEPRECATION WARNING on line 41 of stdin:
The operation `red minus #F36` is deprecated and will be an error in future versions.
Consider using Sass's color functions instead.
https://sass-lang.com/documentation/Sass/Script/Functions.html#other_color_functions

DEPRECATION WARNING on line 42 of stdin:
The operation `red minus #F36` is deprecated and will be an error in future versions.
Consider using Sass's color functions instead.
https://sass-lang.com/documentation/Sass/Script/Functions.html#other_color_functions

DEPRECATION WARNING on line 1 of [C-VALUE]:
The operation `red minus #ff3366` is deprecated and will be an error in future versions.
Consider using Sass's color functions instead.
https://sass-lang.com/documentation/Sass/Script/Functions.html#other_color_functions

DEPRECATION WARNING on line 1 of [C-VALUE]:
The operation `red minus #ff3366` is deprecated and will be an error in future versions.
Consider using Sass's color functions instead.
https://sass-lang.com/documentation/Sass/Script/Functions.html#other_color_functions

DEPRECATION WARNING on line 44 of stdin:
The operation `red minus #F36` is deprecated and will be an error in future versions.
Consider using Sass's color functions instead.
https://sass-lang.com/documentation/Sass/Script/Functions.html#other_color_functions

DEPRECATION WARNING on line 1 of [C-VALUE]:
The operation `red div #ff3366` is deprecated and will be an error in future versions.
Consider using Sass's color functions instead.
https://sass-lang.com/documentation/Sass/Script/Functions.html#other_color_functions

DEPRECATION WARNING on line 45 of stdin:
The operation `red div #F36` is deprecated and will be an error in future versions.
Consider using Sass's color functions instead.
https://sass-lang.com/documentation/Sass/Script/Functions.html#other_color_functions

DEPRECATION WARNING on line 46 of stdin:
The operation `red div #F36` is deprecated and will be an error in future versions.
Consider using Sass's color functions instead.
https://sass-lang.com/documentation/Sass/Script/Functions.html#other_color_functions

DEPRECATION WARNING on line 1 of [C-VALUE]:
The operation `red div #ff3366` is deprecated and will be an error in future versions.
Consider using Sass's color functions instead.
https://sass-lang.com/documentation/Sass/Script/Functions.html#other_color_functions

DEPRECATION WARNING on line 1 of [C-VALUE]:
The operation `red div #ff3366` is deprecated and will be an error in future versions.
Consider using Sass's color functions instead.
https://sass-lang.com/documentation/Sass/Script/Functions.html#other_color_functions

DEPRECATION WARNING on line 48 of stdin:
The operation `red div #F36` is deprecated and will be an error in future versions.
Consider using Sass's color functions instead.
https://sass-lang.com/documentation/Sass/Script/Functions.html#other_color_functions

DEPRECATION WARNING on line 1 of [C-VALUE]:
The operation `red div #ff3366` is deprecated and will be an error in future versions.
Consider using Sass's color functions instead.
https://sass-lang.com/documentation/Sass/Script/Functions.html#other_color_functions

DEPRECATION WARNING on line 51 of stdin:
The operation `red times #F36` is deprecated and will be an error in future versions.
Consider using Sass's color functions instead.
https://sass-lang.com/documentation/Sass/Script/Functions.html#other_color_functions

DEPRECATION WARNING on line 52 of stdin:
The operation `red times #F36` is deprecated and will be an error in future versions.
Consider using Sass's color functions instead.
https://sass-lang.com/documentation/Sass/Script/Functions.html#other_color_functions

DEPRECATION WARNING on line 1 of [C-VALUE]:
The operation `red times #ff3366` is deprecated and will be an error in future versions.
Consider using Sass's color functions instead.
https://sass-lang.com/documentation/Sass/Script/Functions.html#other_color_functions

DEPRECATION WARNING on line 1 of [C-VALUE]:
The operation `red times #ff3366` is deprecated and will be an error in future versions.
Consider using Sass's color functions instead.
https://sass-lang.com/documentation/Sass/Script/Functions.html#other_color_functions

DEPRECATION WARNING on line 54 of stdin:
The operation `red times #F36` is deprecated and will be an error in future versions.
Consider using Sass's color functions instead.
https://sass-lang.com/documentation/Sass/Script/Functions.html#other_color_functions

DEPRECATION WARNING on line 1 of [C-VALUE]:
The operation `red mod #ff3366` is deprecated and will be an error in future versions.
Consider using Sass's color functions instead.
https://sass-lang.com/documentation/Sass/Script/Functions.html#other_color_functions

DEPRECATION WARNING on line 55 of stdin:
The operation `red mod #F36` is deprecated and will be an error in future versions.
Consider using Sass's color functions instead.
https://sass-lang.com/documentation/Sass/Script/Functions.html#other_color_functions

DEPRECATION WARNING on line 56 of stdin:
The operation `red mod #F36` is deprecated and will be an error in future versions.
Consider using Sass's color functions instead.
https://sass-lang.com/documentation/Sass/Script/Functions.html#other_color_functions

DEPRECATION WARNING on line 1 of [C-VALUE]:
The operation `red mod #ff3366` is deprecated and will be an error in future versions.
Consider using Sass's color functions instead.
https://sass-lang.com/documentation/Sass/Script/Functions.html#other_color_functions

DEPRECATION WARNING on line 1 of [C-VALUE]:
The operation `red mod #ff3366` is deprecated and will be an error in future versions.
Consider using Sass's color functions instead.
https://sass-lang.com/documentation/Sass/Script/Functions.html#other_color_functions

DEPRECATION WARNING on line 58 of stdin:
The operation `red mod #F36` is deprecated and will be an error in future versions.
Consider using Sass's color functions instead.
https://sass-lang.com/documentation/Sass/Script/Functions.html#other_color_functions

t/10_sass_value_op.t .... ok
DEPRECATION WARNING on line 1 of [math]:
!global assignments won't be able to declare new variables in future versions.
Consider adding `$E: null` at the top level.

DEPRECATION WARNING on line 2 of [math]:
!global assignments won't be able to declare new variables in future versions.
Consider adding `$PI: null` at the top level.

DEPRECATION WARNING on line 3 of [math]:
!global assignments won't be able to declare new variables in future versions.
Consider adding `$TAU: null` at the top level.

t/11_sass_plugins.t ..... ok
t/98_sass_srcmaps.t ..... skipped: Disabled
t/99_sass_specs.t ....... ok
All tests successful.
Files=14, Tests=8107, 11 wallclock secs ( 0.91 usr  0.10 sys +  9.01 cusr  1.94 csys = 11.96 CPU)
Result: PASS

------------------------------
PREREQUISITES
------------------------------

Prerequisite modules loaded:

requires:

    Module                  Need Have    
    ----------------------- ---- --------
    Carp                    1.01 1.54    
    Encode::Locale          0.01 1.05    
    Filesys::Notify::Simple 0.01 0.14    
    Getopt::Long            0.01 2.58    
    List::Util              1.45 1.68_01 
    strict                  0    1.13    
    version                 0    0.9933  
    warnings                0    1.71    

build_requires:

    Module                  Need Have    
    ----------------------- ---- --------
    ExtUtils::CppGuess      0.14 0.27    
    ExtUtils::MakeMaker     6.52 7.70    
    File::chdir             0.01 0.1011  
    Getopt::Long            0.01 2.58    
    Test::Differences       0.01 0.71    
    YAML::XS                0.01 v0.902.0

configure_requires:

    Module                  Need Have    
    ----------------------- ---- --------
    ExtUtils::CppGuess      0.14 0.27    
    ExtUtils::MakeMaker     6.52 7.70    
    Getopt::Long            0.01 2.58    


------------------------------
ENVIRONMENT AND OTHER CONTEXT
------------------------------

Environment variables:

    AUTOMATED_TESTING = 1
    LANG = en_US.UTF-8
    PATH = /home/sand/bin:/usr/local/bin:/usr/local/sbin:/usr/sbin:/usr/bin:/sbin:/bin:/usr/games:/usr/local/games:/snap/bin:/usr/local/perl/bin:/usr/X11/bin
    PERL = /tmp/basesmoker-reloperl-3oIm/bin/perl
    PERL5LIB = /tmp/loop_over_bdir-1765246-QKz53E/LiquidWeb-Storm-CLI-1.03-0/blib/arch:/tmp/loop_over_bdir-1765246-QKz53E/LiquidWeb-Storm-CLI-1.03-0/blib/lib:/tmp/loop_over_bdir-1765246-QKz53E/Debian-Packages-0.03-0/blib/arch:/tmp/loop_over_bdir-1765246-QKz53E/Debian-Packages-0.03-0/blib/lib:/tmp/loop_over_bdir-1765246-QKz53E/Module-ScanDeps-Static-1.7.1-0/blib/arch:/tmp/loop_over_bdir-1765246-QKz53E/Module-ScanDeps-Static-1.7.1-0/blib/lib:/tmp/loop_over_bdir-1765246-QKz53E/Simulation-Automate-1.0.1-0/blib/arch:/tmp/loop_over_bdir-1765246-QKz53E/Simulation-Automate-1.0.1-0/blib/lib
    PERL5OPT = 
    PERL5_CPANPLUS_IS_RUNNING = 1765259
    PERL5_CPAN_IS_RUNNING = 1765259
    PERL_CANARY_STABILITY_NOPROMPT = 1
    PERL_MM_USE_DEFAULT = 1
    PERL_USE_UNSAFE_INC = 1
    SHELL = /usr/bin/zsh
    TERM = screen

Perl special variables (and OS-specific diagnostics, for MSWin32):

    $^X = /tmp/basesmoker-reloperl-3oIm/bin/perl
    $UID/$EUID = 1005 / 1005
    $GID = 1005 1005
    $EGID = 1005 1005

Perl module toolchain versions installed:

    Module              Have    
    ------------------- --------
    CPAN                2.38    
    CPAN::Meta          2.150010
    Cwd                 3.92    
    ExtUtils::CBuilder  0.280240
    ExtUtils::Command   7.70    
    ExtUtils::Install   2.22    
    ExtUtils::MakeMaker 7.70    
    ExtUtils::Manifest  1.75    
    ExtUtils::ParseXS   3.56    
    File::Spec          3.93    
    JSON                4.10    
    JSON::PP            4.16    
    Module::Build       0.4234  
    Module::Signature   0.89    
    Parse::CPAN::Meta   2.150010
    Test2               1.302204
    Test::Harness       3.50    
    Test::More          1.302204
    YAML                1.31    
    YAML::Syck          1.34    
    version             0.9933  


--

Summary of my perl5 (revision 5 version 41 subversion 6) configuration:
  Commit id: 5ae25c7756bbd08831a5a3900da1d60b7ba2c19a
  Platform:
    osname=linux
    osvers=5.4.0-200-generic
    archname=x86_64-linux
    uname='linux k93focal 5.4.0-200-generic #220-ubuntu smp fri sep 27 13:19:16 utc 2024 x86_64 x86_64 x86_64 gnulinux '
    config_args='-Dprefix=/home/sand/src/perl/repoperls/installed-perls/host/k93focal/v5.41.6/b254 -Dmyhostname=k93focal -Dinstallusrbinperl=n -Uversiononly -Dusedevel -des -Ui_db -Dlibswanted=cl pthread socket inet nsl gdbm dbm malloc dl ld sun m crypt sec util c cposix posix ucb BSD gdbm_compat -Uuseithreads -Uuselongdouble -DEBUGGING=both'
    hint=recommended
    useposix=true
    d_sigaction=define
    useithreads=undef
    usemultiplicity=undef
    use64bitint=define
    use64bitall=define
    uselongdouble=undef
    usemymalloc=n
    default_inc_excludes_dot=define
  Compiler:
    cc='cc'
    ccflags ='-fwrapv -DDEBUGGING -fno-strict-aliasing -pipe -fstack-protector-strong -I/usr/local/include -D_LARGEFILE_SOURCE -D_FILE_OFFSET_BITS=64'
    optimize='-O2 -g'
    cppflags='-fwrapv -DDEBUGGING -fno-strict-aliasing -pipe -fstack-protector-strong -I/usr/local/include'
    ccversion=''
    gccversion='9.4.0'
    gccosandvers=''
    intsize=4
    longsize=8
    ptrsize=8
    doublesize=8
    byteorder=12345678
    doublekind=3
    d_longlong=define
    longlongsize=8
    d_longdbl=define
    longdblsize=16
    longdblkind=3
    ivtype='long'
    ivsize=8
    nvtype='double'
    nvsize=8
    Off_t='off_t'
    lseeksize=8
    alignbytes=8
    prototype=define
  Linker and Libraries:
    ld='cc'
    ldflags =' -fstack-protector-strong -L/usr/local/lib'
    libpth=/usr/local/lib /usr/lib/x86_64-linux-gnu /usr/lib /usr/lib64
    libs=-lpthread -lnsl -ldl -lm -lcrypt -lutil -lc
    perllibs=-lpthread -lnsl -ldl -lm -lcrypt -lutil -lc
    libc=libc-2.31.so
    so=so
    useshrplib=false
    libperl=libperl.a
    gnulibc_version='2.31'
  Dynamic Linking:
    dlsrc=dl_dlopen.xs
    dlext=so
    d_dlsymun=undef
    ccdlflags='-Wl,-E'
    cccdlflags='-fPIC'
    lddlflags='-shared -O2 -g -L/usr/local/lib -fstack-protector-strong'


Characteristics of this binary (from libperl): 
  Compile-time options:
    DEBUGGING
    HAS_LONG_DOUBLE
    HAS_STRTOLD
    HAS_TIMES
    PERLIO_LAYERS
    PERL_COPY_ON_WRITE
    PERL_DONT_CREATE_GVSV
    PERL_HASH_FUNC_SIPHASH13
    PERL_HASH_USE_SBOX32
    PERL_MALLOC_WRAP
    PERL_OP_PARENT
    PERL_PRESERVE_IVUV
    PERL_USE_DEVEL
    PERL_USE_SAFE_PUTENV
    USE_64_BIT_ALL
    USE_64_BIT_INT
    USE_LARGE_FILES
    USE_LOCALE
    USE_LOCALE_COLLATE
    USE_LOCALE_CTYPE
    USE_LOCALE_NUMERIC
    USE_LOCALE_TIME
    USE_PERLIO
    USE_PERL_ATOF
  Built under linux
  Compiled at Nov 21 2024 13:42:59
  %ENV:
    PERL="/tmp/basesmoker-reloperl-3oIm/bin/perl"
    PERL5LIB="/tmp/loop_over_bdir-1765246-QKz53E/LiquidWeb-Storm-CLI-1.03-0/blib/arch:/tmp/loop_over_bdir-1765246-QKz53E/LiquidWeb-Storm-CLI-1.03-0/blib/lib:/tmp/loop_over_bdir-1765246-QKz53E/Debian-Packages-0.03-0/blib/arch:/tmp/loop_over_bdir-1765246-QKz53E/Debian-Packages-0.03-0/blib/lib:/tmp/loop_over_bdir-1765246-QKz53E/Module-ScanDeps-Static-1.7.1-0/blib/arch:/tmp/loop_over_bdir-1765246-QKz53E/Module-ScanDeps-Static-1.7.1-0/blib/lib:/tmp/loop_over_bdir-1765246-QKz53E/Simulation-Automate-1.0.1-0/blib/arch:/tmp/loop_over_bdir-1765246-QKz53E/Simulation-Automate-1.0.1-0/blib/lib"
    PERL5OPT=""
    PERL5_CPANPLUS_IS_RUNNING="1765259"
    PERL5_CPAN_IS_RUNNING="1765259"
    PERL_CANARY_STABILITY_NOPROMPT="1"
    PERL_MM_USE_DEFAULT="1"
    PERL_USE_UNSAFE_INC="1"
  @INC:
    /tmp/loop_over_bdir-1765246-QKz53E/LiquidWeb-Storm-CLI-1.03-0/blib/arch
    /tmp/loop_over_bdir-1765246-QKz53E/LiquidWeb-Storm-CLI-1.03-0/blib/lib
    /tmp/loop_over_bdir-1765246-QKz53E/Debian-Packages-0.03-0/blib/arch
    /tmp/loop_over_bdir-1765246-QKz53E/Debian-Packages-0.03-0/blib/lib
    /tmp/loop_over_bdir-1765246-QKz53E/Module-ScanDeps-Static-1.7.1-0/blib/arch
    /tmp/loop_over_bdir-1765246-QKz53E/Module-ScanDeps-Static-1.7.1-0/blib/lib
    /tmp/loop_over_bdir-1765246-QKz53E/Simulation-Automate-1.0.1-0/blib/arch
    /tmp/loop_over_bdir-1765246-QKz53E/Simulation-Automate-1.0.1-0/blib/lib
    /home/sand/src/perl/repoperls/installed-perls/host/k93focal/v5.41.6/b254/lib/site_perl/5.41.6/x86_64-linux
    /home/sand/src/perl/repoperls/installed-perls/host/k93focal/v5.41.6/b254/lib/site_perl/5.41.6
    /home/sand/src/perl/repoperls/installed-perls/host/k93focal/v5.41.6/b254/lib/5.41.6/x86_64-linux
    /home/sand/src/perl/repoperls/installed-perls/host/k93focal/v5.41.6/b254/lib/5.41.6
    .