App-Spanel-BuildBindZonesFromPowerDNSDB v0.002 Perl 5 v5.8.9 x86_64-linux-ld

Status
Na
From
Andreas J. König (ANDK)
Dist
App-Spanel-BuildBindZonesFromPowerDNSDB v0.002
Platform
Perl 5 v5.8.9 x86_64-linux-ld
Date
2019-08-31 08:17:05
ID
b8136ece-cbc7-11e9-bb33-c6da4fbb20a9
This distribution has been tested as part of the CPAN Testers
project, supporting the Perl programming language.  See
http://wiki.cpantesters.org/ for more information or email
questions to cpan-testers-discuss@perl.org


--
Dear perlancar,

This is a computer-generated report for App-Spanel-BuildBindZonesFromPowerDNSDB-0.002
on perl 5.8.9, created by CPAN-Reporter-1.2018.

Thank you for uploading your work to CPAN.  While attempting to build or test
this distribution, the distribution signaled that support is not available
either for this operating system or this version of Perl.  Nevertheless, any
diagnostic output produced is provided below for reference.  If this is not
what you expect, you may wish to consult the CPAN Testers Wiki:

http://wiki.cpantesters.org/wiki/CPANAuthorNotes

Sections of this report:

    * Tester comments
    * Program output
    * Prerequisites
    * Environment and other context

------------------------------
TESTER COMMENTS
------------------------------

Additional comments from tester:

this report is from an automated smoke testing program
and was not reviewed by a human for accuracy

------------------------------
PROGRAM OUTPUT
------------------------------

Output from '/usr/bin/make test':

PERL_DL_NONLAZY=1 "/home/sand/src/perl/repoperls/installed-perls/host/k93stretch/perl-5.8.9/df49/bin/perl" "-MExtUtils::Command::MM" "-MTest::Harness" "-e" "undef *Test::Harness::Switches; test_harness(0, 'blib/lib', 'blib/arch')" t/*.t
t/00-compile.............
#   Failed test 'App/Spanel/BuildBindZonesFromPowerDNSDB.pm loaded ok'
#   at t/00-compile.t line 45.
#          got: '2304'
#     expected: '0'
Perl v5.10.1 required--this is only v5.8.9, stopped at /tmp/loop_over_bdir-29537-H3Dt_A/App-Spanel-BuildBindZonesFromPowerDNSDB-0.002-0/blib/lib/App/Spanel/BuildBindZonesFromPowerDNSDB.pm line 6.
BEGIN failed--compilation aborted at /tmp/loop_over_bdir-29537-H3Dt_A/App-Spanel-BuildBindZonesFromPowerDNSDB-0.002-0/blib/lib/App/Spanel/BuildBindZonesFromPowerDNSDB.pm line 6.
Compilation failed in require at -e line 1.

#   Failed test 'script/spanel-build-bind-zones-from-powerdns-db compiled ok'
#   at t/00-compile.t line 78.
#          got: '2304'
#     expected: '0'
Perl v5.10.1 required--this is only v5.8.9, stopped at script/spanel-build-bind-zones-from-powerdns-db line 10.BEGIN failed--compilation aborted at script/spanel-build-bind-zones-from-powerdns-db line 10. at t/00-compile.t line 87, <GEN4> line 2.
# Looks like you failed 2 tests of 2.
dubious
	Test returned status 2 (wstat 512, 0x200)
DIED. FAILED tests 1-2
	Failed 2/2 tests, 0.00% okay
t/author-critic..........skipped
        all skipped: these tests are for testing by the author
t/author-pod-coverage....skipped
        all skipped: these tests are for testing by the author
t/author-pod-syntax......skipped
        all skipped: these tests are for testing by the author
t/release-rinci..........skipped
        all skipped: these tests are for release candidate testing
Failed Test    Stat Wstat Total Fail  List of Failed
-------------------------------------------------------------------------------
t/00-compile.t    2   512     2    2  1-2
4 tests skipped.
Failed 1/5 test scripts. 2/2 subtests failed.
Files=5, Tests=2,  0 wallclock secs ( 0.06 cusr +  0.04 csys =  0.10 CPU)
Failed 1/5 test programs. 2/2 subtests failed.
Makefile:899: recipe for target 'test_dynamic' failed
make: *** [test_dynamic] Error 255

------------------------------
PREREQUISITES
------------------------------

Prerequisite modules loaded:

requires:

    Module                               Need  Have    
    ------------------------------------ ----- --------
  ! Data::Sah::Compiler::perl::TH::array 0     n/a     
  ! Data::Sah::Compiler::perl::TH::bool  0     n/a     
  ! Data::Sah::Compiler::perl::TH::int   0     n/a     
  ! Data::Sah::Compiler::perl::TH::str   0     n/a     
    DBIx::Connect::Any                   0     0.001   
  ! DNS::Zone::PowerDNS::To::BIND        0     n/a     
    Log::ger                             0.027 0.028   
  ! Perinci::CmdLine::Any                0     n/a     
  ! Perinci::CmdLine::Lite               1.820 n/a     
  ! Sah::Schema::net::hostname           0     n/a     
    Sah::Schema::uint                    0     0.071   
    strict                               0     1.03    
    warnings                             0     1.05_01 

build_requires:

    Module                               Need  Have    
    ------------------------------------ ----- --------
    ExtUtils::MakeMaker                  0     7.36    
    File::Spec                           0     3.75    
    IO::Handle                           0     1.27    
    IPC::Open3                           0     1.03    
    Test::More                           0     1.302164

configure_requires:

    Module                               Need  Have    
    ------------------------------------ ----- --------
    ExtUtils::MakeMaker                  0     7.36    


------------------------------
ENVIRONMENT AND OTHER CONTEXT
------------------------------

Environment variables:

    AUTOMATED_TESTING = 1
    LANG = C
    PATH = /home/sand/bin:/usr/local/bin:/usr/bin:/bin:/usr/games:/usr/local/perl/bin:/usr/X11/bin:/sbin:/usr/sbin
    PERL5LIB = /tmp/loop_over_bdir-29537-H3Dt_A/Sah-Schemas-Int-0.071-0/blib/arch:/tmp/loop_over_bdir-29537-H3Dt_A/Sah-Schemas-Int-0.071-0/blib/lib:/tmp/loop_over_bdir-29537-H3Dt_A/NetAddr-IP-4.079-0/blib/arch:/tmp/loop_over_bdir-29537-H3Dt_A/NetAddr-IP-4.079-0/blib/lib:/tmp/loop_over_bdir-29537-H3Dt_A/File-ShareDir-Install-0.13-0/blib/arch:/tmp/loop_over_bdir-29537-H3Dt_A/File-ShareDir-Install-0.13-0/blib/lib:/tmp/loop_over_bdir-29537-H3Dt_A/DBIx-Connect-Any-0.001-0/blib/arch:/tmp/loop_over_bdir-29537-H3Dt_A/DBIx-Connect-Any-0.001-0/blib/lib:/tmp/loop_over_bdir-29537-H3Dt_A/DBIx-Connect-MySQL-0.002-0/blib/arch:/tmp/loop_over_bdir-29537-H3Dt_A/DBIx-Connect-MySQL-0.002-0/blib/lib:/tmp/loop_over_bdir-29537-H3Dt_A/Sub-Name-0.21-0/blib/arch:/tmp/loop_over_bdir-29537-H3Dt_A/Sub-Name-0.21-0/blib/lib:/tmp/loop_over_bdir-29537-H3Dt_A/Log-ger-0.028-0/blib/arch:/tmp/loop_over_bdir-29537-H3Dt_A/Log-ger-0.028-0/blib/lib:/tmp/loop_over_bdir-29537-H3Dt_A/DBI-1.642-0/blib/arch:/tmp/loop_over_bdir-29537-H3Dt_A/DBI-1.642-0/blib/lib
    PERL5OPT = 
    PERL5_CPANPLUS_IS_RUNNING = 32464
    PERL5_CPAN_IS_RUNNING = 32464
    PERL_CANARY_STABILITY_NOPROMPT = 1
    PERL_MM_USE_DEFAULT = 1
    PERL_USE_UNSAFE_INC = 1
    SHELL = /usr/bin/zsh
    TERM = screen

Perl special variables (and OS-specific diagnostics, for MSWin32):

    $^X = /home/sand/src/perl/repoperls/installed-perls/host/k93stretch/perl-5.8.9/df49/bin/perl
    $UID/$EUID = 1005 / 1005
    $GID = 1005 1005
    $EGID = 1005 1005

Perl module toolchain versions installed:

    Module              Have    
    ------------------- --------
    CPAN                2.26    
    CPAN::Meta          2.150010
    Cwd                 3.75    
    ExtUtils::CBuilder  0.280231
    ExtUtils::Command   7.36    
    ExtUtils::Install   2.06    
    ExtUtils::MakeMaker 7.36    
    ExtUtils::Manifest  1.70    
    ExtUtils::ParseXS   2.19    
    File::Spec          3.75    
    JSON                n/a     
    JSON::PP            4.02    
    Module::Build       n/a     
    Module::Signature   n/a     
    Parse::CPAN::Meta   2.150010
    Test::Harness       2.64    
    Test::More          1.302164
    YAML                n/a     
    YAML::Syck          n/a     
    version             0.9924  


--

Summary of my perl5 (revision 5 version 8 subversion 9) configuration:
  Platform:
    osname=linux, osvers=4.9.0-8-amd64, archname=x86_64-linux-ld
    uname='linux k93stretch 4.9.0-8-amd64 #1 smp debian 4.9.144-3 (2019-02-02) x86_64 gnulinux '
    config_args='-Dprefix=/home/sand/src/perl/repoperls/installed-perls/host/k93stretch/perl-5.8.9/df49 -Dmyhostname=k93stretch -Dinstallusrbinperl=n -Uversiononly -Dusedevel -des -Ui_db -Dlibswanted=cl pthread socket inet nsl gdbm dbm malloc dl ld sun m crypt sec util c cposix posix ucb BSD gdbm_compat -Uuseithreads -Duselongdouble -Doptimize=-g'
    hint=recommended, useposix=true, d_sigaction=define
    usethreads=undef use5005threads=undef useithreads=undef usemultiplicity=undef
    useperlio=define d_sfio=undef uselargefiles=define usesocks=undef
    use64bitint=define use64bitall=define uselongdouble=define
    usemymalloc=n, bincompat5005=undef
  Compiler:
    cc='cc', ccflags ='-fwrapv -DDEBUGGING -fno-strict-aliasing -pipe -I/usr/local/include -D_LARGEFILE_SOURCE -D_FILE_OFFSET_BITS=64',
    optimize='-g',
    cppflags='-fwrapv -DDEBUGGING -fno-strict-aliasing -pipe -I/usr/local/include'
    ccversion='', gccversion='6.3.0 20170516', gccosandvers=''
    intsize=4, longsize=8, ptrsize=8, doublesize=8, byteorder=12345678
    d_longlong=define, longlongsize=8, d_longdbl=define, longdblsize=16
    ivtype='long', ivsize=8, nvtype='long double', nvsize=16, Off_t='off_t', lseeksize=8
    alignbytes=16, prototype=define
  Linker and Libraries:
    ld='cc', ldflags =' -L/usr/local/lib'
    libpth=/usr/local/lib /lib/x86_64-linux-gnu /lib/../lib /usr/lib/x86_64-linux-gnu /usr/lib/../lib /lib /usr/lib
    libs=-lpthread -lnsl -ldl -lm -lcrypt -lutil -lc
    perllibs=-lpthread -lnsl -ldl -lm -lcrypt -lutil -lc
    libc=libc-2.24.so, so=so, useshrplib=false, libperl=libperl.a
    gnulibc_version='2.24'
  Dynamic Linking:
    dlsrc=dl_dlopen.xs, dlext=so, d_dlsymun=undef, ccdlflags='-Wl,-E'
    cccdlflags='-fPIC', lddlflags='-shared -g -L/usr/local/lib'


Characteristics of this binary (from libperl): 
  Compile-time options: DEBUGGING PERL_MALLOC_WRAP USE_64_BIT_ALL
                        USE_64_BIT_INT USE_FAST_STDIO USE_LARGE_FILES
                        USE_LONG_DOUBLE USE_PERLIO
  Built under linux
  Compiled at May 25 2019 22:11:29
  %ENV:
    PERL5LIB="/tmp/loop_over_bdir-29537-H3Dt_A/Sah-Schemas-Int-0.071-0/blib/arch:/tmp/loop_over_bdir-29537-H3Dt_A/Sah-Schemas-Int-0.071-0/blib/lib:/tmp/loop_over_bdir-29537-H3Dt_A/NetAddr-IP-4.079-0/blib/arch:/tmp/loop_over_bdir-29537-H3Dt_A/NetAddr-IP-4.079-0/blib/lib:/tmp/loop_over_bdir-29537-H3Dt_A/File-ShareDir-Install-0.13-0/blib/arch:/tmp/loop_over_bdir-29537-H3Dt_A/File-ShareDir-Install-0.13-0/blib/lib:/tmp/loop_over_bdir-29537-H3Dt_A/DBIx-Connect-Any-0.001-0/blib/arch:/tmp/loop_over_bdir-29537-H3Dt_A/DBIx-Connect-Any-0.001-0/blib/lib:/tmp/loop_over_bdir-29537-H3Dt_A/DBIx-Connect-MySQL-0.002-0/blib/arch:/tmp/loop_over_bdir-29537-H3Dt_A/DBIx-Connect-MySQL-0.002-0/blib/lib:/tmp/loop_over_bdir-29537-H3Dt_A/Sub-Name-0.21-0/blib/arch:/tmp/loop_over_bdir-29537-H3Dt_A/Sub-Name-0.21-0/blib/lib:/tmp/loop_over_bdir-29537-H3Dt_A/Log-ger-0.028-0/blib/arch:/tmp/loop_over_bdir-29537-H3Dt_A/Log-ger-0.028-0/blib/lib:/tmp/loop_over_bdir-29537-H3Dt_A/DBI-1.642-0/blib/arch:/tmp/loop_over_bdir-29537-H3Dt_A/DBI-1.642-0/blib/lib"
    PERL5OPT=""
    PERL5_CPANPLUS_IS_RUNNING="32464"
    PERL5_CPAN_IS_RUNNING="32464"
    PERL_CANARY_STABILITY_NOPROMPT="1"
    PERL_MM_USE_DEFAULT="1"
    PERL_USE_UNSAFE_INC="1"
  @INC:
    /tmp/loop_over_bdir-29537-H3Dt_A/Sah-Schemas-Int-0.071-0/blib/arch
    /tmp/loop_over_bdir-29537-H3Dt_A/Sah-Schemas-Int-0.071-0/blib/lib
    /tmp/loop_over_bdir-29537-H3Dt_A/NetAddr-IP-4.079-0/blib/arch
    /tmp/loop_over_bdir-29537-H3Dt_A/NetAddr-IP-4.079-0/blib/lib
    /tmp/loop_over_bdir-29537-H3Dt_A/File-ShareDir-Install-0.13-0/blib/arch
    /tmp/loop_over_bdir-29537-H3Dt_A/File-ShareDir-Install-0.13-0/blib/lib
    /tmp/loop_over_bdir-29537-H3Dt_A/DBIx-Connect-Any-0.001-0/blib/arch
    /tmp/loop_over_bdir-29537-H3Dt_A/DBIx-Connect-Any-0.001-0/blib/lib
    /tmp/loop_over_bdir-29537-H3Dt_A/DBIx-Connect-MySQL-0.002-0/blib/arch
    /tmp/loop_over_bdir-29537-H3Dt_A/DBIx-Connect-MySQL-0.002-0/blib/lib
    /tmp/loop_over_bdir-29537-H3Dt_A/Sub-Name-0.21-0/blib/arch
    /tmp/loop_over_bdir-29537-H3Dt_A/Sub-Name-0.21-0/blib/lib
    /tmp/loop_over_bdir-29537-H3Dt_A/Log-ger-0.028-0/blib/arch
    /tmp/loop_over_bdir-29537-H3Dt_A/Log-ger-0.028-0/blib/lib
    /tmp/loop_over_bdir-29537-H3Dt_A/DBI-1.642-0/blib/arch
    /tmp/loop_over_bdir-29537-H3Dt_A/DBI-1.642-0/blib/lib
    /home/sand/src/perl/repoperls/installed-perls/host/k93stretch/perl-5.8.9/df49/lib/5.8.9/x86_64-linux-ld
    /home/sand/src/perl/repoperls/installed-perls/host/k93stretch/perl-5.8.9/df49/lib/5.8.9
    /home/sand/src/perl/repoperls/installed-perls/host/k93stretch/perl-5.8.9/df49/lib/site_perl/5.8.9/x86_64-linux-ld
    /home/sand/src/perl/repoperls/installed-perls/host/k93stretch/perl-5.8.9/df49/lib/site_perl/5.8.9
    .