Back
From: metabase:user:e3434da8-b236-11df-85ca-0247c6d74bde
Subject: PASS XML-Atom-Service-v0.16.1 v5.13.6 GNU/Linux
Date: 2010-10-24T19:05:51Z
This distribution has been tested as part of the CPAN Testers
project, supporting the Perl programming language. See
http://wiki.cpantesters.org/ for more information or email
questions to cpan-testers-discuss@perl.org
--
Dear Takeru INOUE,
This is a computer-generated report for XML-Atom-Service-v0.16.1
on perl 5.13.6, created by CPAN-Reporter-1.1803.
Thank you for uploading your work to CPAN. Congratulations!
All tests were successful.
Sections of this report:
* Tester comments
* Program output
* Prerequisites
* Environment and other context
------------------------------
TESTER COMMENTS
------------------------------
Additional comments from tester:
this report is from an automated smoke testing program
and was not reviewed by a human for accuracy
------------------------------
PROGRAM OUTPUT
------------------------------
Output from './Build test':
Use of qw(...) as parentheses is deprecated at /home/cpt0/.cpan/build/XML-Atom-Service-v0.16.1-oeQ3xQ/blib/lib/XML/Atom/Atompub.pm line 63.
# Testing XML::Atom::Service 0.16.1
t/00.load.t ........ ok
Use of qw(...) as parentheses is deprecated at /home/cpt0/.cpan/build/XML-Atom-Service-v0.16.1-oeQ3xQ/blib/lib/XML/Atom/Atompub.pm line 63.
t/01.namespace.t ... ok
Use of qw(...) as parentheses is deprecated at /home/cpt0/.cpan/build/XML-Atom-Service-v0.16.1-oeQ3xQ/blib/lib/XML/Atom/Atompub.pm line 63.
t/02.categories.t .. ok
Use of qw(...) as parentheses is deprecated at /home/cpt0/.cpan/build/XML-Atom-Service-v0.16.1-oeQ3xQ/blib/lib/XML/Atom/Atompub.pm line 63.
t/03.collection.t .. ok
Use of qw(...) as parentheses is deprecated at /home/cpt0/.cpan/build/XML-Atom-Service-v0.16.1-oeQ3xQ/blib/lib/XML/Atom/Atompub.pm line 63.
t/04.workspace.t ... ok
Use of qw(...) as parentheses is deprecated at /home/cpt0/.cpan/build/XML-Atom-Service-v0.16.1-oeQ3xQ/blib/lib/XML/Atom/Atompub.pm line 63.
t/05.service.t ..... ok
Use of qw(...) as parentheses is deprecated at /home/cpt0/.cpan/build/XML-Atom-Service-v0.16.1-oeQ3xQ/blib/lib/XML/Atom/Atompub.pm line 63.
t/06.atompub.t ..... ok
t/perlcritic.t ..... skipped: $ENV{TEST_CRITIC} must be set to enable this test
Use of qw(...) as parentheses is deprecated at /home/cpt0/.cpan/build/XML-Atom-Service-v0.16.1-oeQ3xQ/blib/lib/XML/Atom/Atompub.pm line 63.
t/pod-coverage.t ... ok
t/pod.t ............ ok
All tests successful.
Files=10, Tests=120, 1 wallclock secs ( 0.07 usr 0.02 sys + 0.95 cusr 0.20 csys = 1.24 CPU)
Result: PASS
------------------------------
PREREQUISITES
------------------------------
Prerequisite modules loaded:
requires:
Module Need Have
---------------- ---- -------
version 0 0.83
XML::Atom 0.27 0.37
build_requires:
Module Need Have
---------------- ---- -------
Test::More 0 0.97_01
Test::NoWarnings 0 1.02
configure_requires:
Module Need Have
---------------- ---- -------
Module::Build 0.36 0.3607
------------------------------
ENVIRONMENT AND OTHER CONTEXT
------------------------------
Environment variables:
AUTOMATED_TESTING = 1
LANG = en_US.utf8
PATH = /usr/local/bin:/usr/bin:/bin:/usr/local/games:/usr/games
PERL5LIB = /home/cpt0/.cpan/build/XML-Atom-0.37-spLHim/blib/arch:/home/cpt0/.cpan/build/XML-Atom-0.37-spLHim/blib/lib:/home/cpt0/.cpan/build/XML-XPath-1.13-lu0HbV/blib/arch:/home/cpt0/.cpan/build/XML-XPath-1.13-lu0HbV/blib/lib:/home/cpt0/.cpan/build/XML-LibXML-1.70-ORB5wI/blib/arch:/home/cpt0/.cpan/build/XML-LibXML-1.70-ORB5wI/blib/lib:/home/cpt0/.cpan/build/XML-SAX-0.96-BaCNIy/blib/arch:/home/cpt0/.cpan/build/XML-SAX-0.96-BaCNIy/blib/lib:/home/cpt0/.cpan/build/XML-NamespaceSupport-1.11-5u1N1M/blib/arch:/home/cpt0/.cpan/build/XML-NamespaceSupport-1.11-5u1N1M/blib/lib:/home/cpt0/.cpan/build/DateTime-0.63-MKxkMU/blib/arch:/home/cpt0/.cpan/build/DateTime-0.63-MKxkMU/blib/lib:/home/cpt0/.cpan/build/DateTime-TimeZone-1.22-IG5yi7/blib/arch:/home/cpt0/.cpan/build/DateTime-TimeZone-1.22-IG5yi7/blib/lib:/home/cpt0/.cpan/build/DateTime-Locale-0.45-merOPB/blib/arch:/home/cpt0/.cpan/build/DateTime-Locale-0.45-merOPB/blib/lib
PERL5OPT =
PERL5_CPANPLUS_IS_RUNNING = 4447
PERL5_CPAN_IS_RUNNING = 4447
PERL5_CPAN_IS_RUNNING_IN_RECURSION = 24707,4447
PERL_CR_SMOKER_CURRENT = Atompub-0.3.4
PERL_EXTUTILS_AUTOINSTALL = --defaultdeps
PERL_MM_USE_DEFAULT = 1
SHELL = /bin/bash
TERM = screen-bce
Perl special variables (and OS-specific diagnostics, for MSWin32):
$^X = /home/cpt0/cpantesting/perl-5.13.6/bin/perl
$UID/$EUID = 1001 / 1001
$GID = 1001 20 24 25 27 29 30 44 46 100 102 106 112 114 1001
$EGID = 1001 20 24 25 27 29 30 44 46 100 102 106 112 114 1001
Perl module toolchain versions installed:
Module Have
------------------- -------
CPAN 1.94_61
Cwd 3.34
ExtUtils::CBuilder 0.2703
ExtUtils::Command 1.16
ExtUtils::Install 1.55
ExtUtils::MakeMaker 6.57_05
ExtUtils::Manifest 1.58
ExtUtils::ParseXS 2.2207
File::Spec 3.33
Module::Build 0.3607
Module::Signature n/a
Test::Harness 3.22
Test::More 0.97_01
YAML n/a
YAML::Syck 1.15
version 0.83
--
Summary of my perl5 (revision 5 version 13 subversion 6) configuration:
Platform:
osname=linux, osvers=2.6.34-0.slh.9-sidux-amd64, archname=x86_64-linux
uname='linux verona 2.6.34-0.slh.9-sidux-amd64 #1 smp preempt sat jun 12 23:27:41 utc 2010 x86_64 gnulinux '
config_args='-Dprefix=/home/cpt0/cpantesting/perl-5.13.6'
hint=recommended, useposix=true, d_sigaction=define
useithreads=undef, usemultiplicity=undef
useperlio=define, d_sfio=undef, uselargefiles=define, usesocks=undef
use64bitint=define, use64bitall=define, uselongdouble=undef
usemymalloc=n, bincompat5005=undef
Compiler:
cc='cc', ccflags ='-fno-strict-aliasing -pipe -fstack-protector -I/usr/local/include -D_LARGEFILE_SOURCE -D_FILE_OFFSET_BITS=64',
optimize='-O2',
cppflags='-fno-strict-aliasing -pipe -fstack-protector -I/usr/local/include'
ccversion='', gccversion='4.4.5 20100909 (prerelease)', gccosandvers=''
intsize=4, longsize=8, ptrsize=8, doublesize=8, byteorder=12345678
d_longlong=define, longlongsize=8, d_longdbl=define, longdblsize=16
ivtype='long', ivsize=8, nvtype='double', nvsize=8, Off_t='off_t', lseeksize=8
alignbytes=8, prototype=define
Linker and Libraries:
ld='cc', ldflags =' -fstack-protector -L/usr/local/lib'
libpth=/usr/local/lib /lib /usr/lib /lib64 /usr/lib64
libs=-lnsl -lgdbm -ldb -ldl -lm -lcrypt -lutil -lc -lgdbm_compat
perllibs=-lnsl -ldl -lm -lcrypt -lutil -lc
libc=/lib/libc-2.11.1.so, so=so, useshrplib=false, libperl=libperl.a
gnulibc_version='2.11.1'
Dynamic Linking:
dlsrc=dl_dlopen.xs, dlext=so, d_dlsymun=undef, ccdlflags='-Wl,-E'
cccdlflags='-fPIC', lddlflags='-shared -O2 -L/usr/local/lib -fstack-protector'
Characteristics of this binary (from libperl):
Compile-time options: PERL_DONT_CREATE_GVSV PERL_MALLOC_WRAP USE_64_BIT_ALL
USE_64_BIT_INT USE_LARGE_FILES USE_PERLIO
USE_PERL_ATOF
Built under linux
Compiled at Oct 24 2010 01:52:24
%ENV:
PERL5LIB="/home/cpt0/.cpan/build/XML-Atom-0.37-spLHim/blib/arch:/home/cpt0/.cpan/build/XML-Atom-0.37-spLHim/blib/lib:/home/cpt0/.cpan/build/XML-XPath-1.13-lu0HbV/blib/arch:/home/cpt0/.cpan/build/XML-XPath-1.13-lu0HbV/blib/lib:/home/cpt0/.cpan/build/XML-LibXML-1.70-ORB5wI/blib/arch:/home/cpt0/.cpan/build/XML-LibXML-1.70-ORB5wI/blib/lib:/home/cpt0/.cpan/build/XML-SAX-0.96-BaCNIy/blib/arch:/home/cpt0/.cpan/build/XML-SAX-0.96-BaCNIy/blib/lib:/home/cpt0/.cpan/build/XML-NamespaceSupport-1.11-5u1N1M/blib/arch:/home/cpt0/.cpan/build/XML-NamespaceSupport-1.11-5u1N1M/blib/lib:/home/cpt0/.cpan/build/DateTime-0.63-MKxkMU/blib/arch:/home/cpt0/.cpan/build/DateTime-0.63-MKxkMU/blib/lib:/home/cpt0/.cpan/build/DateTime-TimeZone-1.22-IG5yi7/blib/arch:/home/cpt0/.cpan/build/DateTime-TimeZone-1.22-IG5yi7/blib/lib:/home/cpt0/.cpan/build/DateTime-Locale-0.45-merOPB/blib/arch:/home/cpt0/.cpan/build/DateTime-Locale-0.45-merOPB/blib/lib"
PERL5OPT=""
PERL5_CPANPLUS_IS_RUNNING="4447"
PERL5_CPAN_IS_RUNNING="4447"
PERL5_CPAN_IS_RUNNING_IN_RECURSION="24707,4447"
PERL_CR_SMOKER_CURRENT="Atompub-0.3.4"
PERL_EXTUTILS_AUTOINSTALL="--defaultdeps"
PERL_MM_USE_DEFAULT="1"
@INC:
/home/cpt0/.cpan/build/XML-Atom-0.37-spLHim/blib/arch
/home/cpt0/.cpan/build/XML-Atom-0.37-spLHim/blib/lib
/home/cpt0/.cpan/build/XML-XPath-1.13-lu0HbV/blib/arch
/home/cpt0/.cpan/build/XML-XPath-1.13-lu0HbV/blib/lib
/home/cpt0/.cpan/build/XML-LibXML-1.70-ORB5wI/blib/arch
/home/cpt0/.cpan/build/XML-LibXML-1.70-ORB5wI/blib/lib
/home/cpt0/.cpan/build/XML-SAX-0.96-BaCNIy/blib/arch
/home/cpt0/.cpan/build/XML-SAX-0.96-BaCNIy/blib/lib
/home/cpt0/.cpan/build/XML-NamespaceSupport-1.11-5u1N1M/blib/arch
/home/cpt0/.cpan/build/XML-NamespaceSupport-1.11-5u1N1M/blib/lib
/home/cpt0/.cpan/build/DateTime-0.63-MKxkMU/blib/arch
/home/cpt0/.cpan/build/DateTime-0.63-MKxkMU/blib/lib
/home/cpt0/.cpan/build/DateTime-TimeZone-1.22-IG5yi7/blib/arch
/home/cpt0/.cpan/build/DateTime-TimeZone-1.22-IG5yi7/blib/lib
/home/cpt0/.cpan/build/DateTime-Locale-0.45-merOPB/blib/arch
/home/cpt0/.cpan/build/DateTime-Locale-0.45-merOPB/blib/lib
/home/cpt0/cpantesting/perl-5.13.6/lib/site_perl/5.13.6/x86_64-linux
/home/cpt0/cpantesting/perl-5.13.6/lib/site_perl/5.13.6
/home/cpt0/cpantesting/perl-5.13.6/lib/5.13.6/x86_64-linux
/home/cpt0/cpantesting/perl-5.13.6/lib/5.13.6
.