Report for Elasticsearch-0.76

Back
From: metabase:user:30f4dfbe-2aae-11df-837a-5e0a49663a4f
Subject: PASS Elasticsearch-0.76 v5.14.4 GNU/Linux
Date: 2013-12-03T04:45:22Z

This distribution has been tested as part of the CPAN Testers
project, supporting the Perl programming language.  See
http://wiki.cpantesters.org/ for more information or email
questions to cpan-testers-discuss@perl.org


--
Dear Clinton Gormley,

This is a computer-generated report for Elasticsearch-0.76
on perl 5.14.4, created by CPAN-Reporter-1.2010.

Thank you for uploading your work to CPAN.  Congratulations!
All tests were successful.

Sections of this report:

    * Tester comments
    * Program output
    * Prerequisites
    * Environment and other context

------------------------------
TESTER COMMENTS
------------------------------

Additional comments from tester:

this report is from an automated smoke testing program
and was not reviewed by a human for accuracy

------------------------------
PROGRAM OUTPUT
------------------------------

Output from '/usr/bin/make test':

PERL_DL_NONLAZY=1 /home/njh/perl5/perlbrew/perls/perl-5.14.4/bin/perl "-MExtUtils::Command::MM" "-MTest::Harness" "-e" "undef *Test::Harness::Switches; test_harness(0, 'blib/lib', 'blib/arch')" t/*.t t/10_Basic/*.t t/20_Serializer/*.t t/30_Logger/*.t t/40_Transport/*.t t/50_Cxn_Pool/*.t t/60_Cxn/*.t t/70_Helper/*.t t/90_Client_Spec/*.t
t/10_Basic/10_load.t .......................... ok
t/20_Serializer/10_encode_decode.t ............ ok
t/20_Serializer/20_encode_bulk.t .............. ok
t/20_Serializer/30_encode_pretty.t ............ ok
Current cxns: ['http://localhost:9200']
Forcing ping before next use on all live cxns
Ping [http://localhost:9200] before next request
t/30_Logger/10_explicit.t ..................... ok
Current cxns: ['http://localhost:9200']
Forcing ping before next use on all live cxns
Ping [http://localhost:9200] before next request
t/30_Logger/20_implicit.t ..................... ok
t/30_Logger/30_log_methods.t .................. ok
t/30_Logger/40_trace_request.t ................ ok
t/30_Logger/50_trace_response.t ............... ok
t/30_Logger/60_trace_error.t .................. ok
t/30_Logger/70_trace_comment.t ................ ok
t/40_Transport/10_tidy_request.t .............. ok
t/40_Transport/20_send_body_as.t .............. ok
t/40_Transport/30_perform_request.t ........... ok
t/50_Cxn_Pool/10_static_normal.t .............. ok
t/50_Cxn_Pool/11_static_node_missing.t ........ ok
t/50_Cxn_Pool/12_static_node_fails.t .......... ok
t/50_Cxn_Pool/13_static_node_timesout.t ....... ok
t/50_Cxn_Pool/14_static_both_nodes_timeout.t .. ok
t/50_Cxn_Pool/15_static_both_nodes_fail.t ..... ok
t/50_Cxn_Pool/16_static_nodes_starting.t ...... ok
t/50_Cxn_Pool/17_static_runaway_nodes.t ....... ok
t/50_Cxn_Pool/30_sniff_normal.t ............... ok
t/50_Cxn_Pool/31_sniff_new_nodes.t ............ ok
t/50_Cxn_Pool/32_sniff_node_fails.t ........... ok
t/50_Cxn_Pool/33_sniff_both_nodes_fail.t ...... ok
t/50_Cxn_Pool/34_sniff_node_timeout.t ......... ok
t/50_Cxn_Pool/35_sniff_both_nodes_timeout.t ... ok
t/50_Cxn_Pool/36_sniff_nodes_starting.t ....... ok
t/50_Cxn_Pool/37_sniff_runaway_nodes.t ........ ok
t/50_Cxn_Pool/38_bad_sniff.t .................. ok
t/50_Cxn_Pool/39_sniff_max_content.t .......... ok
t/50_Cxn_Pool/50_noping_normal.t .............. ok
t/50_Cxn_Pool/51_noping_node_fails.t .......... ok
t/50_Cxn_Pool/52_noping_node_timesout.t ....... ok
t/50_Cxn_Pool/53_noping_all_nodes_fail.t ...... ok
t/50_Cxn_Pool/54_noping_nodes_starting.t ...... ok
t/50_Cxn_Pool/55_noping_runaway_nodes.t ....... ok
t/50_Cxn_Pool/56_max_retries.t ................ ok
t/60_Cxn/10_basic.t ........................... ok
t/60_Cxn/20_process_response.t ................ ok
t/60_Cxn/30_http.t ............................ ok
t/70_Helper/10_bulk_add_action.t .............. skipped: No Elasticsearch test node available
t/70_Helper/20_bulk_helpers.t ................. skipped: No Elasticsearch test node available
t/70_Helper/30_bulk_flush.t ................... skipped: No Elasticsearch test node available
t/70_Helper/40_bulk_errors.t .................. skipped: No Elasticsearch test node available
t/70_Helper/50_scroll.t ....................... skipped: No Elasticsearch test node available
t/70_Helper/60_reindex.t ...................... skipped: No Elasticsearch test node available
t/90_Client_Spec/00_print_version.t ........... skipped: No Elasticsearch test node available
t/90_Client_Spec/01_check_all_tests.t ......... ok
t/90_Client_Spec/bulk.t ....................... skipped: No Elasticsearch test node available
t/90_Client_Spec/cluster.node_info.t .......... skipped: No Elasticsearch test node available
t/90_Client_Spec/cluster.node_stats.t ......... skipped: No Elasticsearch test node available
t/90_Client_Spec/cluster.put_settings.t ....... skipped: No Elasticsearch test node available
t/90_Client_Spec/cluster.reroute.t ............ skipped: No Elasticsearch test node available
t/90_Client_Spec/cluster.state.t .............. skipped: No Elasticsearch test node available
t/90_Client_Spec/create.t ..................... skipped: No Elasticsearch test node available
t/90_Client_Spec/delete.t ..................... skipped: No Elasticsearch test node available
t/90_Client_Spec/delete_by_query.t ............ skipped: No Elasticsearch test node available
t/90_Client_Spec/exists.t ..................... skipped: No Elasticsearch test node available
t/90_Client_Spec/explain.t .................... skipped: No Elasticsearch test node available
t/90_Client_Spec/get.t ........................ skipped: No Elasticsearch test node available
t/90_Client_Spec/get_source.t ................. skipped: No Elasticsearch test node available
t/90_Client_Spec/index.t ...................... skipped: No Elasticsearch test node available
t/90_Client_Spec/indices.analyze.t ............ skipped: No Elasticsearch test node available
t/90_Client_Spec/indices.clear_cache.t ........ skipped: No Elasticsearch test node available
t/90_Client_Spec/indices.delete_alias.t ....... skipped: No Elasticsearch test node available
t/90_Client_Spec/indices.delete_mapping.t ..... skipped: No Elasticsearch test node available
t/90_Client_Spec/indices.exists.t ............. skipped: No Elasticsearch test node available
t/90_Client_Spec/indices.get_field_mapping.t .. skipped: No Elasticsearch test node available
t/90_Client_Spec/indices.get_mapping.t ........ skipped: No Elasticsearch test node available
t/90_Client_Spec/indices.get_template.t ....... skipped: No Elasticsearch test node available
t/90_Client_Spec/indices.open.t ............... skipped: No Elasticsearch test node available
t/90_Client_Spec/indices.optimize.t ........... skipped: No Elasticsearch test node available
t/90_Client_Spec/indices.put_alias.t .......... skipped: No Elasticsearch test node available
t/90_Client_Spec/indices.put_mapping.t ........ skipped: No Elasticsearch test node available
t/90_Client_Spec/indices.put_settings.t ....... skipped: No Elasticsearch test node available
t/90_Client_Spec/indices.put_template.t ....... skipped: No Elasticsearch test node available
t/90_Client_Spec/indices.put_warmer.t ......... skipped: No Elasticsearch test node available
t/90_Client_Spec/indices.segments.t ........... skipped: No Elasticsearch test node available
t/90_Client_Spec/indices.snapshot_index.t ..... skipped: No Elasticsearch test node available
t/90_Client_Spec/indices.stats.t .............. skipped: No Elasticsearch test node available
t/90_Client_Spec/indices.status.t ............. skipped: No Elasticsearch test node available
t/90_Client_Spec/indices.update_aliases.t ..... skipped: No Elasticsearch test node available
t/90_Client_Spec/indices.validate_query.t ..... skipped: No Elasticsearch test node available
t/90_Client_Spec/info.t ....................... skipped: No Elasticsearch test node available
t/90_Client_Spec/mget.t ....................... skipped: No Elasticsearch test node available
t/90_Client_Spec/mlt.t ........................ skipped: No Elasticsearch test node available
t/90_Client_Spec/msearch.t .................... skipped: No Elasticsearch test node available
t/90_Client_Spec/percolate.t .................. skipped: No Elasticsearch test node available
t/90_Client_Spec/ping.t ....................... skipped: No Elasticsearch test node available
t/90_Client_Spec/scroll.t ..................... skipped: No Elasticsearch test node available
t/90_Client_Spec/search.t ..................... skipped: No Elasticsearch test node available
t/90_Client_Spec/suggest.t .................... skipped: No Elasticsearch test node available
t/90_Client_Spec/update.t ..................... skipped: No Elasticsearch test node available
t/release-eol.t ............................... skipped: these tests are for release candidate testing
t/release-no-tabs.t ........................... skipped: these tests are for release candidate testing
t/release-pod-syntax.t ........................ skipped: these tests are for release candidate testing
All tests successful.
Files=98, Tests=377,  6 wallclock secs ( 0.17 usr  0.04 sys +  5.16 cusr  0.50 csys =  5.87 CPU)
Result: PASS

------------------------------
PREREQUISITES
------------------------------

Prerequisite modules loaded:

requires:

    Module                      Need  Have    
    --------------------------- ----- --------
    Any::URI::Escape            0     0.01    
    Data::Dumper                0     2.145   
    Encode                      0     2.55    
    File::Temp                  0     0.2301  
    HTTP::Headers               0     6.05    
    HTTP::Request               0     6.00    
    HTTP::Tiny                  0.036 0.039   
    IO::Select                  0     1.20    
    IO::Socket                  0     1.32    
    IO::Socket::SSL             0     1.954   
    IO::Uncompress::Inflate     0     2.062   
    JSON                        0     2.59    
    List::Util                  0     1.32    
    Log::Any                    0     0.15    
    Log::Any::Adapter           0     0.11    
    LWP::UserAgent              0     6.05    
    MIME::Base64                0     3.14    
    Module::Runtime             0     0.013   
    Moo                         1.003 1.003001
    Moo::Role                   0     1.003001
    namespace::clean            0     0.24    
    overload                    0     1.13    
    POSIX                       0     1.24    
    Scalar::Util                0     1.32    
    strict                      0     1.04    
    Sub::Exporter               0     0.986   
    Time::HiRes                 0     1.9726  
    Try::Tiny                   0     0.18    
    URI                         0     1.60    
    warnings                    0     1.12    

build_requires:

    Module                      Need  Have    
    --------------------------- ----- --------
    Exporter                    0     5.68    
    File::Basename              0     2.82    
    lib                         0     0.63    
    Log::Any::Adapter::Callback 0     0.07    
    Test::Deep                  0     0.110   
    Test::Exception             0     0.32    
    Test::More                  0.98  0.98    
    YAML                        0     0.84    

configure_requires:

    Module                      Need  Have    
    --------------------------- ----- --------
    ExtUtils::MakeMaker         6.30  6.82    


------------------------------
ENVIRONMENT AND OTHER CONTEXT
------------------------------

Environment variables:

    AUTOMATED_TESTING = 1
    LANG = en_GB.UTF-8
    LANGUAGE = en_GB:en
    LD_LIBRARY_PATH = /usr/local/lib::
    PATH = /home/njh/perl5/perlbrew/bin:/home/njh/perl5/perlbrew/perls/perl-5.14.4/bin:/home/njh/perl5/perlbrew/bin:/usr/local/bin:/usr/bin:/bin:/usr/local/games:/usr/games:/home/njh/bin:/sbin
    PERL5LIB = /home/njh/.cpan/build/Any-URI-Escape-0.01-WzzhE3/blib/arch:/home/njh/.cpan/build/Any-URI-Escape-0.01-WzzhE3/blib/lib:/home/njh/.cpan/build/HTTP-Tiny-0.039-JUsfuD/blib/arch:/home/njh/.cpan/build/HTTP-Tiny-0.039-JUsfuD/blib/lib:/home/njh/.cpan/build/Log-Any-Adapter-Callback-0.07-mQKIhG/blib/arch:/home/njh/.cpan/build/Log-Any-Adapter-Callback-0.07-mQKIhG/blib/lib:/home/njh/.cpan/build/Log-Any-Adapter-0.11-_TunbN/blib/arch:/home/njh/.cpan/build/Log-Any-Adapter-0.11-_TunbN/blib/lib:/home/njh/.cpan/build/Guard-1.022-4CBmn9/blib/arch:/home/njh/.cpan/build/Guard-1.022-4CBmn9/blib/lib
    PERL5OPT = 
    PERL5_CPANPLUS_IS_RUNNING = 2023
    PERL5_CPAN_IS_RUNNING = 2023
    PERL5_MINISMOKEBOX = 0.58
    PERLBREW_BASHRC_VERSION = 0.58
    PERLBREW_HOME = /home/njh/.perlbrew
    PERLBREW_MANPATH = /home/njh/perl5/perlbrew/perls/perl-5.14.4/man
    PERLBREW_PATH = /home/njh/perl5/perlbrew/bin:/home/njh/perl5/perlbrew/perls/perl-5.14.4/bin
    PERLBREW_PERL = perl-5.14.4
    PERLBREW_ROOT = /home/njh/perl5/perlbrew
    PERLBREW_VERSION = 0.67
    PERL_EXTUTILS_AUTOINSTALL = --defaultdeps
    PERL_MM_USE_DEFAULT = 1
    SHELL = /bin/bash
    TERM = linux

Perl special variables (and OS-specific diagnostics, for MSWin32):

    $^X = /home/njh/perl5/perlbrew/perls/perl-5.14.4/bin/perl
    $UID/$EUID = 1000 / 1000
    $GID = 1000 4 24 25 29 30 44 46 108 112 1000
    $EGID = 1000 4 24 25 29 30 44 46 108 112 1000

Perl module toolchain versions installed:

    Module              Have    
    ------------------- --------
    CPAN                2.00    
    CPAN::Meta          2.132830
    Cwd                 3.40    
    ExtUtils::CBuilder  0.280212
    ExtUtils::Command   1.18    
    ExtUtils::Install   1.56    
    ExtUtils::MakeMaker 6.82    
    ExtUtils::Manifest  1.63    
    ExtUtils::ParseXS   3.22    
    File::Spec          3.40    
    JSON                2.59    
    JSON::PP            2.27203 
    Module::Build       0.4007  
    Module::Signature   0.73    
    Parse::CPAN::Meta   1.4409  
    Test::Harness       3.29    
    Test::More          0.98    
    YAML                0.84    
    YAML::Syck          1.27    
    version             0.9904  


--

Summary of my perl5 (revision 5 version 14 subversion 4) configuration:
   
  Platform:
    osname=linux, osvers=3.2.0-4-amd64, archname=x86_64-linux-thread-multi
    uname='linux nigelhorne.force9.co.uk 3.2.0-4-amd64 #1 smp debian 3.2.32-1 x86_64 gnulinux '
    config_args='-de -Dprefix=/home/njh/perl5/perlbrew/perls/perl-5.14.4 -Duseithreads -Dusemultiplicity -Accflags=-O2 -W -Wformat=2 -Wswitch -Wshadow -Wwrite-strings -Wuninitialized -Wall -pipe -mtune=native -march=native -fomit-frame-pointer -msse2 -msse -mmmx -mfpmath=sse -pedantic -D_FORTIFY_SOURCE=2 -Wpointer-arith -Wstrict-prototypes -fstack-protector -Wstack-protector -Wextra -Wbad-function-cast -Wcast-align -Wcast-qual -Wdisabled-optimization -Wendif-labels -Wfloat-equal -Wformat-nonliteral -Winline -Wmissing-declarations -Wmissing-prototypes -Wnested-externs -Wpointer-arith -Wundef -Wformat-security -Aeval:scriptdir=/home/njh/perl5/perlbrew/perls/perl-5.14.4/bin'
    hint=recommended, useposix=true, d_sigaction=define
    useithreads=define, usemultiplicity=define
    useperlio=define, d_sfio=undef, uselargefiles=define, usesocks=undef
    use64bitint=define, use64bitall=define, uselongdouble=undef
    usemymalloc=n, bincompat5005=undef
  Compiler:
    cc='cc', ccflags ='-D_REENTRANT -D_GNU_SOURCE -O2 -W -Wformat=2 -Wswitch -Wshadow -Wwrite-strings -Wuninitialized -Wall -pipe -mtune=native -march=native -fomit-frame-pointer -msse2 -msse -mmmx -mfpmath=sse -pedantic -D_FORTIFY_SOURCE=2 -Wpointer-arith -Wstrict-prototypes -fstack-protector -Wstack-protector -Wextra -Wbad-function-cast -Wcast-align -Wcast-qual -Wdisabled-optimization -Wendif-labels -Wfloat-equal -Wformat-nonliteral -Winline -Wmissing-declarations -Wmissing-prototypes -Wnested-externs -Wpointer-arith -Wundef -Wformat-security -fno-strict-aliasing -I/usr/local/include -D_LARGEFILE_SOURCE -D_FILE_OFFSET_BITS=64',
    optimize='-O2',
    cppflags='-D_REENTRANT -D_GNU_SOURCE -O2 -W -Wformat=2 -Wswitch -Wshadow -Wwrite-strings -Wuninitialized -Wall -pipe -mtune=native -march=native -fomit-frame-pointer -msse2 -msse -mmmx -mfpmath=sse -pedantic -D_FORTIFY_SOURCE=2 -Wpointer-arith -Wstrict-prototypes -fstack-protector -Wstack-protector -Wextra -Wbad-function-cast -Wcast-align -Wcast-qual -Wdisabled-optimization -Wendif-labels -Wfloat-equal -Wformat-nonliteral -Winline -Wmissing-declarations -Wmissing-prototypes -Wnested-externs -Wpointer-arith -Wundef -Wformat-security -fno-strict-aliasing -I/usr/local/include'
    ccversion='', gccversion='4.7.2', gccosandvers=''
    intsize=4, longsize=8, ptrsize=8, doublesize=8, byteorder=12345678
    d_longlong=define, longlongsize=8, d_longdbl=define, longdblsize=16
    ivtype='long', ivsize=8, nvtype='double', nvsize=8, Off_t='off_t', lseeksize=8
    alignbytes=8, prototype=define
  Linker and Libraries:
    ld='cc', ldflags =' -fstack-protector -L/usr/local/lib'
    libpth=/usr/local/lib /lib/x86_64-linux-gnu /lib/../lib /usr/lib/x86_64-linux-gnu /usr/lib/../lib /lib /usr/lib
    libs=-lnsl -lgdbm -ldb -ldl -lm -lcrypt -lutil -lpthread -lc -lgdbm_compat
    perllibs=-lnsl -ldl -lm -lcrypt -lutil -lpthread -lc
    libc=, so=so, useshrplib=false, libperl=libperl.a
    gnulibc_version='2.13'
  Dynamic Linking:
    dlsrc=dl_dlopen.xs, dlext=so, d_dlsymun=undef, ccdlflags='-Wl,-E'
    cccdlflags='-fPIC', lddlflags='-shared -O2 -L/usr/local/lib -fstack-protector'


Characteristics of this binary (from libperl): 
  Compile-time options: MULTIPLICITY PERL_DONT_CREATE_GVSV
                        PERL_IMPLICIT_CONTEXT PERL_MALLOC_WRAP
                        PERL_PRESERVE_IVUV USE_64_BIT_ALL USE_64_BIT_INT
                        USE_ITHREADS USE_LARGE_FILES USE_PERLIO USE_PERL_ATOF
                        USE_REENTRANT_API
  Built under linux
  Compiled at Mar 11 2013 11:00:48
  %ENV:
    PERL5LIB="/home/njh/.cpan/build/Any-URI-Escape-0.01-WzzhE3/blib/arch:/home/njh/.cpan/build/Any-URI-Escape-0.01-WzzhE3/blib/lib:/home/njh/.cpan/build/HTTP-Tiny-0.039-JUsfuD/blib/arch:/home/njh/.cpan/build/HTTP-Tiny-0.039-JUsfuD/blib/lib:/home/njh/.cpan/build/Log-Any-Adapter-Callback-0.07-mQKIhG/blib/arch:/home/njh/.cpan/build/Log-Any-Adapter-Callback-0.07-mQKIhG/blib/lib:/home/njh/.cpan/build/Log-Any-Adapter-0.11-_TunbN/blib/arch:/home/njh/.cpan/build/Log-Any-Adapter-0.11-_TunbN/blib/lib:/home/njh/.cpan/build/Guard-1.022-4CBmn9/blib/arch:/home/njh/.cpan/build/Guard-1.022-4CBmn9/blib/lib"
    PERL5OPT=""
    PERL5_CPANPLUS_IS_RUNNING="2023"
    PERL5_CPAN_IS_RUNNING="2023"
    PERL5_MINISMOKEBOX="0.58"
    PERLBREW_BASHRC_VERSION="0.58"
    PERLBREW_HOME="/home/njh/.perlbrew"
    PERLBREW_MANPATH="/home/njh/perl5/perlbrew/perls/perl-5.14.4/man"
    PERLBREW_PATH="/home/njh/perl5/perlbrew/bin:/home/njh/perl5/perlbrew/perls/perl-5.14.4/bin"
    PERLBREW_PERL="perl-5.14.4"
    PERLBREW_ROOT="/home/njh/perl5/perlbrew"
    PERLBREW_VERSION="0.67"
    PERL_EXTUTILS_AUTOINSTALL="--defaultdeps"
    PERL_MM_USE_DEFAULT="1"
  @INC:
    /home/njh/.cpan/build/Any-URI-Escape-0.01-WzzhE3/blib/arch
    /home/njh/.cpan/build/Any-URI-Escape-0.01-WzzhE3/blib/lib
    /home/njh/.cpan/build/HTTP-Tiny-0.039-JUsfuD/blib/arch
    /home/njh/.cpan/build/HTTP-Tiny-0.039-JUsfuD/blib/lib
    /home/njh/.cpan/build/Log-Any-Adapter-Callback-0.07-mQKIhG/blib/arch
    /home/njh/.cpan/build/Log-Any-Adapter-Callback-0.07-mQKIhG/blib/lib
    /home/njh/.cpan/build/Log-Any-Adapter-0.11-_TunbN/blib/arch
    /home/njh/.cpan/build/Log-Any-Adapter-0.11-_TunbN/blib/lib
    /home/njh/.cpan/build/Guard-1.022-4CBmn9/blib/arch
    /home/njh/.cpan/build/Guard-1.022-4CBmn9/blib/lib
    /home/njh/perl5/perlbrew/perls/perl-5.14.4/lib/site_perl/5.14.4/x86_64-linux-thread-multi
    /home/njh/perl5/perlbrew/perls/perl-5.14.4/lib/site_perl/5.14.4
    /home/njh/perl5/perlbrew/perls/perl-5.14.4/lib/5.14.4/x86_64-linux-thread-multi
    /home/njh/perl5/perlbrew/perls/perl-5.14.4/lib/5.14.4
    .