Report for SQL-Exec-0.10

Back
From: metabase:user:5cdeb204-f309-11e2-bd07-4d68c2968487
Subject: PASS SQL-Exec-0.10 v5.18.0 GNU/Linux
Date: 2013-08-12T05:33:28Z

This distribution has been tested as part of the CPAN Testers
project, supporting the Perl programming language.  See
http://wiki.cpantesters.org/ for more information or email
questions to cpan-testers-discuss@perl.org


--
Dear Mathias Kende,

This is a computer-generated report for SQL-Exec-0.10
on perl 5.18.0, created by CPAN-Reporter-1.2010.

Thank you for uploading your work to CPAN.  Congratulations!
All tests were successful.

Sections of this report:

    * Tester comments
    * Program output
    * Prerequisites
    * Environment and other context

------------------------------
TESTER COMMENTS
------------------------------

Additional comments from tester:

this report is from an automated smoke testing program
and was not reviewed by a human for accuracy

------------------------------
PROGRAM OUTPUT
------------------------------

Output from '/usr/bin/make test':

PERL_DL_NONLAZY=1 /home/fperrad/perl5/perlbrew/perls/perl-5.18.0/bin/perl "-MExtUtils::Command::MM" "-e" "test_harness(0, 'blib/lib', 'blib/arch')" t/*.t
given is experimental at /home/fperrad/.cpan/build/SQL-Exec-0.10-FzzVEc/blib/lib/SQL/Exec.pm line 1218.
when is experimental at /home/fperrad/.cpan/build/SQL-Exec-0.10-FzzVEc/blib/lib/SQL/Exec.pm line 1219.
when is experimental at /home/fperrad/.cpan/build/SQL-Exec-0.10-FzzVEc/blib/lib/SQL/Exec.pm line 1220.
when is experimental at /home/fperrad/.cpan/build/SQL-Exec-0.10-FzzVEc/blib/lib/SQL/Exec.pm line 1221.
when is experimental at /home/fperrad/.cpan/build/SQL-Exec-0.10-FzzVEc/blib/lib/SQL/Exec.pm line 1222.
when is experimental at /home/fperrad/.cpan/build/SQL-Exec-0.10-FzzVEc/blib/lib/SQL/Exec.pm line 1227.
when is experimental at /home/fperrad/.cpan/build/SQL-Exec-0.10-FzzVEc/blib/lib/SQL/Exec.pm line 1228.
when is experimental at /home/fperrad/.cpan/build/SQL-Exec-0.10-FzzVEc/blib/lib/SQL/Exec.pm line 1233.
when is experimental at /home/fperrad/.cpan/build/SQL-Exec-0.10-FzzVEc/blib/lib/SQL/Exec.pm line 1238.
when is experimental at /home/fperrad/.cpan/build/SQL-Exec-0.10-FzzVEc/blib/lib/SQL/Exec.pm line 1239.
when is experimental at /home/fperrad/.cpan/build/SQL-Exec-0.10-FzzVEc/blib/lib/SQL/Exec.pm line 1240.
when is experimental at /home/fperrad/.cpan/build/SQL-Exec-0.10-FzzVEc/blib/lib/SQL/Exec.pm line 1241.
when is experimental at /home/fperrad/.cpan/build/SQL-Exec-0.10-FzzVEc/blib/lib/SQL/Exec.pm line 1242.
when is experimental at /home/fperrad/.cpan/build/SQL-Exec-0.10-FzzVEc/blib/lib/SQL/Exec.pm line 1243.
given is experimental at /home/fperrad/.cpan/build/Test-Subs-0.08-3aNShW/blib/lib/Test/Subs.pm line 324.
when is experimental at /home/fperrad/.cpan/build/Test-Subs-0.08-3aNShW/blib/lib/Test/Subs.pm line 325.
when is experimental at /home/fperrad/.cpan/build/Test-Subs-0.08-3aNShW/blib/lib/Test/Subs.pm line 329.
when is experimental at /home/fperrad/.cpan/build/Test-Subs-0.08-3aNShW/blib/lib/Test/Subs.pm line 333.
Smartmatch is experimental at t/bind_params.t line 45.
Smartmatch is experimental at t/bind_params.t line 49.
Smartmatch is experimental at t/bind_params.t line 57.
t/bind_params.t ........ ok
given is experimental at /home/fperrad/.cpan/build/SQL-Exec-0.10-FzzVEc/blib/lib/SQL/Exec.pm line 1218.
when is experimental at /home/fperrad/.cpan/build/SQL-Exec-0.10-FzzVEc/blib/lib/SQL/Exec.pm line 1219.
when is experimental at /home/fperrad/.cpan/build/SQL-Exec-0.10-FzzVEc/blib/lib/SQL/Exec.pm line 1220.
when is experimental at /home/fperrad/.cpan/build/SQL-Exec-0.10-FzzVEc/blib/lib/SQL/Exec.pm line 1221.
when is experimental at /home/fperrad/.cpan/build/SQL-Exec-0.10-FzzVEc/blib/lib/SQL/Exec.pm line 1222.
when is experimental at /home/fperrad/.cpan/build/SQL-Exec-0.10-FzzVEc/blib/lib/SQL/Exec.pm line 1227.
when is experimental at /home/fperrad/.cpan/build/SQL-Exec-0.10-FzzVEc/blib/lib/SQL/Exec.pm line 1228.
when is experimental at /home/fperrad/.cpan/build/SQL-Exec-0.10-FzzVEc/blib/lib/SQL/Exec.pm line 1233.
when is experimental at /home/fperrad/.cpan/build/SQL-Exec-0.10-FzzVEc/blib/lib/SQL/Exec.pm line 1238.
when is experimental at /home/fperrad/.cpan/build/SQL-Exec-0.10-FzzVEc/blib/lib/SQL/Exec.pm line 1239.
when is experimental at /home/fperrad/.cpan/build/SQL-Exec-0.10-FzzVEc/blib/lib/SQL/Exec.pm line 1240.
when is experimental at /home/fperrad/.cpan/build/SQL-Exec-0.10-FzzVEc/blib/lib/SQL/Exec.pm line 1241.
when is experimental at /home/fperrad/.cpan/build/SQL-Exec-0.10-FzzVEc/blib/lib/SQL/Exec.pm line 1242.
when is experimental at /home/fperrad/.cpan/build/SQL-Exec-0.10-FzzVEc/blib/lib/SQL/Exec.pm line 1243.
given is experimental at /home/fperrad/.cpan/build/Test-Subs-0.08-3aNShW/blib/lib/Test/Subs.pm line 324.
when is experimental at /home/fperrad/.cpan/build/Test-Subs-0.08-3aNShW/blib/lib/Test/Subs.pm line 325.
when is experimental at /home/fperrad/.cpan/build/Test-Subs-0.08-3aNShW/blib/lib/Test/Subs.pm line 329.
when is experimental at /home/fperrad/.cpan/build/Test-Subs-0.08-3aNShW/blib/lib/Test/Subs.pm line 333.
t/count.t .............. ok
given is experimental at /home/fperrad/.cpan/build/SQL-Exec-0.10-FzzVEc/blib/lib/SQL/Exec.pm line 1218.
when is experimental at /home/fperrad/.cpan/build/SQL-Exec-0.10-FzzVEc/blib/lib/SQL/Exec.pm line 1219.
when is experimental at /home/fperrad/.cpan/build/SQL-Exec-0.10-FzzVEc/blib/lib/SQL/Exec.pm line 1220.
when is experimental at /home/fperrad/.cpan/build/SQL-Exec-0.10-FzzVEc/blib/lib/SQL/Exec.pm line 1221.
when is experimental at /home/fperrad/.cpan/build/SQL-Exec-0.10-FzzVEc/blib/lib/SQL/Exec.pm line 1222.
when is experimental at /home/fperrad/.cpan/build/SQL-Exec-0.10-FzzVEc/blib/lib/SQL/Exec.pm line 1227.
when is experimental at /home/fperrad/.cpan/build/SQL-Exec-0.10-FzzVEc/blib/lib/SQL/Exec.pm line 1228.
when is experimental at /home/fperrad/.cpan/build/SQL-Exec-0.10-FzzVEc/blib/lib/SQL/Exec.pm line 1233.
when is experimental at /home/fperrad/.cpan/build/SQL-Exec-0.10-FzzVEc/blib/lib/SQL/Exec.pm line 1238.
when is experimental at /home/fperrad/.cpan/build/SQL-Exec-0.10-FzzVEc/blib/lib/SQL/Exec.pm line 1239.
when is experimental at /home/fperrad/.cpan/build/SQL-Exec-0.10-FzzVEc/blib/lib/SQL/Exec.pm line 1240.
when is experimental at /home/fperrad/.cpan/build/SQL-Exec-0.10-FzzVEc/blib/lib/SQL/Exec.pm line 1241.
when is experimental at /home/fperrad/.cpan/build/SQL-Exec-0.10-FzzVEc/blib/lib/SQL/Exec.pm line 1242.
when is experimental at /home/fperrad/.cpan/build/SQL-Exec-0.10-FzzVEc/blib/lib/SQL/Exec.pm line 1243.
given is experimental at /home/fperrad/.cpan/build/Test-Subs-0.08-3aNShW/blib/lib/Test/Subs.pm line 324.
when is experimental at /home/fperrad/.cpan/build/Test-Subs-0.08-3aNShW/blib/lib/Test/Subs.pm line 325.
when is experimental at /home/fperrad/.cpan/build/Test-Subs-0.08-3aNShW/blib/lib/Test/Subs.pm line 329.
when is experimental at /home/fperrad/.cpan/build/Test-Subs-0.08-3aNShW/blib/lib/Test/Subs.pm line 333.
Smartmatch is experimental at t/execute_multiple.t line 22.
Smartmatch is experimental at t/execute_multiple.t line 38.
Smartmatch is experimental at t/execute_multiple.t line 46.
Smartmatch is experimental at t/execute_multiple.t line 54.
t/execute_multiple.t ... ok
given is experimental at /home/fperrad/.cpan/build/SQL-Exec-0.10-FzzVEc/blib/lib/SQL/Exec.pm line 1218.
when is experimental at /home/fperrad/.cpan/build/SQL-Exec-0.10-FzzVEc/blib/lib/SQL/Exec.pm line 1219.
when is experimental at /home/fperrad/.cpan/build/SQL-Exec-0.10-FzzVEc/blib/lib/SQL/Exec.pm line 1220.
when is experimental at /home/fperrad/.cpan/build/SQL-Exec-0.10-FzzVEc/blib/lib/SQL/Exec.pm line 1221.
when is experimental at /home/fperrad/.cpan/build/SQL-Exec-0.10-FzzVEc/blib/lib/SQL/Exec.pm line 1222.
when is experimental at /home/fperrad/.cpan/build/SQL-Exec-0.10-FzzVEc/blib/lib/SQL/Exec.pm line 1227.
when is experimental at /home/fperrad/.cpan/build/SQL-Exec-0.10-FzzVEc/blib/lib/SQL/Exec.pm line 1228.
when is experimental at /home/fperrad/.cpan/build/SQL-Exec-0.10-FzzVEc/blib/lib/SQL/Exec.pm line 1233.
when is experimental at /home/fperrad/.cpan/build/SQL-Exec-0.10-FzzVEc/blib/lib/SQL/Exec.pm line 1238.
when is experimental at /home/fperrad/.cpan/build/SQL-Exec-0.10-FzzVEc/blib/lib/SQL/Exec.pm line 1239.
when is experimental at /home/fperrad/.cpan/build/SQL-Exec-0.10-FzzVEc/blib/lib/SQL/Exec.pm line 1240.
when is experimental at /home/fperrad/.cpan/build/SQL-Exec-0.10-FzzVEc/blib/lib/SQL/Exec.pm line 1241.
when is experimental at /home/fperrad/.cpan/build/SQL-Exec-0.10-FzzVEc/blib/lib/SQL/Exec.pm line 1242.
when is experimental at /home/fperrad/.cpan/build/SQL-Exec-0.10-FzzVEc/blib/lib/SQL/Exec.pm line 1243.
given is experimental at /home/fperrad/.cpan/build/Test-Subs-0.08-3aNShW/blib/lib/Test/Subs.pm line 324.
when is experimental at /home/fperrad/.cpan/build/Test-Subs-0.08-3aNShW/blib/lib/Test/Subs.pm line 325.
when is experimental at /home/fperrad/.cpan/build/Test-Subs-0.08-3aNShW/blib/lib/Test/Subs.pm line 329.
when is experimental at /home/fperrad/.cpan/build/Test-Subs-0.08-3aNShW/blib/lib/Test/Subs.pm line 333.
Smartmatch is experimental at t/execute_split.t line 17.
t/execute_split.t ...... ok
given is experimental at /home/fperrad/.cpan/build/SQL-Exec-0.10-FzzVEc/blib/lib/SQL/Exec.pm line 1218.
when is experimental at /home/fperrad/.cpan/build/SQL-Exec-0.10-FzzVEc/blib/lib/SQL/Exec.pm line 1219.
when is experimental at /home/fperrad/.cpan/build/SQL-Exec-0.10-FzzVEc/blib/lib/SQL/Exec.pm line 1220.
when is experimental at /home/fperrad/.cpan/build/SQL-Exec-0.10-FzzVEc/blib/lib/SQL/Exec.pm line 1221.
when is experimental at /home/fperrad/.cpan/build/SQL-Exec-0.10-FzzVEc/blib/lib/SQL/Exec.pm line 1222.
when is experimental at /home/fperrad/.cpan/build/SQL-Exec-0.10-FzzVEc/blib/lib/SQL/Exec.pm line 1227.
when is experimental at /home/fperrad/.cpan/build/SQL-Exec-0.10-FzzVEc/blib/lib/SQL/Exec.pm line 1228.
when is experimental at /home/fperrad/.cpan/build/SQL-Exec-0.10-FzzVEc/blib/lib/SQL/Exec.pm line 1233.
when is experimental at /home/fperrad/.cpan/build/SQL-Exec-0.10-FzzVEc/blib/lib/SQL/Exec.pm line 1238.
when is experimental at /home/fperrad/.cpan/build/SQL-Exec-0.10-FzzVEc/blib/lib/SQL/Exec.pm line 1239.
when is experimental at /home/fperrad/.cpan/build/SQL-Exec-0.10-FzzVEc/blib/lib/SQL/Exec.pm line 1240.
when is experimental at /home/fperrad/.cpan/build/SQL-Exec-0.10-FzzVEc/blib/lib/SQL/Exec.pm line 1241.
when is experimental at /home/fperrad/.cpan/build/SQL-Exec-0.10-FzzVEc/blib/lib/SQL/Exec.pm line 1242.
when is experimental at /home/fperrad/.cpan/build/SQL-Exec-0.10-FzzVEc/blib/lib/SQL/Exec.pm line 1243.
given is experimental at /home/fperrad/.cpan/build/Test-Subs-0.08-3aNShW/blib/lib/Test/Subs.pm line 324.
when is experimental at /home/fperrad/.cpan/build/Test-Subs-0.08-3aNShW/blib/lib/Test/Subs.pm line 325.
when is experimental at /home/fperrad/.cpan/build/Test-Subs-0.08-3aNShW/blib/lib/Test/Subs.pm line 329.
when is experimental at /home/fperrad/.cpan/build/Test-Subs-0.08-3aNShW/blib/lib/Test/Subs.pm line 333.
Smartmatch is experimental at t/export.t line 19.
Smartmatch is experimental at t/export.t line 23.
t/export.t ............. ok
given is experimental at /home/fperrad/.cpan/build/SQL-Exec-0.10-FzzVEc/blib/lib/SQL/Exec.pm line 1218.
when is experimental at /home/fperrad/.cpan/build/SQL-Exec-0.10-FzzVEc/blib/lib/SQL/Exec.pm line 1219.
when is experimental at /home/fperrad/.cpan/build/SQL-Exec-0.10-FzzVEc/blib/lib/SQL/Exec.pm line 1220.
when is experimental at /home/fperrad/.cpan/build/SQL-Exec-0.10-FzzVEc/blib/lib/SQL/Exec.pm line 1221.
when is experimental at /home/fperrad/.cpan/build/SQL-Exec-0.10-FzzVEc/blib/lib/SQL/Exec.pm line 1222.
when is experimental at /home/fperrad/.cpan/build/SQL-Exec-0.10-FzzVEc/blib/lib/SQL/Exec.pm line 1227.
when is experimental at /home/fperrad/.cpan/build/SQL-Exec-0.10-FzzVEc/blib/lib/SQL/Exec.pm line 1228.
when is experimental at /home/fperrad/.cpan/build/SQL-Exec-0.10-FzzVEc/blib/lib/SQL/Exec.pm line 1233.
when is experimental at /home/fperrad/.cpan/build/SQL-Exec-0.10-FzzVEc/blib/lib/SQL/Exec.pm line 1238.
when is experimental at /home/fperrad/.cpan/build/SQL-Exec-0.10-FzzVEc/blib/lib/SQL/Exec.pm line 1239.
when is experimental at /home/fperrad/.cpan/build/SQL-Exec-0.10-FzzVEc/blib/lib/SQL/Exec.pm line 1240.
when is experimental at /home/fperrad/.cpan/build/SQL-Exec-0.10-FzzVEc/blib/lib/SQL/Exec.pm line 1241.
when is experimental at /home/fperrad/.cpan/build/SQL-Exec-0.10-FzzVEc/blib/lib/SQL/Exec.pm line 1242.
when is experimental at /home/fperrad/.cpan/build/SQL-Exec-0.10-FzzVEc/blib/lib/SQL/Exec.pm line 1243.
given is experimental at /home/fperrad/.cpan/build/Test-Subs-0.08-3aNShW/blib/lib/Test/Subs.pm line 324.
when is experimental at /home/fperrad/.cpan/build/Test-Subs-0.08-3aNShW/blib/lib/Test/Subs.pm line 325.
when is experimental at /home/fperrad/.cpan/build/Test-Subs-0.08-3aNShW/blib/lib/Test/Subs.pm line 329.
when is experimental at /home/fperrad/.cpan/build/Test-Subs-0.08-3aNShW/blib/lib/Test/Subs.pm line 333.
Smartmatch is experimental at t/file.t line 28.
t/file.t ............... ok
given is experimental at /home/fperrad/.cpan/build/SQL-Exec-0.10-FzzVEc/blib/lib/SQL/Exec.pm line 1218.
when is experimental at /home/fperrad/.cpan/build/SQL-Exec-0.10-FzzVEc/blib/lib/SQL/Exec.pm line 1219.
when is experimental at /home/fperrad/.cpan/build/SQL-Exec-0.10-FzzVEc/blib/lib/SQL/Exec.pm line 1220.
when is experimental at /home/fperrad/.cpan/build/SQL-Exec-0.10-FzzVEc/blib/lib/SQL/Exec.pm line 1221.
when is experimental at /home/fperrad/.cpan/build/SQL-Exec-0.10-FzzVEc/blib/lib/SQL/Exec.pm line 1222.
when is experimental at /home/fperrad/.cpan/build/SQL-Exec-0.10-FzzVEc/blib/lib/SQL/Exec.pm line 1227.
when is experimental at /home/fperrad/.cpan/build/SQL-Exec-0.10-FzzVEc/blib/lib/SQL/Exec.pm line 1228.
when is experimental at /home/fperrad/.cpan/build/SQL-Exec-0.10-FzzVEc/blib/lib/SQL/Exec.pm line 1233.
when is experimental at /home/fperrad/.cpan/build/SQL-Exec-0.10-FzzVEc/blib/lib/SQL/Exec.pm line 1238.
when is experimental at /home/fperrad/.cpan/build/SQL-Exec-0.10-FzzVEc/blib/lib/SQL/Exec.pm line 1239.
when is experimental at /home/fperrad/.cpan/build/SQL-Exec-0.10-FzzVEc/blib/lib/SQL/Exec.pm line 1240.
when is experimental at /home/fperrad/.cpan/build/SQL-Exec-0.10-FzzVEc/blib/lib/SQL/Exec.pm line 1241.
when is experimental at /home/fperrad/.cpan/build/SQL-Exec-0.10-FzzVEc/blib/lib/SQL/Exec.pm line 1242.
when is experimental at /home/fperrad/.cpan/build/SQL-Exec-0.10-FzzVEc/blib/lib/SQL/Exec.pm line 1243.
given is experimental at /home/fperrad/.cpan/build/Test-Subs-0.08-3aNShW/blib/lib/Test/Subs.pm line 324.
when is experimental at /home/fperrad/.cpan/build/Test-Subs-0.08-3aNShW/blib/lib/Test/Subs.pm line 325.
when is experimental at /home/fperrad/.cpan/build/Test-Subs-0.08-3aNShW/blib/lib/Test/Subs.pm line 329.
when is experimental at /home/fperrad/.cpan/build/Test-Subs-0.08-3aNShW/blib/lib/Test/Subs.pm line 333.
Smartmatch is experimental at t/get_columns.t line 16.
Smartmatch is experimental at t/get_columns.t line 20.
Smartmatch is experimental at t/get_columns.t line 24.
Smartmatch is experimental at t/get_columns.t line 28.
Smartmatch is experimental at t/get_columns.t line 32.
Smartmatch is experimental at t/get_columns.t line 36.
Smartmatch is experimental at t/get_columns.t line 48.
Smartmatch is experimental at t/get_columns.t line 52.
Smartmatch is experimental at t/get_columns.t line 56.
Smartmatch is experimental at t/get_columns.t line 60.
Smartmatch is experimental at t/get_columns.t line 64.
Smartmatch is experimental at t/get_columns.t line 68.
t/get_columns.t ........ ok
given is experimental at /home/fperrad/.cpan/build/SQL-Exec-0.10-FzzVEc/blib/lib/SQL/Exec.pm line 1218.
when is experimental at /home/fperrad/.cpan/build/SQL-Exec-0.10-FzzVEc/blib/lib/SQL/Exec.pm line 1219.
when is experimental at /home/fperrad/.cpan/build/SQL-Exec-0.10-FzzVEc/blib/lib/SQL/Exec.pm line 1220.
when is experimental at /home/fperrad/.cpan/build/SQL-Exec-0.10-FzzVEc/blib/lib/SQL/Exec.pm line 1221.
when is experimental at /home/fperrad/.cpan/build/SQL-Exec-0.10-FzzVEc/blib/lib/SQL/Exec.pm line 1222.
when is experimental at /home/fperrad/.cpan/build/SQL-Exec-0.10-FzzVEc/blib/lib/SQL/Exec.pm line 1227.
when is experimental at /home/fperrad/.cpan/build/SQL-Exec-0.10-FzzVEc/blib/lib/SQL/Exec.pm line 1228.
when is experimental at /home/fperrad/.cpan/build/SQL-Exec-0.10-FzzVEc/blib/lib/SQL/Exec.pm line 1233.
when is experimental at /home/fperrad/.cpan/build/SQL-Exec-0.10-FzzVEc/blib/lib/SQL/Exec.pm line 1238.
when is experimental at /home/fperrad/.cpan/build/SQL-Exec-0.10-FzzVEc/blib/lib/SQL/Exec.pm line 1239.
when is experimental at /home/fperrad/.cpan/build/SQL-Exec-0.10-FzzVEc/blib/lib/SQL/Exec.pm line 1240.
when is experimental at /home/fperrad/.cpan/build/SQL-Exec-0.10-FzzVEc/blib/lib/SQL/Exec.pm line 1241.
when is experimental at /home/fperrad/.cpan/build/SQL-Exec-0.10-FzzVEc/blib/lib/SQL/Exec.pm line 1242.
when is experimental at /home/fperrad/.cpan/build/SQL-Exec-0.10-FzzVEc/blib/lib/SQL/Exec.pm line 1243.
given is experimental at /home/fperrad/.cpan/build/Test-Subs-0.08-3aNShW/blib/lib/Test/Subs.pm line 324.
when is experimental at /home/fperrad/.cpan/build/Test-Subs-0.08-3aNShW/blib/lib/Test/Subs.pm line 325.
when is experimental at /home/fperrad/.cpan/build/Test-Subs-0.08-3aNShW/blib/lib/Test/Subs.pm line 329.
when is experimental at /home/fperrad/.cpan/build/Test-Subs-0.08-3aNShW/blib/lib/Test/Subs.pm line 333.
t/multi_handle.t ....... ok
given is experimental at /home/fperrad/.cpan/build/SQL-Exec-0.10-FzzVEc/blib/lib/SQL/Exec.pm line 1218.
when is experimental at /home/fperrad/.cpan/build/SQL-Exec-0.10-FzzVEc/blib/lib/SQL/Exec.pm line 1219.
when is experimental at /home/fperrad/.cpan/build/SQL-Exec-0.10-FzzVEc/blib/lib/SQL/Exec.pm line 1220.
when is experimental at /home/fperrad/.cpan/build/SQL-Exec-0.10-FzzVEc/blib/lib/SQL/Exec.pm line 1221.
when is experimental at /home/fperrad/.cpan/build/SQL-Exec-0.10-FzzVEc/blib/lib/SQL/Exec.pm line 1222.
when is experimental at /home/fperrad/.cpan/build/SQL-Exec-0.10-FzzVEc/blib/lib/SQL/Exec.pm line 1227.
when is experimental at /home/fperrad/.cpan/build/SQL-Exec-0.10-FzzVEc/blib/lib/SQL/Exec.pm line 1228.
when is experimental at /home/fperrad/.cpan/build/SQL-Exec-0.10-FzzVEc/blib/lib/SQL/Exec.pm line 1233.
when is experimental at /home/fperrad/.cpan/build/SQL-Exec-0.10-FzzVEc/blib/lib/SQL/Exec.pm line 1238.
when is experimental at /home/fperrad/.cpan/build/SQL-Exec-0.10-FzzVEc/blib/lib/SQL/Exec.pm line 1239.
when is experimental at /home/fperrad/.cpan/build/SQL-Exec-0.10-FzzVEc/blib/lib/SQL/Exec.pm line 1240.
when is experimental at /home/fperrad/.cpan/build/SQL-Exec-0.10-FzzVEc/blib/lib/SQL/Exec.pm line 1241.
when is experimental at /home/fperrad/.cpan/build/SQL-Exec-0.10-FzzVEc/blib/lib/SQL/Exec.pm line 1242.
when is experimental at /home/fperrad/.cpan/build/SQL-Exec-0.10-FzzVEc/blib/lib/SQL/Exec.pm line 1243.
given is experimental at /home/fperrad/.cpan/build/Test-Subs-0.08-3aNShW/blib/lib/Test/Subs.pm line 324.
when is experimental at /home/fperrad/.cpan/build/Test-Subs-0.08-3aNShW/blib/lib/Test/Subs.pm line 325.
when is experimental at /home/fperrad/.cpan/build/Test-Subs-0.08-3aNShW/blib/lib/Test/Subs.pm line 329.
when is experimental at /home/fperrad/.cpan/build/Test-Subs-0.08-3aNShW/blib/lib/Test/Subs.pm line 333.
t/query_hashes.t ....... ok
given is experimental at /home/fperrad/.cpan/build/SQL-Exec-0.10-FzzVEc/blib/lib/SQL/Exec.pm line 1218.
when is experimental at /home/fperrad/.cpan/build/SQL-Exec-0.10-FzzVEc/blib/lib/SQL/Exec.pm line 1219.
when is experimental at /home/fperrad/.cpan/build/SQL-Exec-0.10-FzzVEc/blib/lib/SQL/Exec.pm line 1220.
when is experimental at /home/fperrad/.cpan/build/SQL-Exec-0.10-FzzVEc/blib/lib/SQL/Exec.pm line 1221.
when is experimental at /home/fperrad/.cpan/build/SQL-Exec-0.10-FzzVEc/blib/lib/SQL/Exec.pm line 1222.
when is experimental at /home/fperrad/.cpan/build/SQL-Exec-0.10-FzzVEc/blib/lib/SQL/Exec.pm line 1227.
when is experimental at /home/fperrad/.cpan/build/SQL-Exec-0.10-FzzVEc/blib/lib/SQL/Exec.pm line 1228.
when is experimental at /home/fperrad/.cpan/build/SQL-Exec-0.10-FzzVEc/blib/lib/SQL/Exec.pm line 1233.
when is experimental at /home/fperrad/.cpan/build/SQL-Exec-0.10-FzzVEc/blib/lib/SQL/Exec.pm line 1238.
when is experimental at /home/fperrad/.cpan/build/SQL-Exec-0.10-FzzVEc/blib/lib/SQL/Exec.pm line 1239.
when is experimental at /home/fperrad/.cpan/build/SQL-Exec-0.10-FzzVEc/blib/lib/SQL/Exec.pm line 1240.
when is experimental at /home/fperrad/.cpan/build/SQL-Exec-0.10-FzzVEc/blib/lib/SQL/Exec.pm line 1241.
when is experimental at /home/fperrad/.cpan/build/SQL-Exec-0.10-FzzVEc/blib/lib/SQL/Exec.pm line 1242.
when is experimental at /home/fperrad/.cpan/build/SQL-Exec-0.10-FzzVEc/blib/lib/SQL/Exec.pm line 1243.
given is experimental at /home/fperrad/.cpan/build/Test-Subs-0.08-3aNShW/blib/lib/Test/Subs.pm line 324.
when is experimental at /home/fperrad/.cpan/build/Test-Subs-0.08-3aNShW/blib/lib/Test/Subs.pm line 325.
when is experimental at /home/fperrad/.cpan/build/Test-Subs-0.08-3aNShW/blib/lib/Test/Subs.pm line 329.
when is experimental at /home/fperrad/.cpan/build/Test-Subs-0.08-3aNShW/blib/lib/Test/Subs.pm line 333.
Smartmatch is experimental at t/query_info.t line 14.
Smartmatch is experimental at t/query_info.t line 37.
Smartmatch is experimental at t/query_info.t line 41.
t/query_info.t ......... ok
given is experimental at /home/fperrad/.cpan/build/SQL-Exec-0.10-FzzVEc/blib/lib/SQL/Exec.pm line 1218.
when is experimental at /home/fperrad/.cpan/build/SQL-Exec-0.10-FzzVEc/blib/lib/SQL/Exec.pm line 1219.
when is experimental at /home/fperrad/.cpan/build/SQL-Exec-0.10-FzzVEc/blib/lib/SQL/Exec.pm line 1220.
when is experimental at /home/fperrad/.cpan/build/SQL-Exec-0.10-FzzVEc/blib/lib/SQL/Exec.pm line 1221.
when is experimental at /home/fperrad/.cpan/build/SQL-Exec-0.10-FzzVEc/blib/lib/SQL/Exec.pm line 1222.
when is experimental at /home/fperrad/.cpan/build/SQL-Exec-0.10-FzzVEc/blib/lib/SQL/Exec.pm line 1227.
when is experimental at /home/fperrad/.cpan/build/SQL-Exec-0.10-FzzVEc/blib/lib/SQL/Exec.pm line 1228.
when is experimental at /home/fperrad/.cpan/build/SQL-Exec-0.10-FzzVEc/blib/lib/SQL/Exec.pm line 1233.
when is experimental at /home/fperrad/.cpan/build/SQL-Exec-0.10-FzzVEc/blib/lib/SQL/Exec.pm line 1238.
when is experimental at /home/fperrad/.cpan/build/SQL-Exec-0.10-FzzVEc/blib/lib/SQL/Exec.pm line 1239.
when is experimental at /home/fperrad/.cpan/build/SQL-Exec-0.10-FzzVEc/blib/lib/SQL/Exec.pm line 1240.
when is experimental at /home/fperrad/.cpan/build/SQL-Exec-0.10-FzzVEc/blib/lib/SQL/Exec.pm line 1241.
when is experimental at /home/fperrad/.cpan/build/SQL-Exec-0.10-FzzVEc/blib/lib/SQL/Exec.pm line 1242.
when is experimental at /home/fperrad/.cpan/build/SQL-Exec-0.10-FzzVEc/blib/lib/SQL/Exec.pm line 1243.
given is experimental at /home/fperrad/.cpan/build/Test-Subs-0.08-3aNShW/blib/lib/Test/Subs.pm line 324.
when is experimental at /home/fperrad/.cpan/build/Test-Subs-0.08-3aNShW/blib/lib/Test/Subs.pm line 325.
when is experimental at /home/fperrad/.cpan/build/Test-Subs-0.08-3aNShW/blib/lib/Test/Subs.pm line 329.
when is experimental at /home/fperrad/.cpan/build/Test-Subs-0.08-3aNShW/blib/lib/Test/Subs.pm line 333.
t/replace.t ............ ok
given is experimental at /home/fperrad/.cpan/build/SQL-Exec-0.10-FzzVEc/blib/lib/SQL/Exec.pm line 1218.
when is experimental at /home/fperrad/.cpan/build/SQL-Exec-0.10-FzzVEc/blib/lib/SQL/Exec.pm line 1219.
when is experimental at /home/fperrad/.cpan/build/SQL-Exec-0.10-FzzVEc/blib/lib/SQL/Exec.pm line 1220.
when is experimental at /home/fperrad/.cpan/build/SQL-Exec-0.10-FzzVEc/blib/lib/SQL/Exec.pm line 1221.
when is experimental at /home/fperrad/.cpan/build/SQL-Exec-0.10-FzzVEc/blib/lib/SQL/Exec.pm line 1222.
when is experimental at /home/fperrad/.cpan/build/SQL-Exec-0.10-FzzVEc/blib/lib/SQL/Exec.pm line 1227.
when is experimental at /home/fperrad/.cpan/build/SQL-Exec-0.10-FzzVEc/blib/lib/SQL/Exec.pm line 1228.
when is experimental at /home/fperrad/.cpan/build/SQL-Exec-0.10-FzzVEc/blib/lib/SQL/Exec.pm line 1233.
when is experimental at /home/fperrad/.cpan/build/SQL-Exec-0.10-FzzVEc/blib/lib/SQL/Exec.pm line 1238.
when is experimental at /home/fperrad/.cpan/build/SQL-Exec-0.10-FzzVEc/blib/lib/SQL/Exec.pm line 1239.
when is experimental at /home/fperrad/.cpan/build/SQL-Exec-0.10-FzzVEc/blib/lib/SQL/Exec.pm line 1240.
when is experimental at /home/fperrad/.cpan/build/SQL-Exec-0.10-FzzVEc/blib/lib/SQL/Exec.pm line 1241.
when is experimental at /home/fperrad/.cpan/build/SQL-Exec-0.10-FzzVEc/blib/lib/SQL/Exec.pm line 1242.
when is experimental at /home/fperrad/.cpan/build/SQL-Exec-0.10-FzzVEc/blib/lib/SQL/Exec.pm line 1243.
given is experimental at /home/fperrad/.cpan/build/Test-Subs-0.08-3aNShW/blib/lib/Test/Subs.pm line 324.
when is experimental at /home/fperrad/.cpan/build/Test-Subs-0.08-3aNShW/blib/lib/Test/Subs.pm line 325.
when is experimental at /home/fperrad/.cpan/build/Test-Subs-0.08-3aNShW/blib/lib/Test/Subs.pm line 329.
when is experimental at /home/fperrad/.cpan/build/Test-Subs-0.08-3aNShW/blib/lib/Test/Subs.pm line 333.
Smartmatch is experimental at t/simple.t line 19.
Smartmatch is experimental at t/simple.t line 23.
t/simple.t ............. ok
given is experimental at /home/fperrad/.cpan/build/SQL-Exec-0.10-FzzVEc/blib/lib/SQL/Exec.pm line 1218.
when is experimental at /home/fperrad/.cpan/build/SQL-Exec-0.10-FzzVEc/blib/lib/SQL/Exec.pm line 1219.
when is experimental at /home/fperrad/.cpan/build/SQL-Exec-0.10-FzzVEc/blib/lib/SQL/Exec.pm line 1220.
when is experimental at /home/fperrad/.cpan/build/SQL-Exec-0.10-FzzVEc/blib/lib/SQL/Exec.pm line 1221.
when is experimental at /home/fperrad/.cpan/build/SQL-Exec-0.10-FzzVEc/blib/lib/SQL/Exec.pm line 1222.
when is experimental at /home/fperrad/.cpan/build/SQL-Exec-0.10-FzzVEc/blib/lib/SQL/Exec.pm line 1227.
when is experimental at /home/fperrad/.cpan/build/SQL-Exec-0.10-FzzVEc/blib/lib/SQL/Exec.pm line 1228.
when is experimental at /home/fperrad/.cpan/build/SQL-Exec-0.10-FzzVEc/blib/lib/SQL/Exec.pm line 1233.
when is experimental at /home/fperrad/.cpan/build/SQL-Exec-0.10-FzzVEc/blib/lib/SQL/Exec.pm line 1238.
when is experimental at /home/fperrad/.cpan/build/SQL-Exec-0.10-FzzVEc/blib/lib/SQL/Exec.pm line 1239.
when is experimental at /home/fperrad/.cpan/build/SQL-Exec-0.10-FzzVEc/blib/lib/SQL/Exec.pm line 1240.
when is experimental at /home/fperrad/.cpan/build/SQL-Exec-0.10-FzzVEc/blib/lib/SQL/Exec.pm line 1241.
when is experimental at /home/fperrad/.cpan/build/SQL-Exec-0.10-FzzVEc/blib/lib/SQL/Exec.pm line 1242.
when is experimental at /home/fperrad/.cpan/build/SQL-Exec-0.10-FzzVEc/blib/lib/SQL/Exec.pm line 1243.
given is experimental at /home/fperrad/.cpan/build/Test-Subs-0.08-3aNShW/blib/lib/Test/Subs.pm line 324.
when is experimental at /home/fperrad/.cpan/build/Test-Subs-0.08-3aNShW/blib/lib/Test/Subs.pm line 325.
when is experimental at /home/fperrad/.cpan/build/Test-Subs-0.08-3aNShW/blib/lib/Test/Subs.pm line 329.
when is experimental at /home/fperrad/.cpan/build/Test-Subs-0.08-3aNShW/blib/lib/Test/Subs.pm line 333.
t/sqlite.t ............. ok
given is experimental at /home/fperrad/.cpan/build/SQL-Exec-0.10-FzzVEc/blib/lib/SQL/Exec.pm line 1218.
when is experimental at /home/fperrad/.cpan/build/SQL-Exec-0.10-FzzVEc/blib/lib/SQL/Exec.pm line 1219.
when is experimental at /home/fperrad/.cpan/build/SQL-Exec-0.10-FzzVEc/blib/lib/SQL/Exec.pm line 1220.
when is experimental at /home/fperrad/.cpan/build/SQL-Exec-0.10-FzzVEc/blib/lib/SQL/Exec.pm line 1221.
when is experimental at /home/fperrad/.cpan/build/SQL-Exec-0.10-FzzVEc/blib/lib/SQL/Exec.pm line 1222.
when is experimental at /home/fperrad/.cpan/build/SQL-Exec-0.10-FzzVEc/blib/lib/SQL/Exec.pm line 1227.
when is experimental at /home/fperrad/.cpan/build/SQL-Exec-0.10-FzzVEc/blib/lib/SQL/Exec.pm line 1228.
when is experimental at /home/fperrad/.cpan/build/SQL-Exec-0.10-FzzVEc/blib/lib/SQL/Exec.pm line 1233.
when is experimental at /home/fperrad/.cpan/build/SQL-Exec-0.10-FzzVEc/blib/lib/SQL/Exec.pm line 1238.
when is experimental at /home/fperrad/.cpan/build/SQL-Exec-0.10-FzzVEc/blib/lib/SQL/Exec.pm line 1239.
when is experimental at /home/fperrad/.cpan/build/SQL-Exec-0.10-FzzVEc/blib/lib/SQL/Exec.pm line 1240.
when is experimental at /home/fperrad/.cpan/build/SQL-Exec-0.10-FzzVEc/blib/lib/SQL/Exec.pm line 1241.
when is experimental at /home/fperrad/.cpan/build/SQL-Exec-0.10-FzzVEc/blib/lib/SQL/Exec.pm line 1242.
when is experimental at /home/fperrad/.cpan/build/SQL-Exec-0.10-FzzVEc/blib/lib/SQL/Exec.pm line 1243.
given is experimental at /home/fperrad/.cpan/build/Test-Subs-0.08-3aNShW/blib/lib/Test/Subs.pm line 324.
when is experimental at /home/fperrad/.cpan/build/Test-Subs-0.08-3aNShW/blib/lib/Test/Subs.pm line 325.
when is experimental at /home/fperrad/.cpan/build/Test-Subs-0.08-3aNShW/blib/lib/Test/Subs.pm line 329.
when is experimental at /home/fperrad/.cpan/build/Test-Subs-0.08-3aNShW/blib/lib/Test/Subs.pm line 333.
t/statements_simple.t .. ok
given is experimental at /home/fperrad/.cpan/build/SQL-Exec-0.10-FzzVEc/blib/lib/SQL/Exec.pm line 1218.
when is experimental at /home/fperrad/.cpan/build/SQL-Exec-0.10-FzzVEc/blib/lib/SQL/Exec.pm line 1219.
when is experimental at /home/fperrad/.cpan/build/SQL-Exec-0.10-FzzVEc/blib/lib/SQL/Exec.pm line 1220.
when is experimental at /home/fperrad/.cpan/build/SQL-Exec-0.10-FzzVEc/blib/lib/SQL/Exec.pm line 1221.
when is experimental at /home/fperrad/.cpan/build/SQL-Exec-0.10-FzzVEc/blib/lib/SQL/Exec.pm line 1222.
when is experimental at /home/fperrad/.cpan/build/SQL-Exec-0.10-FzzVEc/blib/lib/SQL/Exec.pm line 1227.
when is experimental at /home/fperrad/.cpan/build/SQL-Exec-0.10-FzzVEc/blib/lib/SQL/Exec.pm line 1228.
when is experimental at /home/fperrad/.cpan/build/SQL-Exec-0.10-FzzVEc/blib/lib/SQL/Exec.pm line 1233.
when is experimental at /home/fperrad/.cpan/build/SQL-Exec-0.10-FzzVEc/blib/lib/SQL/Exec.pm line 1238.
when is experimental at /home/fperrad/.cpan/build/SQL-Exec-0.10-FzzVEc/blib/lib/SQL/Exec.pm line 1239.
when is experimental at /home/fperrad/.cpan/build/SQL-Exec-0.10-FzzVEc/blib/lib/SQL/Exec.pm line 1240.
when is experimental at /home/fperrad/.cpan/build/SQL-Exec-0.10-FzzVEc/blib/lib/SQL/Exec.pm line 1241.
when is experimental at /home/fperrad/.cpan/build/SQL-Exec-0.10-FzzVEc/blib/lib/SQL/Exec.pm line 1242.
when is experimental at /home/fperrad/.cpan/build/SQL-Exec-0.10-FzzVEc/blib/lib/SQL/Exec.pm line 1243.
given is experimental at /home/fperrad/.cpan/build/Test-Subs-0.08-3aNShW/blib/lib/Test/Subs.pm line 324.
when is experimental at /home/fperrad/.cpan/build/Test-Subs-0.08-3aNShW/blib/lib/Test/Subs.pm line 325.
when is experimental at /home/fperrad/.cpan/build/Test-Subs-0.08-3aNShW/blib/lib/Test/Subs.pm line 329.
when is experimental at /home/fperrad/.cpan/build/Test-Subs-0.08-3aNShW/blib/lib/Test/Subs.pm line 333.
Smartmatch is experimental at t/table_exists.t line 134.
Smartmatch is experimental at t/table_exists.t line 139.
Smartmatch is experimental at t/table_exists.t line 144.
t/table_exists.t ....... ok
given is experimental at /home/fperrad/.cpan/build/SQL-Exec-0.10-FzzVEc/blib/lib/SQL/Exec.pm line 1218.
when is experimental at /home/fperrad/.cpan/build/SQL-Exec-0.10-FzzVEc/blib/lib/SQL/Exec.pm line 1219.
when is experimental at /home/fperrad/.cpan/build/SQL-Exec-0.10-FzzVEc/blib/lib/SQL/Exec.pm line 1220.
when is experimental at /home/fperrad/.cpan/build/SQL-Exec-0.10-FzzVEc/blib/lib/SQL/Exec.pm line 1221.
when is experimental at /home/fperrad/.cpan/build/SQL-Exec-0.10-FzzVEc/blib/lib/SQL/Exec.pm line 1222.
when is experimental at /home/fperrad/.cpan/build/SQL-Exec-0.10-FzzVEc/blib/lib/SQL/Exec.pm line 1227.
when is experimental at /home/fperrad/.cpan/build/SQL-Exec-0.10-FzzVEc/blib/lib/SQL/Exec.pm line 1228.
when is experimental at /home/fperrad/.cpan/build/SQL-Exec-0.10-FzzVEc/blib/lib/SQL/Exec.pm line 1233.
when is experimental at /home/fperrad/.cpan/build/SQL-Exec-0.10-FzzVEc/blib/lib/SQL/Exec.pm line 1238.
when is experimental at /home/fperrad/.cpan/build/SQL-Exec-0.10-FzzVEc/blib/lib/SQL/Exec.pm line 1239.
when is experimental at /home/fperrad/.cpan/build/SQL-Exec-0.10-FzzVEc/blib/lib/SQL/Exec.pm line 1240.
when is experimental at /home/fperrad/.cpan/build/SQL-Exec-0.10-FzzVEc/blib/lib/SQL/Exec.pm line 1241.
when is experimental at /home/fperrad/.cpan/build/SQL-Exec-0.10-FzzVEc/blib/lib/SQL/Exec.pm line 1242.
when is experimental at /home/fperrad/.cpan/build/SQL-Exec-0.10-FzzVEc/blib/lib/SQL/Exec.pm line 1243.
given is experimental at /home/fperrad/.cpan/build/Test-Subs-0.08-3aNShW/blib/lib/Test/Subs.pm line 324.
when is experimental at /home/fperrad/.cpan/build/Test-Subs-0.08-3aNShW/blib/lib/Test/Subs.pm line 325.
when is experimental at /home/fperrad/.cpan/build/Test-Subs-0.08-3aNShW/blib/lib/Test/Subs.pm line 329.
when is experimental at /home/fperrad/.cpan/build/Test-Subs-0.08-3aNShW/blib/lib/Test/Subs.pm line 333.
t/transact.t ........... ok
All tests successful.
Files=16, Tests=139, 12 wallclock secs ( 0.33 usr  0.04 sys +  8.60 cusr  0.85 csys =  9.82 CPU)
Result: PASS

------------------------------
PREREQUISITES
------------------------------

Prerequisite modules loaded:

requires:

    Module                  Need     Have    
    ----------------------- -------- --------
    Carp                    0        1.29    
    DBI                     0        1.628   
    DBI::Const::GetInfoType 0        2.008697
    DBIx::Connector         0        0.53    
    Exporter                0        5.68    
    List::MoreUtils         0        0.33    
    perl                    5.010001 5.018000
    Scalar::Util            0        1.27    
    SQL::SplitStatement     0        1.00020 

build_requires:

    Module                  Need     Have    
    ----------------------- -------- --------
    DBD::SQLite             0        1.40    
    String::Replace         0        0.02    
    Test::Subs              0        0.08    

configure_requires:

    Module                  Need     Have    
    ----------------------- -------- --------
    ExtUtils::MakeMaker     6.3002   6.66    


------------------------------
ENVIRONMENT AND OTHER CONTEXT
------------------------------

Environment variables:

    AUTOMATED_TESTING = 1
    LANG = en_US.UTF-8
    LANGUAGE = en_US:en
    PATH = /home/fperrad/perl5/perlbrew/bin:/home/fperrad/perl5/perlbrew/perls/perl-5.18.0/bin:/usr/local/bin:/usr/bin:/bin:/usr/local/games:/usr/games
    PERL5LIB = /home/fperrad/.cpan/build/DBIx-Connector-0.53-iRR78Q/blib/arch:/home/fperrad/.cpan/build/DBIx-Connector-0.53-iRR78Q/blib/lib:/home/fperrad/.cpan/build/Test-MockModule-0.05-ON_qGy/blib/arch:/home/fperrad/.cpan/build/Test-MockModule-0.05-ON_qGy/blib/lib:/home/fperrad/.cpan/build/String-Replace-0.02-ERwgrh/blib/arch:/home/fperrad/.cpan/build/String-Replace-0.02-ERwgrh/blib/lib:/home/fperrad/.cpan/build/Test-Subs-0.08-3aNShW/blib/arch:/home/fperrad/.cpan/build/Test-Subs-0.08-3aNShW/blib/lib:/home/fperrad/.cpan/build/SQL-SplitStatement-1.00020-tEdeq1/blib/arch:/home/fperrad/.cpan/build/SQL-SplitStatement-1.00020-tEdeq1/blib/lib:/home/fperrad/.cpan/build/List-MoreUtils-0.33-J36ID1/blib/arch:/home/fperrad/.cpan/build/List-MoreUtils-0.33-J36ID1/blib/lib:/home/fperrad/.cpan/build/SQL-Tokenizer-0.24-cPXy3F/blib/arch:/home/fperrad/.cpan/build/SQL-Tokenizer-0.24-cPXy3F/blib/lib:/home/fperrad/.cpan/build/Regexp-Common-2013031301-FalRza/blib/arch:/home/fperrad/.cpan/build/Regexp-Common-2013031301-FalRza/blib/lib:/home/fperrad/.cpan/build/Class-Accessor-0.34-CMbhWR/blib/arch:/home/fperrad/.cpan/build/Class-Accessor-0.34-CMbhWR/blib/lib:/home/fperrad/.cpan/build/DBD-SQLite-1.40-GSvCF7/blib/arch:/home/fperrad/.cpan/build/DBD-SQLite-1.40-GSvCF7/blib/lib:/home/fperrad/.cpan/build/DBI-1.628-3ALjBu/blib/arch:/home/fperrad/.cpan/build/DBI-1.628-3ALjBu/blib/lib
    PERL5OPT = 
    PERL5_CPANPLUS_IS_RUNNING = 22818
    PERL5_CPAN_IS_RUNNING = 22818
    PERL5_CPAN_IS_RUNNING_IN_RECURSION = 7755,22818
    PERLBREW_BASHRC_VERSION = 0.64
    PERLBREW_HOME = /home/fperrad/.perlbrew
    PERLBREW_MANPATH = /home/fperrad/perl5/perlbrew/perls/perl-5.18.0/man
    PERLBREW_PATH = /home/fperrad/perl5/perlbrew/bin:/home/fperrad/perl5/perlbrew/perls/perl-5.18.0/bin
    PERLBREW_PERL = perl-5.18.0
    PERLBREW_ROOT = /home/fperrad/perl5/perlbrew
    PERLBREW_VERSION = 0.64
    PERL_CR_SMOKER_CURRENT = SQL-Exec-0.10
    PERL_EXTUTILS_AUTOINSTALL = --defaultdeps
    PERL_MM_USE_DEFAULT = 1
    SHELL = /bin/bash
    TERM = linux

Perl special variables (and OS-specific diagnostics, for MSWin32):

    $^X = /home/fperrad/perl5/perlbrew/perls/perl-5.18.0/bin/perl
    $UID/$EUID = 1000 / 1000
    $GID = 1000 24 25 29 30 44 46 1000
    $EGID = 1000 24 25 29 30 44 46 1000

Perl module toolchain versions installed:

    Module              Have    
    ------------------- --------
    CPAN                2.00    
    CPAN::Meta          2.120921
    Cwd                 3.40    
    ExtUtils::CBuilder  0.280210
    ExtUtils::Command   1.17    
    ExtUtils::Install   1.59    
    ExtUtils::MakeMaker 6.66    
    ExtUtils::Manifest  1.63    
    ExtUtils::ParseXS   3.18    
    File::Spec          3.40    
    JSON                2.59    
    JSON::PP            2.27202 
    Module::Build       0.4003  
    Module::Signature   n/a     
    Parse::CPAN::Meta   1.4404  
    Test::Harness       3.26    
    Test::More          0.98    
    YAML                0.84    
    YAML::Syck          1.27    
    version             0.9902  


--

Summary of my perl5 (revision 5 version 18 subversion 0) configuration:
   
  Platform:
    osname=linux, osvers=3.2.0-4-486, archname=i686-linux
    uname='linux etx 3.2.0-4-486 #1 debian 3.2.46-1 i686 gnulinux '
    config_args='-de -Dprefix=/home/fperrad/perl5/perlbrew/perls/perl-5.18.0 -Aeval:scriptdir=/home/fperrad/perl5/perlbrew/perls/perl-5.18.0/bin'
    hint=recommended, useposix=true, d_sigaction=define
    useithreads=undef, usemultiplicity=undef
    useperlio=define, d_sfio=undef, uselargefiles=define, usesocks=undef
    use64bitint=undef, use64bitall=undef, uselongdouble=undef
    usemymalloc=n, bincompat5005=undef
  Compiler:
    cc='cc', ccflags ='-fno-strict-aliasing -pipe -fstack-protector -I/usr/local/include -D_LARGEFILE_SOURCE -D_FILE_OFFSET_BITS=64',
    optimize='-O2',
    cppflags='-fno-strict-aliasing -pipe -fstack-protector -I/usr/local/include'
    ccversion='', gccversion='4.7.2', gccosandvers=''
    intsize=4, longsize=4, ptrsize=4, doublesize=8, byteorder=1234
    d_longlong=define, longlongsize=8, d_longdbl=define, longdblsize=12
    ivtype='long', ivsize=4, nvtype='double', nvsize=8, Off_t='off_t', lseeksize=8
    alignbytes=4, prototype=define
  Linker and Libraries:
    ld='cc', ldflags =' -fstack-protector -L/usr/local/lib'
    libpth=/usr/local/lib /lib/i386-linux-gnu /lib/../lib /usr/lib/i386-linux-gnu /usr/lib/../lib /lib /usr/lib
    libs=-lnsl -lgdbm -ldb -ldl -lm -lcrypt -lutil -lc -lgdbm_compat
    perllibs=-lnsl -ldl -lm -lcrypt -lutil -lc
    libc=, so=so, useshrplib=false, libperl=libperl.a
    gnulibc_version='2.13'
  Dynamic Linking:
    dlsrc=dl_dlopen.xs, dlext=so, d_dlsymun=undef, ccdlflags='-Wl,-E'
    cccdlflags='-fPIC', lddlflags='-shared -O2 -L/usr/local/lib -fstack-protector'


Characteristics of this binary (from libperl): 
  Compile-time options: HAS_TIMES PERLIO_LAYERS PERL_DONT_CREATE_GVSV
                        PERL_HASH_FUNC_ONE_AT_A_TIME_HARD PERL_MALLOC_WRAP
                        PERL_PRESERVE_IVUV PERL_SAWAMPERSAND USE_LARGE_FILES
                        USE_LOCALE USE_LOCALE_COLLATE USE_LOCALE_CTYPE
                        USE_LOCALE_NUMERIC USE_PERLIO USE_PERL_ATOF
  Built under linux
  Compiled at Jul 22 2013 18:13:19
  %ENV:
    PERL5LIB="/home/fperrad/.cpan/build/DBIx-Connector-0.53-iRR78Q/blib/arch:/home/fperrad/.cpan/build/DBIx-Connector-0.53-iRR78Q/blib/lib:/home/fperrad/.cpan/build/Test-MockModule-0.05-ON_qGy/blib/arch:/home/fperrad/.cpan/build/Test-MockModule-0.05-ON_qGy/blib/lib:/home/fperrad/.cpan/build/String-Replace-0.02-ERwgrh/blib/arch:/home/fperrad/.cpan/build/String-Replace-0.02-ERwgrh/blib/lib:/home/fperrad/.cpan/build/Test-Subs-0.08-3aNShW/blib/arch:/home/fperrad/.cpan/build/Test-Subs-0.08-3aNShW/blib/lib:/home/fperrad/.cpan/build/SQL-SplitStatement-1.00020-tEdeq1/blib/arch:/home/fperrad/.cpan/build/SQL-SplitStatement-1.00020-tEdeq1/blib/lib:/home/fperrad/.cpan/build/List-MoreUtils-0.33-J36ID1/blib/arch:/home/fperrad/.cpan/build/List-MoreUtils-0.33-J36ID1/blib/lib:/home/fperrad/.cpan/build/SQL-Tokenizer-0.24-cPXy3F/blib/arch:/home/fperrad/.cpan/build/SQL-Tokenizer-0.24-cPXy3F/blib/lib:/home/fperrad/.cpan/build/Regexp-Common-2013031301-FalRza/blib/arch:/home/fperrad/.cpan/build/Regexp-Common-2013031301-FalRza/blib/lib:/home/fperrad/.cpan/build/Class-Accessor-0.34-CMbhWR/blib/arch:/home/fperrad/.cpan/build/Class-Accessor-0.34-CMbhWR/blib/lib:/home/fperrad/.cpan/build/DBD-SQLite-1.40-GSvCF7/blib/arch:/home/fperrad/.cpan/build/DBD-SQLite-1.40-GSvCF7/blib/lib:/home/fperrad/.cpan/build/DBI-1.628-3ALjBu/blib/arch:/home/fperrad/.cpan/build/DBI-1.628-3ALjBu/blib/lib"
    PERL5OPT=""
    PERL5_CPANPLUS_IS_RUNNING="22818"
    PERL5_CPAN_IS_RUNNING="22818"
    PERL5_CPAN_IS_RUNNING_IN_RECURSION="7755,22818"
    PERLBREW_BASHRC_VERSION="0.64"
    PERLBREW_HOME="/home/fperrad/.perlbrew"
    PERLBREW_MANPATH="/home/fperrad/perl5/perlbrew/perls/perl-5.18.0/man"
    PERLBREW_PATH="/home/fperrad/perl5/perlbrew/bin:/home/fperrad/perl5/perlbrew/perls/perl-5.18.0/bin"
    PERLBREW_PERL="perl-5.18.0"
    PERLBREW_ROOT="/home/fperrad/perl5/perlbrew"
    PERLBREW_VERSION="0.64"
    PERL_CR_SMOKER_CURRENT="SQL-Exec-0.10"
    PERL_EXTUTILS_AUTOINSTALL="--defaultdeps"
    PERL_MM_USE_DEFAULT="1"
  @INC:
    /home/fperrad/.cpan/build/DBIx-Connector-0.53-iRR78Q/blib/arch
    /home/fperrad/.cpan/build/DBIx-Connector-0.53-iRR78Q/blib/lib
    /home/fperrad/.cpan/build/Test-MockModule-0.05-ON_qGy/blib/arch
    /home/fperrad/.cpan/build/Test-MockModule-0.05-ON_qGy/blib/lib
    /home/fperrad/.cpan/build/String-Replace-0.02-ERwgrh/blib/arch
    /home/fperrad/.cpan/build/String-Replace-0.02-ERwgrh/blib/lib
    /home/fperrad/.cpan/build/Test-Subs-0.08-3aNShW/blib/arch
    /home/fperrad/.cpan/build/Test-Subs-0.08-3aNShW/blib/lib
    /home/fperrad/.cpan/build/SQL-SplitStatement-1.00020-tEdeq1/blib/arch
    /home/fperrad/.cpan/build/SQL-SplitStatement-1.00020-tEdeq1/blib/lib
    /home/fperrad/.cpan/build/List-MoreUtils-0.33-J36ID1/blib/arch
    /home/fperrad/.cpan/build/List-MoreUtils-0.33-J36ID1/blib/lib
    /home/fperrad/.cpan/build/SQL-Tokenizer-0.24-cPXy3F/blib/arch
    /home/fperrad/.cpan/build/SQL-Tokenizer-0.24-cPXy3F/blib/lib
    /home/fperrad/.cpan/build/Regexp-Common-2013031301-FalRza/blib/arch
    /home/fperrad/.cpan/build/Regexp-Common-2013031301-FalRza/blib/lib
    /home/fperrad/.cpan/build/Class-Accessor-0.34-CMbhWR/blib/arch
    /home/fperrad/.cpan/build/Class-Accessor-0.34-CMbhWR/blib/lib
    /home/fperrad/.cpan/build/DBD-SQLite-1.40-GSvCF7/blib/arch
    /home/fperrad/.cpan/build/DBD-SQLite-1.40-GSvCF7/blib/lib
    /home/fperrad/.cpan/build/DBI-1.628-3ALjBu/blib/arch
    /home/fperrad/.cpan/build/DBI-1.628-3ALjBu/blib/lib
    /home/fperrad/perl5/perlbrew/perls/perl-5.18.0/lib/site_perl/5.18.0/i686-linux
    /home/fperrad/perl5/perlbrew/perls/perl-5.18.0/lib/site_perl/5.18.0
    /home/fperrad/perl5/perlbrew/perls/perl-5.18.0/lib/5.18.0/i686-linux
    /home/fperrad/perl5/perlbrew/perls/perl-5.18.0/lib/5.18.0
    .