Back
From: metabase:user:fb19509c-17e3-11e3-a14d-fdb79081a995
Subject: PASS YAML-Syck-1.29 v5.21.11 Mac OS X
Date: 2015-04-22T00:01:25Z
This distribution has been tested as part of the CPAN Testers
project, supporting the Perl programming language. See
http://wiki.cpantesters.org/ for more information or email
questions to cpan-testers-discuss@perl.org
--
Dear TODDR,
This is a computer-generated report for YAML-Syck-1.29
on perl 5.21.11, created by App::cpanminus::reporter 0.13 (1.7030).
Thank you for uploading your work to CPAN. Congratulations!
All tests were successful.
Sections of this report:
* Tester comments
* Program output
* Prerequisites
* Environment and other context
------------------------------
TESTER COMMENTS
------------------------------
Additional comments from tester:
none provided
------------------------------
PROGRAM OUTPUT
------------------------------
Output from '':
Building and testing YAML-Syck-1.29
Running Mkbootstrap for YAML::Syck ()
chmod 644 "Syck.bs"
cc -c -I. -fno-common -DPERL_DARWIN -fno-strict-aliasing -pipe -fstack-protector -I/opt/local/include -O3 -DVERSION=\"1.29\" -DXS_VERSION=\"1.29\" "-I/Users/ether/perl5/perlbrew/perls/21.11/lib/5.21.11/darwin-2level/CORE" bytecode.c
cc -c -I. -fno-common -DPERL_DARWIN -fno-strict-aliasing -pipe -fstack-protector -I/opt/local/include -O3 -DVERSION=\"1.29\" -DXS_VERSION=\"1.29\" "-I/Users/ether/perl5/perlbrew/perls/21.11/lib/5.21.11/darwin-2level/CORE" emitter.c
emitter.c:835:36: warning: passing 'unsigned char *' to parameter of type 'const char *' converts between pointers to integer types with different sign [-Wpointer-sign]
syck_emitter_write( e, src + i, 1 );
^~~~~~~
emitter.c:290:49: note: passing argument to parameter 'str' here
syck_emitter_write( SyckEmitter *e, const char *str, long len )
^
1 warning generated.
cc -c -I. -fno-common -DPERL_DARWIN -fno-strict-aliasing -pipe -fstack-protector -I/opt/local/include -O3 -DVERSION=\"1.29\" -DXS_VERSION=\"1.29\" "-I/Users/ether/perl5/perlbrew/perls/21.11/lib/5.21.11/darwin-2level/CORE" gram.c
gram.c:1115:16: warning: implicit declaration of function 'sycklex' is invalid in C99 [-Wimplicit-function-declaration]
yychar = YYLEX;
^
gram.c:656:16: note: expanded from macro 'YYLEX'
# define YYLEX yylex (&yylval, YYLEX_PARAM)
^
gram.c:51:17: note: expanded from macro 'yylex'
#define yylex sycklex
^
1 warning generated.
cc -c -I. -fno-common -DPERL_DARWIN -fno-strict-aliasing -pipe -fstack-protector -I/opt/local/include -O3 -DVERSION=\"1.29\" -DXS_VERSION=\"1.29\" "-I/Users/ether/perl5/perlbrew/perls/21.11/lib/5.21.11/darwin-2level/CORE" handler.c
cc -c -I. -fno-common -DPERL_DARWIN -fno-strict-aliasing -pipe -fstack-protector -I/opt/local/include -O3 -DVERSION=\"1.29\" -DXS_VERSION=\"1.29\" "-I/Users/ether/perl5/perlbrew/perls/21.11/lib/5.21.11/darwin-2level/CORE" implicit.c
cc -c -I. -fno-common -DPERL_DARWIN -fno-strict-aliasing -pipe -fstack-protector -I/opt/local/include -O3 -DVERSION=\"1.29\" -DXS_VERSION=\"1.29\" "-I/Users/ether/perl5/perlbrew/perls/21.11/lib/5.21.11/darwin-2level/CORE" node.c
cc -c -I. -fno-common -DPERL_DARWIN -fno-strict-aliasing -pipe -fstack-protector -I/opt/local/include -O3 -DVERSION=\"1.29\" -DXS_VERSION=\"1.29\" "-I/Users/ether/perl5/perlbrew/perls/21.11/lib/5.21.11/darwin-2level/CORE" syck_.c
cc -c -I. -fno-common -DPERL_DARWIN -fno-strict-aliasing -pipe -fstack-protector -I/opt/local/include -O3 -DVERSION=\"1.29\" -DXS_VERSION=\"1.29\" "-I/Users/ether/perl5/perlbrew/perls/21.11/lib/5.21.11/darwin-2level/CORE" syck_st.c
cc -c -I. -fno-common -DPERL_DARWIN -fno-strict-aliasing -pipe -fstack-protector -I/opt/local/include -O3 -DVERSION=\"1.29\" -DXS_VERSION=\"1.29\" "-I/Users/ether/perl5/perlbrew/perls/21.11/lib/5.21.11/darwin-2level/CORE" token.c
"/Users/ether/perl5/perlbrew/perls/21.11/bin/perl5.21.11" "-Iinc" "/Users/ether/perl5/perlbrew/perls/21.11/lib/5.21.11/ExtUtils/xsubpp" -typemap "/Users/ether/perl5/perlbrew/perls/21.11/lib/5.21.11/ExtUtils/typemap" Syck.xs > Syck.xsc && mv Syck.xsc Syck.c
cc -c -I. -fno-common -DPERL_DARWIN -fno-strict-aliasing -pipe -fstack-protector -I/opt/local/include -O3 -DVERSION=\"1.29\" -DXS_VERSION=\"1.29\" "-I/Users/ether/perl5/perlbrew/perls/21.11/lib/5.21.11/darwin-2level/CORE" Syck.c
In file included from Syck.xs:5:
./perl_syck.h:838:13: warning: 15 enumeration values not handled in switch: 'SVt_NULL', 'SVt_IV', 'SVt_NV'... [-Wswitch]
switch (SvTYPE(sv)) {
^
/Users/ether/perl5/perlbrew/perls/21.11/lib/5.21.11/darwin-2level/CORE/sv.h:347:20: note: expanded from macro 'SvTYPE'
#define SvTYPE(sv) ((svtype)((sv)->sv_flags & SVTYPEMASK))
^
In file included from Syck.xs:5:
./perl_syck.h:1069:13: warning: implicit declaration of function 'syck_str_is_unquotable_integer' is invalid in C99 [-Wimplicit-function-declaration]
&& syck_str_is_unquotable_integer(str, len)) /* small enough to safely round-trip */
^
In file included from Syck.xs:8:
./perl_syck.h:109:9: warning: expression result unused [-Wunused-value]
hv_store(map, anchor, strlen(anchor), new_rvav, 0);
^~~~~~~~~~~~~~~~~~~~~~~~~~~~~~~~~~~~~~~~~~~~~~~~~~
/Users/ether/perl5/perlbrew/perls/21.11/lib/5.21.11/darwin-2level/CORE/hv.h:473:6: note: expanded from macro 'hv_store'
((SV**) hv_common_key_len((hv), (key), (klen), \
^ ~~~~~~~~~~~~~~~~~~~~~~~~~~~~~~~~~~~~~~~~~~~~~~~~~~~~~~~~~~~~~
In file included from Syck.xs:8:
./perl_syck.h:342:79: warning: data argument not used by format string [-Wformat-extra-args]
sv = newSVpv(form((type == NULL) ? "%s" : "%s::%s", lang, type), 0);
~~~~ ^
/Users/ether/perl5/perlbrew/perls/21.11/lib/5.21.11/darwin-2level/CORE/embed.h:404:42: note: expanded from macro 'newSVpv'
#define newSVpv(a,b) Perl_newSVpv(aTHX_ a,b)
^
In file included from Syck.xs:8:
./perl_syck.h:396:76: warning: data argument not used by format string [-Wformat-extra-args]
sv_bless(sv, gv_stashpv(form((type == NULL) ? "%s" : "%s::%s", lang, type), TRUE));
~~~~ ^
/Users/ether/perl5/perlbrew/perls/21.11/lib/5.21.11/darwin-2level/CORE/embed.h:219:48: note: expanded from macro 'gv_stashpv'
#define gv_stashpv(a,b) Perl_gv_stashpv(aTHX_ a,b)
^
/Users/ether/perl5/perlbrew/perls/21.11/lib/5.21.11/darwin-2level/CORE/embed.h:590:46: note: expanded from macro 'sv_bless'
#define sv_bless(a,b) Perl_sv_bless(aTHX_ a,b)
^
In file included from Syck.xs:8:
./perl_syck.h:451:88: warning: data argument not used by format string [-Wformat-extra-args]
sv_bless(sv, gv_stashpv(form((type == NULL) ? "%s" : "%s::%s", lang, type), TRUE));
~~~~ ^
/Users/ether/perl5/perlbrew/perls/21.11/lib/5.21.11/darwin-2level/CORE/embed.h:219:48: note: expanded from macro 'gv_stashpv'
#define gv_stashpv(a,b) Perl_gv_stashpv(aTHX_ a,b)
^
/Users/ether/perl5/perlbrew/perls/21.11/lib/5.21.11/darwin-2level/CORE/embed.h:590:46: note: expanded from macro 'sv_bless'
#define sv_bless(a,b) Perl_sv_bless(aTHX_ a,b)
^
In file included from Syck.xs:8:
./perl_syck.h:497:78: warning: data argument not used by format string [-Wformat-extra-args]
sv_bless(sv, gv_stashpv(form((type == NULL) ? "%s" : "%s::%s", lang, type), TRUE));
~~~~ ^
/Users/ether/perl5/perlbrew/perls/21.11/lib/5.21.11/darwin-2level/CORE/embed.h:219:48: note: expanded from macro 'gv_stashpv'
#define gv_stashpv(a,b) Perl_gv_stashpv(aTHX_ a,b)
^
/Users/ether/perl5/perlbrew/perls/21.11/lib/5.21.11/darwin-2level/CORE/embed.h:590:46: note: expanded from macro 'sv_bless'
#define sv_bless(a,b) Perl_sv_bless(aTHX_ a,b)
^
In file included from Syck.xs:8:
./perl_syck.h:545:77: warning: data argument not used by format string [-Wformat-extra-args]
sv_bless(sv, gv_stashpv(form((type == NULL) ? "%s" : "%s::%s", lang, type), TRUE));
~~~~ ^
/Users/ether/perl5/perlbrew/perls/21.11/lib/5.21.11/darwin-2level/CORE/embed.h:219:48: note: expanded from macro 'gv_stashpv'
#define gv_stashpv(a,b) Perl_gv_stashpv(aTHX_ a,b)
^
/Users/ether/perl5/perlbrew/perls/21.11/lib/5.21.11/darwin-2level/CORE/embed.h:590:46: note: expanded from macro 'sv_bless'
#define sv_bless(a,b) Perl_sv_bless(aTHX_ a,b)
^
In file included from Syck.xs:8:
./perl_syck.h:603:77: warning: data argument not used by format string [-Wformat-extra-args]
sv_bless(sv, gv_stashpv(form((type == NULL) ? "%s" : "%s::%s", lang, type), TRUE));
~~~~ ^
/Users/ether/perl5/perlbrew/perls/21.11/lib/5.21.11/darwin-2level/CORE/embed.h:219:48: note: expanded from macro 'gv_stashpv'
#define gv_stashpv(a,b) Perl_gv_stashpv(aTHX_ a,b)
^
/Users/ether/perl5/perlbrew/perls/21.11/lib/5.21.11/darwin-2level/CORE/embed.h:590:46: note: expanded from macro 'sv_bless'
#define sv_bless(a,b) Perl_sv_bless(aTHX_ a,b)
^
In file included from Syck.xs:8:
./perl_syck.h:838:13: warning: 15 enumeration values not handled in switch: 'SVt_NULL', 'SVt_IV', 'SVt_NV'... [-Wswitch]
switch (SvTYPE(sv)) {
^
/Users/ether/perl5/perlbrew/perls/21.11/lib/5.21.11/darwin-2level/CORE/sv.h:347:20: note: expanded from macro 'SvTYPE'
#define SvTYPE(sv) ((svtype)((sv)->sv_flags & SVTYPEMASK))
^
In file included from Syck.xs:8:
./perl_syck.h:910:17: warning: 11 enumeration values not handled in switch: 'SVt_NULL', 'SVt_IV', 'SVt_NV'... [-Wswitch]
switch (SvTYPE(SvRV(sv))) {
^
/Users/ether/perl5/perlbrew/perls/21.11/lib/5.21.11/darwin-2level/CORE/sv.h:347:20: note: expanded from macro 'SvTYPE'
#define SvTYPE(sv) ((svtype)((sv)->sv_flags & SVTYPEMASK))
^
11 warnings generated.
rm -f blib/arch/auto/YAML/Syck/Syck.bundle
env MACOSX_DEPLOYMENT_TARGET=10.3 cc -bundle -undefined dynamic_lookup -L/opt/local/lib -fstack-protector bytecode.o emitter.o gram.o handler.o implicit.o node.o syck_.o syck_st.o token.o Syck.o -o blib/arch/auto/YAML/Syck/Syck.bundle \
\
chmod 755 blib/arch/auto/YAML/Syck/Syck.bundle
"/Users/ether/perl5/perlbrew/perls/21.11/bin/perl5.21.11" "-Iinc" -MExtUtils::Command::MM -e 'cp_nonempty' -- Syck.bs blib/arch/auto/YAML/Syck/Syck.bs 644
Manifying 2 pod documents
Running Mkbootstrap for YAML::Syck ()
chmod 644 "Syck.bs"
PERL_DL_NONLAZY=1 "/Users/ether/perl5/perlbrew/perls/21.11/bin/perl5.21.11" "-MExtUtils::Command::MM" "-MTest::Harness" "-e" "undef *Test::Harness::Switches; test_harness(0, 'inc', 'blib/lib', 'blib/arch')" t/*.t t/*/*.t
t/1-basic.t ................... ok
t/11-loadfile.t ............... ok
t/12-dumpfile.t ............... ok
t/4-perl_tag_scheme.t ......... ok
t/bug/doesnt-stringify.t ...... ok
t/bug/rt-49404-double_free.t .. ok
t/bug/rt-54167.t .............. ok
t/3-objects.t ................. ok
t/2-scalars.t ................. ok
t/json-circular-ref.t ......... ok
t/json-crlf.t ................. ok
t/json-dumpinto.t ............. ok
t/json-empty.t ................ ok
t/json-indent.t ............... ok
t/json-basic.t ................ ok
t/json-minus.t ................ ok
t/json-newline.t .............. ok
t/json-loadfile.t ............. ok
t/json-null.t ................. ok
t/json-refs.t ................. ok
t/json-numbers.t .............. ok
t/json-singlequote.t .......... ok
t/leak.t ...................... ok
t/load-blessed.t .............. ok
t/meta.t ...................... ok
t/yaml-alias.t ................ ok
t/yaml-dumpinto.t ............. ok
t/yaml-blessed-ref.t .......... ok
t/yaml-implicit-warnings.t .... ok
t/yaml-utf.t .................. ok
t/yaml-tie.t .................. ok
t/yaml-str-colon-first.t ...... ok
All tests successful.
Test Summary Report
-------------------
t/json-basic.t (Wstat: 0 Tests: 104 Failed: 0)
TODO passed: 81-82, 85-86, 93-94, 97-98
Files=32, Tests=628, 1 wallclock secs ( 0.20 usr 0.08 sys + 1.59 cusr 0.23 csys = 2.10 CPU)
Result: PASS
------------------------------
PREREQUISITES
------------------------------
Prerequisite modules loaded:
No requirements found
------------------------------
ENVIRONMENT AND OTHER CONTEXT
------------------------------
Environment variables:
LANG = en_CA.UTF-8
PATH = /Users/ether/.perlbrew/libs/21.11@std/bin:/Users/ether/perl5/perlbrew/bin:/Users/ether/perl5/perlbrew/perls/21.11/bin:/Users/ether/bin:/Users/ether/git/misc/install/bourbon/bin:/Users/ether/git/misc/install/generic/bin:/opt/local/bin:/opt/local/sbin:/Users/ether/git/git-hub/lib:/Users/ether/src/CE/devtools:/Users/ether/git/CE/devtools:/Users/ether/src/CE/bin:/Users/ether/git/CE/bin:/usr/bin:/bin:/usr/sbin:/sbin:/usr/local/bin:/opt/local/share/git-core/contrib/workdir
PERL5LIB = /Users/ether/.perlbrew/libs/21.11@std/lib/perl5
PERLBREW_BASHRC_VERSION = 0.73
PERLBREW_HOME = /Users/ether/.perlbrew
PERLBREW_LIB = std
PERLBREW_MANPATH = /Users/ether/.perlbrew/libs/21.11@std/man:/Users/ether/perl5/perlbrew/perls/21.11/man
PERLBREW_PATH = /Users/ether/.perlbrew/libs/21.11@std/bin:/Users/ether/perl5/perlbrew/bin:/Users/ether/perl5/perlbrew/perls/21.11/bin
PERLBREW_PERL = 21.11
PERLBREW_ROOT = /Users/ether/perl5/perlbrew
PERLBREW_VERSION = 0.73
PERLDOC_PAGER = less -sicMr
PERL_AUTOINSTALL_PREFER_CPAN = 1
PERL_INSTALL_QUIET = 1
PERL_LOCAL_LIB_ROOT = /Users/ether/.perlbrew/libs/21.11@std
PERL_MB_OPT = --install_base /Users/ether/.perlbrew/libs/21.11@std
PERL_MM_OPT = INSTALL_BASE=/Users/ether/.perlbrew/libs/21.11@std
SHELL = /bin/bash
TERM = xterm-color
TMPDIR = /var/folders/kx/9dgyhhpn2yb7v2mggnr385fr0000gn/T/
Perl special variables (and OS-specific diagnostics, for MSWin32):
EGID = 20 20 402 401 12 33 61 79 80 81 98 100 204
EUID = 501
EXECUTABLE_NAME = /Users/ether/perl5/perlbrew/perls/21.11/bin/perl5.21.11
GID = 20 20 402 401 12 33 61 79 80 81 98 100 204
UID = 501
Perl module toolchain versions installed:
Module Have
------------------- --------
CPAN 2.11
CPAN::Meta 2.150001
Cwd 3.56
ExtUtils::CBuilder 0.280221
ExtUtils::Command 1.20
ExtUtils::Install 2.04
ExtUtils::MakeMaker 7.04
ExtUtils::Manifest 1.70
ExtUtils::ParseXS 3.28
File::Spec 3.56
JSON 2.90
JSON::PP 2.27300
Module::Build 0.4211
Module::Signature n/a
Parse::CPAN::Meta 1.4414
Test::Harness 3.35
Test::More 1.001014
YAML 1.15
YAML::Syck 1.29
version 0.9909
--
Summary of my perl5 (revision 5 version 21 subversion 11) configuration:
Platform:
osname=darwin, osvers=12.6.0, archname=darwin-2level
uname='darwin bourbon 12.6.0 darwin kernel version 12.6.0: wed dec 17 19:11:40 pst 2014; root:xnu-2050.48.15~1release_x86_64 x86_64 '
config_args='-de -Dprefix=/Users/ether/perl5/perlbrew/perls/21.11 -Dman1dir=none -Dman3dir=none -Dusedevel -Aeval:scriptdir=/Users/ether/perl5/perlbrew/perls/21.11/bin'
hint=recommended, useposix=true, d_sigaction=define
useithreads=undef, usemultiplicity=undef
use64bitint=define, use64bitall=define, uselongdouble=undef
usemymalloc=n, bincompat5005=undef
Compiler:
cc='cc', ccflags ='-fno-common -DPERL_DARWIN -fno-strict-aliasing -pipe -fstack-protector -I/opt/local/include',
optimize='-O3',
cppflags='-fno-common -DPERL_DARWIN -fno-strict-aliasing -pipe -fstack-protector -I/opt/local/include'
ccversion='', gccversion='4.2.1 Compatible Apple LLVM 4.2 (clang-425.0.28)', gccosandvers=''
intsize=4, longsize=8, ptrsize=8, doublesize=8, byteorder=12345678, doublekind=3
d_longlong=define, longlongsize=8, d_longdbl=define, longdblsize=16, longdblkind=3
ivtype='long', ivsize=8, nvtype='double', nvsize=8, Off_t='off_t', lseeksize=8
alignbytes=8, prototype=define
Linker and Libraries:
ld='env MACOSX_DEPLOYMENT_TARGET=10.3 cc', ldflags =' -fstack-protector -L/opt/local/lib'
libpth=/usr/bin/../lib/clang/4.2/lib /usr/lib /opt/local/lib
libs=-lpthread -lgdbm -ldbm -ldl -lm -lutil -lc
perllibs=-lpthread -ldl -lm -lutil -lc
libc=, so=dylib, useshrplib=false, libperl=libperl.a
gnulibc_version=''
Dynamic Linking:
dlsrc=dl_dlopen.xs, dlext=bundle, d_dlsymun=undef, ccdlflags=' '
cccdlflags=' ', lddlflags=' -bundle -undefined dynamic_lookup -L/opt/local/lib -fstack-protector'
Characteristics of this binary (from libperl):
Compile-time options: HAS_TIMES PERLIO_LAYERS PERL_DONT_CREATE_GVSV
PERL_HASH_FUNC_ONE_AT_A_TIME_HARD PERL_MALLOC_WRAP
PERL_NEW_COPY_ON_WRITE PERL_PRESERVE_IVUV
PERL_USE_DEVEL USE_64_BIT_ALL USE_64_BIT_INT
USE_LARGE_FILES USE_LOCALE USE_LOCALE_COLLATE
USE_LOCALE_CTYPE USE_LOCALE_NUMERIC USE_LOCALE_TIME
USE_PERLIO USE_PERL_ATOF
Built under darwin
Compiled at Apr 21 2015 16:30:06
%ENV:
PERL5LIB="/Users/ether/.perlbrew/libs/21.11@std/lib/perl5"
PERLBREW_BASHRC_VERSION="0.73"
PERLBREW_HOME="/Users/ether/.perlbrew"
PERLBREW_LIB="std"
PERLBREW_MANPATH="/Users/ether/.perlbrew/libs/21.11@std/man:/Users/ether/perl5/perlbrew/perls/21.11/man"
PERLBREW_PATH="/Users/ether/.perlbrew/libs/21.11@std/bin:/Users/ether/perl5/perlbrew/bin:/Users/ether/perl5/perlbrew/perls/21.11/bin"
PERLBREW_PERL="21.11"
PERLBREW_ROOT="/Users/ether/perl5/perlbrew"
PERLBREW_VERSION="0.73"
PERLDOC_PAGER="less -sicMr"
PERL_AUTOINSTALL_PREFER_CPAN="1"
PERL_INSTALL_QUIET="1"
PERL_LOCAL_LIB_ROOT="/Users/ether/.perlbrew/libs/21.11@std"
PERL_MB_OPT="--install_base /Users/ether/.perlbrew/libs/21.11@std"
PERL_MM_OPT="INSTALL_BASE=/Users/ether/.perlbrew/libs/21.11@std"
@INC:
/Users/ether/.perlbrew/libs/21.11@std/lib/perl5/darwin-2level
/Users/ether/.perlbrew/libs/21.11@std/lib/perl5
/Users/ether/perl5/perlbrew/perls/21.11/lib/site_perl/5.21.11/darwin-2level
/Users/ether/perl5/perlbrew/perls/21.11/lib/site_perl/5.21.11
/Users/ether/perl5/perlbrew/perls/21.11/lib/5.21.11/darwin-2level
/Users/ether/perl5/perlbrew/perls/21.11/lib/5.21.11
.