Catalyst-Controller-ActionRole v0.17 Perl 5 v5.37.5 amd64-freebsd
- Status
- Pass
- From
- Carlos Guevara
- Dist
-
Catalyst-Controller-ActionRole v0.17
- Platform
- Perl 5 v5.37.5 amd64-freebsd
- Date
- 2022-10-23 07:10:04
- ID
- b7c3fa38-52a1-11ed-9f96-2ad7a8afb35d
This distribution has been tested as part of the CPAN Testers
project, supporting the Perl programming language. See
http://wiki.cpantesters.org/ for more information or email
questions to cpan-testers-discuss@perl.org
--
Dear Karen Etheridge,
This is a computer-generated report for Catalyst-Controller-ActionRole-0.17
on perl 5.37.5, created by CPAN-Reporter-1.2018.
Thank you for uploading your work to CPAN. Congratulations!
All tests were successful.
Sections of this report:
* Tester comments
* Program output
* Prerequisites
* Environment and other context
------------------------------
TESTER COMMENTS
------------------------------
Additional comments from tester:
this report is from an automated smoke testing program
and was not reviewed by a human for accuracy
------------------------------
PROGRAM OUTPUT
------------------------------
Output from './Build test':
#
# Versions for all modules listed in MYMETA.json (including optional ones):
#
# === Configure Requires ===
#
# Module Want Have
# ------------------- ----- -----
# Module::Build::Tiny 0.039 0.039
#
# === Test Requires ===
#
# Module Want Have
# ---------------------- ---- --------
# Catalyst any 5.90129
# Catalyst::Action any undef
# Catalyst::Action::REST 0.74 1.21
# Catalyst::Test any undef
# ExtUtils::MakeMaker any 7.64
# File::Spec any 3.87
# FindBin any 1.53
# Moose::Role any 2.2201
# Test::More any 1.302191
# lib any 0.65
# namespace::clean any 0.27
# parent any 0.238
# strict any 1.12
# warnings any 1.59
#
# === Test Recommends ===
#
# Module Want Have
# ---------- -------- --------
# CPAN::Meta 2.120900 2.150010
#
# === Runtime Requires ===
#
# Module Want Have
# --------------------- ------- -------
# Catalyst::Controller any undef
# Catalyst::Runtime 5.80025 5.90129
# Catalyst::Utils any undef
# Class::Load any 0.25
# List::Util any 1.63
# Moose any 2.2201
# Moose::Meta::Class any 2.2201
# MooseX::Types::Moose any 0.50
# String::RewritePrefix 0.004 0.008
# namespace::autoclean any 0.29
#
t/00-report-prereqs.t ..... ok
t/action-class.t .......... ok
t/basic.t ................. ok
t/basic_rest.t ............ ok
t/execution-via-config.t .. ok
t/execution-via-does.t .... ok
All tests successful.
Files=6, Tests=44, 6 wallclock secs ( 0.03 usr 0.05 sys + 4.58 cusr 1.08 csys = 5.73 CPU)
Result: PASS
------------------------------
PREREQUISITES
------------------------------
Prerequisite modules loaded:
requires:
Module Need Have
---------------------- ------- --------
Catalyst::Controller 0 0
Catalyst::Runtime 5.80025 5.90129
Catalyst::Utils 0 0
Class::Load 0 0.25
List::Util 0 1.63
Moose 0 2.2201
Moose::Meta::Class 0 2.2201
MooseX::Types::Moose 0 0.50
namespace::autoclean 0 0.29
perl 5.006 5.037005
String::RewritePrefix 0.004 0.008
build_requires:
Module Need Have
---------------------- ------- --------
Catalyst 0 5.90129
Catalyst::Action 0 0
Catalyst::Action::REST 0.74 1.21
Catalyst::Test 0 0
ExtUtils::MakeMaker 0 7.64
File::Spec 0 3.87
FindBin 0 1.53
lib 0 0.65
Moose::Role 0 2.2201
namespace::clean 0 0.27
parent 0 0.238
perl 5.006 5.037005
strict 0 1.12
Test::More 0 1.302191
warnings 0 1.59
configure_requires:
Module Need Have
---------------------- ------- --------
Module::Build::Tiny 0.039 0.039
perl 5.006 5.037005
------------------------------
ENVIRONMENT AND OTHER CONTEXT
------------------------------
Environment variables:
AUTOMATED_TESTING = 1
DATE_MANIP_TEST_DM5 = 1
LC_ALL = C
NONINTERACTIVE_TESTING = 1
NO_NETWORK_TESTING = 1
PATH = /home/cpan/bin/perl-blead/bin:/home/cpan/bin:/sbin:/bin:/usr/sbin:/usr/bin:/usr/local/sbin:/usr/local/bin:/home/cpan/bin
PERL5LIB =
PERL5OPT =
PERL5_CPANPLUS_IS_RUNNING = 7687
PERL5_CPAN_IS_RUNNING = 7687
PERL_MM_USE_DEFAULT = 1
PERL_USE_UNSAFE_INC = 1
PERL_VERSION = blead
SHELL = /usr/local/bin/bash
TERM = screen
TMPDIR = /home/cpan/tmp
Perl special variables (and OS-specific diagnostics, for MSWin32):
$^X = /usr/home/cpan/bin/perl-blead/bin/perl5.37.5
$UID/$EUID = 1002 / 1002
$GID = 1002 1002
$EGID = 1002 1002
Perl module toolchain versions installed:
Module Have
------------------- --------
CPAN 2.34
CPAN::Meta 2.150010
Cwd 3.86
ExtUtils::CBuilder 0.280237
ExtUtils::Command 7.64
ExtUtils::Install 2.20
ExtUtils::MakeMaker 7.64
ExtUtils::Manifest 1.73
ExtUtils::ParseXS 3.46
File::Spec 3.87
JSON 4.10
JSON::PP 4.12
Module::Build 0.4231
Module::Signature n/a
Parse::CPAN::Meta 2.150010
Test::Harness 3.44
Test::More 1.302191
YAML 1.30
YAML::Syck 1.34
version 0.9929
--
Summary of my perl5 (revision 5 version 37 subversion 5) configuration:
Commit id: 382a56637961ef97fde5808e97df108db4e3ed8d
Platform:
osname=freebsd
osvers=12.3-release-p6
archname=amd64-freebsd
uname='freebsd cjg-freebsd12 12.3-release-p6 freebsd 12.3-release-p6 generic amd64 '
config_args='-des -Dprefix=~/bin/perl-blead -Dscriptdir=~/bin/perl-blead/bin -Dusedevel -Duse64bitall'
hint=recommended
useposix=true
d_sigaction=define
useithreads=undef
usemultiplicity=undef
use64bitint=define
use64bitall=define
uselongdouble=undef
usemymalloc=n
default_inc_excludes_dot=define
Compiler:
cc='cc'
ccflags ='-DHAS_FPSETMASK -DHAS_FLOATINGPOINT_H -fno-strict-aliasing -pipe -fstack-protector-strong -I/usr/local/include'
optimize='-O2'
cppflags='-DHAS_FPSETMASK -DHAS_FLOATINGPOINT_H -fno-strict-aliasing -pipe -fstack-protector-strong -I/usr/local/include'
ccversion=''
gccversion='FreeBSD Clang 10.0.1 (git@github.com:llvm/llvm-project.git llvmorg-10.0.1-0-gef32c611aa2)'
gccosandvers=''
intsize=4
longsize=8
ptrsize=8
doublesize=8
byteorder=12345678
doublekind=3
d_longlong=define
longlongsize=8
d_longdbl=define
longdblsize=16
longdblkind=3
ivtype='long'
ivsize=8
nvtype='double'
nvsize=8
Off_t='off_t'
lseeksize=8
alignbytes=8
prototype=define
Linker and Libraries:
ld='cc'
ldflags ='-Wl,-E -fstack-protector-strong -L/usr/local/lib'
libpth=/usr/lib /usr/local/lib /usr/lib/clang/10.0.1/lib
libs=-lpthread -ldl -lm -lcrypt -lutil -lc
perllibs=-lpthread -ldl -lm -lcrypt -lutil -lc
libc=
so=so
useshrplib=false
libperl=libperl.a
gnulibc_version=''
Dynamic Linking:
dlsrc=dl_dlopen.xs
dlext=so
d_dlsymun=undef
ccdlflags=' '
cccdlflags='-DPIC -fPIC'
lddlflags='-shared -L/usr/local/lib -fstack-protector-strong'
Characteristics of this binary (from libperl):
Compile-time options:
HAS_TIMES
PERLIO_LAYERS
PERL_COPY_ON_WRITE
PERL_DONT_CREATE_GVSV
PERL_HASH_FUNC_SIPHASH13
PERL_HASH_USE_SBOX32
PERL_MALLOC_WRAP
PERL_OP_PARENT
PERL_PRESERVE_IVUV
PERL_USE_DEVEL
PERL_USE_SAFE_PUTENV
USE_64_BIT_ALL
USE_64_BIT_INT
USE_LARGE_FILES
USE_LOCALE
USE_LOCALE_COLLATE
USE_LOCALE_CTYPE
USE_LOCALE_NUMERIC
USE_LOCALE_TIME
USE_PERLIO
USE_PERL_ATOF
Built under freebsd
Compiled at Oct 22 2022 17:48:11
%ENV:
PERL5LIB=""
PERL5OPT=""
PERL5_CPANPLUS_IS_RUNNING="7687"
PERL5_CPAN_IS_RUNNING="7687"
PERL_MM_USE_DEFAULT="1"
PERL_USE_UNSAFE_INC="1"
PERL_VERSION="blead"
@INC:
/home/cpan/bin/perl-blead/lib/site_perl/5.37.5/amd64-freebsd
/home/cpan/bin/perl-blead/lib/site_perl/5.37.5
/home/cpan/bin/perl-blead/lib/5.37.5/amd64-freebsd
/home/cpan/bin/perl-blead/lib/5.37.5
.