Back
From: metabase:user:a0e144f2-373b-11e6-8edd-c6848980b093
Subject: PASS Plack-Debugger-0.03 v5.25.1 GNU/Linux
Date: 2016-06-29T03:36:51Z
This distribution has been tested as part of the CPAN Testers
project, supporting the Perl programming language. See
http://wiki.cpantesters.org/ for more information or email
questions to cpan-testers-discuss@perl.org
--
Dear Stevan Little,
This is a computer-generated report for Plack-Debugger-0.03
on perl 5.25.1, created by CPAN-Reporter-1.2017.
Thank you for uploading your work to CPAN. Congratulations!
All tests were successful.
Sections of this report:
* Tester comments
* Program output
* Prerequisites
* Environment and other context
------------------------------
TESTER COMMENTS
------------------------------
Additional comments from tester:
none provided
------------------------------
PROGRAM OUTPUT
------------------------------
Output from '/usr/bin/make test':
Skip blib/lib/auto/share/dist/Plack-Debugger/js/plack-debugger.js (unchanged)
Skip blib/lib/auto/share/dist/Plack-Debugger/js/jquery.js (unchanged)
Skip blib/lib/auto/share/dist/Plack-Debugger/css/plack-debugger.css (unchanged)
PERL_DL_NONLAZY=1 "/usr/bin/perl5.25.1" "-MExtUtils::Command::MM" "-MTest::Harness" "-e" "undef *Test::Harness::Switches; test_harness(0, 'blib/lib', 'blib/arch')" t/*.t
t/001.basic.t ....................... ok
# ... sleeping for a second to ensure mtime is different enough
t/020-storage.t ..................... ok
t/030-injector.t .................... ok
t/031-injector-status-codes.t ....... ok
t/040-collector.t ................... ok
t/041-collector-error-handling.t .... ok
t/042-collector-no-cleanup-phase.t .. ok
# ... sleeping for a second to ensure mtime is different enough
t/050-app-debugger.t ................ ok
t/051-app-debugger-errors.t ......... ok
t/100-lpw-2014-examples.t ........... ok
All tests successful.
Files=10, Tests=143, 5 wallclock secs ( 0.03 usr 0.01 sys + 0.88 cusr 0.14 csys = 1.06 CPU)
Result: PASS
------------------------------
PREREQUISITES
------------------------------
Prerequisite modules loaded:
requires:
Module Need Have
----------------------- ---- --------
Config 0 5.025001
File::ShareDir 0 1.102
File::Spec 0 3.63
HTTP::Status 0 6.11
JSON::XS 0 3.02
Module::Versions 0 0.02
Plack 0 1.0039
POSIX 0 1.69
Scalar::Util 0 1.45_02
Time::HiRes 0 1.9733
Try::Tiny 0 0.24
build_requires:
Module Need Have
----------------------- ---- --------
ExtUtils::MakeMaker 0 7.10_01
HTTP::Request::Common 0 6.11
Path::Class 0 0.36
Test::Fatal 0 0.014
Test::More 0.88 1.302030
Test::Warn 0 0.30
UUID::Tiny 0 1.04
configure_requires:
Module Need Have
----------------------- ---- --------
ExtUtils::MakeMaker 0 7.10_01
File::ShareDir::Install 0.06 0.10
------------------------------
ENVIRONMENT AND OTHER CONTEXT
------------------------------
Environment variables:
LANG = en_US.UTF-8
PATH = /usr/local/bin:/usr/bin:/bin:/usr/local/games:/usr/games
PERL5LIB = /home/dcollins/toolchain/.afl2/.cpan/build/JSON-XS-3.02-toWZYi/blib/arch:/home/dcollins/toolchain/.afl2/.cpan/build/JSON-XS-3.02-toWZYi/blib/lib:/home/dcollins/toolchain/.afl2/.cpan/build/Template-Toolkit-2.26-KHCj1I/blib/arch:/home/dcollins/toolchain/.afl2/.cpan/build/Template-Toolkit-2.26-KHCj1I/blib/lib:/home/dcollins/toolchain/.afl2/.cpan/build/Plack-1.0039-RrLFT2/blib/arch:/home/dcollins/toolchain/.afl2/.cpan/build/Plack-1.0039-RrLFT2/blib/lib
PERL5OPT =
PERL5_CPANPLUS_IS_RUNNING = 58686
PERL5_CPAN_IS_RUNNING = 58686
SHELL = /bin/bash
TERM = xterm
Perl special variables (and OS-specific diagnostics, for MSWin32):
$^X = /usr/bin/perl5.25.1
$UID/$EUID = 1002 / 1002
$GID = 1005 1005
$EGID = 1005 1005
Perl module toolchain versions installed:
Module Have
------------------- --------
CPAN 2.11
CPAN::Meta 2.150005
Cwd 3.63
ExtUtils::CBuilder 0.280225
ExtUtils::Command 7.10
ExtUtils::Install 2.04
ExtUtils::MakeMaker 7.10_01
ExtUtils::Manifest 1.70
ExtUtils::ParseXS 3.31
File::Spec 3.63
JSON 2.90
JSON::PP 2.27300
Module::Build n/a
Module::Signature n/a
Parse::CPAN::Meta 1.4417
Test::Harness 3.36
Test::More 1.302030
YAML 1.15
YAML::Syck 1.29
version 0.9917
--
Summary of my perl5 (revision 5 version 25 subversion 1) configuration:
Commit id: 5b145eb412326b9b57276229cfde0ef09e7ca2bc
Platform:
osname=linux, osvers=4.6.0-1-amd64, archname=x86_64-linux-ld
uname='linux nightshade64 4.6.0-1-amd64 #1 smp debian 4.6.1-1 (2016-06-06) x86_64 gnulinux '
config_args='-Dusedevel -Dprefix=/usr -Dcc=ccache gcc-6 -Duselongdouble -Duse64bitall -Doptimize=-O3 -Dversiononly -Uman1dir -Uman3dir -Dsiteprefix=/home/dcollins/toolchain/local -DDEBUGGING -des'
hint=recommended, useposix=true, d_sigaction=define
useithreads=undef, usemultiplicity=undef
use64bitint=define, use64bitall=define, uselongdouble=define
usemymalloc=n, bincompat5005=undef
Compiler:
cc='ccache gcc-6', ccflags ='-fwrapv -DDEBUGGING -fno-strict-aliasing -pipe -fstack-protector-strong -I/usr/local/include -D_LARGEFILE_SOURCE -D_FILE_OFFSET_BITS=64',
optimize='-O3 -g',
cppflags='-fwrapv -DDEBUGGING -fno-strict-aliasing -pipe -fstack-protector-strong -I/usr/local/include'
ccversion='', gccversion='6.1.1 20160519', gccosandvers=''
intsize=4, longsize=8, ptrsize=8, doublesize=8, byteorder=12345678, doublekind=3
d_longlong=define, longlongsize=8, d_longdbl=define, longdblsize=16, longdblkind=3
ivtype='long', ivsize=8, nvtype='long double', nvsize=16, Off_t='off_t', lseeksize=8
alignbytes=16, prototype=define
Linker and Libraries:
ld='ccache gcc-6', ldflags =' -fstack-protector-strong -L/usr/local/lib'
libpth=/usr/local/lib /usr/lib/gcc/x86_64-linux-gnu/6/include-fixed /usr/include/x86_64-linux-gnu /usr/lib /lib/x86_64-linux-gnu /lib/../lib /usr/lib/x86_64-linux-gnu /usr/lib/../lib /lib
libs=-lpthread -lnsl -ldl -lm -lcrypt -lutil -lc
perllibs=-lpthread -lnsl -ldl -lm -lcrypt -lutil -lc
libc=libc-2.22.so, so=so, useshrplib=false, libperl=libperl.a
gnulibc_version='2.22'
Dynamic Linking:
dlsrc=dl_dlopen.xs, dlext=so, d_dlsymun=undef, ccdlflags='-Wl,-E'
cccdlflags='-fPIC', lddlflags='-shared -O3 -g -L/usr/local/lib -fstack-protector-strong'
Characteristics of this binary (from libperl):
Compile-time options: DEBUGGING HAS_TIMES PERLIO_LAYERS PERL_COPY_ON_WRITE
PERL_DONT_CREATE_GVSV
PERL_HASH_FUNC_ONE_AT_A_TIME_HARD PERL_MALLOC_WRAP
PERL_OP_PARENT PERL_PRESERVE_IVUV PERL_USE_DEVEL
USE_64_BIT_ALL USE_64_BIT_INT USE_LARGE_FILES
USE_LOCALE USE_LOCALE_COLLATE USE_LOCALE_CTYPE
USE_LOCALE_NUMERIC USE_LOCALE_TIME USE_LONG_DOUBLE
USE_PERLIO USE_PERL_ATOF
Built under linux
Compiled at Jan 1 1970 00:00:00
%ENV:
PERL5LIB="/home/dcollins/toolchain/.afl2/.cpan/build/JSON-XS-3.02-toWZYi/blib/arch:/home/dcollins/toolchain/.afl2/.cpan/build/JSON-XS-3.02-toWZYi/blib/lib:/home/dcollins/toolchain/.afl2/.cpan/build/Template-Toolkit-2.26-KHCj1I/blib/arch:/home/dcollins/toolchain/.afl2/.cpan/build/Template-Toolkit-2.26-KHCj1I/blib/lib:/home/dcollins/toolchain/.afl2/.cpan/build/Plack-1.0039-RrLFT2/blib/arch:/home/dcollins/toolchain/.afl2/.cpan/build/Plack-1.0039-RrLFT2/blib/lib"
PERL5OPT=""
PERL5_CPANPLUS_IS_RUNNING="58686"
PERL5_CPAN_IS_RUNNING="58686"
@INC:
/home/dcollins/toolchain/.afl2/.cpan/build/JSON-XS-3.02-toWZYi/blib/arch
/home/dcollins/toolchain/.afl2/.cpan/build/JSON-XS-3.02-toWZYi/blib/lib
/home/dcollins/toolchain/.afl2/.cpan/build/Template-Toolkit-2.26-KHCj1I/blib/arch
/home/dcollins/toolchain/.afl2/.cpan/build/Template-Toolkit-2.26-KHCj1I/blib/lib
/home/dcollins/toolchain/.afl2/.cpan/build/Plack-1.0039-RrLFT2/blib/arch
/home/dcollins/toolchain/.afl2/.cpan/build/Plack-1.0039-RrLFT2/blib/lib
/home/dcollins/toolchain/local/lib/perl5/site_perl/5.25.1/x86_64-linux-ld
/home/dcollins/toolchain/local/lib/perl5/site_perl/5.25.1
/usr/lib/perl5/5.25.1/x86_64-linux-ld
/usr/lib/perl5/5.25.1
/home/dcollins/toolchain/local/lib/perl5/site_perl
.