Back
From: metabase:user:15c6debe-b638-11e6-8ec8-f42bcddd27ba
Subject: PASS Test-HTTP-AnyEvent-Server-0.013 v5.20.3 OpenBSD
Date: 2016-12-18T23:50:12Z
This distribution has been tested as part of the CPAN Testers
project, supporting the Perl programming language. See
http://wiki.cpantesters.org/ for more information or email
questions to cpan-testers-discuss@perl.org
--
Dear Stanislaw Pusep,
This is a computer-generated report for Test-HTTP-AnyEvent-Server-0.013
on perl 5.20.3, created by CPAN-Reporter-1.2018.
Thank you for uploading your work to CPAN. Congratulations!
All tests were successful.
Sections of this report:
* Tester comments
* Program output
* Prerequisites
* Environment and other context
------------------------------
TESTER COMMENTS
------------------------------
Additional comments from tester:
this report is from an automated smoke testing program
and was not reviewed by a human for accuracy
------------------------------
PROGRAM OUTPUT
------------------------------
Output from '/usr/bin/make test':
PERL_DL_NONLAZY=1 "/usr/bin/perl" "-MExtUtils::Command::MM" "-MTest::Harness" "-e" "undef *Test::Harness::Switches; test_harness(0, 'blib/lib', 'blib/arch')" t/*.t
t/00-compile.t ............... ok
# Test::HTTP::AnyEvent::Server v0.013, Perl 5.020003, /usr/bin/perl
t/00-load.t .................. ok
t/01-basic.t ................. ok
t/02-forked.t ................ ok
which: ab: Command not found.
t/03-flood.t ................. ok
t/04-https.t ................. ok
t/05-proxy.t ................. ok
t/06-custom.t ................ ok
t/author-critic.t ............ skipped: these tests are for testing by the author
t/author-test-eol.t .......... skipped: these tests are for testing by the author
t/release-cpan-changes.t ..... skipped: these tests are for release candidate testing
t/release-dist-manifest.t .... skipped: these tests are for release candidate testing
t/release-distmeta.t ......... skipped: these tests are for release candidate testing
t/release-kwalitee.t ......... skipped: these tests are for release candidate testing
t/release-minimum-version.t .. skipped: these tests are for release candidate testing
t/release-mojibake.t ......... skipped: these tests are for release candidate testing
t/release-no-tabs.t .......... skipped: these tests are for release candidate testing
t/release-pod-coverage.t ..... skipped: these tests are for release candidate testing
t/release-pod-linkcheck.t .... skipped: these tests are for release candidate testing
t/release-pod-syntax.t ....... skipped: these tests are for release candidate testing
t/release-portability.t ...... skipped: these tests are for release candidate testing
t/release-synopsis.t ......... skipped: these tests are for release candidate testing
t/release-test-version.t ..... skipped: these tests are for release candidate testing
t/release-unused-vars.t ...... skipped: these tests are for release candidate testing
All tests successful.
Files=24, Tests=39, 10 wallclock secs ( 0.13 usr 0.20 sys + 3.98 cusr 1.87 csys = 6.18 CPU)
Result: PASS
------------------------------
PREREQUISITES
------------------------------
Prerequisite modules loaded:
requires:
Module Need Have
---------------------------- ---- --------
AnyEvent 7.0 7.13
AnyEvent::Handle 0 7.13
AnyEvent::Log 0 7.13
AnyEvent::Socket 0 7.13
AnyEvent::Util 0 7.13
HTTP::Headers 0 6.11
HTTP::Request 0 6.11
HTTP::Response 0 6.11
HTTP::Status 0 6.11
Moo 0 2.002005
MooX::Types::MooseLike::Base 0 0.29
build_requires:
Module Need Have
---------------------------- ---- --------
AnyEvent::HTTP 0 2.23
ExtUtils::MakeMaker 0 7.24
HTTP::Tiny 0 0.070
opt_requires:
Module Need Have
---------------------------- ---- --------
Net::SSLeay 0 1.78
------------------------------
ENVIRONMENT AND OTHER CONTEXT
------------------------------
Environment variables:
AUTOMATED_TESTING = 1
PATH = /home/mb/perl5/bin:/home/mb/bin:/bin:/sbin:/usr/bin:/usr/sbin:/usr/X11R6/bin:/usr/local/bin:/usr/local/sbin:/usr/games:.
PERL5LIB = /home/mb/.cpan/build/AnyEvent-HTTP-2.23-MJL8Z6/blib/arch:/home/mb/.cpan/build/AnyEvent-HTTP-2.23-MJL8Z6/blib/lib:/home/mb/.cpan/build/MooX-Types-MooseLike-0.29-I8eS1V/blib/arch:/home/mb/.cpan/build/MooX-Types-MooseLike-0.29-I8eS1V/blib/lib:/home/mb/.cpan/build/EV-4.22-0B55fc/blib/arch:/home/mb/.cpan/build/EV-4.22-0B55fc/blib/lib:/home/mb/.cpan/build/Guard-1.023-nMdIYH/blib/arch:/home/mb/.cpan/build/Guard-1.023-nMdIYH/blib/lib:/home/mb/.cpan/build/Async-Interrupt-1.21-iYXNNB/blib/arch:/home/mb/.cpan/build/Async-Interrupt-1.21-iYXNNB/blib/lib:/home/mb/.cpan/build/AnyEvent-7.13-UHc9P9/blib/arch:/home/mb/.cpan/build/AnyEvent-7.13-UHc9P9/blib/lib:/home/mb/perl5/lib/perl5
PERL5OPT =
PERL5_CPANPLUS_IS_RUNNING = 4473
PERL5_CPAN_IS_RUNNING = 4473
PERL5_CPAN_IS_RUNNING_IN_RECURSION = 29072,4473
PERL_CR_SMOKER_CURRENT = AnyEvent-ClickHouse-0.031
PERL_EXTUTILS_AUTOINSTALL = --defaultdeps
PERL_LOCAL_LIB_ROOT = /home/mb/perl5
PERL_MB_OPT = --install_base "/home/mb/perl5"
PERL_MM_OPT = INSTALL_BASE=/home/mb/perl5
PERL_MM_USE_DEFAULT = 1
SHELL = /bin/ksh
TERM = screen
Perl special variables (and OS-specific diagnostics, for MSWin32):
$^X = /usr/bin/perl
$UID/$EUID = 1000 / 1000
$GID = 1000 1000 0
$EGID = 1000 1000 0
Perl module toolchain versions installed:
Module Have
------------------- --------
CPAN 2.05_01
CPAN::Meta 2.143240
Cwd 3.48_03
ExtUtils::CBuilder 0.280217
ExtUtils::Command 7.24
ExtUtils::Install 1.67
ExtUtils::MakeMaker 7.24
ExtUtils::Manifest 1.70
ExtUtils::ParseXS 3.24_01
File::Spec 3.48_03
JSON 2.90
JSON::PP 2.27400
Module::Build 0.4220
Module::Signature n/a
Parse::CPAN::Meta 1.4414
Test::Harness 3.36
Test::More 1.302067
YAML 1.19
YAML::Syck 1.29
version 0.9909
--
Summary of my perl5 (revision 5 version 20 subversion 3) configuration:
Platform:
osname=openbsd, osvers=6.0, archname=amd64-openbsd
uname='openbsd'
config_args='-dsE -Dopenbsd_distribution=defined -Dccflags=-DNO_LOCALE_NUMERIC -DNO_LOCALE_COLLATE -Dmksymlinks'
hint=recommended, useposix=true, d_sigaction=define
useithreads=undef, usemultiplicity=undef
use64bitint=define, use64bitall=define, uselongdouble=undef
usemymalloc=n, bincompat5005=undef
Compiler:
cc='cc', ccflags ='-DNO_LOCALE_NUMERIC -DNO_LOCALE_COLLATE -fno-strict-aliasing -fno-delete-null-pointer-checks -pipe -fstack-protector -I/usr/local/include',
optimize='-O2',
cppflags='-DNO_LOCALE_NUMERIC -DNO_LOCALE_COLLATE -fno-strict-aliasing -fno-delete-null-pointer-checks -pipe -fstack-protector -I/usr/local/include'
ccversion='', gccversion='4.2.1 20070719 ', gccosandvers='openbsd6.0'
intsize=4, longsize=8, ptrsize=8, doublesize=8, byteorder=12345678
d_longlong=define, longlongsize=8, d_longdbl=define, longdblsize=16
ivtype='long', ivsize=8, nvtype='double', nvsize=8, Off_t='off_t', lseeksize=8
alignbytes=8, prototype=define
Linker and Libraries:
ld='cc', ldflags ='-Wl,-E -fstack-protector -L/usr/local/lib'
libpth=/usr/lib /usr/lib
libs=-lpthread -lm -lc
perllibs=-lpthread -lm -lc
libc=/usr/lib/libc.a, so=so, useshrplib=true, libperl=libperl.so.17.1
gnulibc_version=''
Dynamic Linking:
dlsrc=dl_dlopen.xs, dlext=so, d_dlsymun=undef, ccdlflags='-Wl,-R/usr/libdata/perl5/amd64-openbsd/5.20.3/CORE'
cccdlflags='-DPIC -fPIC ', lddlflags='-shared -fPIC -fstack-protector -L/usr/local/lib'
Characteristics of this binary (from libperl):
Compile-time options: HAS_TIMES PERLIO_LAYERS PERL_DONT_CREATE_GVSV
PERL_HASH_FUNC_ONE_AT_A_TIME_HARD PERL_MALLOC_WRAP
PERL_NEW_COPY_ON_WRITE PERL_PRESERVE_IVUV
USE_64_BIT_ALL USE_64_BIT_INT USE_LARGE_FILES
USE_LOCALE USE_LOCALE_CTYPE USE_PERLIO USE_PERL_ATOF
Built under openbsd
%ENV:
PERL5LIB="/home/mb/.cpan/build/AnyEvent-HTTP-2.23-MJL8Z6/blib/arch:/home/mb/.cpan/build/AnyEvent-HTTP-2.23-MJL8Z6/blib/lib:/home/mb/.cpan/build/MooX-Types-MooseLike-0.29-I8eS1V/blib/arch:/home/mb/.cpan/build/MooX-Types-MooseLike-0.29-I8eS1V/blib/lib:/home/mb/.cpan/build/EV-4.22-0B55fc/blib/arch:/home/mb/.cpan/build/EV-4.22-0B55fc/blib/lib:/home/mb/.cpan/build/Guard-1.023-nMdIYH/blib/arch:/home/mb/.cpan/build/Guard-1.023-nMdIYH/blib/lib:/home/mb/.cpan/build/Async-Interrupt-1.21-iYXNNB/blib/arch:/home/mb/.cpan/build/Async-Interrupt-1.21-iYXNNB/blib/lib:/home/mb/.cpan/build/AnyEvent-7.13-UHc9P9/blib/arch:/home/mb/.cpan/build/AnyEvent-7.13-UHc9P9/blib/lib:/home/mb/perl5/lib/perl5"
PERL5OPT=""
PERL5_CPANPLUS_IS_RUNNING="4473"
PERL5_CPAN_IS_RUNNING="4473"
PERL5_CPAN_IS_RUNNING_IN_RECURSION="29072,4473"
PERL_CR_SMOKER_CURRENT="AnyEvent-ClickHouse-0.031"
PERL_EXTUTILS_AUTOINSTALL="--defaultdeps"
PERL_LOCAL_LIB_ROOT="/home/mb/perl5"
PERL_MB_OPT="--install_base "/home/mb/perl5""
PERL_MM_OPT="INSTALL_BASE=/home/mb/perl5"
PERL_MM_USE_DEFAULT="1"
@INC:
/home/mb/.cpan/build/AnyEvent-HTTP-2.23-MJL8Z6/blib/arch
/home/mb/.cpan/build/AnyEvent-HTTP-2.23-MJL8Z6/blib/lib
/home/mb/.cpan/build/MooX-Types-MooseLike-0.29-I8eS1V/blib/arch
/home/mb/.cpan/build/MooX-Types-MooseLike-0.29-I8eS1V/blib/lib
/home/mb/.cpan/build/EV-4.22-0B55fc/blib/arch
/home/mb/.cpan/build/EV-4.22-0B55fc/blib/lib
/home/mb/.cpan/build/Guard-1.023-nMdIYH/blib/arch
/home/mb/.cpan/build/Guard-1.023-nMdIYH/blib/lib
/home/mb/.cpan/build/Async-Interrupt-1.21-iYXNNB/blib/arch
/home/mb/.cpan/build/Async-Interrupt-1.21-iYXNNB/blib/lib
/home/mb/.cpan/build/AnyEvent-7.13-UHc9P9/blib/arch
/home/mb/.cpan/build/AnyEvent-7.13-UHc9P9/blib/lib
/home/mb/perl5/lib/perl5/5.20.3/amd64-openbsd
/home/mb/perl5/lib/perl5/5.20.3
/home/mb/perl5/lib/perl5/amd64-openbsd
/home/mb/perl5/lib/perl5
/usr/local/libdata/perl5/site_perl/amd64-openbsd
/usr/libdata/perl5/site_perl/amd64-openbsd
/usr/local/libdata/perl5/site_perl
/usr/libdata/perl5/site_perl
/usr/libdata/perl5/amd64-openbsd/5.20.3
/usr/local/libdata/perl5/amd64-openbsd/5.20.3
/usr/libdata/perl5
/usr/local/libdata/perl5
.