Report for Data-Sah-JS-0.87

Back
From: metabase:user:320bfe00-2aae-11df-837a-5e0a49663a4f
Subject: PASS Data-Sah-JS-0.87 v5.14.0 GNU/Linux
Date: 2017-03-13T14:02:38Z

This distribution has been tested as part of the CPAN Testers
project, supporting the Perl programming language.  See
http://wiki.cpantesters.org/ for more information or email
questions to cpan-testers-discuss@perl.org


--
Dear perlancar,

This is a computer-generated report for Data-Sah-JS-0.87
on perl 5.14.0, created by CPAN-Reporter-1.2018.

Thank you for uploading your work to CPAN.  Congratulations!
All tests were successful.

Sections of this report:

    * Tester comments
    * Program output
    * Prerequisites
    * Environment and other context

------------------------------
TESTER COMMENTS
------------------------------

Additional comments from tester:

this report is from an automated smoke testing program
and was not reviewed by a human for accuracy

------------------------------
PROGRAM OUTPUT
------------------------------

Output from '/usr/bin/make test':

PERL_DL_NONLAZY=1 "/home/sand/src/perl/repoperls/installed-perls/host/k93msid/v5.14.0/a1a1/bin/perl" "-MExtUtils::Command::MM" "-MTest::Harness" "-e" "undef *Test::Harness::Switches; test_harness(0, 'blib/lib', 'blib/arch')" t/*.t
t/00-compile.t ........... ok
t/99-various.t ........... ok
t/author-pod-coverage.t .. skipped: these tests are for testing by the author
t/author-pod-syntax.t .... skipped: these tests are for testing by the author
t/js-misc.t .............. ok
t/js-type-date.t ......... ok
t/js-type-duration.t ..... ok
    # Loading 10-type-all.json ...
    # Loading 10-type-any.json ...
    # Loading 10-type-array.json ...
    # Skipping test (tags=clause:check_each_index, type, type:array) array0117: check_each_index: clause check_each_index not yet implemented
    # Skipping test (tags=clause:check_each_elem, type, type:array) array0118: check_each_elem: clause check_each_elem not yet implemented
    # Skipping test (tags=clause:uniq, type, type:array) array0119: uniq=1: clause uniq not yet implemented
    # Skipping test (tags=clause:uniq, type, type:array) array0120: uniq=0: clause uniq not yet implemented
    # Skipping test (tags=clause:uniq, op, op:not, opshortcut, type, type:array) array0121: !uniq=1: clause uniq not yet implemented
    # Skipping test (tags=clause:exists, type, type:array) array0122: exists: clause exists not yet implemented
    # Skipping test (tags=prop:len, type, type:array) array0129: prop:len: properties are not yet implemented
    # Skipping test (tags=prop:indices, type, type:array) array0130: prop:indices: properties are not yet implemented
    # Skipping test (tags=prop:elems, type, type:array) array0131: prop:elems: properties are not yet implemented
    # Loading 10-type-bool.json ...
    # Loading 10-type-buf.json ...
    # Skipping test (tags=clause:check_each_index, type, type:buf) buf0164: check_each_index: clause check_each_index not yet implemented
    # Skipping test (tags=clause:check_each_elem, type, type:buf) buf0165: check_each_elem: clause check_each_elem not yet implemented
    # Skipping test (tags=clause:uniq, type, type:buf) buf0166: uniq=1: clause uniq not yet implemented
    # Skipping test (tags=clause:uniq, type, type:buf) buf0167: uniq=0: clause uniq not yet implemented
    # Skipping test (tags=clause:uniq, op, op:not, opshortcut, type, type:buf) buf0168: !uniq=1: clause uniq not yet implemented
    # Skipping test (tags=clause:exists, type, type:buf) buf0169: exists: clause exists not yet implemented
    # Skipping test (tags=prop:len, type, type:buf) buf0174: prop:len: properties are not yet implemented
    # Skipping test (tags=prop:indices, type, type:buf) buf0175: prop:indices: properties are not yet implemented
    # Skipping test (tags=prop:elems, type, type:buf) buf0176: prop:elems: properties are not yet implemented
    # Loading 10-type-cistr.json ...
    # Skipping test (tags=clause:check_each_index, type, type:cistr) cistr0164: check_each_index: clause check_each_index not yet implemented
    # Skipping test (tags=clause:check_each_elem, type, type:cistr) cistr0165: check_each_elem: clause check_each_elem not yet implemented
    # Skipping test (tags=clause:uniq, type, type:cistr) cistr0166: uniq=1: clause uniq not yet implemented
    # Skipping test (tags=clause:uniq, type, type:cistr) cistr0167: uniq=0: clause uniq not yet implemented
    # Skipping test (tags=clause:uniq, op, op:not, opshortcut, type, type:cistr) cistr0168: !uniq=1: clause uniq not yet implemented
    # Skipping test (tags=clause:exists, type, type:cistr) cistr0169: exists: clause exists not yet implemented
    # Skipping test (tags=prop:len, type, type:cistr) cistr0174: prop:len: properties are not yet implemented
    # Skipping test (tags=prop:indices, type, type:cistr) cistr0175: prop:indices: properties are not yet implemented
    # Skipping test (tags=prop:elems, type, type:cistr) cistr0176: prop:elems: properties are not yet implemented
    # Loading 10-type-float.json ...
    # Loading 10-type-hash.json ...
    # Skipping test (tags=clause:check_each_index, type, type:hash) hash0121: check_each_index: clause check_each_index not yet implemented
    # Skipping test (tags=clause:check_each_key, type, type:hash) hash0122: check_each_key: clause check_each_key not yet implemented
    # Skipping test (tags=clause:check_each_elem, type, type:hash) hash0123: check_each_elem: clause check_each_elem not yet implemented
    # Skipping test (tags=clause:check_each_value, type, type:hash) hash0124: check_each_value: clause check_each_value not yet implemented
    # Skipping test (tags=clause:uniq, type, type:hash) hash0125: uniq=1: clause uniq not yet implemented
    # Skipping test (tags=clause:uniq, type, type:hash) hash0126: uniq=0: clause uniq not yet implemented
    # Skipping test (tags=clause:uniq, op, op:not, opshortcut, type, type:hash) hash0127: !uniq=1: clause uniq not yet implemented
    # Skipping test (tags=clause:exists, type, type:hash) hash0128: exists: clause exists not yet implemented
    # Skipping test (tags=prop:len, type, type:hash) hash0133: prop:len: properties are not yet implemented
    # Skipping test (tags=prop:indices, type, type:hash) hash0134: prop:indices: properties are not yet implemented
    # Skipping test (tags=prop:keys, type, type:hash) hash0135: prop:keys: properties are not yet implemented
    # Skipping test (tags=prop:elems, type, type:hash) hash0136: prop:elems: properties are not yet implemented
    # Skipping test (tags=prop:values, type, type:hash) hash0137: prop:values: properties are not yet implemented
    # Skipping test (tags=prop:keys, type, type:hash) hash0263: prop:keys: properties are not yet implemented
    # Skipping test (tags=prop:values, type, type:hash) hash0264: prop:values: properties are not yet implemented
    # Loading 10-type-int.json ...
    # Loading 10-type-num.json ...
    # Loading 10-type-obj.json ...
    # Skipping test (tags=clause:isa, type, type:obj) obj0002: isa (nok): obj clause isa not yet implemented
    # Skipping test (tags=prop:meths, type, type:obj) obj0003: prop:meths (nok): properties are not yet implemented
    # Skipping test (tags=prop:attrs, type, type:obj) obj0004: prop:attrs (nok): properties are not yet implemented
    # Loading 10-type-str.json ...
    # Skipping test (tags=clause:check_each_index, type, type:str) str0164: check_each_index: clause check_each_index not yet implemented
    # Skipping test (tags=clause:check_each_elem, type, type:str) str0165: check_each_elem: clause check_each_elem not yet implemented
    # Skipping test (tags=clause:uniq, type, type:str) str0166: uniq=1: clause uniq not yet implemented
    # Skipping test (tags=clause:uniq, type, type:str) str0167: uniq=0: clause uniq not yet implemented
    # Skipping test (tags=clause:uniq, op, op:not, opshortcut, type, type:str) str0168: !uniq=1: clause uniq not yet implemented
    # Skipping test (tags=clause:exists, type, type:str) str0169: exists: clause exists not yet implemented
    # Skipping test (tags=prop:len, type, type:str) str0174: prop:len: properties are not yet implemented
    # Skipping test (tags=prop:indices, type, type:str) str0175: prop:indices: properties are not yet implemented
    # Skipping test (tags=prop:elems, type, type:str) str0176: prop:elems: properties are not yet implemented
    # Loading 10-type-undef.json ...
t/spectest-js.t .......... ok
All tests successful.
Files=8, Tests=46, 15 wallclock secs ( 0.78 usr  0.13 sys + 10.65 cusr  2.40 csys = 13.96 CPU)
Result: PASS

------------------------------
PREREQUISITES
------------------------------

Prerequisite modules loaded:

requires:

    Module                        Need     Have    
    ----------------------------- -------- --------
    Capture::Tiny                 0        0.44    
    Data::Clean::JSON             0.11     0.38    
    Data::Sah                     0.84     0.87    
    Data::Sah::Coerce             0.014    0.020   
    Data::Sah::Compiler::Prog     0        0.87    
    Data::Sah::Compiler::Prog::TH 0        0.87    
    Data::Sah::Type::array        0        0.87    
    Data::Sah::Type::bool         0        0.87    
    Data::Sah::Type::buf          0        0.87    
    Data::Sah::Type::cistr        0        0.87    
    Data::Sah::Type::code         0        0.87    
    Data::Sah::Type::date         0        0.87    
    Data::Sah::Type::duration     0        0.87    
    Data::Sah::Type::float        0        0.87    
    Data::Sah::Type::hash         0        0.87    
    Data::Sah::Type::int          0        0.87    
    Data::Sah::Type::num          0        0.87    
    Data::Sah::Type::obj          0        0.87    
    Data::Sah::Type::re           0        0.87    
    Data::Sah::Type::str          0        0.87    
    Data::Sah::Type::undef        0        0.87    
    Exporter                      0        5.72    
    File::Temp                    0        0.2304  
    IPC::System::Options          0.27     0.29    
    JSON::MaybeXS                 0        1.003008
    Mo                            0        0.40    
    Nodejs::Util                  0.006    0.006   
    parent                        0        0.236   
    perl                          5.010001 5.014000
    Role::Tiny::With              0        2.000005
    Scalar::Util                  0        1.47    
    Scalar::Util::Numeric::PP     0        0.04    
    strict                        0        1.04    
    String::Indent                0        0.03    
    Test::Data::Sah               0.87     0.87    
    Test::More                    0.98     1.302078
    warnings                      0        1.12    

build_requires:

    Module                        Need     Have    
    ----------------------------- -------- --------
    ExtUtils::MakeMaker           0        7.24    
    File::Spec                    0        3.62    
    IO::Handle                    0        1.31    
    IPC::Open3                    0        1.09    
    Sah::SpecTest                 v0.9.42  0.9.44  
    Test::Exception               0        0.43    
    Test::More                    0.98     1.302078

configure_requires:

    Module                        Need     Have    
    ----------------------------- -------- --------
    ExtUtils::MakeMaker           0        7.24    


------------------------------
ENVIRONMENT AND OTHER CONTEXT
------------------------------

Environment variables:

    AUTOMATED_TESTING = 1
    LANG = en_US.UTF-8
    PATH = /home/sand/bin:/usr/local/bin:/usr/bin:/bin:/usr/games:/usr/local/perl/bin:/usr/X11/bin:/sbin:/usr/sbin
    PERL5LIB = 
    PERL5OPT = 
    PERL5_CPANPLUS_IS_RUNNING = 12270
    PERL5_CPAN_IS_RUNNING = 12270
    PERL_CANARY_STABILITY_NOPROMPT = 1
    PERL_MM_USE_DEFAULT = 1
    PERL_USE_UNSAFE_INC = 1
    SHELL = /usr/bin/zsh
    TERM = screen

Perl special variables (and OS-specific diagnostics, for MSWin32):

    $^X = /home/sand/src/perl/repoperls/installed-perls/host/k93msid/v5.14.0/a1a1/bin/perl
    $UID/$EUID = 1005 / 1005
    $GID = 1005 1005
    $EGID = 1005 1005

Perl module toolchain versions installed:

    Module              Have    
    ------------------- --------
    CPAN                2.17    
    CPAN::Meta          2.150010
    Cwd                 3.62    
    ExtUtils::CBuilder  0.280224
    ExtUtils::Command   7.24    
    ExtUtils::Install   2.04    
    ExtUtils::MakeMaker 7.24    
    ExtUtils::Manifest  1.70    
    ExtUtils::ParseXS   3.30    
    File::Spec          3.62    
    JSON                2.91_04 
    JSON::PP            2.91_04 
    Module::Build       0.4220  
    Module::Signature   0.81    
    Parse::CPAN::Meta   2.150010
    Test::Harness       3.37_01 
    Test::More          1.302078
    YAML                1.23    
    YAML::Syck          1.29    
    version             0.9917  


--

Summary of my perl5 (revision 5 version 14 subversion 0) configuration:
  Derived from: a35ef416833511da752c4b5b836b7a8915712aab
  Platform:
    osname=linux, osvers=4.8.0-2-amd64, archname=x86_64-linux-thread-multi-ld
    uname='linux k93msid 4.8.0-2-amd64 #1 smp debian 4.8.11-1 (2016-12-02) x86_64 gnulinux '
    config_args='-Dprefix=/home/sand/src/perl/repoperls/installed-perls/host/k93msid/v5.14.0/a1a1 -Dmyhostname=k93msid -Dinstallusrbinperl=n -Uversiononly -Dusedevel -des -Ui_db -Dlibswanted=cl pthread socket inet nsl gdbm dbm malloc dl ld sun m crypt sec util c cposix posix ucb BSD gdbm_compat -Duseithreads -Duselongdouble -DDEBUGGING=both'
    hint=recommended, useposix=true, d_sigaction=define
    useithreads=define, usemultiplicity=define
    useperlio=define, d_sfio=undef, uselargefiles=define, usesocks=undef
    use64bitint=define, use64bitall=define, uselongdouble=define
    usemymalloc=n, bincompat5005=undef
  Compiler:
    cc='cc', ccflags ='-D_REENTRANT -D_GNU_SOURCE -DDEBUGGING -fno-strict-aliasing -pipe -fstack-protector -I/usr/local/include -D_LARGEFILE_SOURCE -D_FILE_OFFSET_BITS=64',
    optimize='-O2 -g',
    cppflags='-D_REENTRANT -D_GNU_SOURCE -DDEBUGGING -fno-strict-aliasing -pipe -fstack-protector -I/usr/local/include'
    ccversion='', gccversion='6.2.1 20161124', gccosandvers=''
    intsize=4, longsize=8, ptrsize=8, doublesize=8, byteorder=12345678
    d_longlong=define, longlongsize=8, d_longdbl=define, longdblsize=16
    ivtype='long', ivsize=8, nvtype='long double', nvsize=16, Off_t='off_t', lseeksize=8
    alignbytes=16, prototype=define
  Linker and Libraries:
    ld='cc', ldflags =' -fstack-protector -L/usr/local/lib'
    libpth=/usr/local/lib /lib/x86_64-linux-gnu /lib/../lib /usr/lib/x86_64-linux-gnu /usr/lib/../lib /lib /usr/lib
    libs=-lpthread -lnsl -ldl -lm -lcrypt -lutil -lc
    perllibs=-lpthread -lnsl -ldl -lm -lcrypt -lutil -lc
    libc=libc-2.24.so, so=so, useshrplib=false, libperl=libperl.a
    gnulibc_version='2.24'
  Dynamic Linking:
    dlsrc=dl_dlopen.xs, dlext=so, d_dlsymun=undef, ccdlflags='-Wl,-E'
    cccdlflags='-fPIC', lddlflags='-shared -O2 -g -L/usr/local/lib -fstack-protector'


Characteristics of this binary (from libperl): 
  Compile-time options: DEBUGGING MULTIPLICITY PERL_DONT_CREATE_GVSV
                        PERL_IMPLICIT_CONTEXT PERL_MALLOC_WRAP
                        PERL_PRESERVE_IVUV PERL_TRACK_MEMPOOL PERL_USE_DEVEL
                        USE_64_BIT_ALL USE_64_BIT_INT USE_ITHREADS
                        USE_LARGE_FILES USE_LONG_DOUBLE USE_PERLIO
                        USE_PERL_ATOF USE_REENTRANT_API
  Locally applied patches:
	uncommitted-changes
  Built under linux
  Compiled at Dec 15 2016 17:15:18
  %ENV:
    PERL5LIB=""
    PERL5OPT=""
    PERL5_CPANPLUS_IS_RUNNING="12270"
    PERL5_CPAN_IS_RUNNING="12270"
    PERL_CANARY_STABILITY_NOPROMPT="1"
    PERL_MM_USE_DEFAULT="1"
    PERL_USE_UNSAFE_INC="1"
  @INC:
    /home/sand/src/perl/repoperls/installed-perls/host/k93msid/v5.14.0/a1a1/lib/site_perl/5.14.0/x86_64-linux-thread-multi-ld
    /home/sand/src/perl/repoperls/installed-perls/host/k93msid/v5.14.0/a1a1/lib/site_perl/5.14.0
    /home/sand/src/perl/repoperls/installed-perls/host/k93msid/v5.14.0/a1a1/lib/5.14.0/x86_64-linux-thread-multi-ld
    /home/sand/src/perl/repoperls/installed-perls/host/k93msid/v5.14.0/a1a1/lib/5.14.0
    .