Report for Clustericious-1.22

Back
From: metabase:user:320bfe00-2aae-11df-837a-5e0a49663a4f
Subject: PASS Clustericious-1.22 v5.18.4 GNU/Linux
Date: 2017-01-07T14:43:55Z

This distribution has been tested as part of the CPAN Testers
project, supporting the Perl programming language.  See
http://wiki.cpantesters.org/ for more information or email
questions to cpan-testers-discuss@perl.org


--
Dear Graham Ollis,

This is a computer-generated report for Clustericious-1.22
on perl 5.18.4, created by CPAN-Reporter-1.2018.

Thank you for uploading your work to CPAN.  Congratulations!
All tests were successful.

Sections of this report:

    * Tester comments
    * Program output
    * Prerequisites
    * Environment and other context

------------------------------
TESTER COMMENTS
------------------------------

Additional comments from tester:

this report is from an automated smoke testing program
and was not reviewed by a human for accuracy

------------------------------
PROGRAM OUTPUT
------------------------------

Output from '/usr/bin/make test':

Skip blib/lib/auto/share/dist/Clustericious/tmpl/1.08/app/lib/APPCLASS.pm (unchanged)
Skip blib/lib/auto/share/dist/Clustericious/tmpl/1.08/client/t/02_compile.t (unchanged)
Skip blib/lib/auto/share/dist/Clustericious/tmpl/1.08/client/Build.PL (unchanged)
Skip blib/lib/auto/share/dist/Clustericious/tmpl/1.08/app/t/basic.t (unchanged)
Skip blib/lib/auto/share/dist/Clustericious/tmpl/1.08/app/eg/APPCLASS.conf (unchanged)
Skip blib/lib/auto/share/dist/Clustericious/tmpl/1.08/app/lib/APPCLASS/Routes.pm (unchanged)
Skip blib/lib/auto/share/dist/Clustericious/tmpl/1.08/app/Build.PL (unchanged)
Skip blib/lib/auto/share/dist/Clustericious/tmpl/1.08/client/bin/APPNAMEclient (unchanged)
Skip blib/lib/auto/share/dist/Clustericious/tmpl/1.08/client/lib/APPCLASS/Client.pm (unchanged)
Skip blib/lib/auto/share/dist/Clustericious/www/1.08/favicon.ico (unchanged)
Skip blib/lib/auto/share/dist/Clustericious/tmpl/1.08/app/t/02_compile.t (unchanged)
Skip blib/lib/auto/share/dist/Clustericious/README.txt (unchanged)
Skip blib/lib/auto/share/dist/Clustericious/tmpl/1.08/app/t/01_use.t (unchanged)
Skip blib/lib/auto/share/dist/Clustericious/tmpl/1.08/client/t/01_use.t (unchanged)
Skip blib/lib/auto/share/dist/Clustericious/tmpl/1.08/app/bin/APPNAME (unchanged)
"/home/sand/src/perl/repoperls/installed-perls/host/k93msid/v5.18.4/2d7c/bin/perl" run_test.pl
# 
# 
# 
# HARNESS_ACTIVE=1
# HARNESS_VERSION=3.36
# LANG=C
# PERL5LIB=/tmp/loop_over_bdir-7272-bc0qQt/Clustericious-1.22-0/blib/lib:/tmp/loop_over_bdir-7272-bc0qQt/Clustericious-1.22-0/blib/arch:/tmp/loop_over_bdir-7272-bc0qQt/Clustericious-1.22-0/lib:
# PERL5OPT=
# PERL5_CPANPLUS_IS_RUNNING=7273
# PERL5_CPAN_IS_RUNNING=7273
# PERL_CANARY_STABILITY_NOPROMPT=1
# PERL_MM_USE_DEFAULT=1
# SHELL=/usr/bin/zsh
# 
# 
# 
# PERL5LIB path
# /tmp/loop_over_bdir-7272-bc0qQt/Clustericious-1.22-0/blib/lib
# /tmp/loop_over_bdir-7272-bc0qQt/Clustericious-1.22-0/blib/arch
# /tmp/loop_over_bdir-7272-bc0qQt/Clustericious-1.22-0/lib
# 
# 
# 
# perl                         5.018004
# Capture::Tiny                0.44
# Cpanel::JSON::XS             3.0225
# Data::Rmap                   0.65
# DateTime::Format::DateParse  0.05
# DateTime::Format::ISO8601    0.08
# EV                           -
# ExtUtils::MakeMaker          7.24
# File::HomeDir                1.00
# File::ReadBackwards          1.05
# File::ShareDir               1.102
# File::ShareDir::Install      0.11
# File::Which                  1.21
# File::chdir                  0.1010
# Hash::Merge                  0.200
# JSON::MaybeXS                1.003008
Subroutine JSON::PP::Boolean::(++ redefined at /home/sand/src/perl/repoperls/installed-perls/host/k93msid/v5.18.4/2d7c/lib/5.18.4/overload.pm line 50, <DATA> line 1.
Subroutine JSON::PP::Boolean::(-- redefined at /home/sand/src/perl/repoperls/installed-perls/host/k93msid/v5.18.4/2d7c/lib/5.18.4/overload.pm line 50, <DATA> line 1.
Subroutine JSON::PP::Boolean::(0+ redefined at /home/sand/src/perl/repoperls/installed-perls/host/k93msid/v5.18.4/2d7c/lib/5.18.4/overload.pm line 50, <DATA> line 1.
# JSON::PP                     2.27400
# JSON::XS                     3.03
# List::MoreUtils              0.416
# Log::Log4perl                1.48
# Log::Log4perl::Appender::TAP 0.03
# MojoX::Log::Log4perl         0.11
# Mojolicious                  7.13
# Path::Class                  0.37
# PerlX::Maybe                 1.001
# PerlX::Maybe::XS             -
# PlugAuth::Lite               0.33
# Sub::Exporter                0.987
# Sub::Identify                0.12
# Term::Prompt                 1.04
# Test::Clustericious::Cluster 0.33
# Test::More                   1.302073
# Test::Script                 1.14
# Test::Warn                   0.32
# YAML::XS                     0.63_001
# autodie                      2.29
# 
# 
# 
t/00_diag.t ........................... ok
Subroutine JSON::PP::Boolean::(-- redefined at /home/sand/src/perl/repoperls/installed-perls/host/k93msid/v5.18.4/2d7c/lib/5.18.4/overload.pm line 50.
Subroutine JSON::PP::Boolean::(0+ redefined at /home/sand/src/perl/repoperls/installed-perls/host/k93msid/v5.18.4/2d7c/lib/5.18.4/overload.pm line 50.
Subroutine JSON::PP::Boolean::(++ redefined at /home/sand/src/perl/repoperls/installed-perls/host/k93msid/v5.18.4/2d7c/lib/5.18.4/overload.pm line 50.
t/01_use.t ............................ ok
t/02_compiles.t ....................... ok
Subroutine Mojo::Template::Sandbox::d37a8ee5e4406d8c80dcd1e9b3468a79::b redefined at /home/sand/src/perl/repoperls/installed-perls/host/k93msid/v5.18.4/2d7c/lib/5.18.4/Exporter.pm line 66.
 at template exception.html.ep from DATA section line 7.
t/app.t ............................... ok
t/app_alt_route_builder.t ............. ok
t/app_auth.t .......................... ok
t/app_auth_websocket.t ................ ok
t/app_bad_config.t .................... ok
Mojo::Message::Response::is_status_class is DEPRECATED in favor of new is_* methods at /tmp/loop_over_bdir-7272-bc0qQt/Clustericious-1.22-0/blib/lib/Clustericious/Client.pm line 422.
Mojo::Message::Response::is_status_class is DEPRECATED in favor of new is_* methods at /tmp/loop_over_bdir-7272-bc0qQt/Clustericious-1.22-0/blib/lib/Clustericious/Client.pm line 422.
t/app_client.t ........................ ok
t/app_crud.t .......................... ok
t/app_multiple.t ...................... ok
t/app_null.t .......................... ok
t/app_null_config.t ................... ok
t/app_plugin_search_order.t ........... ok
t/app_subreq.t ........................ ok
Mojo::Message::Response::is_status_class is DEPRECATED in favor of new is_* methods at /tmp/loop_over_bdir-7272-bc0qQt/Clustericious-1.22-0/blib/lib/Clustericious/Client.pm line 422.
Mojo::Message::Response::is_status_class is DEPRECATED in favor of new is_* methods at /tmp/loop_over_bdir-7272-bc0qQt/Clustericious-1.22-0/blib/lib/Clustericious/Client.pm line 422.
Mojo::Message::Response::is_status_class is DEPRECATED in favor of new is_* methods at /tmp/loop_over_bdir-7272-bc0qQt/Clustericious-1.22-0/blib/lib/Clustericious/Client.pm line 422.
Mojo::Message::Response::is_status_class is DEPRECATED in favor of new is_* methods at /tmp/loop_over_bdir-7272-bc0qQt/Clustericious-1.22-0/blib/lib/Clustericious/Client.pm line 422.
Mojo::Message::Response::is_status_class is DEPRECATED in favor of new is_* methods at /tmp/loop_over_bdir-7272-bc0qQt/Clustericious-1.22-0/blib/lib/Clustericious/Client.pm line 149.
t/client.t ............................ ok
Mojo::Message::Response::is_status_class is DEPRECATED in favor of new is_* methods at /tmp/loop_over_bdir-7272-bc0qQt/Clustericious-1.22-0/blib/lib/Clustericious/Client.pm line 422.
Mojo::Message::Response::is_status_class is DEPRECATED in favor of new is_* methods at /tmp/loop_over_bdir-7272-bc0qQt/Clustericious-1.22-0/blib/lib/Clustericious/Client.pm line 422.
Mojo::Message::Response::is_status_class is DEPRECATED in favor of new is_* methods at /tmp/loop_over_bdir-7272-bc0qQt/Clustericious-1.22-0/blib/lib/Clustericious/Client.pm line 422.
Mojo::Message::Response::is_status_class is DEPRECATED in favor of new is_* methods at /tmp/loop_over_bdir-7272-bc0qQt/Clustericious-1.22-0/blib/lib/Clustericious/Client.pm line 422.
t/client_args.t ....................... ok
t/client_datetime.t ................... ok
t/client_object.t ..................... ok
t/client_object_array.t ............... ok
t/client_object_derived.t ............. ok
t/client_params.t ..................... ok
Mojo::Message::Response::is_status_class is DEPRECATED in favor of new is_* methods at /tmp/loop_over_bdir-7272-bc0qQt/Clustericious-1.22-0/blib/lib/Clustericious/Client.pm line 422.
t/client_user_agent_string.t .......... ok
t/cluster_basic.t ..................... ok
Subroutine Mojo::Template::Sandbox::d7c864e95da16e4482470108777ed065::b redefined at /home/sand/src/perl/repoperls/installed-perls/host/k93msid/v5.18.4/2d7c/lib/5.18.4/Exporter.pm line 66, <DATA> line 1.
 at template exception.html.ep from DATA section line 7.
t/cluster_render_exception.t .......... ok
t/cluster_render_not_found.t .......... ok
t/command_apache.t .................... skipped: developer only test
t/command_configdebug.t ............... ok
t/command_configdump.t ................ ok
t/command_configpath.t ................ ok
t/command_configtest.t ................ ok
t/command_daemon.t .................... ok
t/command_generate.t .................. ok
t/command_hypnotoad.t ................. skipped: developer only test
t/command_lighttpd.t .................. skipped: test leaves processes running
t/command_morbo.t ..................... ok
t/command_nginx.t ..................... skipped: developer only test
t/command_plackup.t ................... skipped: test requires AnyEvent::Open3::Simple and EV
t/command_which.t ..................... ok
t/config_callback.t ................... ok
t/config_colen.t ...................... ok
t/config_config.t ..................... ok
t/config_config_multi.t ............... ok
t/config_data.t ....................... ok
t/config_default.t .................... ok
Subroutine JSON::PP::Boolean::(0+ redefined at /home/sand/src/perl/repoperls/installed-perls/host/k93msid/v5.18.4/2d7c/lib/5.18.4/overload.pm line 50.
Subroutine JSON::PP::Boolean::(++ redefined at /home/sand/src/perl/repoperls/installed-perls/host/k93msid/v5.18.4/2d7c/lib/5.18.4/overload.pm line 50.
Subroutine JSON::PP::Boolean::(-- redefined at /home/sand/src/perl/repoperls/installed-perls/host/k93msid/v5.18.4/2d7c/lib/5.18.4/overload.pm line 50.
t/config_default_start_mode.t ......... ok
Subroutine JSON::PP::Boolean::(0+ redefined at /home/sand/src/perl/repoperls/installed-perls/host/k93msid/v5.18.4/2d7c/lib/5.18.4/overload.pm line 50.
Subroutine JSON::PP::Boolean::(++ redefined at /home/sand/src/perl/repoperls/installed-perls/host/k93msid/v5.18.4/2d7c/lib/5.18.4/overload.pm line 50.
Subroutine JSON::PP::Boolean::(-- redefined at /home/sand/src/perl/repoperls/installed-perls/host/k93msid/v5.18.4/2d7c/lib/5.18.4/overload.pm line 50.
t/config_default_start_mode2.t ........ ok
t/config_helper.t ..................... ok
t/config_helper_get_passwd.t .......... ok
t/config_home.t ....................... ok
t/config_hostname.t ................... ok
t/config_json.t ....................... ok
t/config_namespace.t .................. ok
t/config_pathclass.t .................. ok
t/config_pollute.t .................... ok
t/config_special.t .................... ok
t/config_test_clustericious_config.t .. ok
t/config_with_filename.t .............. ok
t/config_yaml.t ....................... ok
t/config_yaml2.t ...................... ok
t/hello_world.t ....................... ok
t/log.t ............................... ok
t/log_commandline.t ................... ok
t/log_commandline_warning.t ........... ok
t/plugin_autodatahandler.t ............ ok
t/plugin_clustericioushelpers.t ....... ok
t/plugin_commonroutes.t ............... ok
t/plugin_commonroutes_api_table.t ..... skipped: requires Rose::Planter 0.34 and DBD::SQLite:
t/plugin_plugauth.t ................... ok
t/util_default_url.t .................. ok
t/util_dist_dir.t ..................... ok
t/util_generate_port.t ................ ok
t/util_slurp_pid.t .................... ok
t2/test_clustericious_config.t ........ ok
    # ERROR this should not appear
    # ERROR this should
    # ERROR main error
    # FATAL main fatal
    # ERROR main error
    # FATAL main fatal
    # ERROR message1
    # ERROR message2
    # ERROR PLATYPUS-42
    # ERROR PLATYPUS-47
t2/test_clustericious_log.t ........... ok
All tests successful.
Files=75, Tests=605, 101 wallclock secs ( 0.26 usr  0.50 sys + 33.28 cusr  8.69 csys = 42.73 CPU)
Result: PASS

------------------------------
PREREQUISITES
------------------------------

Prerequisite modules loaded:

requires:

    Module                       Need     Have    
    ---------------------------- -------- --------
    autodie                      0        2.29    
    Capture::Tiny                0        0.44    
    Data::Rmap                   0        0.65    
    DateTime::Format::DateParse  0        0.05    
    DateTime::Format::ISO8601    0        0.08    
    File::HomeDir                0.91     1.00    
    File::ReadBackwards          0        1.05    
    File::ShareDir               0        1.102   
    File::Which                  0        1.21    
    Hash::Merge                  0        0.200   
    JSON::MaybeXS                0        1.003008
    List::MoreUtils              0        0.416   
    Log::Log4perl                0        1.48    
    Log::Log4perl::Appender::TAP 0.02     0.03    
    Mojolicious                  6.00     7.13    
    MojoX::Log::Log4perl         0        0.11    
    Path::Class                  0.26     0.37    
    perl                         5.010001 5.018004
    PerlX::Maybe                 0.003    1.001   
    Sub::Exporter                0        0.987   
    Sub::Identify                0.05     0.12    
    Term::Prompt                 0        1.04    
    YAML::XS                     0        0.63_001

build_requires:

    Module                       Need     Have    
    ---------------------------- -------- --------
    ExtUtils::MakeMaker          0        7.24    
    File::chdir                  0        0.1010  
    PlugAuth::Lite               0        0.33    
    Test::Clustericious::Cluster 0.31     0.33    
    Test::More                   0.94     1.302073
    Test::Script                 1.10     1.14    
    Test::Warn                   0        0.32    

configure_requires:

    Module                       Need     Have    
    ---------------------------- -------- --------
    ExtUtils::MakeMaker          0        7.24    
    File::ShareDir::Install      0.06     0.11    
    perl                         5.010001 5.018004


------------------------------
ENVIRONMENT AND OTHER CONTEXT
------------------------------

Environment variables:

    AUTOMATED_TESTING = 1
    LANG = C
    PATH = /home/sand/bin:/usr/local/bin:/usr/bin:/bin:/usr/games:/usr/local/perl/bin:/usr/X11/bin:/sbin:/usr/sbin
    PERL5LIB = 
    PERL5OPT = 
    PERL5_CPANPLUS_IS_RUNNING = 7273
    PERL5_CPAN_IS_RUNNING = 7273
    PERL_CANARY_STABILITY_NOPROMPT = 1
    PERL_MM_USE_DEFAULT = 1
    SHELL = /usr/bin/zsh
    TERM = screen

Perl special variables (and OS-specific diagnostics, for MSWin32):

    $^X = /home/sand/src/perl/repoperls/installed-perls/host/k93msid/v5.18.4/2d7c/bin/perl
    $UID/$EUID = 1005 / 1005
    $GID = 1005 1005
    $EGID = 1005 1005

Perl module toolchain versions installed:

    Module              Have    
    ------------------- --------
    CPAN                2.15    
    CPAN::Meta          2.150010
    Cwd                 3.62    
    ExtUtils::CBuilder  0.280224
    ExtUtils::Command   7.24    
    ExtUtils::Install   1.59    
    ExtUtils::MakeMaker 7.24    
    ExtUtils::Manifest  1.70    
    ExtUtils::ParseXS   3.30    
    File::Spec          3.62    
    JSON                2.90    
    JSON::PP            2.27400 
    Module::Build       0.4220  
    Module::Signature   0.81    
    Parse::CPAN::Meta   2.150010
    Test::Harness       3.36    
    Test::More          1.302073
    YAML                1.20    
    YAML::Syck          1.29    
    version             0.9917  


--

Summary of my perl5 (revision 5 version 18 subversion 4) configuration:
  Derived from: 51202371ba68f3f52f13124a3ea1bc3c171e0ee2
  Platform:
    osname=linux, osvers=4.8.0-2-amd64, archname=x86_64-linux-ld
    uname='linux k93msid 4.8.0-2-amd64 #1 smp debian 4.8.11-1 (2016-12-02) x86_64 gnulinux '
    config_args='-Dprefix=/home/sand/src/perl/repoperls/installed-perls/host/k93msid/v5.18.4/2d7c -Dmyhostname=k93msid -Dinstallusrbinperl=n -Uversiononly -Dusedevel -des -Ui_db -Dlibswanted=cl pthread socket inet nsl gdbm dbm malloc dl ld sun m crypt sec util c cposix posix ucb BSD gdbm_compat -Uuseithreads -Duselongdouble -DDEBUGGING=-g'
    hint=recommended, useposix=true, d_sigaction=define
    useithreads=undef, usemultiplicity=undef
    useperlio=define, d_sfio=undef, uselargefiles=define, usesocks=undef
    use64bitint=define, use64bitall=define, uselongdouble=define
    usemymalloc=n, bincompat5005=undef
  Compiler:
    cc='cc', ccflags ='-fno-strict-aliasing -pipe -fstack-protector -I/usr/local/include -D_LARGEFILE_SOURCE -D_FILE_OFFSET_BITS=64',
    optimize='-O2 -g',
    cppflags='-fno-strict-aliasing -pipe -fstack-protector -I/usr/local/include'
    ccversion='', gccversion='6.2.1 20161124', gccosandvers=''
    intsize=4, longsize=8, ptrsize=8, doublesize=8, byteorder=12345678
    d_longlong=define, longlongsize=8, d_longdbl=define, longdblsize=16
    ivtype='long', ivsize=8, nvtype='long double', nvsize=16, Off_t='off_t', lseeksize=8
    alignbytes=16, prototype=define
  Linker and Libraries:
    ld='cc', ldflags =' -fstack-protector -L/usr/local/lib'
    libpth=/usr/local/lib /lib/x86_64-linux-gnu /lib/../lib /usr/lib/x86_64-linux-gnu /usr/lib/../lib /lib /usr/lib
    libs=-lpthread -lnsl -ldl -lm -lcrypt -lutil -lc
    perllibs=-lpthread -lnsl -ldl -lm -lcrypt -lutil -lc
    libc=libc-2.24.so, so=so, useshrplib=false, libperl=libperl.a
    gnulibc_version='2.24'
  Dynamic Linking:
    dlsrc=dl_dlopen.xs, dlext=so, d_dlsymun=undef, ccdlflags='-Wl,-E'
    cccdlflags='-fPIC', lddlflags='-shared -O2 -g -L/usr/local/lib -fstack-protector'


Characteristics of this binary (from libperl): 
  Compile-time options: HAS_TIMES PERLIO_LAYERS PERL_DONT_CREATE_GVSV
                        PERL_HASH_FUNC_ONE_AT_A_TIME_HARD PERL_MALLOC_WRAP
                        PERL_PRESERVE_IVUV PERL_SAWAMPERSAND PERL_USE_DEVEL
                        USE_64_BIT_ALL USE_64_BIT_INT USE_LARGE_FILES
                        USE_LOCALE USE_LOCALE_COLLATE USE_LOCALE_CTYPE
                        USE_LOCALE_NUMERIC USE_LONG_DOUBLE USE_PERLIO
                        USE_PERL_ATOF
  Locally applied patches:
	uncommitted-changes
  Built under linux
  Compiled at Dec 14 2016 21:22:45
  %ENV:
    PERL5LIB=""
    PERL5OPT=""
    PERL5_CPANPLUS_IS_RUNNING="7273"
    PERL5_CPAN_IS_RUNNING="7273"
    PERL_CANARY_STABILITY_NOPROMPT="1"
    PERL_MM_USE_DEFAULT="1"
  @INC:
    /home/sand/src/perl/repoperls/installed-perls/host/k93msid/v5.18.4/2d7c/lib/site_perl/5.18.4/x86_64-linux-ld
    /home/sand/src/perl/repoperls/installed-perls/host/k93msid/v5.18.4/2d7c/lib/site_perl/5.18.4
    /home/sand/src/perl/repoperls/installed-perls/host/k93msid/v5.18.4/2d7c/lib/5.18.4/x86_64-linux-ld
    /home/sand/src/perl/repoperls/installed-perls/host/k93msid/v5.18.4/2d7c/lib/5.18.4
    .