Catalyst-Plugin-Authentication v0.10023 Perl 5 v5.12.3 darwin-2level

Status
Pass
From
Neil Bowers
Dist
Catalyst-Plugin-Authentication v0.10023
Platform
Perl 5 v5.12.3 darwin-2level
Date
2021-09-18 10:10:56
ID
b6e5fc52-1868-11ec-bdea-b79d19c543de
This distribution has been tested as part of the CPAN Testers
project, supporting the Perl programming language.  See
http://wiki.cpantesters.org/ for more information or email
questions to cpan-testers-discuss@perl.org


--
Dear Tomas Doran,

This is a computer-generated report for Catalyst-Plugin-Authentication-0.10023
on perl 5.12.3, created by CPAN-Reporter-1.2018.

Thank you for uploading your work to CPAN.  Congratulations!
All tests were successful.

Sections of this report:

    * Tester comments
    * Program output
    * Prerequisites
    * Environment and other context

------------------------------
TESTER COMMENTS
------------------------------

Additional comments from tester:

none provided

------------------------------
PROGRAM OUTPUT
------------------------------

Output from '/usr/bin/make test':

PERL_DL_NONLAZY=1 "/usr/local/perl/5123/bin/perl" "-MExtUtils::Command::MM" "-MTest::Harness" "-e" "undef *Test::Harness::Switches; test_harness(0, 'inc', 'blib/lib', 'blib/arch')" t/04_authentication.t t/05_password.t t/06_user.t t/live_app.t t/live_app_realms.t t/live_app_realms_compat.t t/live_app_realms_progressive.t t/live_app_remote1.t t/live_app_remote2.t t/live_app_session.t t/store_nopassord.t
t/04_authentication.t ............ ok
t/05_password.t .................. ok
t/06_user.t ...................... ok
t/live_app.t ..................... ok
t/live_app_realms.t .............. ok
t/live_app_realms_compat.t ....... ok
t/live_app_realms_progressive.t .. ok
t/live_app_remote1.t ............. ok
t/live_app_remote2.t ............. ok
t/live_app_session.t ............. skipped: This test needs Test::WWW::Mechanize::Catalyst, Catalyst::Plugin::Session and Catalyst::Plugin::Session::State::Cookie installed
t/store_nopassord.t .............. ok
All tests successful.
Files=11, Tests=87,  4 wallclock secs ( 0.04 usr  0.03 sys +  3.77 cusr  0.43 csys =  4.27 CPU)
Result: PASS

------------------------------
PREREQUISITES
------------------------------

Prerequisite modules loaded:

requires:

    Module                                 Need     Have    
    -------------------------------------- -------- --------
    Catalyst::Plugin::Session              0.10     0.41    
    Catalyst::Runtime                      0        5.90128 
    Class::Inspector                       0        1.36    
    Class::MOP                             0        2.2015  
    Moose                                  0        2.2015  
    MooseX::Emulate::Class::Accessor::Fast 0        0.009032
    MRO::Compat                            0        0.12    
    namespace::autoclean                   0        0.29    
    perl                                   5.008001 5.012003
    String::RewritePrefix                  0        0.007   
    Test::Exception                        0        0.43    
    Test::More                             0.88     1.302186
    Try::Tiny                              0        0.22    

build_requires:

    Module                                 Need     Have    
    -------------------------------------- -------- --------
    Class::MOP                             0        2.2015  
    ExtUtils::MakeMaker                    6.59     7.62    
    Moose                                  0        2.2015  
    Test::Exception                        0        0.43    
    Test::More                             0.88     1.302186

configure_requires:

    Module                                 Need     Have    
    -------------------------------------- -------- --------
    ExtUtils::MakeMaker                    6.59     7.62    


------------------------------
ENVIRONMENT AND OTHER CONTEXT
------------------------------

Environment variables:

    PATH = /usr/local/apache/bin:/usr/local/bin:/opt/local/bin:/usr/local/bin:/usr/bin:/bin:/usr/sbin:/sbin:/Applications/VMware Fusion.app/Contents/Public:/usr/local/go/bin:/opt/X11/bin:/usr/local/git/bin
    PERL5LIB = 
    PERL5OPT = 
    PERL5_CPANPLUS_IS_RUNNING = 82961
    PERL5_CPAN_IS_RUNNING = 82961
    SHELL = /bin/sh
    TERM = xterm

Perl special variables (and OS-specific diagnostics, for MSWin32):

    $^X = /usr/local/perl/5123/bin/perl
    $UID/$EUID = 0 / 0
    $GID = 0 0 1 2 3 4 5 8 9 12 20 29 61 80 701 702 33
    $EGID = 0 0 1 2 3 4 5 8 9 12 20 29 61 80 701 702 33

Perl module toolchain versions installed:

    Module              Have    
    ------------------- --------
    CPAN                1.94_56 
    CPAN::Meta          2.150010
    Cwd                 3.47    
    ExtUtils::CBuilder  0.280216
    ExtUtils::Command   7.62    
    ExtUtils::Install   2.06    
    ExtUtils::MakeMaker 7.62    
    ExtUtils::Manifest  1.70    
    ExtUtils::ParseXS   3.35    
    File::Spec          3.47    
    JSON                2.90    
    JSON::PP            4.06    
    Module::Build       0.4231  
    Module::Signature   n/a     
    Parse::CPAN::Meta   2.150010
    Test::Harness       3.42    
    Test::More          1.302186
    YAML                1.30    
    YAML::Syck          1.27    
    version             0.9929  


--

Summary of my perl5 (revision 5 version 12 subversion 3) configuration:
   
  Platform:
    osname=darwin, osvers=12.5.0, archname=darwin-2level
    uname='darwin tucumcari.local 12.5.0 darwin kernel version 12.5.0: sun sep 29 13:33:47 pdt 2013; root:xnu-2050.48.12~1release_x86_64 x86_64 '
    config_args='-Dprefix=/usr/local/perl/5123'
    hint=recommended, useposix=true, d_sigaction=define
    useithreads=undef, usemultiplicity=undef
    useperlio=define, d_sfio=undef, uselargefiles=define, usesocks=undef
    use64bitint=define, use64bitall=define, uselongdouble=undef
    usemymalloc=n, bincompat5005=undef
  Compiler:
    cc='gcc', ccflags ='-fno-common -DPERL_DARWIN -no-cpp-precomp -fno-strict-aliasing -pipe -fstack-protector -I/usr/local/include -I/opt/local/include',
    optimize='-O3',
    cppflags='-no-cpp-precomp -fno-common -DPERL_DARWIN -no-cpp-precomp -fno-strict-aliasing -pipe -fstack-protector -I/usr/local/include -I/opt/local/include'
    ccversion='', gccversion='4.2.1 (Based on Apple Inc. build 5658) (LLVM build 2336.11.00)', gccosandvers=''
    intsize=4, longsize=8, ptrsize=8, doublesize=8, byteorder=12345678
    d_longlong=define, longlongsize=8, d_longdbl=define, longdblsize=16
    ivtype='long', ivsize=8, nvtype='double', nvsize=8, Off_t='off_t', lseeksize=8
    alignbytes=8, prototype=define
  Linker and Libraries:
    ld='env MACOSX_DEPLOYMENT_TARGET=10.3 gcc', ldflags =' -fstack-protector -L/usr/local/lib -L/opt/local/lib'
    libpth=/usr/local/lib /opt/local/lib /usr/lib
    libs=-lgdbm -ldbm -ldl -lm -lutil -lc
    perllibs=-ldl -lm -lutil -lc
    libc=, so=dylib, useshrplib=false, libperl=libperl.a
    gnulibc_version=''
  Dynamic Linking:
    dlsrc=dl_dlopen.xs, dlext=bundle, d_dlsymun=undef, ccdlflags=' '
    cccdlflags=' ', lddlflags=' -bundle -undefined dynamic_lookup -L/usr/local/lib -L/opt/local/lib -fstack-protector'


Characteristics of this binary (from libperl): 
  Compile-time options: PERL_DONT_CREATE_GVSV PERL_MALLOC_WRAP USE_64_BIT_ALL
                        USE_64_BIT_INT USE_LARGE_FILES USE_PERLIO
                        USE_PERL_ATOF
  Built under darwin
  Compiled at Jun 26 2014 14:14:29
  %ENV:
    PERL5LIB=""
    PERL5OPT=""
    PERL5_CPANPLUS_IS_RUNNING="82961"
    PERL5_CPAN_IS_RUNNING="82961"
  @INC:
    /usr/local/perl/5123/lib/site_perl/5.12.3/darwin-2level
    /usr/local/perl/5123/lib/site_perl/5.12.3
    /usr/local/perl/5123/lib/5.12.3/darwin-2level
    /usr/local/perl/5123/lib/5.12.3
    .