Report for MooseX-Workers-0.24

Back
From: metabase:user:314402c4-2aae-11df-837a-5e0a49663a4f
Subject: PASS MooseX-Workers-0.24 v5.20.3 GNU/Linux
Date: 2017-06-12T05:26:40Z

This distribution has been tested as part of the CPAN Testers
project, supporting the Perl programming language.  See
http://wiki.cpantesters.org/ for more information or email
questions to cpan-testers-discuss@perl.org


--
Dear Rafael Kitover,

This is a computer-generated report for MooseX-Workers-0.24
on perl 5.20.3, created by CPAN-Reporter-1.2018.

Thank you for uploading your work to CPAN.  Congratulations!
All tests were successful.

Sections of this report:

    * Tester comments
    * Program output
    * Prerequisites
    * Environment and other context

------------------------------
TESTER COMMENTS
------------------------------

Additional comments from tester:

none provided

------------------------------
PROGRAM OUTPUT
------------------------------

Output from '/usr/bin/make test':

PERL_DL_NONLAZY=1 "/bbbike/perl-5.20.3/bin/perl5.20.3" "-MExtUtils::Command::MM" "-MTest::Harness" "-e" "undef *Test::Harness::Switches; test_harness(0, 'blib/lib', 'blib/arch')" t/*.t
t/00-compile.t ......................... ok
# Testing MooseX::Workers 0.24
t/00.load.t ............................ ok
t/01.worker.t .......................... ok
t/02.wheel.t ........................... ok
t/03.role.t ............................ ok
t/10.worker.enqueue.t .................. ok
t/11.worker.job.args.t ................. ok
t/11.worker.job.t ...................... ok
t/12.worker.timeout1.t ................. ok
t/13.worker.timeout2.t ................. ok
t/20.worker.SIG.TERM.t ................. ok
t/30.worker.stdout_filter.line.t ....... ok
t/31.worker.stderr_filter.reference.t .. ok
t/40.worker.stderr_filter.line.t ....... ok
t/41.worker.stderr_filter.reference.t .. ok
t/50.consolidate.worker.results.t ...... ok
t/60.pass.object.from.child.t .......... ok
t/61.set.max_workers.at.ctor.time.t .... ok
t/62.set.max_workers.at.run.time.t ..... ok
t/release-pod-syntax.t ................. skipped: these tests are for release candidate testing
All tests successful.
Files=20, Tests=407,  9 wallclock secs ( 0.04 usr  0.09 sys +  5.46 cusr  1.62 csys =  7.21 CPU)
Result: PASS

------------------------------
PREREQUISITES
------------------------------

Prerequisite modules loaded:

requires:

    Module                 Need  Have    
    ---------------------- ----- --------
    Moose                  0     2.2005  
    Moose::Role            0     2.2005  
    overload               0     1.22    
    Package::Stash         0     0.37    
    perl                   5.006 5.020003
    POE                    0     1.367   
    POE::Wheel::Run        0     1.367   
    Scalar::Util           0     1.47    
    Try::Tiny              0     0.28    

build_requires:

    Module                 Need  Have    
    ---------------------- ----- --------
    DateTime               0     1.42    
    ExtUtils::MakeMaker    0     7.24    
    File::Spec             0     3.62    
    IO::Handle             0     1.35    
    IPC::Open3             0     1.16    
    lib                    0     0.63    
    POE::Filter::Line      0     1.367   
    POE::Filter::Reference 0     1.367   
    strict                 0     1.08    
    Test::More             0     1.302085
    warnings               0     1.23    

configure_requires:

    Module                 Need  Have    
    ---------------------- ----- --------
    ExtUtils::MakeMaker    0     7.24    


------------------------------
ENVIRONMENT AND OTHER CONTEXT
------------------------------

Environment variables:

    LANG = C
    LC_ALL = de_DE.UTF-8
    PATH = /usr/local/bin:/usr/bin:/bin:/usr/local/sbin:/usr/sbin:/sbin:/home/cpansand/bin/linux-gnu:/home/cpansand/bin/sh:/home/cpansand/bin:/usr/games:/home/cpansand/devel:/home/eserte/src/srezic-misc/scripts
    PERL5LIB = /home/cpansand/.cpan/build/2017061118/HTML-FormHandler-Model-DBIC-0.29-7/blib/arch:/home/cpansand/.cpan/build/2017061118/HTML-FormHandler-Model-DBIC-0.29-7/blib/lib:/home/cpansand/.cpan/build/2017061118/DBIx-Class-ResultSet-RecursiveUpdate-0.34-7/blib/arch:/home/cpansand/.cpan/build/2017061118/DBIx-Class-ResultSet-RecursiveUpdate-0.34-7/blib/lib:/home/cpansand/.cpan/build/2017061118/Catalyst-View-CSV-1.7-8/blib/arch:/home/cpansand/.cpan/build/2017061118/Catalyst-View-CSV-1.7-8/blib/lib:/home/cpansand/.cpan/build/2017061118/Catalyst-Plugin-Session-Store-DBI-0.16-8/blib/arch:/home/cpansand/.cpan/build/2017061118/Catalyst-Plugin-Session-Store-DBI-0.16-8/blib/lib
    PERL5OPT = 
    PERL5_CPANPLUS_IS_RUNNING = 23743
    PERL5_CPAN_IS_RUNNING = 23743
    PERL5_CPAN_IS_RUNNING_IN_RECURSION = 23670,23743
    PERLDOC = -MPod::Perldoc::ToTextOverstrike
    PERL_BATCH = yes
    PERL_CANARY_STABILITY_NOPROMPT = 1
    PERL_CPAN_REPORTER_CONFIG = /var/tmp/cpansmoker-1023/2017061118/cpanreporter_000_config.ini
    PERL_EXTUTILS_AUTOINSTALL = --defaultdeps
    PERL_PARALLEL_SMOKER = yes
    PERL_USE_UNSAFE_INC = 1
    SHELL = /bin/zsh
    TERM = screen
    TMPDIR = /var/tmp/cpansmoker-1023/2017061118

Perl special variables (and OS-specific diagnostics, for MSWin32):

    $^X = /bbbike/perl-5.20.3/bin/perl5.20.3
    $UID/$EUID = 1023 / 1023
    $GID = 1023 1023
    $EGID = 1023 1023

Perl module toolchain versions installed:

    Module              Have    
    ------------------- --------
    CPAN                2.16    
    CPAN::Meta          2.150010
    Cwd                 3.62    
    ExtUtils::CBuilder  0.280224
    ExtUtils::Command   7.24    
    ExtUtils::Install   2.14    
    ExtUtils::MakeMaker 7.24    
    ExtUtils::Manifest  1.70    
    ExtUtils::ParseXS   3.24    
    File::Spec          3.62    
    JSON                2.94    
    JSON::PP            2.27400 
    Module::Build       0.4220  
    Module::Signature   0.79    
    Parse::CPAN::Meta   2.150010
    Test::Harness       3.38    
    Test::More          1.302085
    YAML                1.20    
    YAML::Syck          1.29    
    version             0.9917  


--

Summary of my perl5 (revision 5 version 20 subversion 3) configuration:
   
  Platform:
    osname=linux, osvers=3.16.0-4-amd64, archname=x86_64-linux
    uname='linux eserte 3.16.0-4-amd64 #1 smp debian 3.16.7-ckt25-2 (2016-04-08) x86_64 gnulinux '
    config_args='-ds -e -Dprefix=/opt/perl-5.20.3 -Dcf_email=srezic@cpan.org'
    hint=recommended, useposix=true, d_sigaction=define
    useithreads=undef, usemultiplicity=undef
    use64bitint=define, use64bitall=define, uselongdouble=undef
    usemymalloc=n, bincompat5005=undef
  Compiler:
    cc='cc', ccflags ='-fwrapv -fno-strict-aliasing -pipe -fstack-protector -I/usr/local/include -D_LARGEFILE_SOURCE -D_FILE_OFFSET_BITS=64',
    optimize='-O2',
    cppflags='-fwrapv -fno-strict-aliasing -pipe -fstack-protector -I/usr/local/include'
    ccversion='', gccversion='4.9.2', gccosandvers=''
    intsize=4, longsize=8, ptrsize=8, doublesize=8, byteorder=12345678
    d_longlong=define, longlongsize=8, d_longdbl=define, longdblsize=16
    ivtype='long', ivsize=8, nvtype='double', nvsize=8, Off_t='off_t', lseeksize=8
    alignbytes=8, prototype=define
  Linker and Libraries:
    ld='cc', ldflags =' -fstack-protector -L/usr/local/lib'
    libpth=/usr/local/lib /usr/lib/gcc/x86_64-linux-gnu/4.9/include-fixed /usr/include/x86_64-linux-gnu /usr/lib /lib/x86_64-linux-gnu /lib/../lib /usr/lib/x86_64-linux-gnu /usr/lib/../lib /lib
    libs=-lpthread -lnsl -lgdbm -ldb -ldl -lm -lcrypt -lutil -lc -lgdbm_compat
    perllibs=-lpthread -lnsl -ldl -lm -lcrypt -lutil -lc
    libc=libc-2.19.so, so=so, useshrplib=false, libperl=libperl.a
    gnulibc_version='2.19'
  Dynamic Linking:
    dlsrc=dl_dlopen.xs, dlext=so, d_dlsymun=undef, ccdlflags='-Wl,-E'
    cccdlflags='-fPIC', lddlflags='-shared -O2 -L/usr/local/lib -fstack-protector'


Characteristics of this binary (from libperl): 
  Compile-time options: HAS_TIMES PERLIO_LAYERS PERL_DONT_CREATE_GVSV
                        PERL_HASH_FUNC_ONE_AT_A_TIME_HARD PERL_MALLOC_WRAP
                        PERL_NEW_COPY_ON_WRITE PERL_PRESERVE_IVUV
                        USE_64_BIT_ALL USE_64_BIT_INT USE_LARGE_FILES
                        USE_LOCALE USE_LOCALE_COLLATE USE_LOCALE_CTYPE
                        USE_LOCALE_NUMERIC USE_PERLIO USE_PERL_ATOF
  Locally applied patches:
	Devel::PatchPerl 1.42
  Built under linux
  Compiled at May  7 2016 12:07:58
  %ENV:
    PERL5LIB="/home/cpansand/.cpan/build/2017061118/HTML-FormHandler-Model-DBIC-0.29-7/blib/arch:/home/cpansand/.cpan/build/2017061118/HTML-FormHandler-Model-DBIC-0.29-7/blib/lib:/home/cpansand/.cpan/build/2017061118/DBIx-Class-ResultSet-RecursiveUpdate-0.34-7/blib/arch:/home/cpansand/.cpan/build/2017061118/DBIx-Class-ResultSet-RecursiveUpdate-0.34-7/blib/lib:/home/cpansand/.cpan/build/2017061118/Catalyst-View-CSV-1.7-8/blib/arch:/home/cpansand/.cpan/build/2017061118/Catalyst-View-CSV-1.7-8/blib/lib:/home/cpansand/.cpan/build/2017061118/Catalyst-Plugin-Session-Store-DBI-0.16-8/blib/arch:/home/cpansand/.cpan/build/2017061118/Catalyst-Plugin-Session-Store-DBI-0.16-8/blib/lib"
    PERL5OPT=""
    PERL5_CPANPLUS_IS_RUNNING="23743"
    PERL5_CPAN_IS_RUNNING="23743"
    PERL5_CPAN_IS_RUNNING_IN_RECURSION="23670,23743"
    PERLDOC="-MPod::Perldoc::ToTextOverstrike"
    PERL_BATCH="yes"
    PERL_CANARY_STABILITY_NOPROMPT="1"
    PERL_CPAN_REPORTER_CONFIG="/var/tmp/cpansmoker-1023/2017061118/cpanreporter_000_config.ini"
    PERL_EXTUTILS_AUTOINSTALL="--defaultdeps"
    PERL_PARALLEL_SMOKER="yes"
    PERL_USE_UNSAFE_INC="1"
  @INC:
    /home/cpansand/.cpan/build/2017061118/HTML-FormHandler-Model-DBIC-0.29-7/blib/arch
    /home/cpansand/.cpan/build/2017061118/HTML-FormHandler-Model-DBIC-0.29-7/blib/lib
    /home/cpansand/.cpan/build/2017061118/DBIx-Class-ResultSet-RecursiveUpdate-0.34-7/blib/arch
    /home/cpansand/.cpan/build/2017061118/DBIx-Class-ResultSet-RecursiveUpdate-0.34-7/blib/lib
    /home/cpansand/.cpan/build/2017061118/Catalyst-View-CSV-1.7-8/blib/arch
    /home/cpansand/.cpan/build/2017061118/Catalyst-View-CSV-1.7-8/blib/lib
    /home/cpansand/.cpan/build/2017061118/Catalyst-Plugin-Session-Store-DBI-0.16-8/blib/arch
    /home/cpansand/.cpan/build/2017061118/Catalyst-Plugin-Session-Store-DBI-0.16-8/blib/lib
    /opt/perl-5.20.3/lib/site_perl/5.20.3/x86_64-linux
    /opt/perl-5.20.3/lib/site_perl/5.20.3
    /opt/perl-5.20.3/lib/5.20.3/x86_64-linux
    /opt/perl-5.20.3/lib/5.20.3
    .