Mail-Mbox-MessageParser v1.5111 Perl 5 v5.24.2 amd64-freebsd
- Status
- Pass
- From
- Chris Williams (BINGOS)
- Dist
-
Mail-Mbox-MessageParser v1.5111
- Platform
- Perl 5 v5.24.2 amd64-freebsd
- Date
- 2018-07-18 08:22:30
- ID
- b6c52fc2-8a63-11e8-919d-ffef68b7f98c
This distribution has been tested as part of the CPAN Testers
project, supporting the Perl programming language. See
http://wiki.cpantesters.org/ for more information or email
questions to cpan-testers-discuss@perl.org
--
Dear DCOPPIT,
This is a computer-generated error report created automatically by
CPANPLUS, version 0.9176. Testers personal comments may appear
at the end of this report.
Thank you for uploading your work to CPAN. Congratulations!
All tests were successful.
TEST RESULTS:
Below is the error stack from stage 'make test':
PERL_DL_NONLAZY=1 "/usr/home/cpan/pit/bare/perl-5.24.2/bin/perl" "-MExtUtils::Command::MM" "-MTest::Harness" "-e" "undef *Test::Harness::Switches; test_harness(1, 'blib/lib', 'blib/arch')" t/*.t
t/000_standard__compile.t .......
1..6
ok 1 - Compile test for blib/lib/Mail/Mbox/MessageParser.pm
ok 2 - Compile test for blib/lib/Mail/Mbox/MessageParser/Grep.pm
ok 3 - Compile test for blib/lib/Mail/Mbox/MessageParser/Cache.pm
ok 4 - Compile test for blib/lib/Mail/Mbox/MessageParser/MetaInfo.pm
ok 5 - Compile test for blib/lib/Mail/Mbox/MessageParser/Config.pm
ok 6 - Compile test for blib/lib/Mail/Mbox/MessageParser/Perl.pm
ok
t/000_standard__perl_critic.t ... skipped: Author test. Set $ENV{TEST_AUTHOR} to a true value to run.
t/000_standard__pod.t ........... skipped: Test::Pod required for testing POD
t/000_standard__pod_coverage.t .. skipped: Test::Pod::Coverage required for testing POD coverage
t/appended_mailbox.t ............
1..6
Testing modified mailbox with Perl implementation
Comparing /tmp/7r2xpqmV36 to t/mailboxes/mailarc-1.txt
Output /tmp/7r2xpqmV36 looks good.
ok 1 - Computing differences
Testing modified mailbox with Cache implementation
Comparing /tmp/_6Kxqd4whE to t/mailboxes/mailarc-1.txt
Output /tmp/_6Kxqd4whE looks good.
ok 2 - Computing differences
Testing modified mailbox with Grep implementation
ok 3 # skip GNU grep not available
Testing modified mailbox with Perl implementation
Comparing /tmp/oncULBA7wN to t/mailboxes/mailarc-1.txt
Output /tmp/oncULBA7wN looks good.
ok 4 - Computing differences
Testing modified mailbox with Cache implementation
Comparing /tmp/LPQzh4LczE to t/mailboxes/mailarc-1.txt
Output /tmp/LPQzh4LczE looks good.
ok 5 - Computing differences
Testing modified mailbox with Grep implementation
ok 6 # skip GNU grep not available
ok
t/bzip2.t .......................
1..1
Running test:
"/bin/cat" "t/mailboxes/mailarc-2.txt.bz2" | "/usr/bin/bzip2" -cd
Comparing /tmp/vZRbG3xvS7 to t/results/mailarc-2.txt
Output /tmp/vZRbG3xvS7 looks good.
Comparing /tmp/eO3az8Agz0 to t/results/none
Output /tmp/eO3az8Agz0 looks good.
ok 1 - Computing differences
ok
t/endline.t .....................
1..8
Testing filename: t/mailboxes/mailarc-1-dos.txt
ok 1 - Dos endline expected
ok 2 - Dos endline expected
ok 3 - Dos endline expected
ok 4 # skip GNU grep not available
Testing filename: t/mailboxes/mailarc-1.txt
ok 5 - Unix endline expected
ok 6 - Unix endline expected
ok 7 - Unix endline expected
ok 8 # skip GNU grep not available
ok
t/filehandle_compressed.t .......
1..16
Testing filename: t/mailboxes/mailarc-2.txt.bz2
Comparing /tmp/lGGLxsCjEH to t/mailboxes/mailarc-2.txt
Output /tmp/lGGLxsCjEH looks good.
ok 1 - Computing differences
Comparing /tmp/yWOrl9t6Ch to t/mailboxes/mailarc-2.txt
Output /tmp/yWOrl9t6Ch looks good.
ok 2 - Computing differences
Comparing /tmp/tYLMXhzSPr to t/mailboxes/mailarc-2.txt
Output /tmp/tYLMXhzSPr looks good.
ok 3 - Computing differences
ok 4 # skip GNU grep not available
Testing filename: t/mailboxes/mailarc-2.txt.gz
Comparing /tmp/XjErFO5eUF to t/mailboxes/mailarc-2.txt
Output /tmp/XjErFO5eUF looks good.
ok 5 - Computing differences
Comparing /tmp/3LvTXgjcPi to t/mailboxes/mailarc-2.txt
Output /tmp/3LvTXgjcPi looks good.
ok 6 - Computing differences
Comparing /tmp/gH2sYrqPoK to t/mailboxes/mailarc-2.txt
Output /tmp/gH2sYrqPoK looks good.
ok 7 - Computing differences
ok 8 # skip GNU grep not available
Testing filename: t/mailboxes/mailarc-2.txt.lz
ok 9 # skip lzip not available
ok 10 # skip lzip not available
ok 11 # skip lzip not available
ok 12 # skip lzip not available
Testing filename: t/mailboxes/mailarc-2.txt.xz
Comparing /tmp/CyHSkwbq2G to t/mailboxes/mailarc-2.txt
Output /tmp/CyHSkwbq2G looks good.
ok 13 - Computing differences
Comparing /tmp/QBnaVPn7kf to t/mailboxes/mailarc-2.txt
Output /tmp/QBnaVPn7kf looks good.
ok 14 - Computing differences
Comparing /tmp/1lioVXGMy5 to t/mailboxes/mailarc-2.txt
Output /tmp/1lioVXGMy5 looks good.
ok 15 - Computing differences
ok 16 # skip GNU grep not available
ok
t/filehandle_noncompressed.t ....
1..44
Testing filename: t/mailboxes/binary_body.txt
Comparing /tmp/R3NJyuhBhS to t/mailboxes/binary_body.txt
Output /tmp/R3NJyuhBhS looks good.
ok 1 - Computing differences
Comparing /tmp/nCTYzyWBrT to t/mailboxes/binary_body.txt
Output /tmp/nCTYzyWBrT looks good.
ok 2 - Computing differences
Comparing /tmp/pLqrExcXVj to t/mailboxes/binary_body.txt
Output /tmp/pLqrExcXVj looks good.
ok 3 - Computing differences
ok 4 # skip GNU grep not available
Testing filename: t/mailboxes/hessbug.txt
Comparing /tmp/okHPCYxsnh to t/mailboxes/hessbug.txt
Output /tmp/okHPCYxsnh looks good.
ok 5 - Computing differences
Comparing /tmp/zETwMPiBdW to t/mailboxes/hessbug.txt
Output /tmp/zETwMPiBdW looks good.
ok 6 - Computing differences
Comparing /tmp/WZZyY3AUTo to t/mailboxes/hessbug.txt
Output /tmp/WZZyY3AUTo looks good.
ok 7 - Computing differences
ok 8 # skip GNU grep not available
Testing filename: t/mailboxes/invalid-boundaries.txt
Comparing /tmp/A9amP1VEis to t/mailboxes/invalid-boundaries.txt
Output /tmp/A9amP1VEis looks good.
ok 9 - Computing differences
Comparing /tmp/qWkHP2sELq to t/mailboxes/invalid-boundaries.txt
Output /tmp/qWkHP2sELq looks good.
ok 10 - Computing differences
Comparing /tmp/XWKOO3h4kf to t/mailboxes/invalid-boundaries.txt
Output /tmp/XWKOO3h4kf looks good.
ok 11 - Computing differences
ok 12 # skip GNU grep not available
Testing filename: t/mailboxes/mailarc-1-dos.txt
Comparing /tmp/evx0TIYvf4 to t/mailboxes/mailarc-1-dos.txt
Output /tmp/evx0TIYvf4 looks good.
ok 13 - Computing differences
Comparing /tmp/7xwdzswXDb to t/mailboxes/mailarc-1-dos.txt
Output /tmp/7xwdzswXDb looks good.
ok 14 - Computing differences
Comparing /tmp/HLrVy_2j41 to t/mailboxes/mailarc-1-dos.txt
Output /tmp/HLrVy_2j41 looks good.
ok 15 - Computing differences
ok 16 # skip GNU grep not available
Testing filename: t/mailboxes/mailarc-1.txt
Comparing /tmp/xL9_2mgx9R to t/mailboxes/mailarc-1.txt
Output /tmp/xL9_2mgx9R looks good.
ok 17 - Computing differences
Comparing /tmp/HtOEkzppFD to t/mailboxes/mailarc-1.txt
Output /tmp/HtOEkzppFD looks good.
ok 18 - Computing differences
Comparing /tmp/3viNHsWIzk to t/mailboxes/mailarc-1.txt
Output /tmp/3viNHsWIzk looks good.
ok 19 - Computing differences
ok 20 # skip GNU grep not available
Testing filename: t/mailboxes/mailarc-2.txt
Comparing /tmp/fqM2Mdsh0D to t/mailboxes/mailarc-2.txt
Output /tmp/fqM2Mdsh0D looks good.
ok 21 - Computing differences
Comparing /tmp/CgPgh1B5SB to t/mailboxes/mailarc-2.txt
Output /tmp/CgPgh1B5SB looks good.
ok 22 - Computing differences
Comparing /tmp/3SZknkZAU8 to t/mailboxes/mailarc-2.txt
Output /tmp/3SZknkZAU8 looks good.
ok 23 - Computing differences
ok 24 # skip GNU grep not available
Testing filename: t/mailboxes/mailarc-3.txt
Comparing /tmp/fVs2p1zXHq to t/mailboxes/mailarc-3.txt
Output /tmp/fVs2p1zXHq looks good.
ok 25 - Computing differences
Comparing /tmp/0oPJrD30xF to t/mailboxes/mailarc-3.txt
Output /tmp/0oPJrD30xF looks good.
ok 26 - Computing differences
Comparing /tmp/Fbj7TVC8w4 to t/mailboxes/mailarc-3.txt
Output /tmp/Fbj7TVC8w4 looks good.
ok 27 - Computing differences
ok 28 # skip GNU grep not available
Testing filename: t/mailboxes/mailseparators.txt
Comparing /tmp/YdrEh6OGDB to t/mailboxes/mailseparators.txt
Output /tmp/YdrEh6OGDB looks good.
ok 29 - Computing differences
Comparing /tmp/ERvMst1Y5s to t/mailboxes/mailseparators.txt
Output /tmp/ERvMst1Y5s looks good.
ok 30 - Computing differences
Comparing /tmp/k7gLNTWdHK to t/mailboxes/mailseparators.txt
Output /tmp/k7gLNTWdHK looks good.
ok 31 - Computing differences
ok 32 # skip GNU grep not available
Testing filename: t/mailboxes/malformed.txt
Comparing /tmp/5W3dPzsnW1 to t/mailboxes/malformed.txt
Output /tmp/5W3dPzsnW1 looks good.
ok 33 - Computing differences
Comparing /tmp/Wd1KmPFru5 to t/mailboxes/malformed.txt
Output /tmp/Wd1KmPFru5 looks good.
ok 34 - Computing differences
Comparing /tmp/w93xTMFOWP to t/mailboxes/malformed.txt
Output /tmp/w93xTMFOWP looks good.
ok 35 - Computing differences
ok 36 # skip GNU grep not available
Testing filename: t/mailboxes/newlines_at_beginning.txt
Comparing /tmp/krgG4NSEd1 to t/mailboxes/newlines_at_beginning.txt
Output /tmp/krgG4NSEd1 looks good.
ok 37 - Computing differences
Comparing /tmp/2LY07z1d0P to t/mailboxes/newlines_at_beginning.txt
Output /tmp/2LY07z1d0P looks good.
ok 38 - Computing differences
Comparing /tmp/4YMkqYRIAK to t/mailboxes/newlines_at_beginning.txt
Output /tmp/4YMkqYRIAK looks good.
ok 39 - Computing differences
ok 40 # skip GNU grep not available
Testing filename: t/mailboxes/vm-emacs.txt
Comparing /tmp/lhzbYTXZX4 to t/mailboxes/vm-emacs.txt
Output /tmp/lhzbYTXZX4 looks good.
ok 41 - Computing differences
Comparing /tmp/L4YfaQVkYt to t/mailboxes/vm-emacs.txt
Output /tmp/L4YfaQVkYt looks good.
ok 42 - Computing differences
Comparing /tmp/__MSDnuB4q to t/mailboxes/vm-emacs.txt
Output /tmp/__MSDnuB4q looks good.
ok 43 - Computing differences
ok 44 # skip GNU grep not available
ok
t/filename_compressed.t .........
1..4
Testing filename: t/mailboxes/mailarc-2.txt.bz2
Comparing /tmp/_L4wKuOVxq to t/mailboxes/mailarc-2.txt
Output /tmp/_L4wKuOVxq looks good.
ok 1 - Computing differences
Testing filename: t/mailboxes/mailarc-2.txt.gz
Comparing /tmp/tCQr1k9HJE to t/mailboxes/mailarc-2.txt
Output /tmp/tCQr1k9HJE looks good.
ok 2 - Computing differences
Testing filename: t/mailboxes/mailarc-2.txt.lz
ok 3 # skip lzip not available
Testing filename: t/mailboxes/mailarc-2.txt.xz
Comparing /tmp/BNTrGukkdX to t/mailboxes/mailarc-2.txt
Output /tmp/BNTrGukkdX looks good.
ok 4 - Computing differences
ok
t/filename_noncompressed.t ......
1..11
Testing filename: t/mailboxes/binary_body.txt
Comparing /tmp/zenSNDWuLI to t/mailboxes/binary_body.txt
Output /tmp/zenSNDWuLI looks good.
ok 1 - Computing differences
Testing filename: t/mailboxes/hessbug.txt
Comparing /tmp/7aUjk2GRuB to t/mailboxes/hessbug.txt
Output /tmp/7aUjk2GRuB looks good.
ok 2 - Computing differences
Testing filename: t/mailboxes/invalid-boundaries.txt
Comparing /tmp/K8SWSjUx61 to t/mailboxes/invalid-boundaries.txt
Output /tmp/K8SWSjUx61 looks good.
ok 3 - Computing differences
Testing filename: t/mailboxes/mailarc-1-dos.txt
Comparing /tmp/Co2yEfITIi to t/mailboxes/mailarc-1-dos.txt
Output /tmp/Co2yEfITIi looks good.
ok 4 - Computing differences
Testing filename: t/mailboxes/mailarc-1.txt
Comparing /tmp/2hXnkyt4Nf to t/mailboxes/mailarc-1.txt
Output /tmp/2hXnkyt4Nf looks good.
ok 5 - Computing differences
Testing filename: t/mailboxes/mailarc-2.txt
Comparing /tmp/mtbQZhInd5 to t/mailboxes/mailarc-2.txt
Output /tmp/mtbQZhInd5 looks good.
ok 6 - Computing differences
Testing filename: t/mailboxes/mailarc-3.txt
Comparing /tmp/7WeZLCYVPJ to t/mailboxes/mailarc-3.txt
Output /tmp/7WeZLCYVPJ looks good.
ok 7 - Computing differences
Testing filename: t/mailboxes/mailseparators.txt
Comparing /tmp/zDyPaZ8oU9 to t/mailboxes/mailseparators.txt
Output /tmp/zDyPaZ8oU9 looks good.
ok 8 - Computing differences
Testing filename: t/mailboxes/malformed.txt
Comparing /tmp/7Z2MJI6pfK to t/mailboxes/malformed.txt
Output /tmp/7Z2MJI6pfK looks good.
ok 9 - Computing differences
Testing filename: t/mailboxes/newlines_at_beginning.txt
Comparing /tmp/eE8UVO7WWd to t/mailboxes/newlines_at_beginning.txt
Output /tmp/eE8UVO7WWd looks good.
ok 10 - Computing differences
Testing filename: t/mailboxes/vm-emacs.txt
Comparing /tmp/iRxn_KEIHg to t/mailboxes/vm-emacs.txt
Output /tmp/iRxn_KEIHg looks good.
ok 11 - Computing differences
ok
t/grep.t ........................
1..4
Running test:
unset LC_ALL LC_COLLATE LANG LC_CTYPE LC_MESSAGES; grep --extended-regexp --line-number --byte-offset --binary-files=text "^From [^:]+(:[0-9][0-9]){1,2}( *([A-Z]{2,6}|[+-]?[0-9]{4})){1,3}( remote from .*)?
?$" t/mailboxes/mailarc-1.txt
ok 1 # skip 1
Running test:
unset LC_ALL LC_COLLATE LANG LC_CTYPE LC_MESSAGES; grep --extended-regexp --line-number --byte-offset --binary-files=text "^From [^:]+(:[0-9][0-9]){1,2}( *([A-Z]{2,6}|[+-]?[0-9]{4})){1,3}( remote from .*)?
?$" t/mailboxes/mailarc-2.txt
ok 2 # skip 1
Running test:
unset LC_ALL LC_COLLATE LANG LC_CTYPE LC_MESSAGES; grep --extended-regexp --line-number --byte-offset --binary-files=text "^From [^:]+(:[0-9][0-9]){1,2}( *([A-Z]{2,6}|[+-]?[0-9]{4})){1,3}( remote from .*)?
?$" t/mailboxes/mailarc-3.txt
ok 3 # skip 1
Running test:
unset LC_ALL LC_COLLATE LANG LC_CTYPE LC_MESSAGES; grep --extended-regexp --line-number --byte-offset --binary-files=text "^From [^:]+(:[0-9][0-9]){1,2}( *([A-Z]{2,6}|[+-]?[0-9]{4})){1,3}( remote from .*)?
?$" t/mailboxes/mailseparators.txt
ok 4 # skip 1
ok
t/gzip.t ........................
1..1
Running test:
"/bin/cat" "t/mailboxes/mailarc-2.txt.gz" | "/usr/bin/gzip" -cd
Comparing /tmp/KEnJWf1Vhh to t/results/mailarc-2.txt
Output /tmp/KEnJWf1Vhh looks good.
Comparing /tmp/dJBBKLV0G1 to t/results/none
Output /tmp/dJBBKLV0G1 looks good.
ok 1 - Computing differences
ok
t/length.t ......................
1..30
Testing filename: t/mailboxes/binary_body.txt
Comparing /tmp/956WHlp9sA to t/results/length_binary_body.stdout
Output /tmp/956WHlp9sA looks good.
ok 1 - Computing differences
Comparing /tmp/B7YRigT89o to t/results/length_binary_body.stdout
Output /tmp/B7YRigT89o looks good.
ok 2 - Computing differences
ok 3 # skip GNU grep not available
Testing filename: t/mailboxes/hessbug.txt
Comparing /tmp/XScp0WWXOw to t/results/length_hessbug.stdout
Output /tmp/XScp0WWXOw looks good.
ok 4 - Computing differences
Comparing /tmp/d9yug2ky3q to t/results/length_hessbug.stdout
Output /tmp/d9yug2ky3q looks good.
ok 5 - Computing differences
ok 6 # skip GNU grep not available
Testing filename: t/mailboxes/invalid-boundaries.txt
Comparing /tmp/CNwoq7kELT to t/results/length_invalid-boundaries.stdout
Output /tmp/CNwoq7kELT looks good.
ok 7 - Computing differences
Comparing /tmp/JPwt4bYqK5 to t/results/length_invalid-boundaries.stdout
Output /tmp/JPwt4bYqK5 looks good.
ok 8 - Computing differences
ok 9 # skip GNU grep not available
Testing filename: t/mailboxes/mailarc-1-dos.txt
Comparing /tmp/2IzeXdjBOD to t/results/length_mailarc-1-dos.stdout
Output /tmp/2IzeXdjBOD looks good.
ok 10 - Computing differences
Comparing /tmp/o0RkNouXp7 to t/results/length_mailarc-1-dos.stdout
Output /tmp/o0RkNouXp7 looks good.
ok 11 - Computing differences
ok 12 # skip GNU grep not available
Testing filename: t/mailboxes/mailarc-1.txt
Comparing /tmp/yWgXHZvHKI to t/results/length_mailarc-1.stdout
Output /tmp/yWgXHZvHKI looks good.
ok 13 - Computing differences
Comparing /tmp/QVNHUQj0X2 to t/results/length_mailarc-1.stdout
Output /tmp/QVNHUQj0X2 looks good.
ok 14 - Computing differences
ok 15 # skip GNU grep not available
Testing filename: t/mailboxes/mailarc-2.txt
Comparing /tmp/6oKCSymIK_ to t/results/length_mailarc-2.stdout
Output /tmp/6oKCSymIK_ looks good.
ok 16 - Computing differences
Comparing /tmp/kWbkyVOiEz to t/results/length_mailarc-2.stdout
Output /tmp/kWbkyVOiEz looks good.
ok 17 - Computing differences
ok 18 # skip GNU grep not available
Testing filename: t/mailboxes/mailarc-3.txt
Comparing /tmp/vGChNmrO7Q to t/results/length_mailarc-3.stdout
Output /tmp/vGChNmrO7Q looks good.
ok 19 - Computing differences
Comparing /tmp/UQgYFUFyRV to t/results/length_mailarc-3.stdout
Output /tmp/UQgYFUFyRV looks good.
ok 20 - Computing differences
ok 21 # skip GNU grep not available
Testing filename: t/mailboxes/mailseparators.txt
Comparing /tmp/Px6m3V920G to t/results/length_mailseparators.stdout
Output /tmp/Px6m3V920G looks good.
ok 22 - Computing differences
Comparing /tmp/zodQtMXhNI to t/results/length_mailseparators.stdout
Output /tmp/zodQtMXhNI looks good.
ok 23 - Computing differences
ok 24 # skip GNU grep not available
Testing filename: t/mailboxes/malformed.txt
Comparing /tmp/0vVtekKNnQ to t/results/length_malformed.stdout
Output /tmp/0vVtekKNnQ looks good.
ok 25 - Computing differences
Comparing /tmp/IgIaKSVHWF to t/results/length_malformed.stdout
Output /tmp/IgIaKSVHWF looks good.
ok 26 - Computing differences
ok 27 # skip GNU grep not available
Testing filename: t/mailboxes/newlines_at_beginning.txt
Comparing /tmp/I3bH4xDDnu to t/results/length_newlines_at_beginning.stdout
Output /tmp/I3bH4xDDnu looks good.
ok 28 - Computing differences
Comparing /tmp/rAuPZinfNn to t/results/length_newlines_at_beginning.stdout
Output /tmp/rAuPZinfNn looks good.
ok 29 - Computing differences
ok 30 # skip GNU grep not available
ok
t/line_number.t .................
1..30
Testing filename: t/mailboxes/binary_body.txt
Comparing /tmp/lDbyEtjtXA to t/results/line_number_binary_body.stdout
Output /tmp/lDbyEtjtXA looks good.
ok 1 - Computing differences
Comparing /tmp/SVnj77Zkrq to t/results/line_number_binary_body.stdout
Output /tmp/SVnj77Zkrq looks good.
ok 2 - Computing differences
ok 3 # skip GNU grep not available
Testing filename: t/mailboxes/hessbug.txt
Comparing /tmp/jC8M2ntL3w to t/results/line_number_hessbug.stdout
Output /tmp/jC8M2ntL3w looks good.
ok 4 - Computing differences
Comparing /tmp/tX0hPD52WV to t/results/line_number_hessbug.stdout
Output /tmp/tX0hPD52WV looks good.
ok 5 - Computing differences
ok 6 # skip GNU grep not available
Testing filename: t/mailboxes/invalid-boundaries.txt
Comparing /tmp/KcJB19Ymdn to t/results/line_number_invalid-boundaries.stdout
Output /tmp/KcJB19Ymdn looks good.
ok 7 - Computing differences
Comparing /tmp/Em4EKG_lPr to t/results/line_number_invalid-boundaries.stdout
Output /tmp/Em4EKG_lPr looks good.
ok 8 - Computing differences
ok 9 # skip GNU grep not available
Testing filename: t/mailboxes/mailarc-1-dos.txt
Comparing /tmp/wZ8UsuFHCq to t/results/line_number_mailarc-1-dos.stdout
Output /tmp/wZ8UsuFHCq looks good.
ok 10 - Computing differences
Comparing /tmp/7fT5z5_oGT to t/results/line_number_mailarc-1-dos.stdout
Output /tmp/7fT5z5_oGT looks good.
ok 11 - Computing differences
ok 12 # skip GNU grep not available
Testing filename: t/mailboxes/mailarc-1.txt
Comparing /tmp/MUIsGWbEUY to t/results/line_number_mailarc-1.stdout
Output /tmp/MUIsGWbEUY looks good.
ok 13 - Computing differences
Comparing /tmp/vo2614qULN to t/results/line_number_mailarc-1.stdout
Output /tmp/vo2614qULN looks good.
ok 14 - Computing differences
ok 15 # skip GNU grep not available
Testing filename: t/mailboxes/mailarc-2.txt
Comparing /tmp/J6vMxSQLaq to t/results/line_number_mailarc-2.stdout
Output /tmp/J6vMxSQLaq looks good.
ok 16 - Computing differences
Comparing /tmp/dj6bBUAIHj to t/results/line_number_mailarc-2.stdout
Output /tmp/dj6bBUAIHj looks good.
ok 17 - Computing differences
ok 18 # skip GNU grep not available
Testing filename: t/mailboxes/mailarc-3.txt
Comparing /tmp/qSIPdlwPE6 to t/results/line_number_mailarc-3.stdout
Output /tmp/qSIPdlwPE6 looks good.
ok 19 - Computing differences
Comparing /tmp/zvdIrq_MCZ to t/results/line_number_mailarc-3.stdout
Output /tmp/zvdIrq_MCZ looks good.
ok 20 - Computing differences
ok 21 # skip GNU grep not available
Testing filename: t/mailboxes/mailseparators.txt
Comparing /tmp/dtpW3vUVKk to t/results/line_number_mailseparators.stdout
Output /tmp/dtpW3vUVKk looks good.
ok 22 - Computing differences
Comparing /tmp/4RFiP8rc4j to t/results/line_number_mailseparators.stdout
Output /tmp/4RFiP8rc4j looks good.
ok 23 - Computing differences
ok 24 # skip GNU grep not available
Testing filename: t/mailboxes/malformed.txt
Comparing /tmp/JILTgg0fuZ to t/results/line_number_malformed.stdout
Output /tmp/JILTgg0fuZ looks good.
ok 25 - Computing differences
Comparing /tmp/rUfUM1wjN9 to t/results/line_number_malformed.stdout
Output /tmp/rUfUM1wjN9 looks good.
ok 26 - Computing differences
ok 27 # skip GNU grep not available
Testing filename: t/mailboxes/newlines_at_beginning.txt
Comparing /tmp/N7KkW5azNj to t/results/line_number_newlines_at_beginning.stdout
Output /tmp/N7KkW5azNj looks good.
ok 28 - Computing differences
Comparing /tmp/yHhXDG_WHS to t/results/line_number_newlines_at_beginning.stdout
Output /tmp/yHhXDG_WHS looks good.
ok 29 - Computing differences
ok 30 # skip GNU grep not available
ok
t/lzip.t ........................
1..1
Running test:
"/bin/cat" "t/mailboxes/mailarc-2.txt.lz" | "lzip" -cd
ok 1 # skip lzip not available
ok
t/number.t ......................
1..30
Testing filename: t/mailboxes/binary_body.txt
Comparing /tmp/Cv2KE1Egty to t/results/number_binary_body.stdout
Output /tmp/Cv2KE1Egty looks good.
ok 1 - Computing differences
Comparing /tmp/iM6lRHGDHo to t/results/number_binary_body.stdout
Output /tmp/iM6lRHGDHo looks good.
ok 2 - Computing differences
ok 3 # skip GNU grep not available
Testing filename: t/mailboxes/hessbug.txt
Comparing /tmp/eto1QlS6nZ to t/results/number_hessbug.stdout
Output /tmp/eto1QlS6nZ looks good.
ok 4 - Computing differences
Comparing /tmp/5tF_UHN7dG to t/results/number_hessbug.stdout
Output /tmp/5tF_UHN7dG looks good.
ok 5 - Computing differences
ok 6 # skip GNU grep not available
Testing filename: t/mailboxes/invalid-boundaries.txt
Comparing /tmp/R7nuYd9ARJ to t/results/number_invalid-boundaries.stdout
Output /tmp/R7nuYd9ARJ looks good.
ok 7 - Computing differences
Comparing /tmp/StAMhbxnVv to t/results/number_invalid-boundaries.stdout
Output /tmp/StAMhbxnVv looks good.
ok 8 - Computing differences
ok 9 # skip GNU grep not available
Testing filename: t/mailboxes/mailarc-1-dos.txt
Comparing /tmp/EXNQMDY2n7 to t/results/number_mailarc-1-dos.stdout
Output /tmp/EXNQMDY2n7 looks good.
ok 10 - Computing differences
Comparing /tmp/iNBP7_I2zE to t/results/number_mailarc-1-dos.stdout
Output /tmp/iNBP7_I2zE looks good.
ok 11 - Computing differences
ok 12 # skip GNU grep not available
Testing filename: t/mailboxes/mailarc-1.txt
Comparing /tmp/bOnuqQjWOi to t/results/number_mailarc-1.stdout
Output /tmp/bOnuqQjWOi looks good.
ok 13 - Computing differences
Comparing /tmp/RGsdrpY3Mr to t/results/number_mailarc-1.stdout
Output /tmp/RGsdrpY3Mr looks good.
ok 14 - Computing differences
ok 15 # skip GNU grep not available
Testing filename: t/mailboxes/mailarc-2.txt
Comparing /tmp/CP5bVjY_ky to t/results/number_mailarc-2.stdout
Output /tmp/CP5bVjY_ky looks good.
ok 16 - Computing differences
Comparing /tmp/zu8KMxkLR6 to t/results/number_mailarc-2.stdout
Output /tmp/zu8KMxkLR6 looks good.
ok 17 - Computing differences
ok 18 # skip GNU grep not available
Testing filename: t/mailboxes/mailarc-3.txt
Comparing /tmp/vHWjbgzFEH to t/results/number_mailarc-3.stdout
Output /tmp/vHWjbgzFEH looks good.
ok 19 - Computing differences
Comparing /tmp/q3LWd9CHeU to t/results/number_mailarc-3.stdout
Output /tmp/q3LWd9CHeU looks good.
ok 20 - Computing differences
ok 21 # skip GNU grep not available
Testing filename: t/mailboxes/mailseparators.txt
Comparing /tmp/xvrCFbhqMX to t/results/number_mailseparators.stdout
Output /tmp/xvrCFbhqMX looks good.
ok 22 - Computing differences
Comparing /tmp/UDJoJs5Jma to t/results/number_mailseparators.stdout
Output /tmp/UDJoJs5Jma looks good.
ok 23 - Computing differences
ok 24 # skip GNU grep not available
Testing filename: t/mailboxes/malformed.txt
Comparing /tmp/i2A1X_TsSk to t/results/number_malformed.stdout
Output /tmp/i2A1X_TsSk looks good.
ok 25 - Computing differences
Comparing /tmp/7CiObyE6p6 to t/results/number_malformed.stdout
Output /tmp/7CiObyE6p6 looks good.
ok 26 - Computing differences
ok 27 # skip GNU grep not available
Testing filename: t/mailboxes/newlines_at_beginning.txt
Comparing /tmp/bbbeMLwygI to t/results/number_newlines_at_beginning.stdout
Output /tmp/bbbeMLwygI looks good.
ok 28 - Computing differences
Comparing /tmp/Xi3ijOMtGJ to t/results/number_newlines_at_beginning.stdout
Output /tmp/Xi3ijOMtGJ looks good.
ok 29 - Computing differences
ok 30 # skip GNU grep not available
ok
t/offset.t ......................
1..30
Testing filename: t/mailboxes/binary_body.txt
Comparing /tmp/BkzZPihsHw to t/results/offset_binary_body.stdout
Output /tmp/BkzZPihsHw looks good.
ok 1 - Computing differences
Comparing /tmp/6OFp7I8RSF to t/results/offset_binary_body.stdout
Output /tmp/6OFp7I8RSF looks good.
ok 2 - Computing differences
ok 3 # skip GNU grep not available
Testing filename: t/mailboxes/hessbug.txt
Comparing /tmp/0LDuZGshI_ to t/results/offset_hessbug.stdout
Output /tmp/0LDuZGshI_ looks good.
ok 4 - Computing differences
Comparing /tmp/QbROr5hift to t/results/offset_hessbug.stdout
Output /tmp/QbROr5hift looks good.
ok 5 - Computing differences
ok 6 # skip GNU grep not available
Testing filename: t/mailboxes/invalid-boundaries.txt
Comparing /tmp/8KNdT9v6s1 to t/results/offset_invalid-boundaries.stdout
Output /tmp/8KNdT9v6s1 looks good.
ok 7 - Computing differences
Comparing /tmp/0s4ZBA1RMc to t/results/offset_invalid-boundaries.stdout
Output /tmp/0s4ZBA1RMc looks good.
ok 8 - Computing differences
ok 9 # skip GNU grep not available
Testing filename: t/mailboxes/mailarc-1-dos.txt
Comparing /tmp/2LqXabpUyd to t/results/offset_mailarc-1-dos.stdout
Output /tmp/2LqXabpUyd looks good.
ok 10 - Computing differences
Comparing /tmp/CByVdCQKCP to t/results/offset_mailarc-1-dos.stdout
Output /tmp/CByVdCQKCP looks good.
ok 11 - Computing differences
ok 12 # skip GNU grep not available
Testing filename: t/mailboxes/mailarc-1.txt
Comparing /tmp/f6qm_HUjSM to t/results/offset_mailarc-1.stdout
Output /tmp/f6qm_HUjSM looks good.
ok 13 - Computing differences
Comparing /tmp/Bk6fpv_O1a to t/results/offset_mailarc-1.stdout
Output /tmp/Bk6fpv_O1a looks good.
ok 14 - Computing differences
ok 15 # skip GNU grep not available
Testing filename: t/mailboxes/mailarc-2.txt
Comparing /tmp/6klKKuGNNn to t/results/offset_mailarc-2.stdout
Output /tmp/6klKKuGNNn looks good.
ok 16 - Computing differences
Comparing /tmp/byyGzS5ZHG to t/results/offset_mailarc-2.stdout
Output /tmp/byyGzS5ZHG looks good.
ok 17 - Computing differences
ok 18 # skip GNU grep not available
Testing filename: t/mailboxes/mailarc-3.txt
Comparing /tmp/hA3iZd77RO to t/results/offset_mailarc-3.stdout
Output /tmp/hA3iZd77RO looks good.
ok 19 - Computing differences
Comparing /tmp/FKm1UIDdAT to t/results/offset_mailarc-3.stdout
Output /tmp/FKm1UIDdAT looks good.
ok 20 - Computing differences
ok 21 # skip GNU grep not available
Testing filename: t/mailboxes/mailseparators.txt
Comparing /tmp/jEfEdKY8H8 to t/results/offset_mailseparators.stdout
Output /tmp/jEfEdKY8H8 looks good.
ok 22 - Computing differences
Comparing /tmp/hLdS9Z0CLl to t/results/offset_mailseparators.stdout
Output /tmp/hLdS9Z0CLl looks good.
ok 23 - Computing differences
ok 24 # skip GNU grep not available
Testing filename: t/mailboxes/malformed.txt
Comparing /tmp/JKb3q31PeH to t/results/offset_malformed.stdout
Output /tmp/JKb3q31PeH looks good.
ok 25 - Computing differences
Comparing /tmp/HrxFSq7Emq to t/results/offset_malformed.stdout
Output /tmp/HrxFSq7Emq looks good.
ok 26 - Computing differences
ok 27 # skip GNU grep not available
Testing filename: t/mailboxes/newlines_at_beginning.txt
Comparing /tmp/elgwlTs7QW to t/results/offset_newlines_at_beginning.stdout
Output /tmp/elgwlTs7QW looks good.
ok 28 - Computing differences
Comparing /tmp/oCoGESQH73 to t/results/offset_newlines_at_beginning.stdout
Output /tmp/oCoGESQH73 looks good.
ok 29 - Computing differences
ok 30 # skip GNU grep not available
ok
t/prologue.t ....................
1..33
Testing filename: t/mailboxes/binary_body.txt
Comparing /tmp/whlYlbnFj5 to t/mailboxes/binary_body.txt
Output /tmp/whlYlbnFj5 looks good.
ok 1 - Computing differences
Comparing /tmp/SJs5KDzG6x to t/mailboxes/binary_body.txt
Output /tmp/SJs5KDzG6x looks good.
ok 2 - Computing differences
ok 3 # skip GNU grep not available
Testing filename: t/mailboxes/hessbug.txt
Comparing /tmp/EDctrDyctY to t/mailboxes/hessbug.txt
Output /tmp/EDctrDyctY looks good.
ok 4 - Computing differences
Comparing /tmp/6a9S1OgEwo to t/mailboxes/hessbug.txt
Output /tmp/6a9S1OgEwo looks good.
ok 5 - Computing differences
ok 6 # skip GNU grep not available
Testing filename: t/mailboxes/invalid-boundaries.txt
Comparing /tmp/p8gF6AnpKD to t/mailboxes/invalid-boundaries.txt
Output /tmp/p8gF6AnpKD looks good.
ok 7 - Computing differences
Comparing /tmp/ky3JEcb4Hj to t/mailboxes/invalid-boundaries.txt
Output /tmp/ky3JEcb4Hj looks good.
ok 8 - Computing differences
ok 9 # skip GNU grep not available
Testing filename: t/mailboxes/mailarc-1-dos.txt
Comparing /tmp/LQyb8WCi9I to t/mailboxes/mailarc-1-dos.txt
Output /tmp/LQyb8WCi9I looks good.
ok 10 - Computing differences
Comparing /tmp/3arkS8Abcp to t/mailboxes/mailarc-1-dos.txt
Output /tmp/3arkS8Abcp looks good.
ok 11 - Computing differences
ok 12 # skip GNU grep not available
Testing filename: t/mailboxes/mailarc-1.txt
Comparing /tmp/gnFLCfdGdr to t/mailboxes/mailarc-1.txt
Output /tmp/gnFLCfdGdr looks good.
ok 13 - Computing differences
Comparing /tmp/KzpHNSCRRo to t/mailboxes/mailarc-1.txt
Output /tmp/KzpHNSCRRo looks good.
ok 14 - Computing differences
ok 15 # skip GNU grep not available
Testing filename: t/mailboxes/mailarc-2.txt
Comparing /tmp/X5xuKSBV4M to t/mailboxes/mailarc-2.txt
Output /tmp/X5xuKSBV4M looks good.
ok 16 - Computing differences
Comparing /tmp/PBUkbEoJEU to t/mailboxes/mailarc-2.txt
Output /tmp/PBUkbEoJEU looks good.
ok 17 - Computing differences
ok 18 # skip GNU grep not available
Testing filename: t/mailboxes/mailarc-3.txt
Comparing /tmp/022GRT4n1T to t/mailboxes/mailarc-3.txt
Output /tmp/022GRT4n1T looks good.
ok 19 - Computing differences
Comparing /tmp/0extFEG8gy to t/mailboxes/mailarc-3.txt
Output /tmp/0extFEG8gy looks good.
ok 20 - Computing differences
ok 21 # skip GNU grep not available
Testing filename: t/mailboxes/mailseparators.txt
Comparing /tmp/ynwKNQLb0_ to t/mailboxes/mailseparators.txt
Output /tmp/ynwKNQLb0_ looks good.
ok 22 - Computing differences
Comparing /tmp/SJtLYINlEE to t/mailboxes/mailseparators.txt
Output /tmp/SJtLYINlEE looks good.
ok 23 - Computing differences
ok 24 # skip GNU grep not available
Testing filename: t/mailboxes/malformed.txt
Comparing /tmp/ZsAjwdZvaf to t/mailboxes/malformed.txt
Output /tmp/ZsAjwdZvaf looks good.
ok 25 - Computing differences
Comparing /tmp/JtHj16shp7 to t/mailboxes/malformed.txt
Output /tmp/JtHj16shp7 looks good.
ok 26 - Computing differences
ok 27 # skip GNU grep not available
Testing filename: t/mailboxes/newlines_at_beginning.txt
Comparing /tmp/GkcpahVvp6 to t/mailboxes/newlines_at_beginning.txt
Output /tmp/GkcpahVvp6 looks good.
ok 28 - Computing differences
Comparing /tmp/GGUBQ9E18T to t/mailboxes/newlines_at_beginning.txt
Output /tmp/GGUBQ9E18T looks good.
ok 29 - Computing differences
ok 30 # skip GNU grep not available
Testing filename: t/mailboxes/vm-emacs.txt
Comparing /tmp/VlAPhqIuL1 to t/mailboxes/vm-emacs.txt
Output /tmp/VlAPhqIuL1 looks good.
ok 31 - Computing differences
Comparing /tmp/3qgMkDOMWt to t/mailboxes/vm-emacs.txt
Output /tmp/3qgMkDOMWt looks good.
ok 32 - Computing differences
ok 33 # skip GNU grep not available
ok
t/reset.t .......................
1..60
Testing filename: t/mailboxes/binary_body.txt
Testing partial mailbox reset with Perl implementation
Comparing /tmp/Sjaj8Cz7HW to t/results/reset_binary_body.stdout
Output /tmp/Sjaj8Cz7HW looks good.
ok 1 - Computing differences
Testing partial mailbox reset with Cache implementation
Comparing /tmp/D_x1g3CwHk to t/results/reset_binary_body.stdout
Output /tmp/D_x1g3CwHk looks good.
ok 2 - Computing differences
Testing partial mailbox reset with Grep implementation
ok 3 # skip GNU grep not available
Testing full mailbox reset with Perl implementation
Comparing /tmp/Ej3CrCF_Wz to t/results/reset_binary_body.stdout
Output /tmp/Ej3CrCF_Wz looks good.
ok 4 - Computing differences
Testing full mailbox reset with Cache implementation
Comparing /tmp/gY0M1P_ZPW to t/results/reset_binary_body.stdout
Output /tmp/gY0M1P_ZPW looks good.
ok 5 - Computing differences
Testing full mailbox reset with Grep implementation
ok 6 # skip GNU grep not available
Testing filename: t/mailboxes/hessbug.txt
Testing partial mailbox reset with Perl implementation
Comparing /tmp/020HsOIwUD to t/results/reset_hessbug.stdout
Output /tmp/020HsOIwUD looks good.
ok 7 - Computing differences
Testing partial mailbox reset with Cache implementation
Comparing /tmp/ppVfKRWJZ2 to t/results/reset_hessbug.stdout
Output /tmp/ppVfKRWJZ2 looks good.
ok 8 - Computing differences
Testing partial mailbox reset with Grep implementation
ok 9 # skip GNU grep not available
Testing full mailbox reset with Perl implementation
Comparing /tmp/bmSafYosek to t/results/reset_hessbug.stdout
Output /tmp/bmSafYosek looks good.
ok 10 - Computing differences
Testing full mailbox reset with Cache implementation
Comparing /tmp/I0UX3IvtuZ to t/results/reset_hessbug.stdout
Output /tmp/I0UX3IvtuZ looks good.
ok 11 - Computing differences
Testing full mailbox reset with Grep implementation
ok 12 # skip GNU grep not available
Testing filename: t/mailboxes/invalid-boundaries.txt
Testing partial mailbox reset with Perl implementation
Comparing /tmp/pZKWH6x_5t to t/results/reset_invalid-boundaries.stdout
Output /tmp/pZKWH6x_5t looks good.
ok 13 - Computing differences
Testing partial mailbox reset with Cache implementation
Comparing /tmp/GR57mlkOUz to t/results/reset_invalid-boundaries.stdout
Output /tmp/GR57mlkOUz looks good.
ok 14 - Computing differences
Testing partial mailbox reset with Grep implementation
ok 15 # skip GNU grep not available
Testing full mailbox reset with Perl implementation
Comparing /tmp/mxSat2G1f1 to t/results/reset_invalid-boundaries.stdout
Output /tmp/mxSat2G1f1 looks good.
ok 16 - Computing differences
Testing full mailbox reset with Cache implementation
Comparing /tmp/4JBs5Cbbp_ to t/results/reset_invalid-boundaries.stdout
Output /tmp/4JBs5Cbbp_ looks good.
ok 17 - Computing differences
Testing full mailbox reset with Grep implementation
ok 18 # skip GNU grep not available
Testing filename: t/mailboxes/mailarc-1-dos.txt
Testing partial mailbox reset with Perl implementation
Comparing /tmp/8qf9pgXG4e to t/results/reset_mailarc-1-dos.stdout
Output /tmp/8qf9pgXG4e looks good.
ok 19 - Computing differences
Testing partial mailbox reset with Cache implementation
Comparing /tmp/7Vd33hfhM7 to t/results/reset_mailarc-1-dos.stdout
Output /tmp/7Vd33hfhM7 looks good.
ok 20 - Computing differences
Testing partial mailbox reset with Grep implementation
ok 21 # skip GNU grep not available
Testing full mailbox reset with Perl implementation
Comparing /tmp/2RZvSZp8Nw to t/results/reset_mailarc-1-dos.stdout
Output /tmp/2RZvSZp8Nw looks good.
ok 22 - Computing differences
Testing full mailbox reset with Cache implementation
Comparing /tmp/sYz7SStK24 to t/results/reset_mailarc-1-dos.stdout
Output /tmp/sYz7SStK24 looks good.
ok 23 - Computing differences
Testing full mailbox reset with Grep implementation
ok 24 # skip GNU grep not available
Testing filename: t/mailboxes/mailarc-1.txt
Testing partial mailbox reset with Perl implementation
Comparing /tmp/XQkigmwI9O to t/results/reset_mailarc-1.stdout
Output /tmp/XQkigmwI9O looks good.
ok 25 - Computing differences
Testing partial mailbox reset with Cache implementation
Comparing /tmp/TTcyT9TQnk to t/results/reset_mailarc-1.stdout
Output /tmp/TTcyT9TQnk looks good.
ok 26 - Computing differences
Testing partial mailbox reset with Grep implementation
ok 27 # skip GNU grep not available
Testing full mailbox reset with Perl implementation
Comparing /tmp/eNF11U2CTI to t/results/reset_mailarc-1.stdout
Output /tmp/eNF11U2CTI looks good.
ok 28 - Computing differences
Testing full mailbox reset with Cache implementation
Comparing /tmp/RQ8ff3_1Mf to t/results/reset_mailarc-1.stdout
Output /tmp/RQ8ff3_1Mf looks good.
ok 29 - Computing differences
Testing full mailbox reset with Grep implementation
ok 30 # skip GNU grep not available
Testing filename: t/mailboxes/mailarc-2.txt
Testing partial mailbox reset with Perl implementation
Comparing /tmp/gTY6jx57Xb to t/results/reset_mailarc-2.stdout
Output /tmp/gTY6jx57Xb looks good.
ok 31 - Computing differences
Testing partial mailbox reset with Cache implementation
Comparing /tmp/_8a2pJFpYR to t/results/reset_mailarc-2.stdout
Output /tmp/_8a2pJFpYR looks good.
ok 32 - Computing differences
Testing partial mailbox reset with Grep implementation
ok 33 # skip GNU grep not available
Testing full mailbox reset with Perl implementation
Comparing /tmp/uK0aN_Nmgv to t/results/reset_mailarc-2.stdout
Output /tmp/uK0aN_Nmgv looks good.
ok 34 - Computing differences
Testing full mailbox reset with Cache implementation
Comparing /tmp/9t9SqA_MHN to t/results/reset_mailarc-2.stdout
Output /tmp/9t9SqA_MHN looks good.
ok 35 - Computing differences
Testing full mailbox reset with Grep implementation
ok 36 # skip GNU grep not available
Testing filename: t/mailboxes/mailarc-3.txt
Testing partial mailbox reset with Perl implementation
Comparing /tmp/4VNZV6Rar5 to t/results/reset_mailarc-3.stdout
Output /tmp/4VNZV6Rar5 looks good.
ok 37 - Computing differences
Testing partial mailbox reset with Cache implementation
Comparing /tmp/aVT8Pcq4TV to t/results/reset_mailarc-3.stdout
Output /tmp/aVT8Pcq4TV looks good.
ok 38 - Computing differences
Testing partial mailbox reset with Grep implementation
ok 39 # skip GNU grep not available
Testing full mailbox reset with Perl implementation
Comparing /tmp/BdKOEMz0we to t/results/reset_mailarc-3.stdout
Output /tmp/BdKOEMz0we looks good.
ok 40 - Computing differences
Testing full mailbox reset with Cache implementation
Comparing /tmp/X6p9Ccr5BF to t/results/reset_mailarc-3.stdout
Output /tmp/X6p9Ccr5BF looks good.
ok 41 - Computing differences
Testing full mailbox reset with Grep implementation
ok 42 # skip GNU grep not available
Testing filename: t/mailboxes/mailseparators.txt
Testing partial mailbox reset with Perl implementation
Comparing /tmp/8YN4awCG0G to t/results/reset_mailseparators.stdout
Output /tmp/8YN4awCG0G looks good.
ok 43 - Computing differences
Testing partial mailbox reset with Cache implementation
Comparing /tmp/pQgkKsk7eF to t/results/reset_mailseparators.stdout
Output /tmp/pQgkKsk7eF looks good.
ok 44 - Computing differences
Testing partial mailbox reset with Grep implementation
ok 45 # skip GNU grep not available
Testing full mailbox reset with Perl implementation
Comparing /tmp/b2IL55g_nS to t/results/reset_mailseparators.stdout
Output /tmp/b2IL55g_nS looks good.
ok 46 - Computing differences
Testing full mailbox reset with Cache implementation
Comparing /tmp/InqH1WCDyQ to t/results/reset_mailseparators.stdout
Output /tmp/InqH1WCDyQ looks good.
ok 47 - Computing differences
Testing full mailbox reset with Grep implementation
ok 48 # skip GNU grep not available
Testing filename: t/mailboxes/malformed.txt
Testing partial mailbox reset with Perl implementation
Comparing /tmp/GL2runvEws to t/results/reset_malformed.stdout
Output /tmp/GL2runvEws looks good.
ok 49 - Computing differences
Testing partial mailbox reset with Cache implementation
Comparing /tmp/baqh7wjHD0 to t/results/reset_malformed.stdout
Output /tmp/baqh7wjHD0 looks good.
ok 50 - Computing differences
Testing partial mailbox reset with Grep implementation
ok 51 # skip GNU grep not available
Testing full mailbox reset with Perl implementation
Comparing /tmp/M0ctUgxgzY to t/results/reset_malformed.stdout
Output /tmp/M0ctUgxgzY looks good.
ok 52 - Computing differences
Testing full mailbox reset with Cache implementation
Comparing /tmp/b_Zs4_i2xR to t/results/reset_malformed.stdout
Output /tmp/b_Zs4_i2xR looks good.
ok 53 - Computing differences
Testing full mailbox reset with Grep implementation
ok 54 # skip GNU grep not available
Testing filename: t/mailboxes/newlines_at_beginning.txt
Testing partial mailbox reset with Perl implementation
Comparing /tmp/FWCNedgr5i to t/results/reset_newlines_at_beginning.stdout
Output /tmp/FWCNedgr5i looks good.
ok 55 - Computing differences
Testing partial mailbox reset with Cache implementation
Comparing /tmp/9zsz8uqZjR to t/results/reset_newlines_at_beginning.stdout
Output /tmp/9zsz8uqZjR looks good.
ok 56 - Computing differences
Testing partial mailbox reset with Grep implementation
ok 57 # skip GNU grep not available
Testing full mailbox reset with Perl implementation
Comparing /tmp/MPTk9xbHoT to t/results/reset_newlines_at_beginning.stdout
Output /tmp/MPTk9xbHoT looks good.
ok 58 - Computing differences
Testing full mailbox reset with Cache implementation
Comparing /tmp/XwW8sSknQU to t/results/reset_newlines_at_beginning.stdout
Output /tmp/XwW8sSknQU looks good.
ok 59 - Computing differences
Testing full mailbox reset with Grep implementation
ok 60 # skip GNU grep not available
ok
t/separators.t ..................
1..6
Testing filename: t/mailboxes/separators1.sep
ok 1 - Number of emails in t/mailboxes/separators1.sep
ok 2 - Number of emails in t/mailboxes/separators1.sep
ok 3 # skip GNU grep not available
Testing filename: t/mailboxes/separators2.sep
ok 4 - Number of emails in t/mailboxes/separators2.sep
ok 5 - Number of emails in t/mailboxes/separators2.sep
ok 6 # skip GNU grep not available
ok
t/stdin_compressed.t ............
1..4
Testing filename: t/mailboxes/mailarc-2.txt.bz2
Comparing /tmp/FdRXjfx481 to t/mailboxes/mailarc-2.txt
Output /tmp/FdRXjfx481 looks good.
ok 1 - Computing differences
Testing filename: t/mailboxes/mailarc-2.txt.gz
Comparing /tmp/WWEQrPEBjF to t/mailboxes/mailarc-2.txt
Output /tmp/WWEQrPEBjF looks good.
ok 2 - Computing differences
Testing filename: t/mailboxes/mailarc-2.txt.lz
ok 3 # skip lzip not available
Testing filename: t/mailboxes/mailarc-2.txt.xz
Comparing /tmp/VEiY7JS_1O to t/mailboxes/mailarc-2.txt
Output /tmp/VEiY7JS_1O looks good.
ok 4 - Computing differences
ok
t/stdin_uncompressed.t ..........
1..11
Testing filename: t/mailboxes/binary_body.txt
Comparing /tmp/0deb0N2M3u to t/mailboxes/binary_body.txt
Output /tmp/0deb0N2M3u looks good.
ok 1 - Computing differences
Testing filename: t/mailboxes/hessbug.txt
Comparing /tmp/InKxh4fbxJ to t/mailboxes/hessbug.txt
Output /tmp/InKxh4fbxJ looks good.
ok 2 - Computing differences
Testing filename: t/mailboxes/invalid-boundaries.txt
Comparing /tmp/MmAVtYuMnN to t/mailboxes/invalid-boundaries.txt
Output /tmp/MmAVtYuMnN looks good.
ok 3 - Computing differences
Testing filename: t/mailboxes/mailarc-1-dos.txt
Comparing /tmp/04t7cEDWN_ to t/mailboxes/mailarc-1-dos.txt
Output /tmp/04t7cEDWN_ looks good.
ok 4 - Computing differences
Testing filename: t/mailboxes/mailarc-1.txt
Comparing /tmp/LfdbuGcaKG to t/mailboxes/mailarc-1.txt
Output /tmp/LfdbuGcaKG looks good.
ok 5 - Computing differences
Testing filename: t/mailboxes/mailarc-2.txt
Comparing /tmp/RYX7GGGVAO to t/mailboxes/mailarc-2.txt
Output /tmp/RYX7GGGVAO looks good.
ok 6 - Computing differences
Testing filename: t/mailboxes/mailarc-3.txt
Comparing /tmp/yNOggPX3Za to t/mailboxes/mailarc-3.txt
Output /tmp/yNOggPX3Za looks good.
ok 7 - Computing differences
Testing filename: t/mailboxes/mailseparators.txt
Comparing /tmp/JEZt5oz2FC to t/mailboxes/mailseparators.txt
Output /tmp/JEZt5oz2FC looks good.
ok 8 - Computing differences
Testing filename: t/mailboxes/malformed.txt
Comparing /tmp/yzGAJWLRlI to t/mailboxes/malformed.txt
Output /tmp/yzGAJWLRlI looks good.
ok 9 - Computing differences
Testing filename: t/mailboxes/newlines_at_beginning.txt
Comparing /tmp/3ErDrJTviP to t/mailboxes/newlines_at_beginning.txt
Output /tmp/3ErDrJTviP looks good.
ok 10 - Computing differences
Testing filename: t/mailboxes/vm-emacs.txt
Comparing /tmp/Iety05Ts2T to t/mailboxes/vm-emacs.txt
Output /tmp/Iety05Ts2T looks good.
ok 11 - Computing differences
ok
t/undef_return_value.t ..........
1..33
Testing Perl
Comparing /tmp/jMlxEEuOcL to t/mailboxes/binary_body.txt
Output /tmp/jMlxEEuOcL looks good.
ok 1 - Computing differences
Testing Cache implementation
Comparing /tmp/FXNUcHQO3C to t/mailboxes/binary_body.txt
Output /tmp/FXNUcHQO3C looks good.
ok 2 - Computing differences
ok 3 # skip GNU grep not available
Testing Perl
Comparing /tmp/dsJ9jS0yHL to t/mailboxes/hessbug.txt
Output /tmp/dsJ9jS0yHL looks good.
ok 4 - Computing differences
Testing Cache implementation
Comparing /tmp/95vokSPoGz to t/mailboxes/hessbug.txt
Output /tmp/95vokSPoGz looks good.
ok 5 - Computing differences
ok 6 # skip GNU grep not available
Testing Perl
Comparing /tmp/AEXl2ptbi6 to t/mailboxes/invalid-boundaries.txt
Output /tmp/AEXl2ptbi6 looks good.
ok 7 - Computing differences
Testing Cache implementation
Comparing /tmp/OpJYcPSluC to t/mailboxes/invalid-boundaries.txt
Output /tmp/OpJYcPSluC looks good.
ok 8 - Computing differences
ok 9 # skip GNU grep not available
Testing Perl
Comparing /tmp/mApuqQzRyS to t/mailboxes/mailarc-1-dos.txt
Output /tmp/mApuqQzRyS looks good.
ok 10 - Computing differences
Testing Cache implementation
Comparing /tmp/aq73x8v7Oo to t/mailboxes/mailarc-1-dos.txt
Output /tmp/aq73x8v7Oo looks good.
ok 11 - Computing differences
ok 12 # skip GNU grep not available
Testing Perl
Comparing /tmp/hnQMDFXpS5 to t/mailboxes/mailarc-1.txt
Output /tmp/hnQMDFXpS5 looks good.
ok 13 - Computing differences
Testing Cache implementation
Comparing /tmp/84SQpR5DhY to t/mailboxes/mailarc-1.txt
Output /tmp/84SQpR5DhY looks good.
ok 14 - Computing differences
ok 15 # skip GNU grep not available
Testing Perl
Comparing /tmp/OdmsNNG44K to t/mailboxes/mailarc-2.txt
Output /tmp/OdmsNNG44K looks good.
ok 16 - Computing differences
Testing Cache implementation
Comparing /tmp/H5RwYyjE6i to t/mailboxes/mailarc-2.txt
Output /tmp/H5RwYyjE6i looks good.
ok 17 - Computing differences
ok 18 # skip GNU grep not available
Testing Perl
Comparing /tmp/d2ezF4wbxK to t/mailboxes/mailarc-3.txt
Output /tmp/d2ezF4wbxK looks good.
ok 19 - Computing differences
Testing Cache implementation
Comparing /tmp/SKuv2gfqEP to t/mailboxes/mailarc-3.txt
Output /tmp/SKuv2gfqEP looks good.
ok 20 - Computing differences
ok 21 # skip GNU grep not available
Testing Perl
Comparing /tmp/Ih7YknxL_3 to t/mailboxes/mailseparators.txt
Output /tmp/Ih7YknxL_3 looks good.
ok 22 - Computing differences
Testing Cache implementation
Comparing /tmp/ZIomsP4Ny_ to t/mailboxes/mailseparators.txt
Output /tmp/ZIomsP4Ny_ looks good.
ok 23 - Computing differences
ok 24 # skip GNU grep not available
Testing Perl
Comparing /tmp/jjqWY1UDWu to t/mailboxes/malformed.txt
Output /tmp/jjqWY1UDWu looks good.
ok 25 - Computing differences
Testing Cache implementation
Comparing /tmp/9b8jxm7fPC to t/mailboxes/malformed.txt
Output /tmp/9b8jxm7fPC looks good.
ok 26 - Computing differences
ok 27 # skip GNU grep not available
Testing Perl
Comparing /tmp/lrpWoxqwiy to t/mailboxes/newlines_at_beginning.txt
Output /tmp/lrpWoxqwiy looks good.
ok 28 - Computing differences
Testing Cache implementation
Comparing /tmp/N2m6LAQrxF to t/mailboxes/newlines_at_beginning.txt
Output /tmp/N2m6LAQrxF looks good.
ok 29 - Computing differences
ok 30 # skip GNU grep not available
Testing Perl
Comparing /tmp/puR1UlRkYb to t/mailboxes/vm-emacs.txt
Output /tmp/puR1UlRkYb looks good.
ok 31 - Computing differences
Testing Cache implementation
Comparing /tmp/y7bJ9tJ851 to t/mailboxes/vm-emacs.txt
Output /tmp/y7bJ9tJ851 looks good.
ok 32 - Computing differences
ok 33 # skip GNU grep not available
ok
t/xz.t ..........................
1..1
Running test:
"/bin/cat" "t/mailboxes/mailarc-2.txt.xz" | "/usr/bin/xz" -cd
Comparing /tmp/4RnNPPVQYF to t/results/mailarc-2.txt
Output /tmp/4RnNPPVQYF looks good.
Comparing /tmp/CYyQFAoCvB to t/results/none
Output /tmp/CYyQFAoCvB looks good.
ok 1 - Computing differences
ok
All tests successful.
Files=25, Tests=370, 14 wallclock secs ( 0.25 usr 0.17 sys + 7.29 cusr 5.63 csys = 13.34 CPU)
Result: PASS
PREREQUISITES:
Here is a list of prerequisites you specified and versions we
managed to load:
Module Name Have Want
ExtUtils::MakeMaker 7.34 6.36
File::Path 2.15 2.08
File::Slurper 0.012 0
FileHandle::Unget 0.1634 0
Storable 3.11 0
Test::Compile v1.3.0 0
Test::More 1.302136 0
Text::Diff 1.45 0
UNIVERSAL::require 0.18 0
URI::Escape 3.31 0
Perl module toolchain versions installed:
Module Name Have
CPANPLUS 0.9176
CPANPLUS::Dist::Build 0.90
Cwd 3.74
ExtUtils::CBuilder 0.280230
ExtUtils::Command 7.34
ExtUtils::Install 2.14
ExtUtils::MakeMaker 7.34
ExtUtils::Manifest 1.71
ExtUtils::ParseXS 3.35
File::Spec 3.74
Module::Build 0.4224
Pod::Parser 1.63
Pod::Simple 3.32
Test2 1.302136
Test::Harness 3.42
Test::More 1.302136
version 0.9924
******************************** NOTE ********************************
The comments above are created mechanically, possibly without manual
checking by the sender. As there are many people performing automatic
tests on each upload to CPAN, it is likely that you will receive
identical messages about the same problem.
If you believe that the message is mistaken, please reply to the first
one with correction and/or additional informations, and do not take
it personally. We appreciate your patience. :)
**********************************************************************
Additional comments:
This report was machine-generated by CPANPLUS::Dist::YACSmoke 1.02.
Powered by minismokebox version 0.68
------------------------------
ENVIRONMENT AND OTHER CONTEXT
------------------------------
Environment variables:
AUTOMATED_TESTING = 1
NONINTERACTIVE_TESTING = 1
PATH = /sbin:/bin:/usr/sbin:/usr/bin:/usr/local/sbin:/usr/local/bin:/home/cpan/bin
PERL5LIB = :/usr/home/cpan/pit/bare/conf/perl-5.24.2/.cpanplus/5.24.2/build/V22PZDUaTE/Test-Needs-0.002005/blib/lib:/usr/home/cpan/pit/bare/conf/perl-5.24.2/.cpanplus/5.24.2/build/V22PZDUaTE/Test-Needs-0.002005/blib/arch:/usr/home/cpan/pit/bare/conf/perl-5.24.2/.cpanplus/5.24.2/build/VRxQgOzYb_/URI-1.74/blib/lib:/usr/home/cpan/pit/bare/conf/perl-5.24.2/.cpanplus/5.24.2/build/VRxQgOzYb_/URI-1.74/blib/arch:/usr/home/cpan/pit/bare/conf/perl-5.24.2/.cpanplus/5.24.2/build/VU9q0vmRz_/Test-Warnings-0.026/blib/lib:/usr/home/cpan/pit/bare/conf/perl-5.24.2/.cpanplus/5.24.2/build/VU9q0vmRz_/Test-Warnings-0.026/blib/arch:/usr/home/cpan/pit/bare/conf/perl-5.24.2/.cpanplus/5.24.2/build/uSmIacwzLe/File-Slurper-0.012/blib/lib:/usr/home/cpan/pit/bare/conf/perl-5.24.2/.cpanplus/5.24.2/build/uSmIacwzLe/File-Slurper-0.012/blib/arch:/usr/home/cpan/pit/bare/conf/perl-5.24.2/.cpanplus/5.24.2/build/XSWV4vLsF1/UNIVERSAL-require-0.18/blib/lib:/usr/home/cpan/pit/bare/conf/perl-5.24.2/.cpanplus/5.24.2/build/XSWV4vLsF1/UNIVERSAL-require-0.18/blib/arch:/usr/home/cpan/pit/bare/conf/perl-5.24.2/.cpanplus/5.24.2/build/UikiOr_IPJ/Test-Compile-v1.3.0/blib/lib:/usr/home/cpan/pit/bare/conf/perl-5.24.2/.cpanplus/5.24.2/build/UikiOr_IPJ/Test-Compile-v1.3.0/blib/arch:/usr/home/cpan/pit/bare/conf/perl-5.24.2/.cpanplus/5.24.2/build/XHKcnu9Dln/FileHandle-Unget-0.1634/blib/lib:/usr/home/cpan/pit/bare/conf/perl-5.24.2/.cpanplus/5.24.2/build/XHKcnu9Dln/FileHandle-Unget-0.1634/blib/arch:/usr/home/cpan/pit/bare/conf/perl-5.24.2/.cpanplus/5.24.2/build/JgolblAbAV/Algorithm-Diff-1.1903/blib/lib:/usr/home/cpan/pit/bare/conf/perl-5.24.2/.cpanplus/5.24.2/build/JgolblAbAV/Algorithm-Diff-1.1903/blib/arch:/usr/home/cpan/pit/bare/conf/perl-5.24.2/.cpanplus/5.24.2/build/QYMuPcXTsK/Text-Diff-1.45/blib/lib:/usr/home/cpan/pit/bare/conf/perl-5.24.2/.cpanplus/5.24.2/build/QYMuPcXTsK/Text-Diff-1.45/blib/arch:/usr/home/cpan/pit/bare/conf/perl-5.24.2/.cpanplus/5.24.2/build/WoEX5xOW69/Mail-Mbox-MessageParser-1.5111/blib/lib:/usr/home/cpan/pit/bare/conf/perl-5.24.2/.cpanplus/5.24.2/build/WoEX5xOW69/Mail-Mbox-MessageParser-1.5111/blib/arch
PERL5_CPANPLUS_IS_RUNNING = 77730
PERL5_CPANPLUS_IS_VERSION = 0.9176
PERL5_MINISMOKEBOX = 0.68
PERL5_YACSMOKE_BASE = /usr/home/cpan/pit/bare/conf/perl-5.24.2
PERL_EXTUTILS_AUTOINSTALL = --defaultdeps
PERL_MM_USE_DEFAULT = 1
SHELL = /usr/local/bin/bash
TERM = screen
Perl special variables (and OS-specific diagnostics, for MSWin32):
Perl: $^X = /usr/home/cpan/pit/bare/perl-5.24.2/bin/perl
UID: $< = 1002
EUID: $> = 1002
GID: $( = 1002 1002
EGID: $) = 1002 1002
-------------------------------
--
Summary of my perl5 (revision 5 version 24 subversion 2) configuration:
Platform:
osname=freebsd, osvers=11.1-release, archname=amd64-freebsd
uname='freebsd fforc 11.1-release freebsd 11.1-release #0 r321309: fri jul 21 02:08:28 utc 2017 root@releng2.nyi.freebsd.org:usrobjusrsrcsysgeneric amd64 '
config_args='-des -Dprefix=/usr/home/cpan/pit/bare/perl-5.24.2'
hint=recommended, useposix=true, d_sigaction=define
useithreads=undef, usemultiplicity=undef
use64bitint=define, use64bitall=define, uselongdouble=undef
usemymalloc=n, bincompat5005=undef
Compiler:
cc='cc', ccflags ='-DHAS_FPSETMASK -DHAS_FLOATINGPOINT_H -fno-strict-aliasing -pipe -fstack-protector-strong -I/usr/local/include -D_FORTIFY_SOURCE=2',
optimize='-O',
cppflags='-DHAS_FPSETMASK -DHAS_FLOATINGPOINT_H -fno-strict-aliasing -pipe -fstack-protector-strong -I/usr/local/include'
ccversion='', gccversion='4.2.1 Compatible FreeBSD Clang 4.0.0 (tags/RELEASE_400/final 297347)', gccosandvers=''
intsize=4, longsize=8, ptrsize=8, doublesize=8, byteorder=12345678, doublekind=3
d_longlong=define, longlongsize=8, d_longdbl=define, longdblsize=16, longdblkind=3
ivtype='long', ivsize=8, nvtype='double', nvsize=8, Off_t='off_t', lseeksize=8
alignbytes=8, prototype=define
Linker and Libraries:
ld='cc', ldflags ='-Wl,-E -fstack-protector-strong -L/usr/local/lib'
libpth=/usr/lib /usr/local/lib /usr/bin/../lib/clang/4.0.0/lib /usr/lib
libs=-lpthread -lgdbm -lm -lcrypt -lutil -lc
perllibs=-lpthread -lm -lcrypt -lutil -lc
libc=, so=so, useshrplib=false, libperl=libperl.a
gnulibc_version=''
Dynamic Linking:
dlsrc=dl_dlopen.xs, dlext=so, d_dlsymun=undef, ccdlflags=' '
cccdlflags='-DPIC -fPIC', lddlflags='-shared -L/usr/local/lib -fstack-protector-strong'
Characteristics of this binary (from libperl):
Compile-time options: HAS_TIMES PERLIO_LAYERS PERL_COPY_ON_WRITE
PERL_DONT_CREATE_GVSV
PERL_HASH_FUNC_ONE_AT_A_TIME_HARD PERL_MALLOC_WRAP
PERL_PRESERVE_IVUV USE_64_BIT_ALL USE_64_BIT_INT
USE_LARGE_FILES USE_LOCALE USE_LOCALE_COLLATE
USE_LOCALE_CTYPE USE_LOCALE_NUMERIC USE_LOCALE_TIME
USE_PERLIO USE_PERL_ATOF
Locally applied patches:
Devel::PatchPerl 1.48
Built under freebsd
Compiled at Jul 27 2017 02:57:02
%ENV:
PERL5LIB=":/usr/home/cpan/pit/bare/conf/perl-5.24.2/.cpanplus/5.24.2/build/V22PZDUaTE/Test-Needs-0.002005/blib/lib:/usr/home/cpan/pit/bare/conf/perl-5.24.2/.cpanplus/5.24.2/build/V22PZDUaTE/Test-Needs-0.002005/blib/arch:/usr/home/cpan/pit/bare/conf/perl-5.24.2/.cpanplus/5.24.2/build/VRxQgOzYb_/URI-1.74/blib/lib:/usr/home/cpan/pit/bare/conf/perl-5.24.2/.cpanplus/5.24.2/build/VRxQgOzYb_/URI-1.74/blib/arch:/usr/home/cpan/pit/bare/conf/perl-5.24.2/.cpanplus/5.24.2/build/VU9q0vmRz_/Test-Warnings-0.026/blib/lib:/usr/home/cpan/pit/bare/conf/perl-5.24.2/.cpanplus/5.24.2/build/VU9q0vmRz_/Test-Warnings-0.026/blib/arch:/usr/home/cpan/pit/bare/conf/perl-5.24.2/.cpanplus/5.24.2/build/uSmIacwzLe/File-Slurper-0.012/blib/lib:/usr/home/cpan/pit/bare/conf/perl-5.24.2/.cpanplus/5.24.2/build/uSmIacwzLe/File-Slurper-0.012/blib/arch:/usr/home/cpan/pit/bare/conf/perl-5.24.2/.cpanplus/5.24.2/build/XSWV4vLsF1/UNIVERSAL-require-0.18/blib/lib:/usr/home/cpan/pit/bare/conf/perl-5.24.2/.cpanplus/5.24.2/build/XSWV4vLsF1/UNIVERSAL-require-0.18/blib/arch:/usr/home/cpan/pit/bare/conf/perl-5.24.2/.cpanplus/5.24.2/build/UikiOr_IPJ/Test-Compile-v1.3.0/blib/lib:/usr/home/cpan/pit/bare/conf/perl-5.24.2/.cpanplus/5.24.2/build/UikiOr_IPJ/Test-Compile-v1.3.0/blib/arch:/usr/home/cpan/pit/bare/conf/perl-5.24.2/.cpanplus/5.24.2/build/XHKcnu9Dln/FileHandle-Unget-0.1634/blib/lib:/usr/home/cpan/pit/bare/conf/perl-5.24.2/.cpanplus/5.24.2/build/XHKcnu9Dln/FileHandle-Unget-0.1634/blib/arch:/usr/home/cpan/pit/bare/conf/perl-5.24.2/.cpanplus/5.24.2/build/JgolblAbAV/Algorithm-Diff-1.1903/blib/lib:/usr/home/cpan/pit/bare/conf/perl-5.24.2/.cpanplus/5.24.2/build/JgolblAbAV/Algorithm-Diff-1.1903/blib/arch:/usr/home/cpan/pit/bare/conf/perl-5.24.2/.cpanplus/5.24.2/build/QYMuPcXTsK/Text-Diff-1.45/blib/lib:/usr/home/cpan/pit/bare/conf/perl-5.24.2/.cpanplus/5.24.2/build/QYMuPcXTsK/Text-Diff-1.45/blib/arch:/usr/home/cpan/pit/bare/conf/perl-5.24.2/.cpanplus/5.24.2/build/WoEX5xOW69/Mail-Mbox-MessageParser-1.5111/blib/lib:/usr/home/cpan/pit/bare/conf/perl-5.24.2/.cpanplus/5.24.2/build/WoEX5xOW69/Mail-Mbox-MessageParser-1.5111/blib/arch"
PERL5_CPANPLUS_IS_RUNNING="77730"
PERL5_CPANPLUS_IS_VERSION="0.9176"
PERL5_MINISMOKEBOX="0.68"
PERL5_YACSMOKE_BASE="/usr/home/cpan/pit/bare/conf/perl-5.24.2"
PERL_EXTUTILS_AUTOINSTALL="--defaultdeps"
PERL_MM_USE_DEFAULT="1"
@INC:
/usr/home/cpan/pit/bare/conf/perl-5.24.2/.cpanplus/5.24.2/build/V22PZDUaTE/Test-Needs-0.002005/blib/lib
/usr/home/cpan/pit/bare/conf/perl-5.24.2/.cpanplus/5.24.2/build/V22PZDUaTE/Test-Needs-0.002005/blib/arch
/usr/home/cpan/pit/bare/conf/perl-5.24.2/.cpanplus/5.24.2/build/VRxQgOzYb_/URI-1.74/blib/lib
/usr/home/cpan/pit/bare/conf/perl-5.24.2/.cpanplus/5.24.2/build/VRxQgOzYb_/URI-1.74/blib/arch
/usr/home/cpan/pit/bare/conf/perl-5.24.2/.cpanplus/5.24.2/build/VU9q0vmRz_/Test-Warnings-0.026/blib/lib
/usr/home/cpan/pit/bare/conf/perl-5.24.2/.cpanplus/5.24.2/build/VU9q0vmRz_/Test-Warnings-0.026/blib/arch
/usr/home/cpan/pit/bare/conf/perl-5.24.2/.cpanplus/5.24.2/build/uSmIacwzLe/File-Slurper-0.012/blib/lib
/usr/home/cpan/pit/bare/conf/perl-5.24.2/.cpanplus/5.24.2/build/uSmIacwzLe/File-Slurper-0.012/blib/arch
/usr/home/cpan/pit/bare/conf/perl-5.24.2/.cpanplus/5.24.2/build/XSWV4vLsF1/UNIVERSAL-require-0.18/blib/lib
/usr/home/cpan/pit/bare/conf/perl-5.24.2/.cpanplus/5.24.2/build/XSWV4vLsF1/UNIVERSAL-require-0.18/blib/arch
/usr/home/cpan/pit/bare/conf/perl-5.24.2/.cpanplus/5.24.2/build/UikiOr_IPJ/Test-Compile-v1.3.0/blib/lib
/usr/home/cpan/pit/bare/conf/perl-5.24.2/.cpanplus/5.24.2/build/UikiOr_IPJ/Test-Compile-v1.3.0/blib/arch
/usr/home/cpan/pit/bare/conf/perl-5.24.2/.cpanplus/5.24.2/build/XHKcnu9Dln/FileHandle-Unget-0.1634/blib/lib
/usr/home/cpan/pit/bare/conf/perl-5.24.2/.cpanplus/5.24.2/build/XHKcnu9Dln/FileHandle-Unget-0.1634/blib/arch
/usr/home/cpan/pit/bare/conf/perl-5.24.2/.cpanplus/5.24.2/build/JgolblAbAV/Algorithm-Diff-1.1903/blib/lib
/usr/home/cpan/pit/bare/conf/perl-5.24.2/.cpanplus/5.24.2/build/JgolblAbAV/Algorithm-Diff-1.1903/blib/arch
/usr/home/cpan/pit/bare/conf/perl-5.24.2/.cpanplus/5.24.2/build/QYMuPcXTsK/Text-Diff-1.45/blib/lib
/usr/home/cpan/pit/bare/conf/perl-5.24.2/.cpanplus/5.24.2/build/QYMuPcXTsK/Text-Diff-1.45/blib/arch
/usr/home/cpan/pit/bare/conf/perl-5.24.2/.cpanplus/5.24.2/build/WoEX5xOW69/Mail-Mbox-MessageParser-1.5111/blib/lib
/usr/home/cpan/pit/bare/conf/perl-5.24.2/.cpanplus/5.24.2/build/WoEX5xOW69/Mail-Mbox-MessageParser-1.5111/blib/arch
/usr/home/cpan/pit/bare/perl-5.24.2/lib/site_perl/5.24.2/amd64-freebsd
/usr/home/cpan/pit/bare/perl-5.24.2/lib/site_perl/5.24.2
/usr/home/cpan/pit/bare/perl-5.24.2/lib/5.24.2/amd64-freebsd
/usr/home/cpan/pit/bare/perl-5.24.2/lib/5.24.2
.