Back
From: metabase:user:316470a4-2aae-11df-837a-5e0a49663a4f
Subject: PASS Cache-Mmap-0.11 v5.14.2 Mac OS X
Date: 2011-10-11T03:40:07Z
This distribution has been tested as part of the CPAN Testers
project, supporting the Perl programming language. See
http://wiki.cpantesters.org/ for more information or email
questions to cpan-testers-discuss@perl.org
--
Dear Peter Haworth,
This is a computer-generated report for Cache-Mmap-0.11
on perl 5.14.2, created by CPAN-Reporter-1.2002.
Thank you for uploading your work to CPAN. Congratulations!
All tests were successful.
Sections of this report:
* Tester comments
* Program output
* Prerequisites
* Environment and other context
------------------------------
TESTER COMMENTS
------------------------------
Additional comments from tester:
none provided
------------------------------
PROGRAM OUTPUT
------------------------------
Output from '/usr/bin/make test':
PERL_DL_NONLAZY=1 /usr/local/bin/perl "-MExtUtils::Command::MM" "-e" "test_harness(0, 'blib/lib', 'blib/arch')" t/*.t
t/01simple.t ... ok
t/02entries.t .. ok
t/03corrupt.t .. ok
t/04utf8.t ..... ok
t/05keep.t ..... ok
All tests successful.
Files=5, Tests=100, 22 wallclock secs ( 0.06 usr 0.02 sys + 0.26 cusr 0.05 csys = 0.39 CPU)
Result: PASS
------------------------------
PREREQUISITES
------------------------------
Prerequisite modules loaded:
requires:
Module Need Have
------------------- ---- ----
Carp 0 1.20
Fcntl 0 1.11
Storable 0 2.27
Test::More 0 0.98
build_requires:
Module Need Have
------------------- ---- ----
ExtUtils::MakeMaker 0 6.59
------------------------------
ENVIRONMENT AND OTHER CONTEXT
------------------------------
Environment variables:
LANG = en_US.UTF-8
PATH = /usr/local/bin:/usr/local/sbin:/usr/local/pgsql/bin:/usr/bin:/bin:/usr/sbin:/sbin:/usr/local/bin:/usr/X11/bin:/Developer/Tools:/Users/david/bin:/usr/local/mysql/bin:/usr/oracle_instantclient_10_2
PERL5LIB =
PERL5OPT =
PERL5_CPANPLUS_IS_RUNNING = 92078
PERL5_CPAN_IS_RUNNING = 92078
SHELL = /bin/zsh
TERM = xterm-color
TMPDIR = /var/folders/f2/vk9tnhr10n9gcrzb5sr1n5h80000gn/T/
Perl special variables (and OS-specific diagnostics, for MSWin32):
$^X = /usr/local/bin/perl
$UID/$EUID = 501 / 501
$GID = 20 20 401 402 12 33 61 79 80 81 98 100 204
$EGID = 20 20 401 402 12 33 61 79 80 81 98 100 204
Perl module toolchain versions installed:
Module Have
------------------- --------
CPAN 1.9800
CPAN::Meta 2.112150
Cwd 3.36
ExtUtils::CBuilder 0.280203
ExtUtils::Command 1.17
ExtUtils::Install 1.56
ExtUtils::MakeMaker 6.59
ExtUtils::Manifest 1.58
ExtUtils::ParseXS 2.2210
File::Spec 3.33
JSON 2.53
JSON::PP 2.27105
Module::Build 0.3800
Module::Signature n/a
Parse::CPAN::Meta 1.4401
Test::Harness 3.23
Test::More 0.98
YAML 0.76
YAML::Syck n/a
version 0.88
--
Summary of my perl5 (revision 5 version 14 subversion 2) configuration:
Platform:
osname=darwin, osvers=11.1.0, archname=darwin-thread-multi-2level
uname='darwin benedict.local 11.1.0 darwin kernel version 11.1.0: tue jul 26 16:07:11 pdt 2011; root:xnu-1699.22.81~1release_x86_64 x86_64 '
config_args='-des -Duseshrplib -Dusemultiplicity -Duseithreads -Dinc_version_list=none -Dperladmin=david@kineticode.com -Dcf_email=david@kineticode.com'
hint=recommended, useposix=true, d_sigaction=define
useithreads=define, usemultiplicity=define
useperlio=define, d_sfio=undef, uselargefiles=define, usesocks=undef
use64bitint=define, use64bitall=define, uselongdouble=undef
usemymalloc=n, bincompat5005=undef
Compiler:
cc='cc', ccflags ='-fno-common -DPERL_DARWIN -fno-strict-aliasing -pipe -fstack-protector -I/usr/local/include',
optimize='-O3',
cppflags='-fno-common -DPERL_DARWIN -fno-strict-aliasing -pipe -fstack-protector -I/usr/local/include'
ccversion='', gccversion='4.2.1 (Based on Apple Inc. build 5658) (LLVM build 2335.15.00)', gccosandvers=''
intsize=4, longsize=8, ptrsize=8, doublesize=8, byteorder=12345678
d_longlong=define, longlongsize=8, d_longdbl=define, longdblsize=16
ivtype='long', ivsize=8, nvtype='double', nvsize=8, Off_t='off_t', lseeksize=8
alignbytes=8, prototype=define
Linker and Libraries:
ld='env MACOSX_DEPLOYMENT_TARGET=10.3 cc', ldflags =' -fstack-protector -L/usr/local/lib'
libpth=/usr/local/lib /usr/lib
libs=-ldbm -ldl -lm -lutil -lc
perllibs=-ldl -lm -lutil -lc
libc=, so=dylib, useshrplib=true, libperl=libperl.dylib
gnulibc_version=''
Dynamic Linking:
dlsrc=dl_dlopen.xs, dlext=bundle, d_dlsymun=undef, ccdlflags=' '
cccdlflags=' ', lddlflags=' -bundle -undefined dynamic_lookup -L/usr/local/lib -fstack-protector'
Characteristics of this binary (from libperl):
Compile-time options: MULTIPLICITY PERL_DONT_CREATE_GVSV
PERL_IMPLICIT_CONTEXT PERL_MALLOC_WRAP
PERL_PRESERVE_IVUV USE_64_BIT_ALL USE_64_BIT_INT
USE_ITHREADS USE_LARGE_FILES USE_PERLIO USE_PERL_ATOF
USE_REENTRANT_API
Built under darwin
Compiled at Sep 29 2011 13:05:12
%ENV:
PERL5LIB=""
PERL5OPT=""
PERL5_CPANPLUS_IS_RUNNING="92078"
PERL5_CPAN_IS_RUNNING="92078"
@INC:
/usr/local/lib/perl5/site_perl/5.14.2/darwin-thread-multi-2level
/usr/local/lib/perl5/site_perl/5.14.2
/usr/local/lib/perl5/5.14.2/darwin-thread-multi-2level
/usr/local/lib/perl5/5.14.2
.