Test-CleanNamespaces v0.24 Perl 5 v5.40.0 RC2 amd64-midnightbsd
- Status
- Pass
- From
- Carlos Guevara
- Dist
-
Test-CleanNamespaces v0.24
- Platform
- Perl 5 v5.40.0 RC2 amd64-midnightbsd
- Date
- 2024-06-05 07:32:07
- ID
- b6bb6390-230d-11ef-b4f9-b1cd6fa3e7cd
This distribution has been tested as part of the CPAN Testers
project, supporting the Perl programming language. See
http://wiki.cpantesters.org/ for more information or email
questions to cpan-testers-discuss@perl.org
--
Dear Karen Etheridge,
This is a computer-generated report for Test-CleanNamespaces-0.24
on perl 5.40.0, created by CPAN-Reporter-1.2019.
Thank you for uploading your work to CPAN. Congratulations!
All tests were successful.
Sections of this report:
* Tester comments
* Program output
* Prerequisites
* Environment and other context
------------------------------
TESTER COMMENTS
------------------------------
Additional comments from tester:
this report is from an automated smoke testing program
and was not reviewed by a human for accuracy
------------------------------
PROGRAM OUTPUT
------------------------------
Output from '/usr/bin/make test':
PERL_DL_NONLAZY=1 "/usr/home/cpan/bin/perl/bin/perl5.40.0" "-MExtUtils::Command::MM" "-MTest::Harness" "-e" "undef *Test::Harness::Switches; test_harness(0, 'blib/lib', 'blib/arch')" t/*.t
#
# Versions for all modules listed in MYMETA.json (including optional ones):
#
# === Configure Requires ===
#
# Module Want Have
# ------------------------ -------- --------
# CPAN::Meta::Requirements 2.120620 2.143
# ExtUtils::MakeMaker any 7.70
# Module::Metadata any 1.000038
#
# === Build Requires ===
#
# Module Want Have
# ------------------- ---- ----
# ExtUtils::MakeMaker any 7.70
#
# === Test Requires ===
#
# Module Want Have
# --------------------- ----- --------
# ExtUtils::MakeMaker any 7.70
# File::Spec any 3.90
# File::Spec::Functions any 3.91
# File::pushd any 1.016
# Scalar::Util any 1.63
# Sub::Exporter any 0.991
# Test::Deep any 1.204
# Test::More 0.96 1.302199
# Test::Needs any 0.002010
# Test::Tester any 1.302199
# Test::Warnings 0.009 0.033
# constant any 1.33
# if any 0.0610
# lib any 0.65
# namespace::clean any 0.27
# overload any 1.37
# parent any 0.241
#
# === Test Recommends ===
#
# Module Want Have
# ---------- -------- --------
# CPAN::Meta 2.120900 2.150010
#
# === Test Suggests ===
#
# Module Want Have
# --------------------------- -------- --------
# Class::MOP::Class any 2.2207
# Moo any 2.005005
# Moo::Role any 2.005005
# Moose any 2.2207
# Moose::Exporter any 2.2207
# Moose::Role any 2.2207
# MooseX::Role::Parameterized any 1.11
# Mouse any missing
# Mouse::Role any missing
# Role::Tiny 1.003000 2.002004
# metaclass any 2.2207
#
# === Runtime Requires ===
#
# Module Want Have
# --------------- -------- --------
# Exporter 5.57 5.78
# File::Find any 1.44
# File::Spec any 3.90
# Module::Runtime any 0.016
# Package::Stash 0.14 0.40
# Role::Tiny 1.003000 2.002004
# Sub::Identify any 0.14
# Test::Builder any 1.302199
# strict any 1.13
# warnings any 1.70
#
# === Runtime Recommends ===
#
# Module Want Have
# ------------------ ---- ----
# Package::Stash::XS any 0.30
#
# === Runtime Suggests ===
#
# Module Want Have
# ---------- ---- --------
# Role::Tiny any 2.002004
#
# === Other Modules ===
#
# Module Have
# --------------- ------
# Encode 3.21
# File::Temp 0.2311
# JSON::PP 4.16
# Module::Runtime 0.016
# Pod::Coverage 0.23
# Sub::Name 0.27
# YAML 1.31
# autodie 2.37
#
t/00-report-prereqs.t ......... ok
t/basic.t ..................... ok
t/class_mop.t ................. ok
t/clean-namespaces.t .......... ok
t/find_modules.t .............. ok
t/moo.t ....................... ok
t/moose-parameterized-role.t .. ok
t/moose.t ..................... ok
t/mouse.t ..................... skipped: Need Mouse
t/overload.t .................. ok
t/role_tiny.t ................. ok
t/self.t ...................... ok
t/zzz-check-breaks.t .......... ok
All tests successful.
Files=13, Tests=192, 2 wallclock secs ( 0.05 usr 0.01 sys + 1.47 cusr 0.25 csys = 1.77 CPU)
Result: PASS
------------------------------
PREREQUISITES
------------------------------
Prerequisite modules loaded:
requires:
Module Need Have
------------------------ -------- --------
Exporter 5.57 5.78
File::Find 0 1.44
File::Spec 0 3.90
Module::Runtime 0 0.016
Package::Stash 0.14 0.40
perl 5.006 5.040000
Role::Tiny 1.003000 2.002004
strict 0 1.13
Sub::Identify 0 0.14
Test::Builder 0 1.302199
warnings 0 1.70
build_requires:
Module Need Have
------------------------ -------- --------
constant 0 1.33
ExtUtils::MakeMaker 0 7.70
File::pushd 0 1.016
File::Spec 0 3.90
File::Spec::Functions 0 3.91
if 0 0.0610
lib 0 0.65
namespace::clean 0 0.27
overload 0 1.37
parent 0 0.241
Scalar::Util 0 1.63
Sub::Exporter 0 0.991
Test::Deep 0 1.204
Test::More 0.96 1.302199
Test::Needs 0 0.002010
Test::Tester 0 1.302199
Test::Warnings 0.009 0.033
configure_requires:
Module Need Have
------------------------ -------- --------
CPAN::Meta::Requirements 2.120620 2.143
ExtUtils::MakeMaker 0 7.70
Module::Metadata 0 1.000038
perl 5.006 5.040000
------------------------------
ENVIRONMENT AND OTHER CONTEXT
------------------------------
Environment variables:
AUTOMATED_TESTING = 1
DATE_MANIP_TEST_DM5 = 1
LC_ALL = C
NONINTERACTIVE_TESTING = 1
NO_NETWORK_TESTING = 1
PATH = /home/cpan/bin/perl/bin:/home/cpan/bin:/sbin:/bin:/usr/sbin:/usr/bin:/usr/games:/usr/local/sbin:/usr/local/bin:/home/cpan/bin
PERL5LIB =
PERL5OPT =
PERL5_CPANPLUS_IS_RUNNING = 82635
PERL5_CPAN_IS_RUNNING = 82635
PERL_MM_USE_DEFAULT = 1
PERL_USE_UNSAFE_INC = 1
SHELL = /usr/local/bin/bash
TERM = screen
TMPDIR = /home/cpan/tmp
Perl special variables (and OS-specific diagnostics, for MSWin32):
$^X = /usr/home/cpan/bin/perl/bin/perl5.40.0
$UID/$EUID = 1002 / 1002
$GID = 1002 1002
$EGID = 1002 1002
Perl module toolchain versions installed:
Module Have
------------------- --------
CPAN 2.36
CPAN::Meta 2.150010
Cwd 3.90
ExtUtils::CBuilder 0.280240
ExtUtils::Command 7.70
ExtUtils::Install 2.22
ExtUtils::MakeMaker 7.70
ExtUtils::Manifest 1.75
ExtUtils::ParseXS 3.51
File::Spec 3.90
JSON 4.10
JSON::PP 4.16
Module::Build 0.4234
Module::Signature n/a
Parse::CPAN::Meta 2.150010
Test2 1.302199
Test::Harness 3.48
Test::More 1.302199
YAML 1.31
YAML::Syck n/a
version 0.9930
--
Summary of my perl5 (revision 5 version 40 subversion 0) configuration:
Commit id: c8545878e4ddb53fc492685422a67aa6b658f0ea
Platform:
osname=midnightbsd
osvers=3.1.3
archname=amd64-midnightbsd
uname='midnightbsd cjg-midnightbsd3 3.1.3 midnightbsd 3.1.3 #9n12826-9619ab86ba(stable3.1)-dirty: mon dec 25 14:57:58 est 2023 root@m3164:usrobjusrsrcamd64.amd64sysgeneric amd64 '
config_args='-des -Dprefix=/home/cpan/bin/perl -Dscriptdir=/home/cpan/bin/perl/bin -Dusedevel -Duse64bitall'
hint=recommended
useposix=true
d_sigaction=define
useithreads=undef
usemultiplicity=undef
use64bitint=define
use64bitall=define
uselongdouble=undef
usemymalloc=n
default_inc_excludes_dot=define
Compiler:
cc='cc'
ccflags ='-DHAS_FPSETMASK -DHAS_FLOATINGPOINT_H -fno-strict-aliasing -pipe -fstack-protector-strong -I/usr/local/include'
optimize='-O'
cppflags='-DHAS_FPSETMASK -DHAS_FLOATINGPOINT_H -fno-strict-aliasing -pipe -fstack-protector-strong -I/usr/local/include'
ccversion=''
gccversion='MidnightBSD Clang 13.0.0 (git@github.com:llvm/llvm-project.git llvmorg-13.0.0-0-gd7b669b3a303)'
gccosandvers=''
intsize=4
longsize=8
ptrsize=8
doublesize=8
byteorder=12345678
doublekind=3
d_longlong=define
longlongsize=8
d_longdbl=define
longdblsize=16
longdblkind=3
ivtype='long'
ivsize=8
nvtype='double'
nvsize=8
Off_t='off_t'
lseeksize=8
alignbytes=8
prototype=define
Linker and Libraries:
ld='cc'
ldflags ='-Wl,-E -fstack-protector-strong -L/usr/local/lib'
libpth=/usr/lib /usr/local/lib /usr/lib/clang/13.0.0/lib
libs=-lpthread -lgdbm -ldl -lm -lcrypt -lutil -lc
perllibs=-lpthread -ldl -lm -lcrypt -lutil -lc
libc=
so=so
useshrplib=false
libperl=libperl.a
gnulibc_version=''
Dynamic Linking:
dlsrc=dl_dlopen.xs
dlext=so
d_dlsymun=undef
ccdlflags=' '
cccdlflags='-DPIC -fPIC'
lddlflags='-shared -L/usr/local/lib -fstack-protector-strong'
Characteristics of this binary (from libperl):
Compile-time options:
HAS_LONG_DOUBLE
HAS_STRTOLD
HAS_TIMES
PERLIO_LAYERS
PERL_COPY_ON_WRITE
PERL_DONT_CREATE_GVSV
PERL_HASH_FUNC_SIPHASH13
PERL_HASH_USE_SBOX32
PERL_MALLOC_WRAP
PERL_OP_PARENT
PERL_PRESERVE_IVUV
PERL_USE_DEVEL
PERL_USE_SAFE_PUTENV
USE_64_BIT_ALL
USE_64_BIT_INT
USE_LARGE_FILES
USE_LOCALE
USE_LOCALE_COLLATE
USE_LOCALE_CTYPE
USE_LOCALE_NUMERIC
USE_LOCALE_TIME
USE_PERLIO
USE_PERL_ATOF
Locally applied patches:
RC2
Built under midnightbsd
Compiled at Jun 5 2024 01:54:04
%ENV:
PERL5LIB=""
PERL5OPT=""
PERL5_CPANPLUS_IS_RUNNING="82635"
PERL5_CPAN_IS_RUNNING="82635"
PERL_MM_USE_DEFAULT="1"
PERL_USE_UNSAFE_INC="1"
@INC:
/home/cpan/bin/perl/lib/site_perl/5.40.0/amd64-midnightbsd
/home/cpan/bin/perl/lib/site_perl/5.40.0
/home/cpan/bin/perl/lib/5.40.0/amd64-midnightbsd
/home/cpan/bin/perl/lib/5.40.0
.