Dist-Zilla-Plugin-MungeFile-WithDataSection v0.009 Perl 5 v5.30.3 x86_64-linux

Status
Pass
From
Slaven Rezić
Dist
Dist-Zilla-Plugin-MungeFile-WithDataSection v0.009
Platform
Perl 5 v5.30.3 x86_64-linux
Date
2022-10-05 19:34:22
ID
b6b8dd2c-44e4-11ed-bebf-23dc6d8775ea
This distribution has been tested as part of the CPAN Testers
project, supporting the Perl programming language.  See
http://wiki.cpantesters.org/ for more information or email
questions to cpan-testers-discuss@perl.org


--
Dear Karen Etheridge,

This is a computer-generated report for Dist-Zilla-Plugin-MungeFile-WithDataSection-0.009
on perl 5.30.3, created by CPAN-Reporter-1.2018.

Thank you for uploading your work to CPAN.  Congratulations!
All tests were successful.

Sections of this report:

    * Tester comments
    * Program output
    * Prerequisites
    * Environment and other context

------------------------------
TESTER COMMENTS
------------------------------

Additional comments from tester:

none provided

------------------------------
PROGRAM OUTPUT
------------------------------

Output from './Build test':

# 
# Versions for all modules listed in MYMETA.json (including optional ones):
# 
# === Configure Requires ===
# 
#     Module               Want  Have
#     ------------------- ----- -----
#     Module::Build::Tiny 0.007 0.039
# 
# === Test Requires ===
# 
#     Module              Want     Have
#     ------------------- ---- --------
#     ExtUtils::MakeMaker  any     7.64
#     File::Spec           any     3.78
#     Path::Tiny           any    0.124
#     Test::DZil           any    6.025
#     Test::Deep           any    1.130
#     Test::More          0.88 1.302191
#     if                   any   0.0608
#     utf8                 any     1.22
# 
# === Test Recommends ===
# 
#     Module         Want     Have
#     ---------- -------- --------
#     CPAN::Meta 2.120900 2.150010
# 
# === Runtime Requires ===
# 
#     Module                             Want   Have
#     ------------------------------ -------- ------
#     Dist::Zilla                    4.300039  6.025
#     Dist::Zilla::Plugin::MungeFile      any  0.009
#     Moose                               any 2.2201
#     namespace::autoclean                any   0.29
#     strict                              any   1.11
#     warnings                            any   1.44
# 
# === Other Modules ===
# 
#     Module                    Have
#     --------------------- --------
#     CPAN::Meta::Validator 2.150010
#     Pod::Coverage             0.23
# 
t/00-report-prereqs.t .. ok
t/01-basic.t ........... ok
t/02-file.t ............ ok
t/03-more-args.t ....... ok
t/04-not-loadable.t .... ok
t/05-data-after-end.t .. ok
t/zzz-check-breaks.t ... ok
All tests successful.
Files=7, Tests=13,  8 wallclock secs ( 0.03 usr  0.01 sys +  4.65 cusr  0.33 csys =  5.02 CPU)
Result: PASS

------------------------------
PREREQUISITES
------------------------------

Prerequisite modules loaded:

requires:

    Module                         Need     Have    
    ------------------------------ -------- --------
    Dist::Zilla                    4.300039 6.025   
    Dist::Zilla::Plugin::MungeFile 0        0.009   
    Moose                          0        2.2201  
    namespace::autoclean           0        0.29    
    perl                           5.009005 5.030003
    strict                         0        1.11    
    warnings                       0        1.44    

build_requires:

    Module                         Need     Have    
    ------------------------------ -------- --------
    ExtUtils::MakeMaker            0        7.64    
    File::Spec                     0        3.78    
    if                             0        0.0608  
    Path::Tiny                     0        0.124   
    perl                           5.009005 5.030003
    Test::Deep                     0        1.130   
    Test::DZil                     0        6.025   
    Test::More                     0.88     1.302191
    utf8                           0        1.22    

configure_requires:

    Module                         Need     Have    
    ------------------------------ -------- --------
    Module::Build::Tiny            0.007    0.039   
    perl                           5.009005 5.030003


------------------------------
ENVIRONMENT AND OTHER CONTEXT
------------------------------

Environment variables:

    LANG = en_US.UTF-8
    PATH = /usr/local/bin:/usr/bin:/bin:/usr/local/sbin:/usr/sbin:/sbin:/home/cpansand/bin/linux-gnu:/home/cpansand/bin/sh:/home/cpansand/bin:/usr/games:/home/cpansand/devel:/home/eserte/src/srezic-misc/scripts
    PERL5LIB = /home/cpansand/.cpan/build/2022100519/Dist-Zilla-Plugin-MungeFile-0.009-2/blib/arch:/home/cpansand/.cpan/build/2022100519/Dist-Zilla-Plugin-MungeFile-0.009-2/blib/lib:/home/cpansand/.cpan/build/2022100519/Dist-Zilla-App-Command-distversion-0.03-2/blib/arch:/home/cpansand/.cpan/build/2022100519/Dist-Zilla-App-Command-distversion-0.03-2/blib/lib
    PERL5OPT = 
    PERL5_CPANPLUS_IS_RUNNING = 19061
    PERL5_CPAN_IS_RUNNING = 19061
    PERL5_CPAN_IS_RUNNING_IN_RECURSION = 16353,19061
    PERLDOC = -MPod::Perldoc::ToTextOverstrike
    PERL_BATCH = yes
    PERL_CANARY_STABILITY_NOPROMPT = 1
    PERL_CPAN_REPORTER_CONFIG = /var/tmp/cpansmoker-1023/2022100519/cpanreporter_000_config.ini
    PERL_EXTUTILS_AUTOINSTALL = --defaultdeps
    PERL_USE_UNSAFE_INC = 1
    SHELL = /usr/bin/zsh
    TERM = screen
    TMPDIR = /var/tmp/cpansmoker-1023/2022100519

Perl special variables (and OS-specific diagnostics, for MSWin32):

    $^X = /opt/perl-5.30.3/bin/perl
    $UID/$EUID = 1023 / 1023
    $GID = 1023 1023
    $EGID = 1023 1023

Perl module toolchain versions installed:

    Module              Have    
    ------------------- --------
    CPAN                2.22    
    CPAN::Meta          2.150010
    Cwd                 3.78    
    ExtUtils::CBuilder  0.280231
    ExtUtils::Command   7.64    
    ExtUtils::Install   2.14    
    ExtUtils::MakeMaker 7.64    
    ExtUtils::Manifest  1.72    
    ExtUtils::ParseXS   3.40    
    File::Spec          3.78    
    JSON                4.09    
    JSON::PP            4.11    
    Module::Build       0.4231  
    Module::Signature   n/a     
    Parse::CPAN::Meta   2.150010
    Test::Harness       3.42    
    Test::More          1.302191
    YAML                1.30    
    YAML::Syck          1.34    
    version             0.9924  


--

Summary of my perl5 (revision 5 version 30 subversion 3) configuration:
   
  Platform:
    osname=linux
    osvers=3.10.0-1160.76.1.el7.x86_64
    archname=x86_64-linux
    uname='linux cloud3.bbbike.org 3.10.0-1160.76.1.el7.x86_64 #1 smp wed aug 10 16:21:17 utc 2022 x86_64 x86_64 x86_64 gnulinux '
    config_args='-ds -e -Dprefix=/opt/perl-5.30.3 -Dcf_email=srezic@cpan.org'
    hint=recommended
    useposix=true
    d_sigaction=define
    useithreads=undef
    usemultiplicity=undef
    use64bitint=define
    use64bitall=define
    uselongdouble=undef
    usemymalloc=n
    default_inc_excludes_dot=define
    bincompat5005=undef
  Compiler:
    cc='cc'
    ccflags ='-fwrapv -fno-strict-aliasing -pipe -fstack-protector-strong -I/usr/local/include -D_LARGEFILE_SOURCE -D_FILE_OFFSET_BITS=64 -D_FORTIFY_SOURCE=2'
    optimize='-O2'
    cppflags='-fwrapv -fno-strict-aliasing -pipe -fstack-protector-strong -I/usr/local/include'
    ccversion=''
    gccversion='4.8.5 20150623 (Red Hat 4.8.5-44)'
    gccosandvers=''
    intsize=4
    longsize=8
    ptrsize=8
    doublesize=8
    byteorder=12345678
    doublekind=3
    d_longlong=define
    longlongsize=8
    d_longdbl=define
    longdblsize=16
    longdblkind=3
    ivtype='long'
    ivsize=8
    nvtype='double'
    nvsize=8
    Off_t='off_t'
    lseeksize=8
    alignbytes=8
    prototype=define
  Linker and Libraries:
    ld='cc'
    ldflags =' -fstack-protector-strong -L/usr/local/lib'
    libpth=/usr/local/lib /usr/lib /lib/../lib64 /usr/lib/../lib64 /lib /lib64 /usr/lib64 /usr/local/lib64
    libs=-lpthread -lnsl -lgdbm -ldb -ldl -lm -lcrypt -lutil -lc -lgdbm_compat
    perllibs=-lpthread -lnsl -ldl -lm -lcrypt -lutil -lc
    libc=libc-2.17.so
    so=so
    useshrplib=false
    libperl=libperl.a
    gnulibc_version='2.17'
  Dynamic Linking:
    dlsrc=dl_dlopen.xs
    dlext=so
    d_dlsymun=undef
    ccdlflags='-Wl,-E'
    cccdlflags='-fPIC'
    lddlflags='-shared -O2 -L/usr/local/lib -fstack-protector-strong'


Characteristics of this binary (from libperl): 
  Compile-time options:
    HAS_TIMES
    PERLIO_LAYERS
    PERL_COPY_ON_WRITE
    PERL_DONT_CREATE_GVSV
    PERL_MALLOC_WRAP
    PERL_OP_PARENT
    PERL_PRESERVE_IVUV
    USE_64_BIT_ALL
    USE_64_BIT_INT
    USE_LARGE_FILES
    USE_LOCALE
    USE_LOCALE_COLLATE
    USE_LOCALE_CTYPE
    USE_LOCALE_NUMERIC
    USE_LOCALE_TIME
    USE_PERLIO
    USE_PERL_ATOF
  Locally applied patches:
    Devel::PatchPerl 2.08
  Built under linux
  Compiled at Sep 23 2022 05:47:21
  %ENV:
    PERL5LIB="/home/cpansand/.cpan/build/2022100519/Dist-Zilla-Plugin-MungeFile-0.009-2/blib/arch:/home/cpansand/.cpan/build/2022100519/Dist-Zilla-Plugin-MungeFile-0.009-2/blib/lib:/home/cpansand/.cpan/build/2022100519/Dist-Zilla-App-Command-distversion-0.03-2/blib/arch:/home/cpansand/.cpan/build/2022100519/Dist-Zilla-App-Command-distversion-0.03-2/blib/lib"
    PERL5OPT=""
    PERL5_CPANPLUS_IS_RUNNING="19061"
    PERL5_CPAN_IS_RUNNING="19061"
    PERL5_CPAN_IS_RUNNING_IN_RECURSION="16353,19061"
    PERLDOC="-MPod::Perldoc::ToTextOverstrike"
    PERL_BATCH="yes"
    PERL_CANARY_STABILITY_NOPROMPT="1"
    PERL_CPAN_REPORTER_CONFIG="/var/tmp/cpansmoker-1023/2022100519/cpanreporter_000_config.ini"
    PERL_EXTUTILS_AUTOINSTALL="--defaultdeps"
    PERL_USE_UNSAFE_INC="1"
  @INC:
    /home/cpansand/.cpan/build/2022100519/Dist-Zilla-Plugin-MungeFile-0.009-2/blib/arch
    /home/cpansand/.cpan/build/2022100519/Dist-Zilla-Plugin-MungeFile-0.009-2/blib/lib
    /home/cpansand/.cpan/build/2022100519/Dist-Zilla-App-Command-distversion-0.03-2/blib/arch
    /home/cpansand/.cpan/build/2022100519/Dist-Zilla-App-Command-distversion-0.03-2/blib/lib
    /opt/perl-5.30.3/lib/site_perl/5.30.3/x86_64-linux
    /opt/perl-5.30.3/lib/site_perl/5.30.3
    /opt/perl-5.30.3/lib/5.30.3/x86_64-linux
    /opt/perl-5.30.3/lib/5.30.3
    .