Shell-Config-Generate v0.34 Perl 5 v5.38.2 x86_64-linux

Status
Pass
From
LNATION
Dist
Shell-Config-Generate v0.34
Platform
Perl 5 v5.38.2 x86_64-linux
Date
2025-05-16 10:58:35
ID
b6b4bd1e-3244-11f0-b904-a7fa92e69ac0
This distribution has been tested as part of the CPAN Testers
project, supporting the Perl programming language.  See
http://wiki.cpantesters.org/ for more information or email
questions to cpan-testers-discuss@perl.org


--
Dear Graham Ollis,

This is a computer-generated report for Shell-Config-Generate-0.34
on perl 5.38.2, created by CPAN-Reporter-1.2020.

Thank you for uploading your work to CPAN.  Congratulations!
All tests were successful.

Sections of this report:

    * Tester comments
    * Program output
    * Prerequisites
    * Environment and other context

------------------------------
TESTER COMMENTS
------------------------------

Additional comments from tester:

this report is from an automated smoke testing program
and was not reviewed by a human for accuracy

------------------------------
PROGRAM OUTPUT
------------------------------

Output from '/usr/bin/make test':

PERL_DL_NONLAZY=1 "/home/rocky/perl5/perlbrew/perls/perl-5.38.2/bin/perl" "-MExtUtils::Command::MM" "-MTest::Harness" "-e" "undef *Test::Harness::Switches; test_harness(0, 'blib/lib', 'blib/arch')" t/*.t
# 
# 
# 
# HARNESS_ACTIVE=1
# HARNESS_VERSION=3.44
# LANG=en_US.UTF-8
# PERL5LIB=/home/rocky/.cpan/build/Shell-Config-Generate-0.34-0/blib/lib:/home/rocky/.cpan/build/Shell-Config-Generate-0.34-0/blib/arch:/home/rocky/perl5/lib/perl5/x86_64-linux:/home/rocky/perl5/lib/perl5:/home/rocky/perl5/lib/perl5
# PERL5OPT=
# PERL5_CPANPLUS_IS_RUNNING=840058
# PERL5_CPAN_IS_RUNNING=840058
# PERL5_CPAN_IS_RUNNING_IN_RECURSION=671380,840058
# PERLBREW_HOME=/home/rocky/.perlbrew
# PERLBREW_MANPATH=/home/rocky/perl5/perlbrew/perls/perl-5.38.2/man
# PERLBREW_PATH=/home/rocky/perl5/perlbrew/bin:/home/rocky/perl5/perlbrew/perls/perl-5.38.2/bin
# PERLBREW_PERL=perl-5.38.2
# PERLBREW_ROOT=/home/rocky/perl5/perlbrew
# PERLBREW_SHELLRC_VERSION=1.01
# PERLBREW_VERSION=1.01
# PERL_CR_SMOKER_CURRENT=OpenTelemetry-SDK-0.027
# PERL_DL_NONLAZY=1
# PERL_EXTUTILS_AUTOINSTALL=--defaultdeps
# PERL_LOCAL_LIB_ROOT=/home/rocky/perl5
# PERL_MB_OPT=--install_base "/home/rocky/perl5"
# PERL_MM_OPT=INSTALL_BASE=/home/rocky/perl5
# PERL_MM_USE_DEFAULT=1
# PERL_USE_UNSAFE_INC=1
# SHELL=/bin/bash
# 
# 
# 
# PERL5LIB path
# /home/rocky/.cpan/build/Shell-Config-Generate-0.34-0/blib/lib
# /home/rocky/.cpan/build/Shell-Config-Generate-0.34-0/blib/arch
# /home/rocky/perl5/lib/perl5/x86_64-linux
# /home/rocky/perl5/lib/perl5
# /home/rocky/perl5/lib/perl5
# 
# 
# 
# perl                5.038002
# ExtUtils::MakeMaker 7.70
# Shell::Guess        0.10
# Test2::API          1.302211
# Test2::Mock         1.302211
# Test2::V0           1.302211
# 
# 
# 
t/00_diag.t .............................. ok
# 
# 
# 
# found /usr/bin / [
# found /usr/bin / test
# found /usr/bin / bash (shell)
# found /usr/bin / sh (shell)
# 
# 
# 
t/01_diag.t .............................. ok
t/shell_config_generate__alias.t ......... ok
t/shell_config_generate__append_path.t ... ok
t/shell_config_generate__comment.t ....... ok
t/shell_config_generate__echo_off.t ...... ok
t/shell_config_generate__generate.t ...... ok
t/shell_config_generate__prepend_path.t .. ok
t/shell_config_generate__set.t ........... ok
t/shell_config_generate__set_path.t ...... ok
t/shell_config_generate__shebang.t ....... ok
t/shell_config_generate__space_else.t .... ok
t/shell_config_generate__space_win32.t ... skipped: test only for cygwin and MSWin32
All tests successful.
Files=13, Tests=80,  4 wallclock secs ( 0.09 usr  0.02 sys +  3.33 cusr  0.47 csys =  3.91 CPU)
Result: PASS

------------------------------
PREREQUISITES
------------------------------

Prerequisite modules loaded:

requires:

    Module              Need     Have    
    ------------------- -------- --------
    perl                5.008001 5.038002
    Shell::Guess        0.02     0.10    

build_requires:

    Module              Need     Have    
    ------------------- -------- --------
    ExtUtils::MakeMaker 0        7.70    
    Test2::API          1.302015 1.302211
    Test2::Mock         0.000060 1.302211
    Test2::V0           0.000060 1.302211

configure_requires:

    Module              Need     Have    
    ------------------- -------- --------
    ExtUtils::MakeMaker 0        7.70    
    perl                5.008001 5.038002


------------------------------
ENVIRONMENT AND OTHER CONTEXT
------------------------------

Environment variables:

    AUTOMATED_TESTING = 1
    LANG = en_US.UTF-8
    PATH = /home/rocky/perl5/perlbrew/bin:/home/rocky/perl5/perlbrew/perls/perl-5.38.2/bin:/home/rocky/perl5/bin:/home/rocky/.local/bin:/home/rocky/bin:/usr/local/bin:/usr/bin:/usr/local/sbin:/usr/sbin
    PERL5LIB = /home/rocky/perl5/lib/perl5
    PERL5OPT = 
    PERL5_CPANPLUS_IS_RUNNING = 840058
    PERL5_CPAN_IS_RUNNING = 840058
    PERL5_CPAN_IS_RUNNING_IN_RECURSION = 671380,840058
    PERLBREW_HOME = /home/rocky/.perlbrew
    PERLBREW_MANPATH = /home/rocky/perl5/perlbrew/perls/perl-5.38.2/man
    PERLBREW_PATH = /home/rocky/perl5/perlbrew/bin:/home/rocky/perl5/perlbrew/perls/perl-5.38.2/bin
    PERLBREW_PERL = perl-5.38.2
    PERLBREW_ROOT = /home/rocky/perl5/perlbrew
    PERLBREW_SHELLRC_VERSION = 1.01
    PERLBREW_VERSION = 1.01
    PERL_CR_SMOKER_CURRENT = OpenTelemetry-SDK-0.027
    PERL_EXTUTILS_AUTOINSTALL = --defaultdeps
    PERL_LOCAL_LIB_ROOT = /home/rocky/perl5
    PERL_MB_OPT = --install_base "/home/rocky/perl5"
    PERL_MM_OPT = INSTALL_BASE=/home/rocky/perl5
    PERL_MM_USE_DEFAULT = 1
    PERL_USE_UNSAFE_INC = 1
    SHELL = /bin/bash
    TERM = xterm-256color

Perl special variables (and OS-specific diagnostics, for MSWin32):

    $^X = /home/rocky/perl5/perlbrew/perls/perl-5.38.2/bin/perl
    $UID/$EUID = 1000 / 1000
    $GID = 1000 4 190 1000
    $EGID = 1000 4 190 1000

Perl module toolchain versions installed:

    Module              Have    
    ------------------- --------
    CPAN                2.36    
    CPAN::Meta          2.150010
    Cwd                 3.89    
    ExtUtils::CBuilder  0.280238
    ExtUtils::Command   7.70    
    ExtUtils::Install   2.22    
    ExtUtils::MakeMaker 7.70    
    ExtUtils::Manifest  1.73    
    ExtUtils::ParseXS   3.51    
    File::Spec          3.88    
    JSON                4.10    
    JSON::PP            4.16    
    Module::Build       0.4234  
    Module::Signature   n/a     
    Parse::CPAN::Meta   2.150010
    Test2               1.302211
    Test::Harness       3.44    
    Test::More          1.302211
    YAML                1.31    
    YAML::Syck          1.34    
    version             0.9929  


--

Summary of my perl5 (revision 5 version 38 subversion 2) configuration:
   
  Platform:
    osname=linux
    osvers=4.18.0-513.5.1.el8_9.x86_64
    archname=x86_64-linux
    uname='linux ip-172-31-17-27.us-east-2.compute.internal 4.18.0-513.5.1.el8_9.x86_64 #1 smp fri nov 17 03:31:10 utc 2023 x86_64 x86_64 x86_64 gnulinux '
    config_args='-de -Dprefix=/home/rocky/perl5/perlbrew/perls/perl-5.38.2 -Aeval:scriptdir=/home/rocky/perl5/perlbrew/perls/perl-5.38.2/bin'
    hint=recommended
    useposix=true
    d_sigaction=define
    useithreads=undef
    usemultiplicity=undef
    use64bitint=define
    use64bitall=define
    uselongdouble=undef
    usemymalloc=n
    default_inc_excludes_dot=define
  Compiler:
    cc='cc'
    ccflags ='-fwrapv -fno-strict-aliasing -pipe -fstack-protector-strong -I/usr/local/include -D_LARGEFILE_SOURCE -D_FILE_OFFSET_BITS=64 -D_FORTIFY_SOURCE=2'
    optimize='-O2'
    cppflags='-fwrapv -fno-strict-aliasing -pipe -fstack-protector-strong -I/usr/local/include'
    ccversion=''
    gccversion='8.5.0 20210514 (Red Hat 8.5.0-26)'
    gccosandvers=''
    intsize=4
    longsize=8
    ptrsize=8
    doublesize=8
    byteorder=12345678
    doublekind=3
    d_longlong=define
    longlongsize=8
    d_longdbl=define
    longdblsize=16
    longdblkind=3
    ivtype='long'
    ivsize=8
    nvtype='double'
    nvsize=8
    Off_t='off_t'
    lseeksize=8
    alignbytes=8
    prototype=define
  Linker and Libraries:
    ld='cc'
    ldflags =' -fstack-protector-strong -L/usr/local/lib'
    libpth=/usr/local/lib /usr/lib /usr/lib64 /usr/local/lib64
    libs=-lpthread -ldl -lm -lcrypt -lutil -lc
    perllibs=-lpthread -ldl -lm -lcrypt -lutil -lc
    libc=libc-2.28.so
    so=so
    useshrplib=false
    libperl=libperl.a
    gnulibc_version='2.28'
  Dynamic Linking:
    dlsrc=dl_dlopen.xs
    dlext=so
    d_dlsymun=undef
    ccdlflags='-Wl,-E'
    cccdlflags='-fPIC'
    lddlflags='-shared -O2 -L/usr/local/lib -fstack-protector-strong'


Characteristics of this binary (from libperl): 
  Compile-time options:
    HAS_LONG_DOUBLE
    HAS_STRTOLD
    HAS_TIMES
    PERLIO_LAYERS
    PERL_COPY_ON_WRITE
    PERL_DONT_CREATE_GVSV
    PERL_HASH_FUNC_SIPHASH13
    PERL_HASH_USE_SBOX32
    PERL_MALLOC_WRAP
    PERL_OP_PARENT
    PERL_PRESERVE_IVUV
    PERL_USE_SAFE_PUTENV
    USE_64_BIT_ALL
    USE_64_BIT_INT
    USE_LARGE_FILES
    USE_LOCALE
    USE_LOCALE_COLLATE
    USE_LOCALE_CTYPE
    USE_LOCALE_NUMERIC
    USE_LOCALE_TIME
    USE_PERLIO
    USE_PERL_ATOF
  Built under linux
  Compiled at May 15 2025 12:15:15
  %ENV:
    PERL5LIB="/home/rocky/perl5/lib/perl5"
    PERL5OPT=""
    PERL5_CPANPLUS_IS_RUNNING="840058"
    PERL5_CPAN_IS_RUNNING="840058"
    PERL5_CPAN_IS_RUNNING_IN_RECURSION="671380,840058"
    PERLBREW_HOME="/home/rocky/.perlbrew"
    PERLBREW_MANPATH="/home/rocky/perl5/perlbrew/perls/perl-5.38.2/man"
    PERLBREW_PATH="/home/rocky/perl5/perlbrew/bin:/home/rocky/perl5/perlbrew/perls/perl-5.38.2/bin"
    PERLBREW_PERL="perl-5.38.2"
    PERLBREW_ROOT="/home/rocky/perl5/perlbrew"
    PERLBREW_SHELLRC_VERSION="1.01"
    PERLBREW_VERSION="1.01"
    PERL_CR_SMOKER_CURRENT="OpenTelemetry-SDK-0.027"
    PERL_EXTUTILS_AUTOINSTALL="--defaultdeps"
    PERL_LOCAL_LIB_ROOT="/home/rocky/perl5"
    PERL_MB_OPT="--install_base "/home/rocky/perl5""
    PERL_MM_OPT="INSTALL_BASE=/home/rocky/perl5"
    PERL_MM_USE_DEFAULT="1"
    PERL_USE_UNSAFE_INC="1"
  @INC:
    /home/rocky/perl5/lib/perl5/x86_64-linux
    /home/rocky/perl5/lib/perl5
    /home/rocky/perl5/perlbrew/perls/perl-5.38.2/lib/site_perl/5.38.2/x86_64-linux
    /home/rocky/perl5/perlbrew/perls/perl-5.38.2/lib/site_perl/5.38.2
    /home/rocky/perl5/perlbrew/perls/perl-5.38.2/lib/5.38.2/x86_64-linux
    /home/rocky/perl5/perlbrew/perls/perl-5.38.2/lib/5.38.2
    .