Net-Google-DataAPI v0.2805 Perl 5 v5.26.1 x86_64-linux

Status
Pass
From
Andreas J. König (ANDK)
Dist
Net-Google-DataAPI v0.2805
Platform
Perl 5 v5.26.1 x86_64-linux
Date
2017-09-30 09:49:55
ID
b69e22b2-a5c4-11e7-a665-8fdf66ffec7a
This distribution has been tested as part of the CPAN Testers
project, supporting the Perl programming language.  See
http://wiki.cpantesters.org/ for more information or email
questions to cpan-testers-discuss@perl.org


--
Dear Nobuo Danjou,

This is a computer-generated report for Net-Google-DataAPI-0.2805
on perl 5.26.1, created by CPAN-Reporter-1.2018.

Thank you for uploading your work to CPAN.  Congratulations!
All tests were successful.

Sections of this report:

    * Tester comments
    * Program output
    * Prerequisites
    * Environment and other context

------------------------------
TESTER COMMENTS
------------------------------

Additional comments from tester:

this report is from an automated smoke testing program
and was not reviewed by a human for accuracy

------------------------------
PROGRAM OUTPUT
------------------------------

Output from '/usr/bin/make test':

PERL_DL_NONLAZY=1 "/home/sand/src/perl/repoperls/installed-perls/host/k93msid/v5.26.1/d2d1/bin/perl" "-MExtUtils::Command::MM" "-MTest::Harness" "-e" "undef *Test::Harness::Switches; test_harness(0, 'inc', 'blib/lib', 'blib/arch')" t/*.t t/01_role/01_service/*.t t/01_role/02_entry/*.t t/01_role/03_has_content/*.t t/02_feedurl/*.t t/03_entry_has/*.t t/04_auth/*.t
Any::Moose is deprecated. Please use Moo instead at /tmp/loop_over_bdir-29213-ORelSq/Net-Google-DataAPI-0.2805-0/blib/lib/Net/Google/DataAPI.pm line 3.
t/00_compile.t ......................................... ok
Any::Moose is deprecated. Please use Moo instead at /tmp/loop_over_bdir-29213-ORelSq/Net-Google-DataAPI-0.2805-0/blib/lib/Net/Google/DataAPI/Role/Service.pm line 2.
t/01_role/01_service/01_instanciate.t .................. ok
Any::Moose is deprecated. Please use Moo instead at /tmp/loop_over_bdir-29213-ORelSq/Net-Google-DataAPI-0.2805-0/blib/lib/Net/Google/DataAPI/Role/Service.pm line 2.
t/01_role/01_service/02_namespace.t .................... ok
Any::Moose is deprecated. Please use Moo instead at t/01_role/01_service/03_request.t line 11.
t/01_role/01_service/03_request.t ...................... ok
Any::Moose is deprecated. Please use Moo instead at t/01_role/01_service/04_methods.t line 9.
t/01_role/01_service/04_methods.t ...................... ok
Any::Moose is deprecated. Please use Moo instead at t/lib/MyService.pm line 2.
t/01_role/01_service/05_debug.t ........................ ok
Any::Moose is deprecated. Please use Moo instead at /tmp/loop_over_bdir-29213-ORelSq/Net-Google-DataAPI-0.2805-0/blib/lib/Net/Google/DataAPI/Role/Service.pm line 2.
t/01_role/01_service/06_pass_through.t ................. ok
Any::Moose is deprecated. Please use Moo instead at /tmp/loop_over_bdir-29213-ORelSq/Net-Google-DataAPI-0.2805-0/blib/lib/Net/Google/DataAPI/Role/Service.pm line 2.
t/01_role/01_service/07_max_line_length.t .............. ok
Any::Moose is deprecated. Please use Moo instead at /tmp/loop_over_bdir-29213-ORelSq/Net-Google-DataAPI-0.2805-0/blib/lib/Net/Google/DataAPI/Role/Service.pm line 2.
t/01_role/01_service/08_max_line_length_custom_size.t .. ok
Any::Moose is deprecated. Please use Moo instead at /tmp/loop_over_bdir-29213-ORelSq/Net-Google-DataAPI-0.2805-0/blib/lib/Net/Google/DataAPI/Role/Entry.pm line 2.
t/01_role/02_entry/01_instanciate.t .................... ok
Any::Moose is deprecated. Please use Moo instead at t/01_role/02_entry/02_update.t line 10.
t/01_role/02_entry/02_update.t ......................... ok
Any::Moose is deprecated. Please use Moo instead at /tmp/loop_over_bdir-29213-ORelSq/Net-Google-DataAPI-0.2805-0/blib/lib/Net/Google/DataAPI/Role/HasContent.pm line 2.
t/01_role/03_has_content/01_basic.t .................... ok
Any::Moose is deprecated. Please use Moo instead at t/lib/MyService.pm line 2.
t/02_feedurl/01_basic.t ................................ ok
Any::Moose is deprecated. Please use Moo instead at t/lib/MyService.pm line 2.
t/02_feedurl/02_add.t .................................. ok
Any::Moose is deprecated. Please use Moo instead at t/lib/MyService.pm line 2.
t/02_feedurl/03_list.t ................................. ok
Any::Moose is deprecated. Please use Moo instead at t/lib/MyService.pm line 2.
t/02_feedurl/04_delete.t ............................... ok
Any::Moose is deprecated. Please use Moo instead at t/02_feedurl/05_error.t line 10.
t/02_feedurl/05_error.t ................................ ok
Any::Moose is deprecated. Please use Moo instead at t/03_entry_has/01_basic.t line 116.
t/03_entry_has/01_basic.t .............................. ok
Any::Moose is deprecated. Please use Moo instead at t/03_entry_has/02_error.t line 8.
t/03_entry_has/02_error.t .............................. ok
Any::Moose is deprecated. Please use Moo instead at t/lib/MyService.pm line 2.
t/04_auth/01_authsub.t ................................. ok
Any::Moose is deprecated. Please use Moo instead at /tmp/loop_over_bdir-29213-ORelSq/Net-Google-DataAPI-0.2805-0/blib/lib/Net/Google/DataAPI/Auth/OAuth.pm line 2.
t/04_auth/02_oauth.t ................................... ok
Any::Moose is deprecated. Please use Moo instead at /tmp/loop_over_bdir-29213-ORelSq/Net-Google-DataAPI-0.2805-0/blib/lib/Net/Google/DataAPI/Auth/ClientLogin/Multiple.pm line 2.
t/04_auth/03_multiple.t ................................ ok
Any::Moose is deprecated. Please use Moo instead at /tmp/loop_over_bdir-29213-ORelSq/Net-Google-DataAPI-0.2805-0/blib/lib/Net/Google/DataAPI/Auth/OAuth2.pm line 2.
t/04_auth/04_oauth2.t .................................. ok
Any::Moose is deprecated. Please use Moo instead at t/05_types.t line 6.
t/05_types.t ........................................... ok
All tests successful.
Files=24, Tests=423, 12 wallclock secs ( 0.10 usr  0.14 sys +  4.84 cusr  1.18 csys =  6.26 CPU)
Result: PASS

------------------------------
PREREQUISITES
------------------------------

Prerequisite modules loaded:

requires:

    Module                      Need     Have      
    --------------------------- -------- ----------
    Any::Moose                  0.04     0.27      
    Carp                        0        1.42      
    Digest::SHA1                0        2.13      
    Lingua::EN::Inflect::Number 0        1.12      
    LWP::Protocol::https        0        6.07      
    LWP::UserAgent              0        6.27      
    Mouse                       0.51     v2.4.10   
    Net::Google::AuthSub        0.5      0.5       
    Net::OAuth                  0        0.28      
    Net::OAuth2                 0.60     0.63      
    perl                        5.008001 5.026001  
    Text::Glob                  0        0.11      
    URI                         0        1.72      
    XML::Atom                   0        0.42      
    XML::LibXML                 0        2.0129    

build_requires:

    Module                      Need     Have      
    --------------------------- -------- ----------
    ExtUtils::MakeMaker         6.59     7.30      
    Test::Exception             0        0.43      
    Test::MockModule            0        0.12      
    Test::MockObject            0        1.20161202
    Test::More                  0.88     1.302096  
    Test::Warn                  0        0.32      
    UNIVERSAL::can              0        1.20140328
    UNIVERSAL::isa              0        1.20150614

configure_requires:

    Module                      Need     Have      
    --------------------------- -------- ----------
    ExtUtils::MakeMaker         6.59     7.30      


------------------------------
ENVIRONMENT AND OTHER CONTEXT
------------------------------

Environment variables:

    AUTOMATED_TESTING = 1
    LANG = en_US.UTF-8
    PATH = /home/sand/bin:/usr/local/bin:/usr/bin:/bin:/usr/games:/usr/local/perl/bin:/usr/X11/bin:/sbin:/usr/sbin
    PERL5LIB = /tmp/loop_over_bdir-29213-ORelSq/XML-Atom-0.42-0/blib/arch:/tmp/loop_over_bdir-29213-ORelSq/XML-Atom-0.42-0/blib/lib:/tmp/loop_over_bdir-29213-ORelSq/XML-XPath-1.42-0/blib/arch:/tmp/loop_over_bdir-29213-ORelSq/XML-XPath-1.42-0/blib/lib:/tmp/loop_over_bdir-29213-ORelSq/Net-OAuth2-0.63-0/blib/arch:/tmp/loop_over_bdir-29213-ORelSq/Net-OAuth2-0.63-0/blib/lib:/tmp/loop_over_bdir-29213-ORelSq/Net-OAuth-0.28-0/blib/arch:/tmp/loop_over_bdir-29213-ORelSq/Net-OAuth-0.28-0/blib/lib:/tmp/loop_over_bdir-29213-ORelSq/Lingua-EN-Inflect-Number-1.12-0/blib/arch:/tmp/loop_over_bdir-29213-ORelSq/Lingua-EN-Inflect-Number-1.12-0/blib/lib:/tmp/loop_over_bdir-29213-ORelSq/Lingua-EN-Inflect-1.902-0/blib/arch:/tmp/loop_over_bdir-29213-ORelSq/Lingua-EN-Inflect-1.902-0/blib/lib:/tmp/loop_over_bdir-29213-ORelSq/Net-Google-AuthSub-0.5-0/blib/arch:/tmp/loop_over_bdir-29213-ORelSq/Net-Google-AuthSub-0.5-0/blib/lib:/tmp/loop_over_bdir-29213-ORelSq/Any-Moose-0.27-0/blib/arch:/tmp/loop_over_bdir-29213-ORelSq/Any-Moose-0.27-0/blib/lib
    PERL5OPT = 
    PERL5_CPANPLUS_IS_RUNNING = 29219
    PERL5_CPAN_IS_RUNNING = 29219
    PERL5_CPAN_IS_RUNNING_IN_RECURSION = 5668,29219
    PERL_CANARY_STABILITY_NOPROMPT = 1
    PERL_MM_USE_DEFAULT = 1
    PERL_USE_UNSAFE_INC = 1
    SHELL = /usr/bin/zsh
    TERM = screen

Perl special variables (and OS-specific diagnostics, for MSWin32):

    $^X = /home/sand/src/perl/repoperls/installed-perls/host/k93msid/v5.26.1/d2d1/bin/perl
    $UID/$EUID = 1005 / 1005
    $GID = 1005 1005
    $EGID = 1005 1005

Perl module toolchain versions installed:

    Module              Have      
    ------------------- ----------
    CPAN                2.18      
    CPAN::Meta          2.150010  
    Cwd                 3.67      
    ExtUtils::CBuilder  0.280226  
    ExtUtils::Command   7.30      
    ExtUtils::Install   2.06      
    ExtUtils::MakeMaker 7.30      
    ExtUtils::Manifest  1.70      
    ExtUtils::ParseXS   3.34      
    File::Spec          3.67      
    JSON                2.94      
    JSON::PP            2.27400_02
    Module::Build       0.4224    
    Module::Signature   0.81      
    Parse::CPAN::Meta   2.150010  
    Test::Harness       3.39      
    Test::More          1.302096  
    YAML                1.23      
    YAML::Syck          1.30      
    version             0.9917    


--

Summary of my perl5 (revision 5 version 26 subversion 1) configuration:
  Commit id: 714a461a2ab3017f19ea0f7bbb4934b2309d3aa8
  Platform:
    osname=linux
    osvers=4.9.0-2-amd64
    archname=x86_64-linux
    uname='linux k93msid 4.9.0-2-amd64 #1 smp debian 4.9.18-1 (2017-03-30) x86_64 gnulinux '
    config_args='-Dprefix=/home/sand/src/perl/repoperls/installed-perls/host/k93msid/v5.26.1/d2d1 -Dmyhostname=k93msid -Dinstallusrbinperl=n -Uversiononly -Dusedevel -des -Ui_db -Dlibswanted=cl pthread socket inet nsl gdbm dbm malloc dl ld sun m crypt sec util c cposix posix ucb BSD gdbm_compat -Uuseithreads -Uuselongdouble -DDEBUGGING=both'
    hint=recommended
    useposix=true
    d_sigaction=define
    useithreads=undef
    usemultiplicity=undef
    use64bitint=define
    use64bitall=define
    uselongdouble=undef
    usemymalloc=n
    default_inc_excludes_dot=define
    bincompat5005=undef
  Compiler:
    cc='cc'
    ccflags ='-fwrapv -DDEBUGGING -fno-strict-aliasing -pipe -fstack-protector-strong -I/usr/local/include -D_LARGEFILE_SOURCE -D_FILE_OFFSET_BITS=64 -D_FORTIFY_SOURCE=2'
    optimize='-O2 -g'
    cppflags='-fwrapv -DDEBUGGING -fno-strict-aliasing -pipe -fstack-protector-strong -I/usr/local/include'
    ccversion=''
    gccversion='6.3.0 20170406'
    gccosandvers=''
    intsize=4
    longsize=8
    ptrsize=8
    doublesize=8
    byteorder=12345678
    doublekind=3
    d_longlong=define
    longlongsize=8
    d_longdbl=define
    longdblsize=16
    longdblkind=3
    ivtype='long'
    ivsize=8
    nvtype='double'
    nvsize=8
    Off_t='off_t'
    lseeksize=8
    alignbytes=8
    prototype=define
  Linker and Libraries:
    ld='cc'
    ldflags =' -fstack-protector-strong -L/usr/local/lib'
    libpth=/usr/local/lib /usr/lib/gcc/x86_64-linux-gnu/6/include-fixed /usr/include/x86_64-linux-gnu /usr/lib /lib/x86_64-linux-gnu /lib/../lib /usr/lib/x86_64-linux-gnu /usr/lib/../lib /lib
    libs=-lpthread -lnsl -ldl -lm -lcrypt -lutil -lc
    perllibs=-lpthread -lnsl -ldl -lm -lcrypt -lutil -lc
    libc=libc-2.24.so
    so=so
    useshrplib=false
    libperl=libperl.a
    gnulibc_version='2.24'
  Dynamic Linking:
    dlsrc=dl_dlopen.xs
    dlext=so
    d_dlsymun=undef
    ccdlflags='-Wl,-E'
    cccdlflags='-fPIC'
    lddlflags='-shared -O2 -g -L/usr/local/lib -fstack-protector-strong'


Characteristics of this binary (from libperl): 
  Compile-time options:
    DEBUGGING
    HAS_TIMES
    PERLIO_LAYERS
    PERL_COPY_ON_WRITE
    PERL_DONT_CREATE_GVSV
    PERL_MALLOC_WRAP
    PERL_OP_PARENT
    PERL_PRESERVE_IVUV
    PERL_USE_DEVEL
    USE_64_BIT_ALL
    USE_64_BIT_INT
    USE_LARGE_FILES
    USE_LOCALE
    USE_LOCALE_COLLATE
    USE_LOCALE_CTYPE
    USE_LOCALE_NUMERIC
    USE_LOCALE_TIME
    USE_PERLIO
    USE_PERL_ATOF
  Built under linux
  Compiled at Sep 24 2017 02:48:30
  %ENV:
    PERL5LIB="/tmp/loop_over_bdir-29213-ORelSq/XML-Atom-0.42-0/blib/arch:/tmp/loop_over_bdir-29213-ORelSq/XML-Atom-0.42-0/blib/lib:/tmp/loop_over_bdir-29213-ORelSq/XML-XPath-1.42-0/blib/arch:/tmp/loop_over_bdir-29213-ORelSq/XML-XPath-1.42-0/blib/lib:/tmp/loop_over_bdir-29213-ORelSq/Net-OAuth2-0.63-0/blib/arch:/tmp/loop_over_bdir-29213-ORelSq/Net-OAuth2-0.63-0/blib/lib:/tmp/loop_over_bdir-29213-ORelSq/Net-OAuth-0.28-0/blib/arch:/tmp/loop_over_bdir-29213-ORelSq/Net-OAuth-0.28-0/blib/lib:/tmp/loop_over_bdir-29213-ORelSq/Lingua-EN-Inflect-Number-1.12-0/blib/arch:/tmp/loop_over_bdir-29213-ORelSq/Lingua-EN-Inflect-Number-1.12-0/blib/lib:/tmp/loop_over_bdir-29213-ORelSq/Lingua-EN-Inflect-1.902-0/blib/arch:/tmp/loop_over_bdir-29213-ORelSq/Lingua-EN-Inflect-1.902-0/blib/lib:/tmp/loop_over_bdir-29213-ORelSq/Net-Google-AuthSub-0.5-0/blib/arch:/tmp/loop_over_bdir-29213-ORelSq/Net-Google-AuthSub-0.5-0/blib/lib:/tmp/loop_over_bdir-29213-ORelSq/Any-Moose-0.27-0/blib/arch:/tmp/loop_over_bdir-29213-ORelSq/Any-Moose-0.27-0/blib/lib"
    PERL5OPT=""
    PERL5_CPANPLUS_IS_RUNNING="29219"
    PERL5_CPAN_IS_RUNNING="29219"
    PERL5_CPAN_IS_RUNNING_IN_RECURSION="5668,29219"
    PERL_CANARY_STABILITY_NOPROMPT="1"
    PERL_MM_USE_DEFAULT="1"
    PERL_USE_UNSAFE_INC="1"
  @INC:
    /tmp/loop_over_bdir-29213-ORelSq/XML-Atom-0.42-0/blib/arch
    /tmp/loop_over_bdir-29213-ORelSq/XML-Atom-0.42-0/blib/lib
    /tmp/loop_over_bdir-29213-ORelSq/XML-XPath-1.42-0/blib/arch
    /tmp/loop_over_bdir-29213-ORelSq/XML-XPath-1.42-0/blib/lib
    /tmp/loop_over_bdir-29213-ORelSq/Net-OAuth2-0.63-0/blib/arch
    /tmp/loop_over_bdir-29213-ORelSq/Net-OAuth2-0.63-0/blib/lib
    /tmp/loop_over_bdir-29213-ORelSq/Net-OAuth-0.28-0/blib/arch
    /tmp/loop_over_bdir-29213-ORelSq/Net-OAuth-0.28-0/blib/lib
    /tmp/loop_over_bdir-29213-ORelSq/Lingua-EN-Inflect-Number-1.12-0/blib/arch
    /tmp/loop_over_bdir-29213-ORelSq/Lingua-EN-Inflect-Number-1.12-0/blib/lib
    /tmp/loop_over_bdir-29213-ORelSq/Lingua-EN-Inflect-1.902-0/blib/arch
    /tmp/loop_over_bdir-29213-ORelSq/Lingua-EN-Inflect-1.902-0/blib/lib
    /tmp/loop_over_bdir-29213-ORelSq/Net-Google-AuthSub-0.5-0/blib/arch
    /tmp/loop_over_bdir-29213-ORelSq/Net-Google-AuthSub-0.5-0/blib/lib
    /tmp/loop_over_bdir-29213-ORelSq/Any-Moose-0.27-0/blib/arch
    /tmp/loop_over_bdir-29213-ORelSq/Any-Moose-0.27-0/blib/lib
    /home/sand/src/perl/repoperls/installed-perls/host/k93msid/v5.26.1/d2d1/lib/site_perl/5.26.1/x86_64-linux
    /home/sand/src/perl/repoperls/installed-perls/host/k93msid/v5.26.1/d2d1/lib/site_perl/5.26.1
    /home/sand/src/perl/repoperls/installed-perls/host/k93msid/v5.26.1/d2d1/lib/5.26.1/x86_64-linux
    /home/sand/src/perl/repoperls/installed-perls/host/k93msid/v5.26.1/d2d1/lib/5.26.1
    .