Config-IOD v0.353 Perl 5 v5.43.0 x86_64-linux
- Status
- Pass
- From
- Carlos Guevara
- Dist
-
Config-IOD v0.353
- Platform
- Perl 5 v5.43.0 x86_64-linux
- Date
- 2025-07-12 04:57:29
- ID
- b6998dfe-5edc-11f0-bc24-e3d1f25db35f
This distribution has been tested as part of the CPAN Testers
project, supporting the Perl programming language. See
http://wiki.cpantesters.org/ for more information or email
questions to cpan-testers-discuss@perl.org
--
Dear perlancar,
This is a computer-generated report for Config-IOD-0.353
on perl 5.43.0, created by CPAN-Reporter-1.2020.
Thank you for uploading your work to CPAN. Congratulations!
All tests were successful.
Sections of this report:
* Tester comments
* Program output
* Prerequisites
* Environment and other context
------------------------------
TESTER COMMENTS
------------------------------
Additional comments from tester:
this report is from an automated smoke testing program
and was not reviewed by a human for accuracy
------------------------------
PROGRAM OUTPUT
------------------------------
Output from '/usr/bin/make test':
PERL_DL_NONLAZY=1 "/home/cpan/bin/perl/bin/perl5.43.0" "-MExtUtils::Command::MM" "-MTest::Harness" "-e" "undef *Test::Harness::Switches; test_harness(0, 'blib/lib', 'blib/arch')" t/*.t
t/00-compile.t ........... ok
t/01-common.t ............ ok
t/author-critic.t ........ skipped: these tests are for testing by the author
t/author-pod-coverage.t .. skipped: these tests are for testing by the author
t/author-pod-syntax.t .... skipped: these tests are for testing by the author
t/delete_key.t ........... ok
t/delete_section.t ....... ok
t/dump.t ................. ok
t/each_key.t ............. ok
t/each_section.t ......... ok
t/empty.t ................ ok
t/encoding_path.t ........ ok
t/get_value.t ............ ok
t/insert_key.t ........... ok
t/insert_section.t ....... ok
t/list_keys.t ............ ok
t/list_sections.t ........ ok
t/set_value.t ............ ok
# .IOD files are at /home/cpan/tmp/WDGLnj7r94
# [
# '/home/cpan/tmp/WDGLnj7r94/examples/comment.iod',
# '/home/cpan/tmp/WDGLnj7r94/examples/dir-include-child.iod',
# '/home/cpan/tmp/WDGLnj7r94/examples/dir-include.iod',
# '/home/cpan/tmp/WDGLnj7r94/examples/dir-include2.iod',
# '/home/cpan/tmp/WDGLnj7r94/examples/dir-merge-self.iod',
# '/home/cpan/tmp/WDGLnj7r94/examples/dir-merge.iod',
# '/home/cpan/tmp/WDGLnj7r94/examples/dir-merge2.iod',
# '/home/cpan/tmp/WDGLnj7r94/examples/dirsyntax.iod',
# '/home/cpan/tmp/WDGLnj7r94/examples/empty-section.iod',
# '/home/cpan/tmp/WDGLnj7r94/examples/empty.iod',
# '/home/cpan/tmp/WDGLnj7r94/examples/encoding-base64.iod',
# '/home/cpan/tmp/WDGLnj7r94/examples/encoding-hex.iod',
# '/home/cpan/tmp/WDGLnj7r94/examples/encoding-json-multi.iod',
# '/home/cpan/tmp/WDGLnj7r94/examples/encoding-json.iod',
# '/home/cpan/tmp/WDGLnj7r94/examples/encoding-none.iod',
# '/home/cpan/tmp/WDGLnj7r94/examples/extra-bench-basic-compat.iod',
# '/home/cpan/tmp/WDGLnj7r94/examples/extra-bench-basic.iod',
# '/home/cpan/tmp/WDGLnj7r94/examples/extra-bench-typical1.iod',
# '/home/cpan/tmp/WDGLnj7r94/examples/invalid-dir-args.iod',
# '/home/cpan/tmp/WDGLnj7r94/examples/invalid-dir-include-nofile.iod',
# '/home/cpan/tmp/WDGLnj7r94/examples/invalid-dir-include-notfound.iod',
# '/home/cpan/tmp/WDGLnj7r94/examples/invalid-dir-include-recursive.iod',
# '/home/cpan/tmp/WDGLnj7r94/examples/invalid-dir-unknown.iod',
# '/home/cpan/tmp/WDGLnj7r94/examples/invalid-directive-unknown.iod',
# '/home/cpan/tmp/WDGLnj7r94/examples/invalid-encoding-json.iod',
# '/home/cpan/tmp/WDGLnj7r94/examples/invalid-encoding-unknown.iod',
# '/home/cpan/tmp/WDGLnj7r94/examples/invalid-key-emptyname.iod',
# '/home/cpan/tmp/WDGLnj7r94/examples/invalid-key-noassign.iod',
# '/home/cpan/tmp/WDGLnj7r94/examples/invalid-section.iod',
# '/home/cpan/tmp/WDGLnj7r94/examples/key.iod',
# '/home/cpan/tmp/WDGLnj7r94/examples/multisection.iod',
# '/home/cpan/tmp/WDGLnj7r94/examples/multival.iod',
# '/home/cpan/tmp/WDGLnj7r94/examples/nested-section.iod',
# '/home/cpan/tmp/WDGLnj7r94/examples/nested-section2.iod',
# '/home/cpan/tmp/WDGLnj7r94/examples/nosection.iod',
# '/home/cpan/tmp/WDGLnj7r94/examples/section.iod',
# '/home/cpan/tmp/WDGLnj7r94/examples/simple.iod',
# '/home/cpan/tmp/WDGLnj7r94/examples/whitespace.iod',
# '/home/cpan/tmp/WDGLnj7r94/examples/expr/encoding-expr-var.iod',
# '/home/cpan/tmp/WDGLnj7r94/examples/expr/encoding-expr.iod'
# ]
t/spec.t ................. ok
All tests successful.
Files=19, Tests=83, 2 wallclock secs ( 0.07 usr 0.01 sys + 0.87 cusr 0.18 csys = 1.13 CPU)
Result: PASS
------------------------------
PREREQUISITES
------------------------------
Prerequisite modules loaded:
requires:
Module Need Have
------------------------- -------- --------
Config::IOD::Base 0.344 0.345
constant 0 1.33
Exporter 5.57 5.79
overload 0 1.40
parent 0 0.244
perl 5.010001 5.043000
strict 0 1.14
Test::Differences 0 0.72
Test::Exception 0 0.43
Test::More 0.98 1.302214
warnings 0 1.74
build_requires:
Module Need Have
------------------------- -------- --------
ExtUtils::MakeMaker 0 7.76
File::ShareDir::Tarball 0 0.2.2
File::Slurper 0 0.014
File::Spec 0 3.94
File::Temp 0.2307 0.2311
IO::Handle 0 1.55
IOD::Examples 0.201 0.201
IPC::Open3 0 1.24
Test::Config::IOD::Common 0 0.345
Test::More 0.98 1.302214
configure_requires:
Module Need Have
------------------------- -------- --------
ExtUtils::MakeMaker 0 7.76
------------------------------
ENVIRONMENT AND OTHER CONTEXT
------------------------------
Environment variables:
AUTOMATED_TESTING = 1
DATE_MANIP_TEST_DM5 = 1
LANG = en_US.UTF-8
LC_ALL = C
NONINTERACTIVE_TESTING = 1
NO_NETWORK_TESTING = 1
PATH = /home/cpan/bin/perl/bin:/home/cpan/bin:/usr/local/bin:/usr/bin:/usr/local/sbin:/usr/sbin
PERL5LIB =
PERL5OPT =
PERL5_CPANPLUS_IS_RUNNING = 141279
PERL5_CPAN_IS_RUNNING = 141279
PERL_MM_USE_DEFAULT = 1
PERL_USE_UNSAFE_INC = 1
SHELL = /bin/bash
TERM = xterm
TMPDIR = /home/cpan/tmp
Perl special variables (and OS-specific diagnostics, for MSWin32):
$^X = /home/cpan/bin/perl/bin/perl5.43.0
$UID/$EUID = 1001 / 1001
$GID = 1001 1001
$EGID = 1001 1001
Perl module toolchain versions installed:
Module Have
------------------- --------
CPAN 2.38
CPAN::Meta 2.150010
Cwd 3.94
ExtUtils::CBuilder 0.280242
ExtUtils::Command 7.76
ExtUtils::Install 2.22
ExtUtils::MakeMaker 7.76
ExtUtils::Manifest 1.75
ExtUtils::ParseXS 3.58
File::Spec 3.94
JSON 4.10
JSON::PP 4.16
Module::Build 0.4234
Module::Signature n/a
Parse::CPAN::Meta 2.150010
Test2 1.302214
Test::Harness 3.52
Test::More 1.302214
YAML 1.31
YAML::Syck 1.34
version 0.9933
--
Summary of my perl5 (revision 5 version 43 subversion 0) configuration:
Commit id: 195fee3008c1811c23ac17195d7325efdd077bc2
Platform:
osname=linux
osvers=6.12.0-55.19.1.el10_0.x86_64
archname=x86_64-linux
uname='linux cjg-rhel10 6.12.0-55.19.1.el10_0.x86_64 #1 smp preempt_dynamic mon jun 23 01:47:18 edt 2025 x86_64 gnulinux '
config_args='-des -Dprefix=/home/cpan/bin/perl -Dscriptdir=/home/cpan/bin/perl/bin -Dusedevel -Duse64bitall'
hint=recommended
useposix=true
d_sigaction=define
useithreads=undef
usemultiplicity=undef
use64bitint=define
use64bitall=define
uselongdouble=undef
usemymalloc=n
default_inc_excludes_dot=define
Compiler:
cc='cc'
ccflags ='-fwrapv -fno-strict-aliasing -pipe -fstack-protector-strong -I/usr/local/include -D_LARGEFILE_SOURCE -D_FILE_OFFSET_BITS=64 -D_FORTIFY_SOURCE=2'
optimize='-O2'
cppflags='-fwrapv -fno-strict-aliasing -pipe -fstack-protector-strong -I/usr/local/include'
ccversion=''
gccversion='14.2.1 20250110 (Red Hat 14.2.1-7)'
gccosandvers=''
intsize=4
longsize=8
ptrsize=8
doublesize=8
byteorder=12345678
doublekind=3
d_longlong=define
longlongsize=8
d_longdbl=define
longdblsize=16
longdblkind=3
ivtype='long'
ivsize=8
nvtype='double'
nvsize=8
Off_t='off_t'
lseeksize=8
alignbytes=8
prototype=define
Linker and Libraries:
ld='cc'
ldflags =' -fstack-protector-strong -L/usr/local/lib'
libpth=/usr/local/lib /usr/lib /usr/lib64 /usr/local/lib64
libs=-lpthread -ldb -ldl -lm -lcrypt -lutil -lc
perllibs=-lpthread -ldl -lm -lcrypt -lutil -lc
libc=/lib/../lib64/libc.so.6
so=so
useshrplib=false
libperl=libperl.a
gnulibc_version='2.39'
Dynamic Linking:
dlsrc=dl_dlopen.xs
dlext=so
d_dlsymun=undef
ccdlflags='-Wl,-E'
cccdlflags='-fPIC'
lddlflags='-shared -O2 -L/usr/local/lib -fstack-protector-strong'
Characteristics of this binary (from libperl):
Compile-time options:
HAS_LONG_DOUBLE
HAS_STRTOLD
HAS_TIMES
PERLIO_LAYERS
PERL_COPY_ON_WRITE
PERL_DONT_CREATE_GVSV
PERL_HASH_FUNC_SIPHASH13
PERL_HASH_USE_SBOX32
PERL_MALLOC_WRAP
PERL_OP_PARENT
PERL_PRESERVE_IVUV
PERL_USE_DEVEL
PERL_USE_SAFE_PUTENV
USE_64_BIT_ALL
USE_64_BIT_INT
USE_LARGE_FILES
USE_LOCALE
USE_LOCALE_COLLATE
USE_LOCALE_CTYPE
USE_LOCALE_NUMERIC
USE_LOCALE_TIME
USE_PERLIO
USE_PERL_ATOF
Built under linux
Compiled at Jul 7 2025 00:22:01
%ENV:
PERL5LIB=""
PERL5OPT=""
PERL5_CPANPLUS_IS_RUNNING="141279"
PERL5_CPAN_IS_RUNNING="141279"
PERL_MM_USE_DEFAULT="1"
PERL_USE_UNSAFE_INC="1"
@INC:
/home/cpan/bin/perl/lib/site_perl/5.43.0/x86_64-linux
/home/cpan/bin/perl/lib/site_perl/5.43.0
/home/cpan/bin/perl/lib/5.43.0/x86_64-linux
/home/cpan/bin/perl/lib/5.43.0
.