Text-Template v1.54 Perl 5 v5.12.5 x86_64-linux

Status
Pass
From
Reini Urban (RURBAN)
Dist
Text-Template v1.54
Platform
Perl 5 v5.12.5 x86_64-linux
Date
2019-02-14 17:55:28
ID
b698e81c-3081-11e9-abcb-abaeaf7572a3
This distribution has been tested as part of the CPAN Testers
project, supporting the Perl programming language.  See
http://wiki.cpantesters.org/ for more information or email
questions to cpan-testers-discuss@perl.org


--
Dear Michael Schout,

This is a computer-generated report for Text-Template-1.54
on perl 5.12.5, created by CPAN-Reporter-1.2018.

Thank you for uploading your work to CPAN.  Congratulations!
All tests were successful.

Sections of this report:

    * Tester comments
    * Program output
    * Prerequisites
    * Environment and other context

------------------------------
TESTER COMMENTS
------------------------------

Additional comments from tester:

this report is from an automated smoke testing program
and was not reviewed by a human for accuracy

------------------------------
PROGRAM OUTPUT
------------------------------

Output from '/usr/bin/make test':

PERL_DL_NONLAZY=1 "/usr/local/bin/perl5.12.5-nt" "-MExtUtils::Command::MM" "-MTest::Harness" "-e" "undef *Test::Harness::Switches; test_harness(0, 'blib/lib', 'blib/arch')" t/*.t
t/author-pod-syntax.t .. skipped: these tests are for testing by the author
t/author-signature.t ... skipped: these tests are for testing by the author
t/basic.t .............. ok
t/broken.t ............. ok
t/delimiters.t ......... ok
t/error.t .............. ok
t/exported.t ........... ok
t/hash.t ............... ok
t/inline-comment.t ..... ok
t/nested-tags.t ........ ok
t/ofh.t ................ ok
t/out.t ................ ok
t/prepend.t ............ ok
t/preprocess.t ......... ok
t/rt29928.t ............ ok
t/safe.t ............... ok
t/safe2.t .............. ok
t/safe3.t .............. ok
t/strict.t ............. ok
t/taint.t .............. ok
t/template-encoding.t .. ok
t/warnings.t ........... ok
All tests successful.
Files=22, Tests=184,  1 wallclock secs ( 0.06 usr  0.04 sys +  1.29 cusr  0.14 csys =  1.53 CPU)
Result: PASS

------------------------------
PREREQUISITES
------------------------------

Prerequisite modules loaded:

requires:

    Module              Need  Have    
    ------------------- ----- --------
    base                0     2.15    
    Carp                0     1.50    
    Encode              0     3.00    
    Exporter            0     5.73    
    perl                5.008 5.012005
    strict              0     1.04    
    warnings            0     1.09    

build_requires:

    Module              Need  Have    
    ------------------- ----- --------
    ExtUtils::MakeMaker 0     7.34    
    File::Temp          0     0.2309  
    lib                 0     0.62    
    Safe                0     2.27    
    Test::More          0     1.302162
    Test::More::UTF8    0     0.05    
    Test::Warnings      0     0.026   
    utf8                0     1.08    
    vars                0     1.01    

configure_requires:

    Module              Need  Have    
    ------------------- ----- --------
    ExtUtils::MakeMaker 0     7.34    
    perl                5.008 5.012005


------------------------------
ENVIRONMENT AND OTHER CONTEXT
------------------------------

Environment variables:

    AUTOMATED_TESTING = 1
    LANG = en_US.UTF-8
    PATH = /home/rurban/bin:/usr/local/bin:/usr/bin:/bin:/usr/local/games:/usr/games:/home/rurban/go/bin:/home/rurban/.cargo/bin
    PERL5LIB = 
    PERL5OPT = 
    PERL5_CPANPLUS_IS_RUNNING = 25355
    PERL5_CPAN_IS_RUNNING = 25355
    PERL_MM_USE_DEFAULT = 1
    SHELL = /bin/bash
    TERM = xterm-256color

Perl special variables (and OS-specific diagnostics, for MSWin32):

    $^X = /usr/local/bin/perl5.12.5-nt
    $UID/$EUID = 1000 / 1000
    $GID = 1000 27 124 157 1000
    $EGID = 1000 27 124 157 1000

Perl module toolchain versions installed:

    Module              Have    
    ------------------- --------
    CPAN                2.22    
    CPAN::Meta          2.150010
    Cwd                 3.75    
    ExtUtils::CBuilder  0.280230
    ExtUtils::Command   7.34    
    ExtUtils::Install   2.14    
    ExtUtils::MakeMaker 7.34    
    ExtUtils::Manifest  1.71    
    ExtUtils::ParseXS   3.35    
    File::Spec          3.75    
    JSON                4.01    
    JSON::PP            2.97001 
    Module::Build       0.4224  
    Module::Signature   0.83    
    Parse::CPAN::Meta   2.150010
    Test::Harness       3.42    
    Test::More          1.302162
    YAML                1.27    
    YAML::Syck          n/a     
    version             0.9924  


--

Summary of my perl5 (revision 5 version 12 subversion 5) configuration:
   
  Platform:
    osname=linux, osvers=3.9-1-amd64, archname=x86_64-linux
    uname='linux reini 3.9-1-amd64 #1 smp debian 3.9.8-1 x86_64 gnulinux '
    config_args='-de -Dusedevel -Uversiononly -Dinstallman1dir=none -Dinstallman3dir=none -Dinstallsiteman1dir=none -Dinstallsiteman3dir=none -Uuseithreads -Accflags='-msse4.2' -Accflags='-march=corei7' -Accflags='-DPERL_TRACK_MEMPOOL' -Dcf_email='rurban@cpanel.net' -Dperladmin='rurban@cpanel.net' -Duseshrplib'
    hint=recommended, useposix=true, d_sigaction=define
    useithreads=undef, usemultiplicity=undef
    useperlio=define, d_sfio=undef, uselargefiles=define, usesocks=undef
    use64bitint=define, use64bitall=define, uselongdouble=undef
    usemymalloc=n, bincompat5005=undef
  Compiler:
    cc='gcc-4.7', ccflags ='-msse4.2 -march=corei7 -DPERL_TRACK_MEMPOOL -fno-strict-aliasing -pipe -fstack-protector -I/usr/local/include -D_LARGEFILE_SOURCE -D_FILE_OFFSET_BITS=64',
    optimize='-O2',
    cppflags='-msse4.2 -march=corei7 -DPERL_TRACK_MEMPOOL -fno-strict-aliasing -pipe -fstack-protector -I/usr/local/include'
    ccversion='', gccversion='4.7.3', gccosandvers=''
    intsize=4, longsize=8, ptrsize=8, doublesize=8, byteorder=12345678
    d_longlong=define, longlongsize=8, d_longdbl=define, longdblsize=16
    ivtype='long', ivsize=8, nvtype='double', nvsize=8, Off_t='off_t', lseeksize=8
    alignbytes=8, prototype=define
  Linker and Libraries:
    ld='cc', ldflags =' -fstack-protector -L/usr/local/lib'
    libpth=/usr/local/lib /lib/x86_64-linux-gnu /lib/../lib /usr/lib/x86_64-linux-gnu /usr/lib/../lib /lib /usr/lib
    libs=-lnsl -lgdbm -ldb -ldl -lm -lcrypt -lutil -lc -lgdbm_compat
    perllibs=-lnsl -ldl -lm -lcrypt -lutil -lc
    libc=, so=so, useshrplib=true, libperl=libperl.so
    gnulibc_version='2.17'
  Dynamic Linking:
    dlsrc=dl_dlopen.xs, dlext=so, d_dlsymun=undef, ccdlflags='-Wl,-E -Wl,-rpath,/usr/local/lib/perl5/5.12.5/x86_64-linux/CORE'
    cccdlflags='-fPIC', lddlflags='-shared -O2 -L/usr/local/lib -fstack-protector'


Characteristics of this binary (from libperl): 
  Compile-time options: PERL_DONT_CREATE_GVSV PERL_MALLOC_WRAP PERL_USE_DEVEL
                        USE_64_BIT_ALL USE_64_BIT_INT USE_LARGE_FILES
                        USE_PERLIO USE_PERL_ATOF
  Built under linux
  Compiled at Aug 21 2013 18:12:12
  %ENV:
    PERL5LIB=""
    PERL5OPT=""
    PERL5_CPANPLUS_IS_RUNNING="25355"
    PERL5_CPAN_IS_RUNNING="25355"
    PERL_MM_USE_DEFAULT="1"
  @INC:
    /usr/local/lib/perl5/site_perl/5.12.5/x86_64-linux
    /usr/local/lib/perl5/site_perl/5.12.5
    /usr/local/lib/perl5/5.12.5/x86_64-linux
    /usr/local/lib/perl5/5.12.5
    /usr/local/lib/perl5/site_perl/5.10.1
    /usr/local/lib/perl5/site_perl/5.8.9
    /usr/local/lib/perl5/site_perl/5.8.5
    /usr/local/lib/perl5/site_perl/5.6.2
    /usr/local/lib/perl5/site_perl
    .