Back
From: metabase:user:e7f7dec2-b051-11df-bd1d-025b7965fceb
Subject: PASS SQL-SplitStatement-1.00020 v5.20.1 GNU/Linux
Date: 2015-07-29T14:11:31Z
This distribution has been tested as part of the CPAN Testers
project, supporting the Perl programming language. See
http://wiki.cpantesters.org/ for more information or email
questions to cpan-testers-discuss@perl.org
--
Dear Emanuele Zeppieri,
This is a computer-generated report for SQL-SplitStatement-1.00020
on perl 5.20.1, created by CPAN-Reporter-1.2011.
Thank you for uploading your work to CPAN. Congratulations!
All tests were successful.
Sections of this report:
* Tester comments
* Program output
* Prerequisites
* Environment and other context
------------------------------
TESTER COMMENTS
------------------------------
Additional comments from tester:
none provided
------------------------------
PROGRAM OUTPUT
------------------------------
Output from '/usr/bin/make test':
make[1]: Entering directory `/home/andy/.cpan/build/SQL-SplitStatement-1.00020-y15afy'
PERL_DL_NONLAZY=1 "/home/andy/perl5/perlbrew/perls/perl-5.20.1/bin/perl" "-MExtUtils::Command::MM" "-MTest::Harness" "-e" "undef *Test::Harness::Switches; test_harness(0, 'blib/lib', 'blib/arch')" t/*.t
t/00-compile.t .................................... ok
# Testing SQL::SplitStatement 1.00020, Perl 5.020001, /home/andy/perl5/perlbrew/perls/perl-5.20.1/bin/perl
t/00-load.t ....................................... ok
t/05-empty_statements.t ........................... ok
t/10-simple.t ..................................... ok
t/20-hard.t ....................................... ok
t/25-keywords_as_unquoted_identifiers.t ........... ok
t/30-nested_blocks.t .............................. ok
t/40-comments.t ................................... ok
t/42-slash_terminates.t ........................... ok
t/50-transactions.t ............................... ok
t/51-transactions_and_proc.t ...................... ok
t/60-placeholders.t ............................... ok
t/61-placeholders_empty.t ......................... ok
t/70-proc_plsql_mixed.t ........................... ok
t/70-proc_plsql_slash_endings.t ................... ok
t/71-proc_plsql_RTbug_57971.t ..................... ok
t/72-proc_plsql_alias.t ........................... ok
t/72-proc_plsql_function_inside_package.t ......... ok
t/72-proc_plsql_mixed_endings.t ................... ok
t/72-proc_plsql_nested_functions.t ................ ok
t/72-proc_plsql_package.t ......................... ok
t/74-proc_plpgsql_dollar_quoted.t ................. ok
t/74-proc_plpgsql_dollar_quoted_w_transactions.t .. ok
t/75-proc_grant.t ................................. ok
t/80-examples.t ................................... ok
t/81-examples_procedural.t ........................ ok
t/82-synopsis.t ................................... ok
t/90-mysql_delimiter.t ............................ ok
t/90-mysql_mixed.t ................................ ok
t/90-mysql_sakila.t ............................... ok
t/92-postgresql_pagila.t .......................... ok
t/94-exception.t .................................. ok
t/95-script.t ..................................... skipped: please install Test::Script::Run to run these tests
t/author-critic.t ................................. skipped: these tests are for testing by the author
t/release-distmeta.t .............................. skipped: these tests are for release candidate testing
t/release-kwalitee.t .............................. skipped: these tests are for release candidate testing
t/release-no-tabs.t ............................... skipped: these tests are for release candidate testing
t/release-pod-coverage.t .......................... skipped: these tests are for release candidate testing
t/release-pod-syntax.t ............................ skipped: these tests are for release candidate testing
t/release-synopsis.t .............................. skipped: these tests are for release candidate testing
t/release-unused-vars.t ........................... skipped: these tests are for release candidate testing
All tests successful.
Files=41, Tests=285, 2 wallclock secs ( 0.13 usr 0.03 sys + 1.90 cusr 0.12 csys = 2.18 CPU)
Result: PASS
make[1]: Leaving directory `/home/andy/.cpan/build/SQL-SplitStatement-1.00020-y15afy'
------------------------------
PREREQUISITES
------------------------------
Prerequisite modules loaded:
requires:
Module Need Have
--------------------- ---- ----------
Carp 0 1.36
Class::Accessor::Fast 0 0.34
constant 0 1.31
Getopt::Long 0 2.47
List::MoreUtils 0 0.402
Pod::Usage 0 1.64
Regexp::Common 0 2013031301
SQL::Tokenizer 0.22 0.24
build_requires:
Module Need Have
--------------------- ---- ----------
English 0 1.09
File::Find 0 1.27
File::Temp 0 0.2304
Test::Exception 0.27 0.36
Test::More 0.7 1.001014
configure_requires:
Module Need Have
--------------------- ---- ----------
ExtUtils::MakeMaker 6.31 7.04
------------------------------
ENVIRONMENT AND OTHER CONTEXT
------------------------------
Environment variables:
LANG = en_GB.UTF-8
LANGUAGE = en_GB:en
LC_CTYPE = en_GB.UTF-8
PATH = /home/andy/bin:/home/andy/.sprouts/1.1/cache/flex4/4.6.0.23201/bin:/home/andy/perl5/perlbrew/bin:/home/andy/perl5/perlbrew/perls/perl-5.20.1/bin:/home/andy/Dropbox/bin:/opt/ffmpeg/bin:/home/andy/bin/Linux:/usr/local/sbin:/usr/local/bin:/home/andy/bin:/usr/bin:/bin:/usr/local/games:/usr/games:/usr/sbin:/sbin
PERL5LIB =
PERL5OPT =
PERL5_CPANPLUS_IS_RUNNING = 11532
PERL5_CPAN_IS_RUNNING = 11532
PERLBREW_BASHRC_VERSION = 0.60
PERLBREW_HOME = /home/andy/.perlbrew
PERLBREW_MANPATH = /home/andy/perl5/perlbrew/perls/perl-5.20.1/man
PERLBREW_PATH = /home/andy/perl5/perlbrew/bin:/home/andy/perl5/perlbrew/perls/perl-5.20.1/bin
PERLBREW_PERL = perl-5.20.1
PERLBREW_ROOT = /home/andy/perl5/perlbrew
PERLBREW_VERSION = 0.60
SHELL = /bin/bash
TERM = xterm-256color
Perl special variables (and OS-specific diagnostics, for MSWin32):
$^X = /home/andy/perl5/perlbrew/perls/perl-5.20.1/bin/perl
$UID/$EUID = 1000 / 1000
$GID = 50 4 7 20 24 25 29 30 33 44 46 50 104 113 114 121 1000 1001 1002
$EGID = 50 4 7 20 24 25 29 30 33 44 46 50 104 113 114 121 1000 1001 1002
Perl module toolchain versions installed:
Module Have
------------------- --------
CPAN 2.05
CPAN::Meta 2.143240
Cwd 3.48
ExtUtils::CBuilder 0.280220
ExtUtils::Command 1.20
ExtUtils::Install 2.04
ExtUtils::MakeMaker 7.04
ExtUtils::Manifest 1.70
ExtUtils::ParseXS 3.24
File::Spec 3.48
JSON 2.90
JSON::PP 2.27300
Module::Build 0.4211
Module::Signature 0.73
Parse::CPAN::Meta 1.4414
Test::Harness 3.35
Test::More 1.001014
YAML 1.15
YAML::Syck 1.29
version 0.9912
--
Summary of my perl5 (revision 5 version 20 subversion 1) configuration:
Platform:
osname=linux, osvers=3.2.0-4-amd64, archname=x86_64-linux
uname='linux emit 3.2.0-4-amd64 #1 smp debian 3.2.57-3+deb7u2 x86_64 gnulinux '
config_args='-de -Dprefix=/home/andy/perl5/perlbrew/perls/perl-5.20.1 -Aeval:scriptdir=/home/andy/perl5/perlbrew/perls/perl-5.20.1/bin'
hint=recommended, useposix=true, d_sigaction=define
useithreads=undef, usemultiplicity=undef
use64bitint=define, use64bitall=define, uselongdouble=undef
usemymalloc=n, bincompat5005=undef
Compiler:
cc='cc', ccflags ='-fwrapv -fno-strict-aliasing -pipe -fstack-protector -I/usr/local/include -D_LARGEFILE_SOURCE -D_FILE_OFFSET_BITS=64',
optimize='-O2',
cppflags='-fwrapv -fno-strict-aliasing -pipe -fstack-protector -I/usr/local/include'
ccversion='', gccversion='4.7.2', gccosandvers=''
intsize=4, longsize=8, ptrsize=8, doublesize=8, byteorder=12345678
d_longlong=define, longlongsize=8, d_longdbl=define, longdblsize=16
ivtype='long', ivsize=8, nvtype='double', nvsize=8, Off_t='off_t', lseeksize=8
alignbytes=8, prototype=define
Linker and Libraries:
ld='cc', ldflags =' -fstack-protector -L/usr/local/lib'
libpth=/usr/local/lib /usr/lib/gcc/x86_64-linux-gnu/4.7/include-fixed /usr/include/x86_64-linux-gnu /usr/lib /lib/x86_64-linux-gnu /lib/../lib /usr/lib/x86_64-linux-gnu /usr/lib/../lib /lib
libs=-lnsl -ldb -ldl -lm -lcrypt -lutil -lc
perllibs=-lnsl -ldl -lm -lcrypt -lutil -lc
libc=, so=so, useshrplib=false, libperl=libperl.a
gnulibc_version='2.13'
Dynamic Linking:
dlsrc=dl_dlopen.xs, dlext=so, d_dlsymun=undef, ccdlflags='-Wl,-E'
cccdlflags='-fPIC', lddlflags='-shared -O2 -L/usr/local/lib -fstack-protector'
Characteristics of this binary (from libperl):
Compile-time options: HAS_TIMES PERLIO_LAYERS PERL_DONT_CREATE_GVSV
PERL_HASH_FUNC_ONE_AT_A_TIME_HARD PERL_MALLOC_WRAP
PERL_NEW_COPY_ON_WRITE PERL_PRESERVE_IVUV
USE_64_BIT_ALL USE_64_BIT_INT USE_LARGE_FILES
USE_LOCALE USE_LOCALE_COLLATE USE_LOCALE_CTYPE
USE_LOCALE_NUMERIC USE_PERLIO USE_PERL_ATOF
Built under linux
Compiled at Sep 26 2014 11:03:47
%ENV:
PERL5LIB=""
PERL5OPT=""
PERL5_CPANPLUS_IS_RUNNING="11532"
PERL5_CPAN_IS_RUNNING="11532"
PERLBREW_BASHRC_VERSION="0.60"
PERLBREW_HOME="/home/andy/.perlbrew"
PERLBREW_MANPATH="/home/andy/perl5/perlbrew/perls/perl-5.20.1/man"
PERLBREW_PATH="/home/andy/perl5/perlbrew/bin:/home/andy/perl5/perlbrew/perls/perl-5.20.1/bin"
PERLBREW_PERL="perl-5.20.1"
PERLBREW_ROOT="/home/andy/perl5/perlbrew"
PERLBREW_VERSION="0.60"
@INC:
/home/andy/perl5/perlbrew/perls/perl-5.20.1/lib/site_perl/5.20.1/x86_64-linux
/home/andy/perl5/perlbrew/perls/perl-5.20.1/lib/site_perl/5.20.1
/home/andy/perl5/perlbrew/perls/perl-5.20.1/lib/5.20.1/x86_64-linux
/home/andy/perl5/perlbrew/perls/perl-5.20.1/lib/5.20.1
.