Report for Search-Tools-0.99

Back
From: metabase:user:0d96120c-29e2-11e5-b049-ede3035d37de
Subject: PASS Search-Tools-0.99 v5.22.0 GNU/Linux
Date: 2015-08-09T07:10:27Z

This distribution has been tested as part of the CPAN Testers
project, supporting the Perl programming language.  See
http://wiki.cpantesters.org/ for more information or email
questions to cpan-testers-discuss@perl.org


--
Dear Peter Karman,

This is a computer-generated report for Search-Tools-0.99
on perl 5.22.0, created by CPAN-Reporter-1.2015.

Thank you for uploading your work to CPAN.  Congratulations!
All tests were successful.

Sections of this report:

    * Tester comments
    * Program output
    * Prerequisites
    * Environment and other context

------------------------------
TESTER COMMENTS
------------------------------

Additional comments from tester:

this report is from an automated smoke testing program
and was not reviewed by a human for accuracy

MEMORY         : 1.96 GB
ARCH           : armv7l
OS             : Debian 8.1
KERNEL         : Linux 4.1.3-armv7-x2
VIRTUALIZATION : No Virtualization

------------------------------
PROGRAM OUTPUT
------------------------------

Output from '/usr/bin/make test':

Running Mkbootstrap for Search::Tools ()
chmod 644 "Tools.bs"
PERL_DL_NONLAZY=1 "/home/jmaslak/perl5/perlbrew/perls/perl-5.22.0-64int/bin/perl" "-MExtUtils::Command::MM" "-MTest::Harness" "-e" "undef *Test::Harness::Switches; test_harness(0, 'blib/lib', 'blib/arch')" t/*.t
# testing Search::Tools version 0.99
t/00-load.t .................... ok
t/02regexp.t ................... ok
t/03snip.t ..................... ok
t/04hilite.t ................... ok
t/05stopwords.t ................ ok
t/06xml.t ...................... ok
t/07stemmer.t .................. ok
t/08transliterate.t ............ ok
t/09locale.t ................... ok
t/10spellcheck.t ............... ok
t/11synopsis.t ................. ok
byte 36 () is not Latin1 (it's 129 dec / 81 hex) at t/12utf8.t line 49.
byte 12 (€) is not Latin1 (it's 128 dec / 80 hex) at t/12utf8.t line 67.
t/12utf8.t ..................... ok
t/13-snip-linux-user-group.t ... ok
t/14-findaprofessional.t ....... ok
t/15-child-adoption.t .......... ok
t/16-dot.com.t ................. ok
t/17-tokenizer.t ............... ok
t/18-tokenizer-mem.t ........... ok
t/19-tokenizer-pp.t ............ ok
t/20transliterate-map.t ........ ok
t/21-hiliter-with-hyphen.t ..... ok
t/22-query-parser.t ............ ok
t/23-regex-builder.t ........... ok
t/24-child-abuse.t ............. ok
t/25-domestic-accounts.t ....... ok
t/26-is-sentence.t ............. ok
t/27-bigfile.t ................. skipped: set TEST_BIG_FILE to run t/27-bigfile.t
t/28-byte-length.t ............. ok
t/29-hiliter-wildcard.t ........ ok
t/30-perl-to-xml.t ............. ok
t/31-snip-phrases.t ............ ok
t/32-pre-existing.t ............ ok
t/33-matches.t ................. ok
t/34-style-hilite.t ............ ok
t/35-whitespace.t .............. ok
t/36-snipper-term-length.t ..... ok
t/37-heatmap-long-sentences.t .. ok
t/38-hiliter-multiple-terms.t .. ok
t/39-tokenizer-refcounts.t ..... ok
t/40-perl517-regex.t ........... ok
t/41-hiliter-blessed-query.t ... ok
t/90-leaktrace.t ............... ok
t/91-valgrind.t ................ skipped: Test::Valgrind has false positives
t/pod-coverage.t ............... skipped: set PERL_AUTHOR_TEST to test POD
t/pod.t ........................ skipped: set PERL_AUTHOR_TEST to test POD
t/Search-Tools.t ............... ok
All tests successful.
Files=46, Tests=3056, 52 wallclock secs ( 2.38 usr  0.25 sys + 45.99 cusr  3.89 csys = 52.51 CPU)
Result: PASS

------------------------------
PREREQUISITES
------------------------------

Prerequisite modules loaded:

requires:

    Module              Need     Have    
    ------------------- -------- --------
    Data::Dump          0        1.23    
    Encode              0        2.75    
    Encoding::FixLatin  0        1.04    
    File::Basename      0        2.85    
    File::Slurp         0        9999.19 
    perl                5.008003 5.022000
    Rose::ObjectX::CAF  0.03     0.03    
    Scalar::Util        0        1.41    
    Search::Query       0.18     0.305   
    Test::More          0.94     1.001014

build_requires:

    Module              Need     Have    
    ------------------- -------- --------
    ExtUtils::MakeMaker 0        7.04_01 

configure_requires:

    Module              Need     Have    
    ------------------- -------- --------
    ExtUtils::MakeMaker 0        7.04_01 


------------------------------
ENVIRONMENT AND OTHER CONTEXT
------------------------------

Environment variables:

    AUTOMATED_TESTING = 1
    LANG = en_US.UTF-8
    NONINTERACTIVE_TESTING = 1
    PATH = /home/jmaslak/perl5/perlbrew/bin:/home/jmaslak/perl5/perlbrew/perls/perl-5.22.0-64int/bin:/home/jmaslak/perltest/bin:/home/jmaslak/perltest/bin:/home/jmaslak/perltest/bin:/home/jmaslak/perl5/perlbrew/bin:/home/jmaslak/perl5/perlbrew/perls/perl-5.22.0/bin:/usr/local/bin:/usr/bin:/bin:/usr/local/games:/usr/games:/usr/sbin:~/perltest/bin
    PERL5LIB = /home/jmaslak/.cpan/build/Search-Query-0.305-TSyMz5/blib/arch:/home/jmaslak/.cpan/build/Search-Query-0.305-TSyMz5/blib/lib:/home/jmaslak/.cpan/build/Data-Transformer-0.04-2fC7Fo/blib/arch:/home/jmaslak/.cpan/build/Data-Transformer-0.04-2fC7Fo/blib/lib:/home/jmaslak/.cpan/build/Encoding-FixLatin-XS-1.01-_t558Q/blib/arch:/home/jmaslak/.cpan/build/Encoding-FixLatin-XS-1.01-_t558Q/blib/lib:/home/jmaslak/.cpan/build/Encoding-FixLatin-1.04-g7VZya/blib/arch:/home/jmaslak/.cpan/build/Encoding-FixLatin-1.04-g7VZya/blib/lib:/home/jmaslak/.cpan/build/Rose-ObjectX-CAF-0.03-yJGpVM/blib/arch:/home/jmaslak/.cpan/build/Rose-ObjectX-CAF-0.03-yJGpVM/blib/lib:/home/jmaslak/.cpan/build/Rose-Object-0.860-i8IHnt/blib/arch:/home/jmaslak/.cpan/build/Rose-Object-0.860-i8IHnt/blib/lib
    PERL5OPT = 
    PERL5_CPANPLUS_IS_RUNNING = 22132
    PERL5_CPAN_IS_RUNNING = 22132
    PERL5_CPAN_IS_RUNNING_IN_RECURSION = 17583,22132
    PERLBREW_BASHRC_VERSION = 0.73
    PERLBREW_HOME = /home/jmaslak/.perlbrew
    PERLBREW_LIB = 
    PERLBREW_MANPATH = /home/jmaslak/perl5/perlbrew/perls/perl-5.22.0-64int/man
    PERLBREW_PATH = /home/jmaslak/perl5/perlbrew/bin:/home/jmaslak/perl5/perlbrew/perls/perl-5.22.0-64int/bin
    PERLBREW_PERL = perl-5.22.0-64int
    PERLBREW_ROOT = /home/jmaslak/perl5/perlbrew
    PERLBREW_VERSION = 0.73
    PERL_CR_SMOKER_CURRENT = Search-Tools-0.99
    PERL_EXTUTILS_AUTOINSTALL = --defaultdeps
    PERL_LOCAL_LIB_ROOT = 
    PERL_MM_USE_DEFAULT = 1
    SHELL = /bin/bash
    TERM = screen

Perl special variables (and OS-specific diagnostics, for MSWin32):

    $^X = /home/jmaslak/perl5/perlbrew/perls/perl-5.22.0-64int/bin/perl
    $UID/$EUID = 1000 / 1000
    $GID = 1000 27 1000
    $EGID = 1000 27 1000

Perl module toolchain versions installed:

    Module              Have    
    ------------------- --------
    CPAN                2.11    
    CPAN::Meta          2.150001
    Cwd                 3.56    
    ExtUtils::CBuilder  0.280221
    ExtUtils::Command   1.20    
    ExtUtils::Install   2.04    
    ExtUtils::MakeMaker 7.04_01 
    ExtUtils::Manifest  1.70    
    ExtUtils::ParseXS   3.28    
    File::Spec          3.56    
    JSON                2.90    
    JSON::PP            2.27300 
    Module::Build       0.4214  
    Module::Signature   n/a     
    Parse::CPAN::Meta   1.4414  
    Test::Harness       3.35    
    Test::More          1.001014
    YAML                1.15    
    YAML::Syck          n/a     
    version             0.9909  


--

Summary of my perl5 (revision 5 version 22 subversion 0) configuration:
   
  Platform:
    osname=linux, osvers=4.1.3-armv7-x2, archname=armv7l-linux-64int
    uname='linux armperl.antelope.net 4.1.3-armv7-x2 #1 smp wed jul 29 12:23:30 mdt 2015 armv7l gnulinux '
    config_args='-de -Dprefix=/home/jmaslak/perl5/perlbrew/perls/perl-5.22.0-64int -Duse64bitint -Aeval:scriptdir=/home/jmaslak/perl5/perlbrew/perls/perl-5.22.0-64int/bin'
    hint=recommended, useposix=true, d_sigaction=define
    useithreads=undef, usemultiplicity=undef
    use64bitint=define, use64bitall=undef, uselongdouble=undef
    usemymalloc=n, bincompat5005=undef
  Compiler:
    cc='cc', ccflags ='-fwrapv -fno-strict-aliasing -pipe -fstack-protector-strong -I/usr/local/include -D_LARGEFILE_SOURCE -D_FILE_OFFSET_BITS=64 -D_FORTIFY_SOURCE=2',
    optimize='-O2',
    cppflags='-fwrapv -fno-strict-aliasing -pipe -fstack-protector-strong -I/usr/local/include'
    ccversion='', gccversion='4.9.2', gccosandvers=''
    intsize=4, longsize=4, ptrsize=4, doublesize=8, byteorder=12345678, doublekind=3
    d_longlong=define, longlongsize=8, d_longdbl=define, longdblsize=8, longdblkind=0
    ivtype='long long', ivsize=8, nvtype='double', nvsize=8, Off_t='off_t', lseeksize=8
    alignbytes=8, prototype=define
  Linker and Libraries:
    ld='cc', ldflags =' -fstack-protector-strong -L/usr/local/lib'
    libpth=/usr/local/lib /usr/lib/gcc/arm-linux-gnueabihf/4.9/include-fixed /usr/include/arm-linux-gnueabihf /usr/lib /lib/arm-linux-gnueabihf /lib /usr/lib/arm-linux-gnueabihf
    libs=-lpthread -lnsl -ldl -lm -lcrypt -lutil -lc
    perllibs=-lpthread -lnsl -ldl -lm -lcrypt -lutil -lc
    libc=libc-2.19.so, so=so, useshrplib=false, libperl=libperl.a
    gnulibc_version='2.19'
  Dynamic Linking:
    dlsrc=dl_dlopen.xs, dlext=so, d_dlsymun=undef, ccdlflags='-Wl,-E'
    cccdlflags='-fPIC', lddlflags='-shared -O2 -L/usr/local/lib -fstack-protector-strong'


Characteristics of this binary (from libperl): 
  Compile-time options: HAS_TIMES PERLIO_LAYERS PERL_DONT_CREATE_GVSV
                        PERL_HASH_FUNC_ONE_AT_A_TIME_HARD PERL_MALLOC_WRAP
                        PERL_NEW_COPY_ON_WRITE PERL_PRESERVE_IVUV
                        USE_64_BIT_INT USE_LARGE_FILES USE_LOCALE
                        USE_LOCALE_COLLATE USE_LOCALE_CTYPE
                        USE_LOCALE_NUMERIC USE_LOCALE_TIME USE_PERLIO
                        USE_PERL_ATOF
  Locally applied patches:
	Devel::PatchPerl 1.38
  Built under linux
  Compiled at Jul 30 2015 06:17:43
  %ENV:
    PERL5LIB="/home/jmaslak/.cpan/build/Search-Query-0.305-TSyMz5/blib/arch:/home/jmaslak/.cpan/build/Search-Query-0.305-TSyMz5/blib/lib:/home/jmaslak/.cpan/build/Data-Transformer-0.04-2fC7Fo/blib/arch:/home/jmaslak/.cpan/build/Data-Transformer-0.04-2fC7Fo/blib/lib:/home/jmaslak/.cpan/build/Encoding-FixLatin-XS-1.01-_t558Q/blib/arch:/home/jmaslak/.cpan/build/Encoding-FixLatin-XS-1.01-_t558Q/blib/lib:/home/jmaslak/.cpan/build/Encoding-FixLatin-1.04-g7VZya/blib/arch:/home/jmaslak/.cpan/build/Encoding-FixLatin-1.04-g7VZya/blib/lib:/home/jmaslak/.cpan/build/Rose-ObjectX-CAF-0.03-yJGpVM/blib/arch:/home/jmaslak/.cpan/build/Rose-ObjectX-CAF-0.03-yJGpVM/blib/lib:/home/jmaslak/.cpan/build/Rose-Object-0.860-i8IHnt/blib/arch:/home/jmaslak/.cpan/build/Rose-Object-0.860-i8IHnt/blib/lib"
    PERL5OPT=""
    PERL5_CPANPLUS_IS_RUNNING="22132"
    PERL5_CPAN_IS_RUNNING="22132"
    PERL5_CPAN_IS_RUNNING_IN_RECURSION="17583,22132"
    PERLBREW_BASHRC_VERSION="0.73"
    PERLBREW_HOME="/home/jmaslak/.perlbrew"
    PERLBREW_LIB=""
    PERLBREW_MANPATH="/home/jmaslak/perl5/perlbrew/perls/perl-5.22.0-64int/man"
    PERLBREW_PATH="/home/jmaslak/perl5/perlbrew/bin:/home/jmaslak/perl5/perlbrew/perls/perl-5.22.0-64int/bin"
    PERLBREW_PERL="perl-5.22.0-64int"
    PERLBREW_ROOT="/home/jmaslak/perl5/perlbrew"
    PERLBREW_VERSION="0.73"
    PERL_CR_SMOKER_CURRENT="Search-Tools-0.99"
    PERL_EXTUTILS_AUTOINSTALL="--defaultdeps"
    PERL_LOCAL_LIB_ROOT=""
    PERL_MM_USE_DEFAULT="1"
  @INC:
    /home/jmaslak/.cpan/build/Search-Query-0.305-TSyMz5/blib/arch
    /home/jmaslak/.cpan/build/Search-Query-0.305-TSyMz5/blib/lib
    /home/jmaslak/.cpan/build/Data-Transformer-0.04-2fC7Fo/blib/arch
    /home/jmaslak/.cpan/build/Data-Transformer-0.04-2fC7Fo/blib/lib
    /home/jmaslak/.cpan/build/Encoding-FixLatin-XS-1.01-_t558Q/blib/arch
    /home/jmaslak/.cpan/build/Encoding-FixLatin-XS-1.01-_t558Q/blib/lib
    /home/jmaslak/.cpan/build/Encoding-FixLatin-1.04-g7VZya/blib/arch
    /home/jmaslak/.cpan/build/Encoding-FixLatin-1.04-g7VZya/blib/lib
    /home/jmaslak/.cpan/build/Rose-ObjectX-CAF-0.03-yJGpVM/blib/arch
    /home/jmaslak/.cpan/build/Rose-ObjectX-CAF-0.03-yJGpVM/blib/lib
    /home/jmaslak/.cpan/build/Rose-Object-0.860-i8IHnt/blib/arch
    /home/jmaslak/.cpan/build/Rose-Object-0.860-i8IHnt/blib/lib
    /home/jmaslak/perl5/perlbrew/perls/perl-5.22.0-64int/lib/site_perl/5.22.0/armv7l-linux-64int
    /home/jmaslak/perl5/perlbrew/perls/perl-5.22.0-64int/lib/site_perl/5.22.0
    /home/jmaslak/perl5/perlbrew/perls/perl-5.22.0-64int/lib/5.22.0/armv7l-linux-64int
    /home/jmaslak/perl5/perlbrew/perls/perl-5.22.0-64int/lib/5.22.0
    .