Report for CSS-DOM-0.15

Back
From: metabase:user:3138bf04-2aae-11df-837a-5e0a49663a4f
Subject: PASS CSS-DOM-0.15 v5.18.2 Mac OS X
Date: 2014-03-04T12:37:13Z

This distribution has been tested as part of the CPAN Testers
project, supporting the Perl programming language.  See
http://wiki.cpantesters.org/ for more information or email
questions to cpan-testers-discuss@perl.org


--
Dear Father Chrysostomos,

This is a computer-generated report for CSS-DOM-0.15
on perl 5.18.2, created by CPAN-Reporter-1.2010.

Thank you for uploading your work to CPAN.  Congratulations!
All tests were successful.

Sections of this report:

    * Tester comments
    * Program output
    * Prerequisites
    * Environment and other context

------------------------------
TESTER COMMENTS
------------------------------

Additional comments from tester:

none provided

------------------------------
PROGRAM OUTPUT
------------------------------

Output from '/usr/bin/make test':

PERL_DL_NONLAZY=1 /usr/local/bin/perl "-MExtUtils::Command::MM" "-e" "test_harness(0, 'blib/lib', 'blib/arch')" t/*.t
t/charset.t .......................... ok
t/css-dom-interface.t ................ ok
t/css-dom-style.t .................... ok
t/css-dom-util.t ..................... ok
t/css-dom.t .......................... ok
t/CSS2Properties.t ................... ok
t/CSSCharsetRule.t ................... ok
t/CSSFontFaceRule.t .................. ok
t/CSSImportRule.t .................... ok
t/CSSMediaRule.t ..................... ok
t/CSSPageRule.t ...................... ok
t/CSSPrimitiveValue.t ................ ok
t/CSSRule.t .......................... ok
t/CSSRuleList.t ...................... ok
t/CSSStyleDeclaration-setProperty.t .. ok
t/CSSStyleDeclaration.t .............. ok
t/CSSStyleRule.t ..................... ok
t/CSSStyleSheet-insertRule.t ......... ok
t/CSSStyleSheet.t .................... ok
t/CSSValue-prim-cssText.t ............ ok
t/CSSValue.t ......................... ok
t/CSSValueList.t ..................... ok
t/hasFeature.t ....................... ok
t/MediaList.t ........................ ok
t/parser-rules.t ..................... ok
t/parser-tokens.t .................... ok
t/property-parser.t .................. ok
t/Rect.t ............................. ok
t/RGBColor.t ......................... ok
t/StyleSheet.t ....................... ok
t/StyleSheetList.t ................... ok
All tests successful.
Files=31, Tests=3203,  4 wallclock secs ( 0.40 usr  0.09 sys +  3.12 cusr  0.30 csys =  3.91 CPU)
Result: PASS

------------------------------
PREREQUISITES
------------------------------

Prerequisite modules loaded:

requires:

    Module              Need Have    
    ------------------- ---- --------
    Carp                1.01 1.29    
    Clone               0.09 0.36    
    constant            1.03 1.27    
    Encode              2.1  2.49    
    Exporter            5.57 5.68    
    overload            0    1.22    
    re                  0    0.23    
    Scalar::Util        1.09 1.38    
    strict              0    1.07    
    Test::More          0    1.001002
    warnings            0    1.18    

build_requires:

    Module              Need Have    
    ------------------- ---- --------
    ExtUtils::MakeMaker 0    6.66    

configure_requires:

    Module              Need Have    
    ------------------- ---- --------
    ExtUtils::MakeMaker 0    6.66    


------------------------------
ENVIRONMENT AND OTHER CONTEXT
------------------------------

Environment variables:

    LANG = en_US.UTF-8
    LC_ALL = en_US.UTF-8
    LC_CTYPE = UTF-8
    PATH = /opt/local/bin:/opt/local/sbin:/Applications/SenchaSDKTools-2.0.0-beta3:/Users/roliep/pebble-dev/PebbleSDK-2.0.0/bin/:/Users/roliep/android-sdk-mac_x86/platform-tools/:/Users/roliep/android-sdk-mac_x86/tools/:/Applications/SenchaSDKTools-2.0.0-beta3:/Users/roliep/PebbleSDK-1.12/arm-cs-tools/bin:/usr/local/bin:/opt/local/bin:/opt/local/bin:/opt/local/sbin:/usr/bin:/bin:/usr/sbin:/sbin:/usr/local/bin:/opt/X11/bin:/usr/local/git/bin:/opt/PalmPDK/bin:/opt/PalmSDK/0.1/bin/
    PERL5LIB = 
    PERL5OPT = 
    PERL5_CPANPLUS_IS_RUNNING = 10645
    PERL5_CPAN_IS_RUNNING = 10645
    SHELL = /bin/bash
    TERM = xterm-256color

Perl special variables (and OS-specific diagnostics, for MSWin32):

    $^X = /usr/local/bin/perl
    $UID/$EUID = 0 / 0
    $GID = 0 0 1 2 3 4 5 8 9 12 20 29 61 80
    $EGID = 0 0 1 2 3 4 5 8 9 12 20 29 61 80

Perl module toolchain versions installed:

    Module              Have    
    ------------------- --------
    CPAN                2.00    
    CPAN::Meta          2.133380
    Cwd                 3.40    
    ExtUtils::CBuilder  0.280210
    ExtUtils::Command   1.17    
    ExtUtils::Install   1.59    
    ExtUtils::MakeMaker 6.66    
    ExtUtils::Manifest  1.63    
    ExtUtils::ParseXS   3.22    
    File::Spec          3.40    
    JSON                2.90    
    JSON::PP            2.27202 
    Module::Build       0.4205  
    Module::Signature   n/a     
    Parse::CPAN::Meta   1.4404  
    Test::Harness       3.30    
    Test::More          1.001002
    YAML                n/a     
    YAML::Syck          n/a     
    version             0.9902  


--

Summary of my perl5 (revision 5 version 18 subversion 2) configuration:
   
  Platform:
    osname=darwin, osvers=13.1.0, archname=darwin-2level
    uname='darwin ppxl-dyn-132.puurpxl.lan 13.1.0 darwin kernel version 13.1.0: thu jan 16 19:40:37 pst 2014; root:xnu-2422.90.20~2release_x86_64 x86_64 '
    config_args='-Dinc_version_list=none -de'
    hint=recommended, useposix=true, d_sigaction=define
    useithreads=undef, usemultiplicity=undef
    useperlio=define, d_sfio=undef, uselargefiles=define, usesocks=undef
    use64bitint=define, use64bitall=define, uselongdouble=undef
    usemymalloc=n, bincompat5005=undef
  Compiler:
    cc='cc', ccflags ='-fno-common -DPERL_DARWIN -fno-strict-aliasing -pipe -fstack-protector -I/usr/local/include -I/opt/local/include',
    optimize='-O3',
    cppflags='-fno-common -DPERL_DARWIN -fno-strict-aliasing -pipe -fstack-protector -I/usr/local/include -I/opt/local/include'
    ccversion='', gccversion='4.2.1 Compatible Apple LLVM 5.0 (clang-500.2.79)', gccosandvers=''
    intsize=4, longsize=8, ptrsize=8, doublesize=8, byteorder=12345678
    d_longlong=define, longlongsize=8, d_longdbl=define, longdblsize=16
    ivtype='long', ivsize=8, nvtype='double', nvsize=8, Off_t='off_t', lseeksize=8
    alignbytes=8, prototype=define
  Linker and Libraries:
    ld='env MACOSX_DEPLOYMENT_TARGET=10.3 cc', ldflags =' -fstack-protector -L/usr/local/lib -L/opt/local/lib'
    libpth=/usr/local/lib /opt/local/lib /usr/lib
    libs=-lgdbm -ldbm -ldl -lm -lutil -lc
    perllibs=-ldl -lm -lutil -lc
    libc=, so=dylib, useshrplib=false, libperl=libperl.a
    gnulibc_version=''
  Dynamic Linking:
    dlsrc=dl_dlopen.xs, dlext=bundle, d_dlsymun=undef, ccdlflags=' '
    cccdlflags=' ', lddlflags=' -bundle -undefined dynamic_lookup -L/usr/local/lib -L/opt/local/lib -fstack-protector'


Characteristics of this binary (from libperl): 
  Compile-time options: HAS_TIMES PERLIO_LAYERS PERL_DONT_CREATE_GVSV
                        PERL_HASH_FUNC_ONE_AT_A_TIME_HARD PERL_MALLOC_WRAP
                        PERL_PRESERVE_IVUV PERL_SAWAMPERSAND USE_64_BIT_ALL
                        USE_64_BIT_INT USE_LARGE_FILES USE_LOCALE
                        USE_LOCALE_COLLATE USE_LOCALE_CTYPE
                        USE_LOCALE_NUMERIC USE_PERLIO USE_PERL_ATOF
  Built under darwin
  Compiled at Mar  4 2014 11:52:02
  %ENV:
    PERL5LIB=""
    PERL5OPT=""
    PERL5_CPANPLUS_IS_RUNNING="10645"
    PERL5_CPAN_IS_RUNNING="10645"
  @INC:
    /usr/local/lib/perl5/site_perl/5.18.2/darwin-2level
    /usr/local/lib/perl5/site_perl/5.18.2
    /usr/local/lib/perl5/5.18.2/darwin-2level
    /usr/local/lib/perl5/5.18.2
    .