Text-Matrix v1.00 Perl 5 v5.20.2 x86_64-linux-thread-multi

Status
Pass
From
Slaven Rezić (SREZIC)
Dist
Text-Matrix v1.00
Platform
Perl 5 v5.20.2 x86_64-linux-thread-multi
Date
2017-11-13 21:57:58
ID
b6198d92-c8bd-11e7-947c-e34f47c913c9
This distribution has been tested as part of the CPAN Testers
project, supporting the Perl programming language.  See
http://wiki.cpantesters.org/ for more information or email
questions to cpan-testers-discuss@perl.org


--
Dear Sam Graham,

This is a computer-generated report for Text-Matrix-1.00
on perl 5.20.2, created by CPAN-Reporter-1.2018.

Thank you for uploading your work to CPAN.  Congratulations!
All tests were successful.

Sections of this report:

    * Tester comments
    * Program output
    * Prerequisites
    * Environment and other context

------------------------------
TESTER COMMENTS
------------------------------

Additional comments from tester:

none provided

------------------------------
PROGRAM OUTPUT
------------------------------

Output from './Build test':

# Testing Text::Matrix 1.00, Perl 5.020002, /bbbike/perl-5.20.2t/bin/perl
t/00-load.t ......... ok
t/10-constructor.t .. ok
t/50-output.t ....... ok
t/60-examples.t ..... ok
All tests successful.
Files=4, Tests=55,  0 wallclock secs ( 0.01 usr  0.03 sys +  0.11 cusr  0.02 csys =  0.17 CPU)
Result: PASS

------------------------------
PREREQUISITES
------------------------------

Prerequisite modules loaded:

requires:

    Module          Need Have    
    --------------- ---- --------
    List::MoreUtils 0    0.426   
    List::Util      0    1.38    
    Storable        0    2.49_01 

build_requires:

    Module          Need Have    
    --------------- ---- --------
    Test::Exception 0    0.43    
    Test::More      0    1.001014

configure_requires:

    Module          Need Have    
    --------------- ---- --------
    Module::Build   0.23 0.4224  


------------------------------
ENVIRONMENT AND OTHER CONTEXT
------------------------------

Environment variables:

    LANG = C
    PATH = /usr/local/bin:/usr/bin:/bin:/usr/local/sbin:/usr/sbin:/sbin:/home/cpansand/bin/linux-gnu:/home/cpansand/bin/sh:/home/cpansand/bin:/usr/games:/home/cpansand/devel:/home/eserte/src/srezic-misc/scripts
    PERL5LIB = /home/cpansand/.cpan/build/2017111215/Test-Exception-0.43-6jUbbp/blib/arch:/home/cpansand/.cpan/build/2017111215/Test-Exception-0.43-6jUbbp/blib/lib:/home/cpansand/.cpan/build/2017111215/Sub-Uplevel-0.2800-sLmCL0/blib/arch:/home/cpansand/.cpan/build/2017111215/Sub-Uplevel-0.2800-sLmCL0/blib/lib:/home/cpansand/.cpan/build/2017111215/List-MoreUtils-0.426-c8UrRb/blib/arch:/home/cpansand/.cpan/build/2017111215/List-MoreUtils-0.426-c8UrRb/blib/lib:/home/cpansand/.cpan/build/2017111215/List-MoreUtils-XS-0.426-gUkieE/blib/arch:/home/cpansand/.cpan/build/2017111215/List-MoreUtils-XS-0.426-gUkieE/blib/lib:/home/cpansand/.cpan/build/2017111215/XSLoader-0.24-aHNouR/blib/arch:/home/cpansand/.cpan/build/2017111215/XSLoader-0.24-aHNouR/blib/lib:/home/cpansand/.cpan/build/2017111215/Exporter-Tiny-1.000000-zGDyBs/blib/arch:/home/cpansand/.cpan/build/2017111215/Exporter-Tiny-1.000000-zGDyBs/blib/lib
    PERL5OPT = 
    PERL5_CPANPLUS_IS_RUNNING = 26813
    PERL5_CPAN_IS_RUNNING = 26813
    PERL5_CPAN_IS_RUNNING_IN_RECURSION = 5883,26813
    PERLDOC = -MPod::Perldoc::ToTextOverstrike
    PERL_BATCH = yes
    PERL_CANARY_STABILITY_NOPROMPT = 1
    PERL_CPAN_REPORTER_CONFIG = /var/tmp/cpansmoker-1023/2017111215/cpanreporter_001_config.ini
    PERL_EXTUTILS_AUTOINSTALL = --defaultdeps
    SHELL = /bin/zsh
    TERM = screen
    TMPDIR = /var/tmp/cpansmoker-1023/2017111215

Perl special variables (and OS-specific diagnostics, for MSWin32):

    $^X = /bbbike/perl-5.20.2t/bin/perl
    $UID/$EUID = 1023 / 1023
    $GID = 1023 1023
    $EGID = 1023 1023

Perl module toolchain versions installed:

    Module              Have    
    ------------------- --------
    CPAN                2.05    
    CPAN::Meta          2.150010
    Cwd                 3.48_01 
    ExtUtils::CBuilder  0.280217
    ExtUtils::Command   1.18    
    ExtUtils::Install   1.67    
    ExtUtils::MakeMaker 6.98    
    ExtUtils::Manifest  1.63    
    ExtUtils::ParseXS   3.24    
    File::Spec          3.48_01 
    JSON                n/a     
    JSON::PP            2.27400 
    Module::Build       0.4224  
    Module::Signature   n/a     
    Parse::CPAN::Meta   2.150010
    Test::Harness       3.30    
    Test::More          1.001014
    YAML                1.15    
    YAML::Syck          1.29    
    version             0.9909  


--

Summary of my perl5 (revision 5 version 20 subversion 2) configuration:
   
  Platform:
    osname=linux, osvers=3.16.0-4-amd64, archname=x86_64-linux-thread-multi
    uname='linux eserte 3.16.0-4-amd64 #1 smp debian 3.16.7-ckt25-2 (2016-04-08) x86_64 gnulinux '
    config_args='-ds -e -Dprefix=/opt/perl-5.20.2t -Dusethreads -Dcf_email=srezic@cpan.org'
    hint=recommended, useposix=true, d_sigaction=define
    useithreads=define, usemultiplicity=define
    use64bitint=define, use64bitall=define, uselongdouble=undef
    usemymalloc=n, bincompat5005=undef
  Compiler:
    cc='cc', ccflags ='-D_REENTRANT -D_GNU_SOURCE -fwrapv -fno-strict-aliasing -pipe -fstack-protector -I/usr/local/include -D_LARGEFILE_SOURCE -D_FILE_OFFSET_BITS=64',
    optimize='-O2',
    cppflags='-D_REENTRANT -D_GNU_SOURCE -fwrapv -fno-strict-aliasing -pipe -fstack-protector -I/usr/local/include'
    ccversion='', gccversion='4.9.2', gccosandvers=''
    intsize=4, longsize=8, ptrsize=8, doublesize=8, byteorder=12345678
    d_longlong=define, longlongsize=8, d_longdbl=define, longdblsize=16
    ivtype='long', ivsize=8, nvtype='double', nvsize=8, Off_t='off_t', lseeksize=8
    alignbytes=8, prototype=define
  Linker and Libraries:
    ld='cc', ldflags =' -fstack-protector -L/usr/local/lib'
    libpth=/usr/local/lib /usr/lib/gcc/x86_64-linux-gnu/4.9/include-fixed /usr/include/x86_64-linux-gnu /usr/lib /lib/x86_64-linux-gnu /lib/../lib /usr/lib/x86_64-linux-gnu /usr/lib/../lib /lib
    libs=-lnsl -lgdbm -ldb -ldl -lm -lcrypt -lutil -lpthread -lc -lgdbm_compat
    perllibs=-lnsl -ldl -lm -lcrypt -lutil -lpthread -lc
    libc=libc-2.19.so, so=so, useshrplib=false, libperl=libperl.a
    gnulibc_version='2.19'
  Dynamic Linking:
    dlsrc=dl_dlopen.xs, dlext=so, d_dlsymun=undef, ccdlflags='-Wl,-E'
    cccdlflags='-fPIC', lddlflags='-shared -O2 -L/usr/local/lib -fstack-protector'


Characteristics of this binary (from libperl): 
  Compile-time options: HAS_TIMES MULTIPLICITY PERLIO_LAYERS
                        PERL_DONT_CREATE_GVSV
                        PERL_HASH_FUNC_ONE_AT_A_TIME_HARD
                        PERL_IMPLICIT_CONTEXT PERL_MALLOC_WRAP
                        PERL_NEW_COPY_ON_WRITE PERL_PRESERVE_IVUV
                        USE_64_BIT_ALL USE_64_BIT_INT USE_ITHREADS
                        USE_LARGE_FILES USE_LOCALE USE_LOCALE_COLLATE
                        USE_LOCALE_CTYPE USE_LOCALE_NUMERIC USE_PERLIO
                        USE_PERL_ATOF USE_REENTRANT_API
  Built under linux
  Compiled at May  7 2016 17:52:22
  %ENV:
    PERL5LIB="/home/cpansand/.cpan/build/2017111215/Test-Exception-0.43-6jUbbp/blib/arch:/home/cpansand/.cpan/build/2017111215/Test-Exception-0.43-6jUbbp/blib/lib:/home/cpansand/.cpan/build/2017111215/Sub-Uplevel-0.2800-sLmCL0/blib/arch:/home/cpansand/.cpan/build/2017111215/Sub-Uplevel-0.2800-sLmCL0/blib/lib:/home/cpansand/.cpan/build/2017111215/List-MoreUtils-0.426-c8UrRb/blib/arch:/home/cpansand/.cpan/build/2017111215/List-MoreUtils-0.426-c8UrRb/blib/lib:/home/cpansand/.cpan/build/2017111215/List-MoreUtils-XS-0.426-gUkieE/blib/arch:/home/cpansand/.cpan/build/2017111215/List-MoreUtils-XS-0.426-gUkieE/blib/lib:/home/cpansand/.cpan/build/2017111215/XSLoader-0.24-aHNouR/blib/arch:/home/cpansand/.cpan/build/2017111215/XSLoader-0.24-aHNouR/blib/lib:/home/cpansand/.cpan/build/2017111215/Exporter-Tiny-1.000000-zGDyBs/blib/arch:/home/cpansand/.cpan/build/2017111215/Exporter-Tiny-1.000000-zGDyBs/blib/lib"
    PERL5OPT=""
    PERL5_CPANPLUS_IS_RUNNING="26813"
    PERL5_CPAN_IS_RUNNING="26813"
    PERL5_CPAN_IS_RUNNING_IN_RECURSION="5883,26813"
    PERLDOC="-MPod::Perldoc::ToTextOverstrike"
    PERL_BATCH="yes"
    PERL_CANARY_STABILITY_NOPROMPT="1"
    PERL_CPAN_REPORTER_CONFIG="/var/tmp/cpansmoker-1023/2017111215/cpanreporter_001_config.ini"
    PERL_EXTUTILS_AUTOINSTALL="--defaultdeps"
  @INC:
    /home/cpansand/.cpan/build/2017111215/Test-Exception-0.43-6jUbbp/blib/arch
    /home/cpansand/.cpan/build/2017111215/Test-Exception-0.43-6jUbbp/blib/lib
    /home/cpansand/.cpan/build/2017111215/Sub-Uplevel-0.2800-sLmCL0/blib/arch
    /home/cpansand/.cpan/build/2017111215/Sub-Uplevel-0.2800-sLmCL0/blib/lib
    /home/cpansand/.cpan/build/2017111215/List-MoreUtils-0.426-c8UrRb/blib/arch
    /home/cpansand/.cpan/build/2017111215/List-MoreUtils-0.426-c8UrRb/blib/lib
    /home/cpansand/.cpan/build/2017111215/List-MoreUtils-XS-0.426-gUkieE/blib/arch
    /home/cpansand/.cpan/build/2017111215/List-MoreUtils-XS-0.426-gUkieE/blib/lib
    /home/cpansand/.cpan/build/2017111215/XSLoader-0.24-aHNouR/blib/arch
    /home/cpansand/.cpan/build/2017111215/XSLoader-0.24-aHNouR/blib/lib
    /home/cpansand/.cpan/build/2017111215/Exporter-Tiny-1.000000-zGDyBs/blib/arch
    /home/cpansand/.cpan/build/2017111215/Exporter-Tiny-1.000000-zGDyBs/blib/lib
    /opt/perl-5.20.2t/lib/site_perl/5.20.2/x86_64-linux-thread-multi
    /opt/perl-5.20.2t/lib/site_perl/5.20.2
    /opt/perl-5.20.2t/lib/5.20.2/x86_64-linux-thread-multi
    /opt/perl-5.20.2t/lib/5.20.2
    .