Archive-Zip-SimpleZip v1.000 Perl 5 v5.39.9 x86_64-dragonfly-thread-multi
- Status
- Pass
- From
- Carlos Guevara
- Dist
-
Archive-Zip-SimpleZip v1.000
- Platform
- Perl 5 v5.39.9 x86_64-dragonfly-thread-multi
- Date
- 2024-03-08 01:18:03
- ID
- b600f2cc-dce9-11ee-80a5-a1fde29d50ea
This distribution has been tested as part of the CPAN Testers
project, supporting the Perl programming language. See
http://wiki.cpantesters.org/ for more information or email
questions to cpan-testers-discuss@perl.org
--
Dear Paul Marquess,
This is a computer-generated report for Archive-Zip-SimpleZip-1.000
on perl 5.39.9, created by CPAN-Reporter-1.2019.
Thank you for uploading your work to CPAN. Congratulations!
All tests were successful.
Sections of this report:
* Tester comments
* Program output
* Prerequisites
* Environment and other context
------------------------------
TESTER COMMENTS
------------------------------
Additional comments from tester:
this report is from an automated smoke testing program
and was not reviewed by a human for accuracy
------------------------------
PROGRAM OUTPUT
------------------------------
Output from '/usr/bin/make test':
PERL_DL_NONLAZY=1 "/home/cpan/bin/perl/bin/perl5.39.9" "-MExtUtils::Command::MM" "-MTest::Harness" "-e" "undef *Test::Harness::Switches; test_harness(0, 'blib/lib', 'blib/arch')" t/*.t
Old package separator "'" deprecated at t/Test/More.pm line 364.
#
#
# perl 5.039009
# Archive::Zip::SimpleZip 1.000
# Archive::Zip::SimpleUnzip 1.000
# IO::Compress::Base 2.207
# IO::Compress::Zip 2.207
# IO::Compress::Bzip2 2.207
# IO::Compress::Lzma 2.207
# IO::Compress::Xz 2.207
# IO::Compress::Zstd Not Installed
# IO::Uncompress::Base 2.207
# IO::Uncompress::Unzip 2.207
# IO::Uncompress::Bunzip2 2.207
# IO::Uncompress::UnLzma 2.207
# IO::Uncompress::UnXz 2.207
# IO::Uncompress::UnZstd Not Installed
# Compress::Raw::Zlib 2.209
# Compress::Raw::Bzip2 2.21
# Compress::Raw::Lzma 2.209
# Compress::Stream::Zstd Not Installed
# zlib 1.3.1
# bzip2 1.0.8, 13-Jul-2019
# lzma 5.2.5
#
#
t/000prereq.t ............. ok
Old package separator "'" deprecated at t/Test/More.pm line 364.
t/001main.t ............... ok
Old package separator "'" deprecated at t/Test/More.pm line 364.
t/010main-unzip.t ......... ok
Old package separator "'" deprecated at t/Test/More.pm line 364.
t/020main-unzip-stream.t .. ok
Old package separator "'" deprecated at t/Test/More.pm line 364.
t/111const-deflate.t ...... ok
Old package separator "'" deprecated at t/Test/More.pm line 364.
t/999pod.t ................ ok
t/meta-json.t ............. ok
t/meta-yaml.t ............. ok
All tests successful.
Files=8, Tests=24361, 10 wallclock secs ( 1.05 usr 0.21 sys + 3.29 cusr 5.71 csys = 10.27 CPU)
Result: PASS
------------------------------
PREREQUISITES
------------------------------
Prerequisite modules loaded:
requires:
Module Need Have
-------------------------- ----- -----
IO::Compress::Base 2.201 2.207
IO::Compress::Bzip2 2.201 2.207
IO::Compress::Lzma 2.201 2.207
IO::Compress::RawDeflate 2.201 2.207
IO::Compress::Xz 2.201 2.207
IO::Compress::Zip 2.201 2.207
IO::Uncompress::Base 2.201 2.207
IO::Uncompress::RawInflate 2.201 2.207
IO::Uncompress::Unzip 2.201 2.207
Perl::OSType 0 1.010
build_requires:
Module Need Have
-------------------------- ----- -----
ExtUtils::MakeMaker 0 7.70
configure_requires:
Module Need Have
-------------------------- ----- -----
ExtUtils::MakeMaker 0 7.70
------------------------------
ENVIRONMENT AND OTHER CONTEXT
------------------------------
Environment variables:
AUTOMATED_TESTING = 1
DATE_MANIP_TEST_DM5 = 1
LC_ALL = C
NONINTERACTIVE_TESTING = 1
NO_NETWORK_TESTING = 1
PATH = /home/cpan/bin/perl/bin:/home/cpan/bin:/sbin:/bin:/usr/sbin:/usr/bin:/usr/games:/usr/local/sbin:/usr/local/bin:/usr/pkg/sbin:/usr/pkg/bin:/home/cpan/bin
PERL5LIB =
PERL5OPT =
PERL5_CPANPLUS_IS_RUNNING = 469082
PERL5_CPAN_IS_RUNNING = 469082
PERL_MM_USE_DEFAULT = 1
PERL_USE_UNSAFE_INC = 1
SHELL = /usr/local/bin/bash
TERM = screen
TMPDIR = /home/cpan/tmp
Perl special variables (and OS-specific diagnostics, for MSWin32):
$^X = /home/cpan/bin/perl/bin/perl5.39.9
$UID/$EUID = 1002 / 1002
$GID = 1002 1002
$EGID = 1002 1002
Perl module toolchain versions installed:
Module Have
------------------- --------
CPAN 2.36
CPAN::Meta 2.150010
Cwd 3.90
ExtUtils::CBuilder 0.280240
ExtUtils::Command 7.70
ExtUtils::Install 2.22
ExtUtils::MakeMaker 7.70
ExtUtils::Manifest 1.75
ExtUtils::ParseXS 3.51
File::Spec 3.90
JSON 4.10
JSON::PP 4.16
Module::Build 0.4234
Module::Signature 0.88
Parse::CPAN::Meta 2.150010
Test2 1.302198
Test::Harness 3.48
Test::More 1.302198
YAML 1.31
YAML::Syck 1.34
version 0.9930
--
Summary of my perl5 (revision 5 version 39 subversion 9) configuration:
Commit id: 5bf3e10566acc81b77c64c51b77459ebc1292e25
Platform:
osname=dragonfly
osvers=6.4-release
archname=x86_64-dragonfly-thread-multi
uname='dragonfly cjg-dragonfly6 6.4-release dragonfly v6.4.0-release #54: fri dec 30 09:06:50 pst 2022 root@pkgbox64.dragonflybsd.org:usrobjusrsrcsysx86_64_generic x86_64 '
config_args='-des -Dprefix=/home/cpan/bin/perl -Dscriptdir=/home/cpan/bin/perl/bin -Dusedevel -Duse64bitall -Duseithreads'
hint=recommended
useposix=true
d_sigaction=define
useithreads=define
usemultiplicity=define
use64bitint=define
use64bitall=define
uselongdouble=undef
usemymalloc=n
default_inc_excludes_dot=define
Compiler:
cc='cc'
ccflags ='-DHAS_FPSETMASK -DHAS_FLOATINGPOINT_H -DNO_POSIX_2008 -fwrapv -fno-strict-aliasing -pipe -fstack-protector-strong -I/usr/local/include -D_FORTIFY_SOURCE=2'
optimize='-O2'
cppflags='-DHAS_FPSETMASK -DHAS_FLOATINGPOINT_H -DNO_POSIX_2008 -fwrapv -fno-strict-aliasing -pipe -fstack-protector-strong -I/usr/local/include'
ccversion=''
gccversion='8.3 [DragonFly] Release/2019-02-22'
gccosandvers=''
intsize=4
longsize=8
ptrsize=8
doublesize=8
byteorder=12345678
doublekind=3
d_longlong=define
longlongsize=8
d_longdbl=define
longdblsize=16
longdblkind=3
ivtype='long'
ivsize=8
nvtype='double'
nvsize=8
Off_t='off_t'
lseeksize=8
alignbytes=8
prototype=define
Linker and Libraries:
ld='cc'
ldflags ='-pthread -Wl,-E -fstack-protector-strong -L/usr/local/lib'
libpth=/usr/lib /usr/local/lib
libs=-lpthread -ldl -lm -lcrypt -lutil -lc
perllibs=-lpthread -ldl -lm -lcrypt -lutil -lc
libc=
so=so
useshrplib=false
libperl=libperl.a
gnulibc_version=''
Dynamic Linking:
dlsrc=dl_dlopen.xs
dlext=so
d_dlsymun=undef
ccdlflags=' '
cccdlflags='-DPIC -fPIC'
lddlflags='-shared -L/usr/local/lib -fstack-protector-strong'
Characteristics of this binary (from libperl):
Compile-time options:
HAS_LONG_DOUBLE
HAS_STRTOLD
HAS_TIMES
MULTIPLICITY
PERLIO_LAYERS
PERL_COPY_ON_WRITE
PERL_DONT_CREATE_GVSV
PERL_HASH_FUNC_SIPHASH13
PERL_HASH_USE_SBOX32
PERL_MALLOC_WRAP
PERL_OP_PARENT
PERL_PRESERVE_IVUV
PERL_USE_DEVEL
PERL_USE_SAFE_PUTENV
USE_64_BIT_ALL
USE_64_BIT_INT
USE_ITHREADS
USE_LARGE_FILES
USE_LOCALE
USE_LOCALE_COLLATE
USE_LOCALE_CTYPE
USE_LOCALE_NUMERIC
USE_LOCALE_TIME
USE_PERLIO
USE_PERL_ATOF
USE_REENTRANT_API
USE_THREAD_SAFE_LOCALE
Built under dragonfly
Compiled at Mar 7 2024 12:14:48
%ENV:
PERL5LIB=""
PERL5OPT=""
PERL5_CPANPLUS_IS_RUNNING="469082"
PERL5_CPAN_IS_RUNNING="469082"
PERL_MM_USE_DEFAULT="1"
PERL_USE_UNSAFE_INC="1"
@INC:
/home/cpan/bin/perl/lib/site_perl/5.39.9/x86_64-dragonfly-thread-multi
/home/cpan/bin/perl/lib/site_perl/5.39.9
/home/cpan/bin/perl/lib/5.39.9/x86_64-dragonfly-thread-multi
/home/cpan/bin/perl/lib/5.39.9
.