Report for Dist-Zilla-Plugin-Bootstrap-ShareDir-Dist-0.2.3

Back
From: metabase:user:d49cdc72-1559-11e3-9efd-e82414baadac
Subject: PASS Dist-Zilla-Plugin-Bootstrap-ShareDir-Dist-0.2.3 v5.19.5 GNU/Linux
Date: 2013-11-11T04:35:37Z

This distribution has been tested as part of the CPAN Testers
project, supporting the Perl programming language.  See
http://wiki.cpantesters.org/ for more information or email
questions to cpan-testers-discuss@perl.org


--
Dear KENTNL,

This is a computer-generated report for Dist-Zilla-Plugin-Bootstrap-ShareDir-Dist-0.2.3
on perl 5.19.5, created by App::cpanminus::reporter 0.10 (1.7001).

Thank you for uploading your work to CPAN.  Congratulations!
All tests were successful.

Sections of this report:

    * Tester comments
    * Program output
    * Prerequisites
    * Environment and other context

------------------------------
TESTER COMMENTS
------------------------------

Additional comments from tester:

none provided

------------------------------
PROGRAM OUTPUT
------------------------------

Output from '':

Building and testing Dist-Zilla-Plugin-Bootstrap-ShareDir-Dist-0.2.3
Building Dist-Zilla-Plugin-Bootstrap-ShareDir-Dist
# 
# 
# Generated by Dist::Zilla::Plugin::ReportVersions::Tiny v1.09
# perl: 5.019005 (wanted v5.10.0) on linux from /home/kent/perl5/perlbrew/perls/perl-5.19.5/bin/perl5.19.5
# 
# Cwd                                           => 3.45       (want any version)
# Dist::Zilla::Plugin::Bootstrap::lib           => 0.04000001 (want 0.04000000)
# Dist::Zilla::PluginBundle::Author::KENTNL     => 2.001000   (want v1.8.3) 
# Dist::Zilla::PluginBundle::Author::KENTNL::Lite => 1.7.2      (want v1.3.0) 
# Dist::Zilla::Role::Bootstrap                  => 0.2.1      (want any version)
# File::Copy::Recursive                         => 0.38       (want any version)
# File::ShareDir                                => 1.03       (want any version)
# File::Spec                                    => 3.45       (want any version)
# IO::Handle                                    => 1.35       (want any version)
# IPC::Open3                                    => 1.16       (want any version)
# Module::Build                                 => 0.4008     (want 0.4007) 
# Moose                                         => 2.1005     (want any version)
# MooseX::AttributeShortcuts                    => 0.022      (want any version)
# Path::FindDev                                 => 0.4.2      (want any version)
# Path::Tiny                                    => 0.044      (want any version)
# Pod::Coverage::TrustPod                       => 0.100003   (want any version)
# Test::CPAN::Changes                           => 0.25       (want 0.19)   
# Test::CPAN::Meta                              => 0.23       (want any version)
# Test::DZil                                    => 5.006      (want any version)
# Test::Fatal                                   => 0.013      (want any version)
# Test::File::ShareDir::TempDirObject           => 0.3.3      (want any version)
# Test::Kwalitee                                => 1.17       (want 1.08)   
# Test::More                                    => 1.001002   (want 0.98)   
# Test::Pod                                     => 1.48       (want 1.41)   
# Test::Pod::Coverage                           => 1.08       (want 1.08)   
# lib                                           => 0.63       (want any version)
# strict                                        => 1.08       (want any version)
# version                                       => 0.9904     (want 0.9901) 
# warnings                                      => 1.2        (want any version)
# 
# Thanks for using my code.  I hope it works for you.
# If not, please try and include this output in the bug report.
# That will help me reproduce the issue and solve your problem.
# 
t/00-compile.t ..................... ok
t/000-report-versions-tiny.t ....... ok
t/01-basic.t ....................... ok
t/02-try_built.t ................... ok
t/05-try_built_nofallback-pass2.t .. ok
t/04-try_built_nofallback.t ........ ok
t/03-try_built-pass2.t ............. ok
All tests successful.
Files=7, Tests=7,  3 wallclock secs ( 0.04 usr  0.02 sys + 10.04 cusr  1.13 csys = 11.23 CPU)
Result: PASS

------------------------------
PREREQUISITES
------------------------------

Prerequisite modules loaded:

    No requirements found

------------------------------
ENVIRONMENT AND OTHER CONTEXT
------------------------------

Environment variables:

    LC_CTYPE = en_NZ.UTF8
    PATH = /home/kent/perl5/perlbrew/bin:/home/kent/perl5/perlbrew/perls/perl-5.19.5/bin:/home/kent/.perl6/2013.04/bin:/home/kent/.gem/ruby/1.8/bin/:/home/kent/.perl6/2013.04/bin:/home/kent/.gem/ruby/1.8/bin/:/usr/local/bin:/usr/bin:/bin:/opt/bin:/usr/x86_64-pc-linux-gnu/gcc-bin/4.7.3:/usr/games/bin
    PERLBREW_BASHRC_VERSION = 0.61
    PERLBREW_HOME = /home/kent/.perlbrew
    PERLBREW_MANPATH = /home/kent/perl5/perlbrew/perls/perl-5.19.5/man
    PERLBREW_PATH = /home/kent/perl5/perlbrew/bin:/home/kent/perl5/perlbrew/perls/perl-5.19.5/bin
    PERLBREW_PERL = perl-5.19.5
    PERLBREW_ROOT = /home/kent/perl5/perlbrew
    PERLBREW_VERSION = 0.61
    PERL_CPANM_OPT =  --prompt --reinstall --interactive --with-recommends --with-suggests --with-develop --verify
    SHELL = /bin/bash
    TERM = rxvt-unicode-256color

Perl special variables (and OS-specific diagnostics, for MSWin32):

    EGID = 1000 4 6 10 16 18 19 27 35 78 80 85 100 102 103 104 105 114 115 116 117 118 250 994 1000
    EUID = 1000
    EXECUTABLE_NAME = /home/kent/perl5/perlbrew/perls/perl-5.19.5/bin/perl5.19.5
    GID = 1000 4 6 10 16 18 19 27 35 78 80 85 100 102 103 104 105 114 115 116 117 118 250 994 1000
    UID = 1000

Perl module toolchain versions installed:

    Module              Have    
    ------------------- --------
    CPAN                2.03    
    CPAN::Meta          2.132830
    Cwd                 3.45    
    ExtUtils::CBuilder  0.280212
    ExtUtils::Command   1.18    
    ExtUtils::Install   1.61    
    ExtUtils::MakeMaker 6.82    
    ExtUtils::Manifest  1.63    
    ExtUtils::ParseXS   3.22    
    File::Spec          3.45    
    JSON                2.90    
    JSON::PP            2.27203 
    Module::Build       0.4008  
    Module::Signature   n/a     
    Parse::CPAN::Meta   1.4409  
    Test::Harness       3.29    
    Test::More          1.001002
    YAML                0.84    
    YAML::Syck          n/a     
    version             0.9904  


--

Summary of my perl5 (revision 5 version 19 subversion 5) configuration:
   
  Platform:
    osname=linux, osvers=3.12.0-gentoo, archname=x86_64-linux
    uname='linux katipo2 3.12.0-gentoo #54 smp wed nov 6 04:43:49 nzdt 2013 x86_64 intel(r) core(tm) i5-2410m cpu @ 2.30ghz genuineintel gnulinux '
    config_args='-de -Dprefix=/home/kent/perl5/perlbrew/perls/perl-5.19.5 -Dusedevel -Aeval:scriptdir=/home/kent/perl5/perlbrew/perls/perl-5.19.5/bin'
    hint=recommended, useposix=true, d_sigaction=define
    useithreads=undef, usemultiplicity=undef
    useperlio=define, d_sfio=undef, uselargefiles=define, usesocks=undef
    use64bitint=define, use64bitall=define, uselongdouble=undef
    usemymalloc=n, bincompat5005=undef
  Compiler:
    cc='cc', ccflags ='-fno-strict-aliasing -pipe -fstack-protector -D_LARGEFILE_SOURCE -D_FILE_OFFSET_BITS=64',
    optimize='-O2',
    cppflags='-fno-strict-aliasing -pipe -fstack-protector'
    ccversion='', gccversion='4.7.3', gccosandvers=''
    intsize=4, longsize=8, ptrsize=8, doublesize=8, byteorder=12345678
    d_longlong=define, longlongsize=8, d_longdbl=define, longdblsize=16
    ivtype='long', ivsize=8, nvtype='double', nvsize=8, Off_t='off_t', lseeksize=8
    alignbytes=8, prototype=define
  Linker and Libraries:
    ld='cc', ldflags =' -fstack-protector'
    libpth=/lib/../lib64 /usr/lib/../lib64 /lib /usr/lib /lib64 /usr/lib64
    libs=-lnsl -lgdbm -ldb -ldl -lm -lcrypt -lutil -lc -lgdbm_compat
    perllibs=-lnsl -ldl -lm -lcrypt -lutil -lc
    libc=/lib/libc-2.15.so, so=so, useshrplib=false, libperl=libperl.a
    gnulibc_version='2.15'
  Dynamic Linking:
    dlsrc=dl_dlopen.xs, dlext=so, d_dlsymun=undef, ccdlflags='-Wl,-E'
    cccdlflags='-fPIC', lddlflags='-shared -O2 -fstack-protector'


Characteristics of this binary (from libperl): 
  Compile-time options: HAS_TIMES PERLIO_LAYERS PERL_DONT_CREATE_GVSV
                        PERL_HASH_FUNC_ONE_AT_A_TIME_HARD PERL_MALLOC_WRAP
                        PERL_NEW_COPY_ON_WRITE PERL_PRESERVE_IVUV
                        PERL_USE_DEVEL USE_64_BIT_ALL USE_64_BIT_INT
                        USE_LARGE_FILES USE_LOCALE USE_LOCALE_COLLATE
                        USE_LOCALE_CTYPE USE_LOCALE_NUMERIC USE_PERLIO
                        USE_PERL_ATOF
  Built under linux
  Compiled at Nov  9 2013 23:25:24
  %ENV:
    PERLBREW_BASHRC_VERSION="0.61"
    PERLBREW_HOME="/home/kent/.perlbrew"
    PERLBREW_MANPATH="/home/kent/perl5/perlbrew/perls/perl-5.19.5/man"
    PERLBREW_PATH="/home/kent/perl5/perlbrew/bin:/home/kent/perl5/perlbrew/perls/perl-5.19.5/bin"
    PERLBREW_PERL="perl-5.19.5"
    PERLBREW_ROOT="/home/kent/perl5/perlbrew"
    PERLBREW_VERSION="0.61"
    PERL_CPANM_OPT=" --prompt --reinstall --interactive --with-recommends --with-suggests --with-develop --verify"
  @INC:
    /home/kent/perl5/perlbrew/perls/perl-5.19.5/lib/site_perl/5.19.5/x86_64-linux
    /home/kent/perl5/perlbrew/perls/perl-5.19.5/lib/site_perl/5.19.5
    /home/kent/perl5/perlbrew/perls/perl-5.19.5/lib/5.19.5/x86_64-linux
    /home/kent/perl5/perlbrew/perls/perl-5.19.5/lib/5.19.5
    .