Report for POE-Component-SSLify-1.012

Back
From: metabase:user:314402c4-2aae-11df-837a-5e0a49663a4f
Subject: PASS POE-Component-SSLify-1.012 v5.21.7 GNU/Linux
Date: 2015-01-21T07:18:34Z

This distribution has been tested as part of the CPAN Testers
project, supporting the Perl programming language.  See
http://wiki.cpantesters.org/ for more information or email
questions to cpan-testers-discuss@perl.org


--
Dear Apocalypse,

This is a computer-generated report for POE-Component-SSLify-1.012
on perl 5.21.7, created by CPAN-Reporter-1.2011.

Thank you for uploading your work to CPAN.  Congratulations!
All tests were successful.

Sections of this report:

    * Tester comments
    * Program output
    * Prerequisites
    * Environment and other context

------------------------------
TESTER COMMENTS
------------------------------

Additional comments from tester:

none provided

------------------------------
PROGRAM OUTPUT
------------------------------

Output from './Build test':

t/00-compile.t ................ ok

# Versions for all modules listed in MYMETA.json (including optional ones):
# 
# === Configure Requires ===
# 
#     Module               Want  Have
#     ------------------- ----- -----
#     ExtUtils::MakeMaker   any  7.04
#     Module::Build::Tiny 0.039 0.039
# 
# === Test Requires ===
# 
#     Module                          Want         Have
#     --------------------------- -------- ------------
#     ExtUtils::MakeMaker              any         7.04
#     File::Spec                       any         3.53
#     File::Temp                       any       0.2304
#     IO::Handle                      1.28         1.35
#     IPC::Open3                       any         1.18
#     POE                            1.267        1.366
#     POE::Component::Client::TCP      any        1.366
#     POE::Component::Server::TCP      any        1.366
#     POE::Filter::Stream              any        1.366
#     Socket                           any        2.016
#     Test::FailWarnings               any        0.008
#     Test::More                  1.001002 1.301001_090
# 
# === Test Recommends ===
# 
#     Module         Want     Have
#     ---------- -------- --------
#     CPAN::Meta 2.120900 2.143240
# 
# === Runtime Requires ===
# 
#     Module        Want  Have
#     ------------ ----- -----
#     Exporter       any  5.72
#     IO::Handle    1.28  1.35
#     Net::SSLeay   1.36  1.66
#     POE          1.267 1.366
#     Scalar::Util   any  1.41
#     Symbol         any  1.07
#     Task::Weaken  1.03  1.04
#     parent         any 0.228
#     strict         any  1.09
#     warnings       any  1.29
# 
t/00-report-prereqs.t ......... ok

# Net::SSLeay::ver_number is 0x1000105f
# 	OpenSSL 1.0.1e 11 Feb 2013
# 	compiler: gcc -fPIC -DOPENSSL_PIC -DZLIB -DOPENSSL_THREADS -D_REENTRANT -DDSO_DLFCN -DHAVE_DLFCN_H -m64 -DL_ENDIAN -DTERMIO -g -O2 -fstack-protector --param=ssp-buffer-size=4 -Wformat -Werror=format-security -D_FORTIFY_SOURCE=2 -Wl,-z,relro -Wa,--noexecstack -Wall -DMD32_REG_T=int -DOPENSSL_IA32_SSE2 -DOPENSSL_BN_ASM_MONT -DOPENSSL_BN_ASM_MONT5 -DOPENSSL_BN_ASM_GF2m -DSHA1_ASM -DSHA256_ASM -DSHA512_ASM -DMD5_ASM -DAES_ASM -DVPAES_ASM -DBSAES_ASM -DWHIRLPOOL_ASM -DGHASH_ASM
# 	built on: Thu Jan  8 21:12:53 UTC 2015
# 	platform: debian-amd64
# 	pogomips: 47401145
t/00-ssleay-info.t ............ ok
t/99_mire_test.t .............. skipped: AUTHOR TEST
t/apocalypse.t ................ skipped: Test::Apocalypse required for validating the distribution
t/connect_hook.t .............. ok
t/connect_hook_nodata.t ....... ok
t/connfail_client.t ........... ok
t/connfail_server.t ........... ok
t/renegotiate_client.t ........ ok
t/renegotiate_client_pings.t .. ok
t/renegotiate_server.t ........ ok
t/simple.t .................... ok
t/simple_large.t .............. ok
t/simple_parallel.t ........... ok
t/simple_parallel_large.t ..... ok
t/simple_parallel_superbig.t .. skipped: AUTHOR TEST: Can't locate IO/Prompt/Tiny.pm in @INC (you may need to install the IO::Prompt::Tiny module) (@INC contains: /tmpfs/.cpan-build/POE-Component-SSLify-1.012-oxLXFM/blib/arch /tmpfs/.cpan-build/POE-Component-SSLify-1.012-oxLXFM/blib/lib /opt/perl-5.21.7t/lib/site_perl/5.21.7/x86_64-linux-thread-multi /opt/perl-5.21.7t/lib/site_perl/5.21.7 /opt/perl-5.21.7t/lib/5.21.7/x86_64-linux-thread-multi /opt/perl-5.21.7t/lib/5.21.7 .) at (eval 16) line 1.
t/simple_superbig.t ........... skipped: AUTHOR TEST: Can't locate IO/Prompt/Tiny.pm in @INC (you may need to install the IO::Prompt::Tiny module) (@INC contains: /tmpfs/.cpan-build/POE-Component-SSLify-1.012-oxLXFM/blib/arch /tmpfs/.cpan-build/POE-Component-SSLify-1.012-oxLXFM/blib/lib /opt/perl-5.21.7t/lib/site_perl/5.21.7/x86_64-linux-thread-multi /opt/perl-5.21.7t/lib/site_perl/5.21.7 /opt/perl-5.21.7t/lib/5.21.7/x86_64-linux-thread-multi /opt/perl-5.21.7t/lib/5.21.7 .) at (eval 16) line 1.
t/upgrade.t ................... ok
All tests successful.

Test Summary Report
-------------------
t/renegotiate_client_pings.t (Wstat: 0 Tests: 22 Failed: 0)
  TODO passed:   15-17
Files=19, Tests=435,  4 wallclock secs ( 0.07 usr  0.12 sys +  3.39 cusr  0.58 csys =  4.16 CPU)
Result: PASS

------------------------------
PREREQUISITES
------------------------------

Prerequisite modules loaded:

requires:

    Module                      Need     Have        
    --------------------------- -------- ------------
    Exporter                    0        5.72        
    IO::Handle                  1.28     1.35        
    Net::SSLeay                 1.36     1.66        
    parent                      0        0.228       
    perl                        5.006    5.021007    
    POE                         1.267    1.366       
    Scalar::Util                0        1.41        
    strict                      0        1.09        
    Symbol                      0        1.07        
    Task::Weaken                1.03     1.04        
    warnings                    0        1.29        

build_requires:

    Module                      Need     Have        
    --------------------------- -------- ------------
    ExtUtils::MakeMaker         0        7.04        
    File::Spec                  0        3.53        
    File::Temp                  0        0.2304      
    IO::Handle                  1.28     1.35        
    IPC::Open3                  0        1.18        
    perl                        5.006    5.021007    
    POE                         1.267    1.366       
    POE::Component::Client::TCP 0        1.366       
    POE::Component::Server::TCP 0        1.366       
    POE::Filter::Stream         0        1.366       
    Socket                      0        2.016       
    Test::FailWarnings          0        0.008       
    Test::More                  1.001002 1.301001_090

configure_requires:

    Module                      Need     Have        
    --------------------------- -------- ------------
    ExtUtils::MakeMaker         0        7.04        
    Module::Build::Tiny         0.039    0.039       
    perl                        5.006    5.021007    


------------------------------
ENVIRONMENT AND OTHER CONTEXT
------------------------------

Environment variables:

    DBIC_NO_WARN_BAD_PERL = 1
    LANG = C
    PATH = /usr/local/bin:/usr/bin:/bin:/usr/local/sbin:/usr/sbin:/sbin:/home/eserte/bin/linux-gnu:/home/eserte/bin/sh:/home/eserte/bin:/usr/games:/home/eserte/devel:/home/eserte/src/srezic-misc/scripts
    PERL5LIB = 
    PERL5OPT = 
    PERL5_CPANPLUS_IS_RUNNING = 14884
    PERL5_CPAN_IS_RUNNING = 14884
    PERL5_CPAN_IS_RUNNING_IN_RECURSION = 14492,14884
    PERLDOC = -MPod::Perldoc::ToTextOverstrike
    PERL_BATCH = yes
    PERL_CPAN_REPORTER_CONFIG = /var/tmp/cpansmoker-1001/MYba9qEiLj_config.ini
    PERL_EXTUTILS_AUTOINSTALL = --defaultdeps
    PERL_HTML_DISPLAY_CLASS = HTML::Display::Mozilla
    SHELL = /bin/zsh
    TERM = screen
    TMPDIR = /var/tmp/cpansmoker-1001

Perl special variables (and OS-specific diagnostics, for MSWin32):

    $^X = /bbbike/perl-5.21.7t/bin/perl5.21.7
    $UID/$EUID = 1001 / 1001
    $GID = 1001 109 1001
    $EGID = 1001 109 1001

Perl module toolchain versions installed:

    Module              Have        
    ------------------- ------------
    CPAN                2.05        
    CPAN::Meta          2.143240    
    Cwd                 3.54        
    ExtUtils::CBuilder  0.280221    
    ExtUtils::Command   1.18        
    ExtUtils::Install   2.04        
    ExtUtils::MakeMaker 7.04        
    ExtUtils::Manifest  1.69        
    ExtUtils::ParseXS   3.27        
    File::Spec          3.53        
    JSON                2.90        
    JSON::PP            2.27300     
    Module::Build       0.4210      
    Module::Signature   n/a         
    Parse::CPAN::Meta   1.4414      
    Test::Harness       3.34        
    Test::More          1.301001_090
    YAML                1.13        
    YAML::Syck          1.29        
    version             0.9909      


--

Summary of my perl5 (revision 5 version 21 subversion 7) configuration:
   
  Platform:
    osname=linux, osvers=3.2.0-4-amd64, archname=x86_64-linux-thread-multi
    uname='linux eserte 3.2.0-4-amd64 #1 smp debian 3.2.63-2+deb7u2 x86_64 gnulinux '
    config_args='-ds -e -Dprefix=/opt/perl-5.21.7t -Dusedevel -Dusemallocwrap=no -Dusethreads'
    hint=recommended, useposix=true, d_sigaction=define
    useithreads=define, usemultiplicity=define
    use64bitint=define, use64bitall=define, uselongdouble=undef
    usemymalloc=n, bincompat5005=undef
  Compiler:
    cc='cc', ccflags ='-D_REENTRANT -D_GNU_SOURCE -fwrapv -fno-strict-aliasing -pipe -fstack-protector -I/usr/local/include -D_LARGEFILE_SOURCE -D_FILE_OFFSET_BITS=64 -D_FORTIFY_SOURCE=2',
    optimize='-O2',
    cppflags='-D_REENTRANT -D_GNU_SOURCE -fwrapv -fno-strict-aliasing -pipe -fstack-protector -I/usr/local/include'
    ccversion='', gccversion='4.7.2', gccosandvers=''
    intsize=4, longsize=8, ptrsize=8, doublesize=8, byteorder=12345678, doublekind=3
    d_longlong=define, longlongsize=8, d_longdbl=define, longdblsize=16, longdblkind=3
    ivtype='long', ivsize=8, nvtype='double', nvsize=8, Off_t='off_t', lseeksize=8
    alignbytes=8, prototype=define
  Linker and Libraries:
    ld='cc', ldflags =' -fstack-protector -L/usr/local/lib'
    libpth=/usr/local/lib /usr/lib/gcc/x86_64-linux-gnu/4.7/include-fixed /usr/include/x86_64-linux-gnu /usr/lib /lib/x86_64-linux-gnu /lib/../lib /usr/lib/x86_64-linux-gnu /usr/lib/../lib /lib
    libs=-lnsl -ldb -ldl -lm -lcrypt -lutil -lc -lpthread
    perllibs=-lnsl -ldl -lm -lcrypt -lutil -lc -lpthread
    libc=libc-2.13.so, so=so, useshrplib=false, libperl=libperl.a
    gnulibc_version='2.13'
  Dynamic Linking:
    dlsrc=dl_dlopen.xs, dlext=so, d_dlsymun=undef, ccdlflags='-Wl,-E'
    cccdlflags='-fPIC', lddlflags='-shared -O2 -L/usr/local/lib -fstack-protector'


Characteristics of this binary (from libperl): 
  Compile-time options: HAS_TIMES MULTIPLICITY PERLIO_LAYERS
                        PERL_DONT_CREATE_GVSV
                        PERL_HASH_FUNC_ONE_AT_A_TIME_HARD
                        PERL_IMPLICIT_CONTEXT PERL_NEW_COPY_ON_WRITE
                        PERL_PRESERVE_IVUV PERL_USE_DEVEL USE_64_BIT_ALL
                        USE_64_BIT_INT USE_ITHREADS USE_LARGE_FILES
                        USE_LOCALE USE_LOCALE_COLLATE USE_LOCALE_CTYPE
                        USE_LOCALE_NUMERIC USE_LOCALE_TIME USE_PERLIO
                        USE_PERL_ATOF USE_REENTRANT_API
  Built under linux
  Compiled at Dec 21 2014 13:09:05
  %ENV:
    PERL5LIB=""
    PERL5OPT=""
    PERL5_CPANPLUS_IS_RUNNING="14884"
    PERL5_CPAN_IS_RUNNING="14884"
    PERL5_CPAN_IS_RUNNING_IN_RECURSION="14492,14884"
    PERLDOC="-MPod::Perldoc::ToTextOverstrike"
    PERL_BATCH="yes"
    PERL_CPAN_REPORTER_CONFIG="/var/tmp/cpansmoker-1001/MYba9qEiLj_config.ini"
    PERL_EXTUTILS_AUTOINSTALL="--defaultdeps"
    PERL_HTML_DISPLAY_CLASS="HTML::Display::Mozilla"
  @INC:
    /opt/perl-5.21.7t/lib/site_perl/5.21.7/x86_64-linux-thread-multi
    /opt/perl-5.21.7t/lib/site_perl/5.21.7
    /opt/perl-5.21.7t/lib/5.21.7/x86_64-linux-thread-multi
    /opt/perl-5.21.7t/lib/5.21.7
    .