Reaction v0.002005 Perl 5 v5.41.13 i86pc-solaris-thread-multi-64
- Status
- Pass
- From
- Carlos Guevara
- Dist
-
Reaction v0.002005
- Platform
- Perl 5 v5.41.13 i86pc-solaris-thread-multi-64
- Date
- 2025-05-21 09:12:25
- ID
- b5c90e40-3623-11f0-a59f-f12942468a86
This distribution has been tested as part of the CPAN Testers
project, supporting the Perl programming language. See
http://wiki.cpantesters.org/ for more information or email
questions to cpan-testers-discuss@perl.org
--
Dear Justin Hunter,
This is a computer-generated report for Reaction-0.002005
on perl 5.41.13, created by CPAN-Reporter-1.2020.
Thank you for uploading your work to CPAN. Congratulations!
All tests were successful.
Sections of this report:
* Tester comments
* Program output
* Prerequisites
* Environment and other context
------------------------------
TESTER COMMENTS
------------------------------
Additional comments from tester:
this report is from an automated smoke testing program
and was not reviewed by a human for accuracy
------------------------------
PROGRAM OUTPUT
------------------------------
Output from '/usr/bin/make test':
PERL_DL_NONLAZY=1 "/export/home/cpan/bin/perl/bin/perl5.41.13" "-MExtUtils::Command::MM" "-MTest::Harness" "-e" "undef *Test::Harness::Switches; test_harness(0, 'inc', 'blib/lib', 'blib/arch')" t/00componentui_compiles.t t/01app.t t/04load_all.t t/05reflect_attr_from.t t/im_dbic.t t/ui_focus_stack.t t/ui_view.t t/ui_viewport.t t/uncheck_bool_field.t
Attempt to call undefined import method with arguments ("5.80") via package "Catalyst::Runtime" (Perhaps you forgot to load the package?) at /export/home/cpan/.cpan/build/Reaction-0.002005-0/blib/lib/ComponentUI.pm line 6.
Class::MOP::load_class is deprecated at /export/home/cpan/bin/perl/lib/site_perl/5.41.13/i86pc-solaris-thread-multi-64/Class/MOP.pm line 69.
Class::MOP::load_class("ComponentUI::TestModel") called at /export/home/cpan/.cpan/build/Reaction-0.002005-0/blib/lib/Catalyst/Model/Reaction/InterfaceModel/DBIC.pm line 24
Catalyst::Model::Reaction::InterfaceModel::DBIC::COMPONENT("ComponentUI::Model::TestModel", "ComponentUI", HASH(0x65d2368)) called at /export/home/cpan/bin/perl/lib/site_perl/5.41.13/Catalyst.pm line 3240
eval {...} called at /export/home/cpan/bin/perl/lib/site_perl/5.41.13/Catalyst.pm line 3241
Catalyst::setup_component("ComponentUI", "ComponentUI::Model::TestModel") called at /export/home/cpan/bin/perl/lib/site_perl/5.41.13/Catalyst.pm line 3218
Catalyst::__ANON__() called at /export/home/cpan/bin/perl/lib/site_perl/5.41.13/Catalyst.pm line 3065
Catalyst::setup_components("ComponentUI") called at /export/home/cpan/bin/perl/lib/site_perl/5.41.13/Catalyst.pm line 1438
Catalyst::setup("ComponentUI") called at /export/home/cpan/.cpan/build/Reaction-0.002005-0/blib/lib/ComponentUI.pm line 32
require ComponentUI.pm called at t/00componentui_compiles.t line 7
main::BEGIN() called at t/00componentui_compiles.t line 7
eval {...} called at t/00componentui_compiles.t line 7
eval 'package main;
BEGIN { ${^WARNING_BITS} = $args[-1] if defined $args[-1] }
#line 7 t/00componentui_compiles.t
use ComponentUI @{$args[0]};
1;
' called at /export/home/cpan/bin/perl/lib/site_perl/5.41.13/Test/More.pm line 1056
Test::More::_eval("package main;\x{a}BEGIN { \${^WARNING_BITS} = \$args[-1] if defined"..., ARRAY(0xbfb190), "UUUUUUUUUUUUUUUUUUUU") called at /export/home/cpan/bin/perl/lib/site_perl/5.41.13/Test/More.pm line 1031
Test::More::use_ok("ComponentUI") called at t/00componentui_compiles.t line 7
Class::MOP::load_class is deprecated at /export/home/cpan/bin/perl/lib/site_perl/5.41.13/i86pc-solaris-thread-multi-64/Class/MOP.pm line 69.
Class::MOP::load_class("Reaction::InterfaceModel::Object") called at /export/home/cpan/.cpan/build/Reaction-0.002005-0/blib/lib/Reaction/InterfaceModel/Reflector/DBIC.pm line 149
Reaction::InterfaceModel::Reflector::DBIC::reflect_schema(Reaction::InterfaceModel::Reflector::DBIC=HASH(0x7022000), "model_class", "ComponentUI::TestModel", "schema_class", "RTest::TestDB", "sources", ARRAY(0x71c0c98)) called at /export/home/cpan/.cpan/build/Reaction-0.002005-0/blib/lib/ComponentUI/TestModel.pm line 10
require ComponentUI/TestModel.pm called at /export/home/cpan/bin/perl/lib/site_perl/5.41.13/Module/Runtime.pm line 120
Module::Runtime::require_module("ComponentUI::TestModel") called at /export/home/cpan/bin/perl/lib/site_perl/5.41.13/Class/Load.pm line 174
Class::Load::try {...} () called at /export/home/cpan/bin/perl/lib/site_perl/5.41.13/Try/Tiny.pm line 98
eval {...} called at /export/home/cpan/bin/perl/lib/site_perl/5.41.13/Try/Tiny.pm line 93
Try::Tiny::try(CODE(0x37b7920), Try::Tiny::Catch=REF(0x66758c8)) called at /export/home/cpan/bin/perl/lib/site_perl/5.41.13/Class/Load.pm line 180
Class::Load::try_load_class("ComponentUI::TestModel", undef) called at /export/home/cpan/bin/perl/lib/site_perl/5.41.13/Class/Load.pm line 35
Class::Load::load_class("ComponentUI::TestModel") called at /export/home/cpan/.cpan/build/Reaction-0.002005-0/blib/lib/Catalyst/Model/Reaction/InterfaceModel/DBIC.pm line 24
Catalyst::Model::Reaction::InterfaceModel::DBIC::COMPONENT("ComponentUI::Model::TestModel", "ComponentUI", HASH(0x65d2368)) called at /export/home/cpan/bin/perl/lib/site_perl/5.41.13/Catalyst.pm line 3240
eval {...} called at /export/home/cpan/bin/perl/lib/site_perl/5.41.13/Catalyst.pm line 3241
Catalyst::setup_component("ComponentUI", "ComponentUI::Model::TestModel") called at /export/home/cpan/bin/perl/lib/site_perl/5.41.13/Catalyst.pm line 3218
Catalyst::__ANON__() called at /export/home/cpan/bin/perl/lib/site_perl/5.41.13/Catalyst.pm line 3065
Catalyst::setup_components("ComponentUI") called at /export/home/cpan/bin/perl/lib/site_perl/5.41.13/Catalyst.pm line 1438
Catalyst::setup("ComponentUI") called at /export/home/cpan/.cpan/build/Reaction-0.002005-0/blib/lib/ComponentUI.pm line 32
require ComponentUI.pm called at t/00componentui_compiles.t line 7
main::BEGIN() called at t/00componentui_compiles.t line 7
eval {...} called at t/00componentui_compiles.t line 7
eval 'package main;
BEGIN { ${^WARNING_BITS} = $args[-1] if defined $args[-1] }
#line 7 t/00componentui_compiles.t
use ComponentUI @{$args[0]};
1;
' called at /export/home/cpan/bin/perl/lib/site_perl/5.41.13/Test/More.pm line 1056
Test::More::_eval("package main;\x{a}BEGIN { \${^WARNING_BITS} = \$args[-1] if defined"..., ARRAY(0xbfb190), "UUUUUUUUUUUUUUUUUUUU") called at /export/home/cpan/bin/perl/lib/site_perl/5.41.13/Test/More.pm line 1031
Test::More::use_ok("ComponentUI") called at t/00componentui_compiles.t line 7
Class::MOP::load_class is deprecated at /export/home/cpan/bin/perl/lib/site_perl/5.41.13/i86pc-solaris-thread-multi-64/Class/MOP.pm line 69.
Class::MOP::load_class("Reaction::InterfaceModel::Object") called at /export/home/cpan/.cpan/build/Reaction-0.002005-0/blib/lib/Reaction/Class.pm line 123
Reaction::Class::do_class_sub("Reaction::Class", "ComponentUI::TestModel::Foo", "ComponentUI::TestModel::Foo", "is", "Reaction::InterfaceModel::Object", "which", CODE(0x73b1dc0)) called at /export/home/cpan/.cpan/build/Reaction-0.002005-0/blib/lib/Reaction/Class.pm line 86
Reaction::Class::("ComponentUI::TestModel::Foo", "is", "Reaction::InterfaceModel::Object", "which", CODE(0x73b1dc0)) called at /export/home/cpan/.cpan/build/Reaction-0.002005-0/blib/lib/ComponentUI/TestModel/Foo.pm line 8
require ComponentUI/TestModel/Foo.pm called at /export/home/cpan/bin/perl/lib/site_perl/5.41.13/Module/Runtime.pm line 120
Module::Runtime::require_module("ComponentUI::TestModel::Foo") called at /export/home/cpan/bin/perl/lib/site_perl/5.41.13/Class/Load.pm line 174
Class::Load::try {...} () called at /export/home/cpan/bin/perl/lib/site_perl/5.41.13/Try/Tiny.pm line 98
eval {...} called at /export/home/cpan/bin/perl/lib/site_perl/5.41.13/Try/Tiny.pm line 93
Try::Tiny::try(CODE(0x7327f48), Try::Tiny::Catch=REF(0x73a7638)) called at /export/home/cpan/bin/perl/lib/site_perl/5.41.13/Class/Load.pm line 180
Class::Load::try_load_class("ComponentUI::TestModel::Foo", undef) called at /export/home/cpan/bin/perl/lib/site_perl/5.41.13/Class/Load.pm line 35
Class::Load::load_class("ComponentUI::TestModel::Foo") called at /export/home/cpan/.cpan/build/Reaction-0.002005-0/blib/lib/Reaction/InterfaceModel/Reflector/DBIC.pm line 892
eval {...} called at /export/home/cpan/.cpan/build/Reaction-0.002005-0/blib/lib/Reaction/InterfaceModel/Reflector/DBIC.pm line 892
Reaction::InterfaceModel::Reflector::DBIC::_maybe_load_class(Reaction::InterfaceModel::Reflector::DBIC=HASH(0x7022000), "ComponentUI::TestModel::Foo") called at /export/home/cpan/.cpan/build/Reaction-0.002005-0/blib/lib/Reaction/InterfaceModel/Reflector/DBIC.pm line 876
Reaction::InterfaceModel::Reflector::DBIC::_load_or_create(Reaction::InterfaceModel::Reflector::DBIC=HASH(0x7022000), "ComponentUI::TestModel::Foo", "superclasses", ARRAY(0x728e1c0)) called at /export/home/cpan/.cpan/build/Reaction-0.002005-0/blib/lib/Reaction/InterfaceModel/Reflector/DBIC.pm line 448
Reaction::InterfaceModel::Reflector::DBIC::reflect_source_object(Reaction::InterfaceModel::Reflector::DBIC=HASH(0x7022000), "source_name", "Foo", "schema_class", "RTest::TestDB", "parent_domain_model_name", "_rtest_test_db_store", "parent_class", ...) called at /export/home/cpan/.cpan/build/Reaction-0.002005-0/blib/lib/Reaction/InterfaceModel/Reflector/DBIC.pm line 323
Reaction::InterfaceModel::Reflector::DBIC::reflect_source(Reaction::InterfaceModel::Reflector::DBIC=HASH(0x7022000), "source_name", "Foo", "parent_class", "ComponentUI::TestModel", "schema_class", "RTest::TestDB", "source_class", ...) called at /export/home/cpan/.cpan/build/Reaction-0.002005-0/blib/lib/Reaction/InterfaceModel/Reflector/DBIC.pm line 185
Reaction::InterfaceModel::Reflector::DBIC::reflect_schema(Reaction::InterfaceModel::Reflector::DBIC=HASH(0x7022000), "model_class", "ComponentUI::TestModel", "schema_class", "RTest::TestDB", "sources", ARRAY(0x71c0c98)) called at /export/home/cpan/.cpan/build/Reaction-0.002005-0/blib/lib/ComponentUI/TestModel.pm line 10
require ComponentUI/TestModel.pm called at /export/home/cpan/bin/perl/lib/site_perl/5.41.13/Module/Runtime.pm line 120
Module::Runtime::require_module("ComponentUI::TestModel") called at /export/home/cpan/bin/perl/lib/site_perl/5.41.13/Class/Load.pm line 174
Class::Load::try {...} () called at /export/home/cpan/bin/perl/lib/site_perl/5.41.13/Try/Tiny.pm line 98
eval {...} called at /export/home/cpan/bin/perl/lib/site_perl/5.41.13/Try/Tiny.pm line 93
Try::Tiny::try(CODE(0x37b7920), Try::Tiny::Catch=REF(0x66758c8)) called at /export/home/cpan/bin/perl/lib/site_perl/5.41.13/Class/Load.pm line 180
Class::Load::try_load_class("ComponentUI::TestModel", undef) called at /export/home/cpan/bin/perl/lib/site_perl/5.41.13/Class/Load.pm line 35
Class::Load::load_class("ComponentUI::TestModel") called at /export/home/cpan/.cpan/build/Reaction-0.002005-0/blib/lib/Catalyst/Model/Reaction/InterfaceModel/DBIC.pm line 24
Catalyst::Model::Reaction::InterfaceModel::DBIC::COMPONENT("ComponentUI::Model::TestModel", "ComponentUI", HASH(0x65d2368)) called at /export/home/cpan/bin/perl/lib/site_perl/5.41.13/Catalyst.pm line 3240
eval {...} called at /export/home/cpan/bin/perl/lib/site_perl/5.41.13/Catalyst.pm line 3241
Catalyst::setup_component("ComponentUI", "ComponentUI::Model::TestModel") called at /export/home/cpan/bin/perl/lib/site_perl/5.41.13/Catalyst.pm line 3218
Catalyst::__ANON__() called at /export/home/cpan/bin/perl/lib/site_perl/5.41.13/Catalyst.pm line 3065
Catalyst::setup_components("ComponentUI") called at /export/home/cpan/bin/perl/lib/site_perl/5.41.13/Catalyst.pm line 1438
Catalyst::setup("ComponentUI") called at /export/home/cpan/.cpan/build/Reaction-0.002005-0/blib/lib/ComponentUI.pm line 32
require ComponentUI.pm called at t/00componentui_compiles.t line 7
main::BEGIN() called at t/00componentui_compiles.t line 7
eval {...} called at t/00componentui_compiles.t line 7
eval 'package main;
BEGIN { ${^WARNING_BITS} = $args[-1] if defined $args[-1] }
#line 7 t/00componentui_compiles.t
use ComponentUI @{$args[0]};
1;
' called at /export/home/cpan/bin/perl/lib/site_perl/5.41.13/Test/More.pm line 1056
Test::More::_eval("package main;\x{a}BEGIN { \${^WARNING_BITS} = \$args[-1] if defined"..., ARRAY(0xbfb190), "UUUUUUUUUUUUUUUUUUUU") called at /export/home/cpan/bin/perl/lib/site_perl/5.41.13/Test/More.pm line 1031
Test::More::use_ok("ComponentUI") called at t/00componentui_compiles.t line 7
t/00componentui_compiles.t .. ok
Attempt to call undefined import method with arguments ("5.80") via package "Catalyst::Runtime" (Perhaps you forgot to load the package?) at /export/home/cpan/.cpan/build/Reaction-0.002005-0/blib/lib/ComponentUI.pm line 6.
Class::MOP::load_class is deprecated at /export/home/cpan/bin/perl/lib/site_perl/5.41.13/i86pc-solaris-thread-multi-64/Class/MOP.pm line 69.
Class::MOP::load_class("ComponentUI::TestModel") called at /export/home/cpan/.cpan/build/Reaction-0.002005-0/blib/lib/Catalyst/Model/Reaction/InterfaceModel/DBIC.pm line 24
Catalyst::Model::Reaction::InterfaceModel::DBIC::COMPONENT("ComponentUI::Model::TestModel", "ComponentUI", HASH(0x6932c38)) called at /export/home/cpan/bin/perl/lib/site_perl/5.41.13/Catalyst.pm line 3240
eval {...} called at /export/home/cpan/bin/perl/lib/site_perl/5.41.13/Catalyst.pm line 3241
Catalyst::setup_component("ComponentUI", "ComponentUI::Model::TestModel") called at /export/home/cpan/bin/perl/lib/site_perl/5.41.13/Catalyst.pm line 3218
Catalyst::__ANON__() called at /export/home/cpan/bin/perl/lib/site_perl/5.41.13/Catalyst.pm line 3065
Catalyst::setup_components("ComponentUI") called at /export/home/cpan/bin/perl/lib/site_perl/5.41.13/Catalyst.pm line 1438
Catalyst::setup("ComponentUI") called at /export/home/cpan/.cpan/build/Reaction-0.002005-0/blib/lib/ComponentUI.pm line 32
require ComponentUI.pm called at /export/home/cpan/bin/perl/lib/site_perl/5.41.13/Module/Runtime.pm line 120
Module::Runtime::require_module("ComponentUI") called at /export/home/cpan/bin/perl/lib/site_perl/5.41.13/Class/Load.pm line 174
Class::Load::try {...} () called at /export/home/cpan/bin/perl/lib/site_perl/5.41.13/Try/Tiny.pm line 98
eval {...} called at /export/home/cpan/bin/perl/lib/site_perl/5.41.13/Try/Tiny.pm line 93
Try::Tiny::try(CODE(0x21fbdd8), Try::Tiny::Catch=REF(0x1d24dc8)) called at /export/home/cpan/bin/perl/lib/site_perl/5.41.13/Class/Load.pm line 180
Class::Load::try_load_class("ComponentUI", undef) called at /export/home/cpan/bin/perl/lib/site_perl/5.41.13/Class/Load.pm line 35
Class::Load::load_class("ComponentUI") called at /export/home/cpan/bin/perl/lib/site_perl/5.41.13/Catalyst/Test.pm line 29
Catalyst::Test::_build_request_export("Catalyst::Test", HASH(0x22475c0)) called at /export/home/cpan/bin/perl/lib/site_perl/5.41.13/Catalyst/Test.pm line 95
Catalyst::Test::__ANON__("Catalyst::Test", "all", HASH(0x2247590), HASH(0xf1b000)) called at /export/home/cpan/bin/perl/lib/site_perl/5.41.13/Sub/Exporter.pm line 491
Sub::Exporter::_expand_group("Catalyst::Test", HASH(0x2246af8), ARRAY(0xf1b018), HASH(0xf1b000), HASH(0x22475f0), HASH(0x21fb910)) called at /export/home/cpan/bin/perl/lib/site_perl/5.41.13/Sub/Exporter.pm line 422
Sub::Exporter::_expand_groups("Catalyst::Test", HASH(0x2246af8), ARRAY(0x2246f60), HASH(0xf1b000)) called at /export/home/cpan/bin/perl/lib/site_perl/5.41.13/Sub/Exporter.pm line 740
Sub::Exporter::__ANON__("Catalyst::Test", "-all", HASH(0x8b2940)) called at /export/home/cpan/bin/perl/lib/site_perl/5.41.13/Catalyst/Test.pm line 155
Catalyst::Test::import("Catalyst::Test", "ComponentUI") called at t/01app.t line 7
main::BEGIN() called at t/01app.t line 7
eval {...} called at t/01app.t line 7
eval 'package main;
BEGIN { ${^WARNING_BITS} = $args[-1] if defined $args[-1] }
#line 7 t/01app.t
use Catalyst::Test @{$args[0]};
1;
' called at /export/home/cpan/bin/perl/lib/site_perl/5.41.13/Test/More.pm line 1056
Test::More::_eval("package main;\x{a}BEGIN { \${^WARNING_BITS} = \$args[-1] if defined"..., ARRAY(0xf0af30), "UUUUUUUUUUUUUUUUUUUU") called at /export/home/cpan/bin/perl/lib/site_perl/5.41.13/Test/More.pm line 1031
Test::More::use_ok("Catalyst::Test", "ComponentUI") called at t/01app.t line 7
main::BEGIN() called at t/01app.t line 8
eval {...} called at t/01app.t line 8
Class::MOP::load_class is deprecated at /export/home/cpan/bin/perl/lib/site_perl/5.41.13/i86pc-solaris-thread-multi-64/Class/MOP.pm line 69.
Class::MOP::load_class("Reaction::InterfaceModel::Object") called at /export/home/cpan/.cpan/build/Reaction-0.002005-0/blib/lib/Reaction/InterfaceModel/Reflector/DBIC.pm line 149
Reaction::InterfaceModel::Reflector::DBIC::reflect_schema(Reaction::InterfaceModel::Reflector::DBIC=HASH(0x6932f98), "model_class", "ComponentUI::TestModel", "schema_class", "RTest::TestDB", "sources", ARRAY(0x7519530)) called at /export/home/cpan/.cpan/build/Reaction-0.002005-0/blib/lib/ComponentUI/TestModel.pm line 10
require ComponentUI/TestModel.pm called at /export/home/cpan/bin/perl/lib/site_perl/5.41.13/Module/Runtime.pm line 120
Module::Runtime::require_module("ComponentUI::TestModel") called at /export/home/cpan/bin/perl/lib/site_perl/5.41.13/Class/Load.pm line 174
Class::Load::try {...} () called at /export/home/cpan/bin/perl/lib/site_perl/5.41.13/Try/Tiny.pm line 98
eval {...} called at /export/home/cpan/bin/perl/lib/site_perl/5.41.13/Try/Tiny.pm line 93
Try::Tiny::try(CODE(0x3b5e088), Try::Tiny::Catch=REF(0x6fa3868)) called at /export/home/cpan/bin/perl/lib/site_perl/5.41.13/Class/Load.pm line 180
Class::Load::try_load_class("ComponentUI::TestModel", undef) called at /export/home/cpan/bin/perl/lib/site_perl/5.41.13/Class/Load.pm line 35
Class::Load::load_class("ComponentUI::TestModel") called at /export/home/cpan/.cpan/build/Reaction-0.002005-0/blib/lib/Catalyst/Model/Reaction/InterfaceModel/DBIC.pm line 24
Catalyst::Model::Reaction::InterfaceModel::DBIC::COMPONENT("ComponentUI::Model::TestModel", "ComponentUI", HASH(0x6932c38)) called at /export/home/cpan/bin/perl/lib/site_perl/5.41.13/Catalyst.pm line 3240
eval {...} called at /export/home/cpan/bin/perl/lib/site_perl/5.41.13/Catalyst.pm line 3241
Catalyst::setup_component("ComponentUI", "ComponentUI::Model::TestModel") called at /export/home/cpan/bin/perl/lib/site_perl/5.41.13/Catalyst.pm line 3218
Catalyst::__ANON__() called at /export/home/cpan/bin/perl/lib/site_perl/5.41.13/Catalyst.pm line 3065
Catalyst::setup_components("ComponentUI") called at /export/home/cpan/bin/perl/lib/site_perl/5.41.13/Catalyst.pm line 1438
Catalyst::setup("ComponentUI") called at /export/home/cpan/.cpan/build/Reaction-0.002005-0/blib/lib/ComponentUI.pm line 32
require ComponentUI.pm called at /export/home/cpan/bin/perl/lib/site_perl/5.41.13/Module/Runtime.pm line 120
Module::Runtime::require_module("ComponentUI") called at /export/home/cpan/bin/perl/lib/site_perl/5.41.13/Class/Load.pm line 174
Class::Load::try {...} () called at /export/home/cpan/bin/perl/lib/site_perl/5.41.13/Try/Tiny.pm line 98
eval {...} called at /export/home/cpan/bin/perl/lib/site_perl/5.41.13/Try/Tiny.pm line 93
Try::Tiny::try(CODE(0x21fbdd8), Try::Tiny::Catch=REF(0x1d24dc8)) called at /export/home/cpan/bin/perl/lib/site_perl/5.41.13/Class/Load.pm line 180
Class::Load::try_load_class("ComponentUI", undef) called at /export/home/cpan/bin/perl/lib/site_perl/5.41.13/Class/Load.pm line 35
Class::Load::load_class("ComponentUI") called at /export/home/cpan/bin/perl/lib/site_perl/5.41.13/Catalyst/Test.pm line 29
Catalyst::Test::_build_request_export("Catalyst::Test", HASH(0x22475c0)) called at /export/home/cpan/bin/perl/lib/site_perl/5.41.13/Catalyst/Test.pm line 95
Catalyst::Test::__ANON__("Catalyst::Test", "all", HASH(0x2247590), HASH(0xf1b000)) called at /export/home/cpan/bin/perl/lib/site_perl/5.41.13/Sub/Exporter.pm line 491
Sub::Exporter::_expand_group("Catalyst::Test", HASH(0x2246af8), ARRAY(0xf1b018), HASH(0xf1b000), HASH(0x22475f0), HASH(0x21fb910)) called at /export/home/cpan/bin/perl/lib/site_perl/5.41.13/Sub/Exporter.pm line 422
Sub::Exporter::_expand_groups("Catalyst::Test", HASH(0x2246af8), ARRAY(0x2246f60), HASH(0xf1b000)) called at /export/home/cpan/bin/perl/lib/site_perl/5.41.13/Sub/Exporter.pm line 740
Sub::Exporter::__ANON__("Catalyst::Test", "-all", HASH(0x8b2940)) called at /export/home/cpan/bin/perl/lib/site_perl/5.41.13/Catalyst/Test.pm line 155
Catalyst::Test::import("Catalyst::Test", "ComponentUI") called at t/01app.t line 7
main::BEGIN() called at t/01app.t line 7
eval {...} called at t/01app.t line 7
eval 'package main;
BEGIN { ${^WARNING_BITS} = $args[-1] if defined $args[-1] }
#line 7 t/01app.t
use Catalyst::Test @{$args[0]};
1;
' called at /export/home/cpan/bin/perl/lib/site_perl/5.41.13/Test/More.pm line 1056
Test::More::_eval("package main;\x{a}BEGIN { \${^WARNING_BITS} = \$args[-1] if defined"..., ARRAY(0xf0af30), "UUUUUUUUUUUUUUUUUUUU") called at /export/home/cpan/bin/perl/lib/site_perl/5.41.13/Test/More.pm line 1031
Test::More::use_ok("Catalyst::Test", "ComponentUI") called at t/01app.t line 7
main::BEGIN() called at t/01app.t line 8
eval {...} called at t/01app.t line 8
Class::MOP::load_class is deprecated at /export/home/cpan/bin/perl/lib/site_perl/5.41.13/i86pc-solaris-thread-multi-64/Class/MOP.pm line 69.
Class::MOP::load_class("Reaction::InterfaceModel::Object") called at /export/home/cpan/.cpan/build/Reaction-0.002005-0/blib/lib/Reaction/Class.pm line 123
Reaction::Class::do_class_sub("Reaction::Class", "ComponentUI::TestModel::Foo", "ComponentUI::TestModel::Foo", "is", "Reaction::InterfaceModel::Object", "which", CODE(0x75d5550)) called at /export/home/cpan/.cpan/build/Reaction-0.002005-0/blib/lib/Reaction/Class.pm line 86
Reaction::Class::("ComponentUI::TestModel::Foo", "is", "Reaction::InterfaceModel::Object", "which", CODE(0x75d5550)) called at /export/home/cpan/.cpan/build/Reaction-0.002005-0/blib/lib/ComponentUI/TestModel/Foo.pm line 8
require ComponentUI/TestModel/Foo.pm called at /export/home/cpan/bin/perl/lib/site_perl/5.41.13/Module/Runtime.pm line 120
Module::Runtime::require_module("ComponentUI::TestModel::Foo") called at /export/home/cpan/bin/perl/lib/site_perl/5.41.13/Class/Load.pm line 174
Class::Load::try {...} () called at /export/home/cpan/bin/perl/lib/site_perl/5.41.13/Try/Tiny.pm line 98
eval {...} called at /export/home/cpan/bin/perl/lib/site_perl/5.41.13/Try/Tiny.pm line 93
Try::Tiny::try(CODE(0x75dfa48), Try::Tiny::Catch=REF(0x7609b88)) called at /export/home/cpan/bin/perl/lib/site_perl/5.41.13/Class/Load.pm line 180
Class::Load::try_load_class("ComponentUI::TestModel::Foo", undef) called at /export/home/cpan/bin/perl/lib/site_perl/5.41.13/Class/Load.pm line 35
Class::Load::load_class("ComponentUI::TestModel::Foo") called at /export/home/cpan/.cpan/build/Reaction-0.002005-0/blib/lib/Reaction/InterfaceModel/Reflector/DBIC.pm line 892
eval {...} called at /export/home/cpan/.cpan/build/Reaction-0.002005-0/blib/lib/Reaction/InterfaceModel/Reflector/DBIC.pm line 892
Reaction::InterfaceModel::Reflector::DBIC::_maybe_load_class(Reaction::InterfaceModel::Reflector::DBIC=HASH(0x6932f98), "ComponentUI::TestModel::Foo") called at /export/home/cpan/.cpan/build/Reaction-0.002005-0/blib/lib/Reaction/InterfaceModel/Reflector/DBIC.pm line 876
Reaction::InterfaceModel::Reflector::DBIC::_load_or_create(Reaction::InterfaceModel::Reflector::DBIC=HASH(0x6932f98), "ComponentUI::TestModel::Foo", "superclasses", ARRAY(0x75df760)) called at /export/home/cpan/.cpan/build/Reaction-0.002005-0/blib/lib/Reaction/InterfaceModel/Reflector/DBIC.pm line 448
Reaction::InterfaceModel::Reflector::DBIC::reflect_source_object(Reaction::InterfaceModel::Reflector::DBIC=HASH(0x6932f98), "parent_domain_model_name", "_rtest_test_db_store", "source_name", "Foo", "parent_class", "ComponentUI::TestModel", "schema_class", ...) called at /export/home/cpan/.cpan/build/Reaction-0.002005-0/blib/lib/Reaction/InterfaceModel/Reflector/DBIC.pm line 323
Reaction::InterfaceModel::Reflector::DBIC::reflect_source(Reaction::InterfaceModel::Reflector::DBIC=HASH(0x6932f98), "source_name", "Foo", "parent_class", "ComponentUI::TestModel", "schema_class", "RTest::TestDB", "source_class", ...) called at /export/home/cpan/.cpan/build/Reaction-0.002005-0/blib/lib/Reaction/InterfaceModel/Reflector/DBIC.pm line 185
Reaction::InterfaceModel::Reflector::DBIC::reflect_schema(Reaction::InterfaceModel::Reflector::DBIC=HASH(0x6932f98), "model_class", "ComponentUI::TestModel", "schema_class", "RTest::TestDB", "sources", ARRAY(0x7519530)) called at /export/home/cpan/.cpan/build/Reaction-0.002005-0/blib/lib/ComponentUI/TestModel.pm line 10
require ComponentUI/TestModel.pm called at /export/home/cpan/bin/perl/lib/site_perl/5.41.13/Module/Runtime.pm line 120
Module::Runtime::require_module("ComponentUI::TestModel") called at /export/home/cpan/bin/perl/lib/site_perl/5.41.13/Class/Load.pm line 174
Class::Load::try {...} () called at /export/home/cpan/bin/perl/lib/site_perl/5.41.13/Try/Tiny.pm line 98
eval {...} called at /export/home/cpan/bin/perl/lib/site_perl/5.41.13/Try/Tiny.pm line 93
Try::Tiny::try(CODE(0x3b5e088), Try::Tiny::Catch=REF(0x6fa3868)) called at /export/home/cpan/bin/perl/lib/site_perl/5.41.13/Class/Load.pm line 180
Class::Load::try_load_class("ComponentUI::TestModel", undef) called at /export/home/cpan/bin/perl/lib/site_perl/5.41.13/Class/Load.pm line 35
Class::Load::load_class("ComponentUI::TestModel") called at /export/home/cpan/.cpan/build/Reaction-0.002005-0/blib/lib/Catalyst/Model/Reaction/InterfaceModel/DBIC.pm line 24
Catalyst::Model::Reaction::InterfaceModel::DBIC::COMPONENT("ComponentUI::Model::TestModel", "ComponentUI", HASH(0x6932c38)) called at /export/home/cpan/bin/perl/lib/site_perl/5.41.13/Catalyst.pm line 3240
eval {...} called at /export/home/cpan/bin/perl/lib/site_perl/5.41.13/Catalyst.pm line 3241
Catalyst::setup_component("ComponentUI", "ComponentUI::Model::TestModel") called at /export/home/cpan/bin/perl/lib/site_perl/5.41.13/Catalyst.pm line 3218
Catalyst::__ANON__() called at /export/home/cpan/bin/perl/lib/site_perl/5.41.13/Catalyst.pm line 3065
Catalyst::setup_components("ComponentUI") called at /export/home/cpan/bin/perl/lib/site_perl/5.41.13/Catalyst.pm line 1438
Catalyst::setup("ComponentUI") called at /export/home/cpan/.cpan/build/Reaction-0.002005-0/blib/lib/ComponentUI.pm line 32
require ComponentUI.pm called at /export/home/cpan/bin/perl/lib/site_perl/5.41.13/Module/Runtime.pm line 120
Module::Runtime::require_module("ComponentUI") called at /export/home/cpan/bin/perl/lib/site_perl/5.41.13/Class/Load.pm line 174
Class::Load::try {...} () called at /export/home/cpan/bin/perl/lib/site_perl/5.41.13/Try/Tiny.pm line 98
eval {...} called at /export/home/cpan/bin/perl/lib/site_perl/5.41.13/Try/Tiny.pm line 93
Try::Tiny::try(CODE(0x21fbdd8), Try::Tiny::Catch=REF(0x1d24dc8)) called at /export/home/cpan/bin/perl/lib/site_perl/5.41.13/Class/Load.pm line 180
Class::Load::try_load_class("ComponentUI", undef) called at /export/home/cpan/bin/perl/lib/site_perl/5.41.13/Class/Load.pm line 35
Class::Load::load_class("ComponentUI") called at /export/home/cpan/bin/perl/lib/site_perl/5.41.13/Catalyst/Test.pm line 29
Catalyst::Test::_build_request_export("Catalyst::Test", HASH(0x22475c0)) called at /export/home/cpan/bin/perl/lib/site_perl/5.41.13/Catalyst/Test.pm line 95
Catalyst::Test::__ANON__("Catalyst::Test", "all", HASH(0x2247590), HASH(0xf1b000)) called at /export/home/cpan/bin/perl/lib/site_perl/5.41.13/Sub/Exporter.pm line 491
Sub::Exporter::_expand_group("Catalyst::Test", HASH(0x2246af8), ARRAY(0xf1b018), HASH(0xf1b000), HASH(0x22475f0), HASH(0x21fb910)) called at /export/home/cpan/bin/perl/lib/site_perl/5.41.13/Sub/Exporter.pm line 422
Sub::Exporter::_expand_groups("Catalyst::Test", HASH(0x2246af8), ARRAY(0x2246f60), HASH(0xf1b000)) called at /export/home/cpan/bin/perl/lib/site_perl/5.41.13/Sub/Exporter.pm line 740
Sub::Exporter::__ANON__("Catalyst::Test", "-all", HASH(0x8b2940)) called at /export/home/cpan/bin/perl/lib/site_perl/5.41.13/Catalyst/Test.pm line 155
Catalyst::Test::import("Catalyst::Test", "ComponentUI") called at t/01app.t line 7
main::BEGIN() called at t/01app.t line 7
eval {...} called at t/01app.t line 7
eval 'package main;
BEGIN { ${^WARNING_BITS} = $args[-1] if defined $args[-1] }
#line 7 t/01app.t
use Catalyst::Test @{$args[0]};
1;
' called at /export/home/cpan/bin/perl/lib/site_perl/5.41.13/Test/More.pm line 1056
Test::More::_eval("package main;\x{a}BEGIN { \${^WARNING_BITS} = \$args[-1] if defined"..., ARRAY(0xf0af30), "UUUUUUUUUUUUUUUUUUUU") called at /export/home/cpan/bin/perl/lib/site_perl/5.41.13/Test/More.pm line 1031
Test::More::use_ok("Catalyst::Test", "ComponentUI") called at t/01app.t line 7
main::BEGIN() called at t/01app.t line 8
eval {...} called at t/01app.t line 8
Class::MOP::load_class is deprecated at /export/home/cpan/bin/perl/lib/site_perl/5.41.13/i86pc-solaris-thread-multi-64/Class/MOP.pm line 69.
Class::MOP::load_class("ComponentUI::RenderingContext::Site") called at /export/home/cpan/.cpan/build/Reaction-0.002005-0/blib/lib/Reaction/UI/View.pm line 125
eval {...} called at /export/home/cpan/.cpan/build/Reaction-0.002005-0/blib/lib/Reaction/UI/View.pm line 125
Reaction::UI::View::find_related_class(ComponentUI::View::Site=HASH(0x39f7368), "RenderingContext") called at /export/home/cpan/.cpan/build/Reaction-0.002005-0/blib/lib/Reaction/UI/View.pm line 43
Reaction::UI::View::_build_rendering_context_class(ComponentUI::View::Site=HASH(0x39f7368)) called at reader Reaction::UI::View::rendering_context_class (defined at /export/home/cpan/.cpan/build/Reaction-0.002005-0/blib/lib/Reaction/UI/View.pm line 29) line 8
Reaction::UI::View::rendering_context_class(ComponentUI::View::Site=HASH(0x39f7368)) called at /export/home/cpan/.cpan/build/Reaction-0.002005-0/blib/lib/Reaction/UI/View.pm line 134
Reaction::UI::View::create_rendering_context(ComponentUI::View::Site=HASH(0x39f7368)) called at /export/home/cpan/.cpan/build/Reaction-0.002005-0/blib/lib/Reaction/UI/View.pm line 60
Reaction::UI::View::render_window(ComponentUI::View::Site=HASH(0x39f7368), Reaction::UI::Window=HASH(0x7d2b0e0)) called at /export/home/cpan/.cpan/build/Reaction-0.002005-0/blib/lib/Reaction/UI/Window.pm line 74
Reaction::UI::Window::flush_view(Reaction::UI::Window=HASH(0x7d2b0e0)) called at /export/home/cpan/.cpan/build/Reaction-0.002005-0/blib/lib/Reaction/UI/Window.pm line 36
Reaction::UI::Window::flush(Reaction::UI::Window=HASH(0x7d2b0e0)) called at /export/home/cpan/.cpan/build/Reaction-0.002005-0/blib/lib/Reaction/UI/Controller/Root.pm line 38
Reaction::UI::Controller::Root::end(ComponentUI::Controller::Root=HASH(0x7d254a0), ComponentUI=HASH(0x7cce2f8)) called at /export/home/cpan/bin/perl/lib/site_perl/5.41.13/Catalyst/Action.pm line 374
Catalyst::Action::execute(Catalyst::Action=HASH(0x7afead8), ComponentUI::Controller::Root=HASH(0x7d254a0), ComponentUI=HASH(0x7cce2f8)) called at /export/home/cpan/bin/perl/lib/site_perl/5.41.13/Catalyst.pm line 2067
eval {...} called at /export/home/cpan/bin/perl/lib/site_perl/5.41.13/Catalyst.pm line 2067
Catalyst::execute(ComponentUI=HASH(0x7cce2f8), "ComponentUI::Controller::Root", Catalyst::Action=HASH(0x7afead8)) called at /export/home/cpan/bin/perl/lib/site_perl/5.41.13/Catalyst/Action.pm line 368
Catalyst::Action::dispatch(Catalyst::Action=HASH(0x7afead8), ComponentUI=HASH(0x7cce2f8)) called at /export/home/cpan/bin/perl/lib/site_perl/5.41.13/Catalyst/Controller.pm line 188
Catalyst::Controller::_END(ComponentUI::Controller::Root=HASH(0x7d254a0), ComponentUI=HASH(0x7cce2f8)) called at /export/home/cpan/bin/perl/lib/site_perl/5.41.13/Catalyst/Action.pm line 374
Catalyst::Action::execute(Catalyst::Action=HASH(0x7afebe0), ComponentUI::Controller::Root=HASH(0x7d254a0), ComponentUI=HASH(0x7cce2f8)) called at /export/home/cpan/bin/perl/lib/site_perl/5.41.13/Catalyst.pm line 2067
eval {...} called at /export/home/cpan/bin/perl/lib/site_perl/5.41.13/Catalyst.pm line 2067
Catalyst::execute(ComponentUI=HASH(0x7cce2f8), "ComponentUI::Controller::Root", Catalyst::Action=HASH(0x7afebe0)) called at /export/home/cpan/bin/perl/lib/site_perl/5.41.13/Catalyst/Action.pm line 368
Catalyst::Action::dispatch(Catalyst::Action=HASH(0x7afebe0), ComponentUI=HASH(0x7cce2f8)) called at /export/home/cpan/bin/perl/lib/site_perl/5.41.13/Catalyst/Dispatcher.pm line 261
Catalyst::Dispatcher::_do_forward(Catalyst::Dispatcher=HASH(0x2a0f5a8), "forward", ComponentUI=HASH(0x7cce2f8), "_END") called at /export/home/cpan/bin/perl/lib/site_perl/5.41.13/Catalyst/Dispatcher.pm line 241
Catalyst::Dispatcher::forward(Catalyst::Dispatcher=HASH(0x2a0f5a8), ComponentUI=HASH(0x7cce2f8), "_END") called at /export/home/cpan/bin/perl/lib/site_perl/5.41.13/Catalyst.pm line 489
Catalyst::forward(ComponentUI=HASH(0x7cce2f8), "_END") called at /export/home/cpan/bin/perl/lib/site_perl/5.41.13/Catalyst/Controller.pm line 137
Catalyst::Controller::_DISPATCH(ComponentUI::Controller::Root=HASH(0x7d254a0), ComponentUI=HASH(0x7cce2f8)) called at /export/home/cpan/bin/perl/lib/site_perl/5.41.13/Catalyst/Action.pm line 374
Catalyst::Action::execute(Catalyst::Action=HASH(0x7afea00), ComponentUI::Controller::Root=HASH(0x7d254a0), ComponentUI=HASH(0x7cce2f8)) called at /export/home/cpan/bin/perl/lib/site_perl/5.41.13/Catalyst.pm line 2067
eval {...} called at /export/home/cpan/bin/perl/lib/site_perl/5.41.13/Catalyst.pm line 2067
Catalyst::execute(ComponentUI=HASH(0x7cce2f8), "ComponentUI::Controller::Root", Catalyst::Action=HASH(0x7afea00)) called at /export/home/cpan/bin/perl/lib/site_perl/5.41.13/Catalyst/Action.pm line 368
Catalyst::Action::dispatch(Catalyst::Action=HASH(0x7afea00), ComponentUI=HASH(0x7cce2f8)) called at /export/home/cpan/bin/perl/lib/site_perl/5.41.13/Catalyst/Dispatcher.pm line 261
Catalyst::Dispatcher::_do_forward(Catalyst::Dispatcher=HASH(0x2a0f5a8), "forward", ComponentUI=HASH(0x7cce2f8), "//_DISPATCH") called at /export/home/cpan/bin/perl/lib/site_perl/5.41.13/Catalyst/Dispatcher.pm line 241
Catalyst::Dispatcher::forward(Catalyst::Dispatcher=HASH(0x2a0f5a8), ComponentUI=HASH(0x7cce2f8), "//_DISPATCH") called at /export/home/cpan/bin/perl/lib/site_perl/5.41.13/Catalyst.pm line 489
Catalyst::forward(ComponentUI=HASH(0x7cce2f8), "//_DISPATCH") called at /export/home/cpan/bin/perl/lib/site_perl/5.41.13/Catalyst/Dispatcher.pm line 107
Catalyst::Dispatcher::dispatch(Catalyst::Dispatcher=HASH(0x2a0f5a8), ComponentUI=HASH(0x7cce2f8)) called at /export/home/cpan/bin/perl/lib/site_perl/5.41.13/Catalyst.pm line 2013
Catalyst::dispatch(ComponentUI=HASH(0x7cce2f8)) called at /export/home/cpan/bin/perl/lib/site_perl/5.41.13/Catalyst/Plugin/Static/Simple.pm line 85
Class::MOP::Class:::around(CODE(0x2f7b6c8), ComponentUI=HASH(0x7cce2f8)) called at /export/home/cpan/bin/perl/lib/site_perl/5.41.13/i86pc-solaris-thread-multi-64/Class/MOP/Method/Wrapped.pm line 166
ComponentUI::_wrapped_dispatch(ComponentUI=HASH(0x7cce2f8)) called at /export/home/cpan/bin/perl/lib/site_perl/5.41.13/i86pc-solaris-thread-multi-64/Class/MOP/Method/Wrapped.pm line 97
ComponentUI::dispatch(ComponentUI=HASH(0x7cce2f8)) called at /export/home/cpan/bin/perl/lib/site_perl/5.41.13/Catalyst.pm line 2419
Catalyst::try {...} () called at /export/home/cpan/bin/perl/lib/site_perl/5.41.13/Try/Tiny.pm line 102
eval {...} called at /export/home/cpan/bin/perl/lib/site_perl/5.41.13/Try/Tiny.pm line 93
Try::Tiny::try(CODE(0x7ccdcb0), Try::Tiny::Catch=REF(0x7ccdab8)) called at /export/home/cpan/bin/perl/lib/site_perl/5.41.13/Catalyst.pm line 2428
Catalyst::handle_request("ComponentUI", "env", HASH(0x7d1b118), "response_cb", CODE(0x7ccdb18)) called at /export/home/cpan/bin/perl/lib/site_perl/5.41.13/Catalyst/Engine.pm line 808
Catalyst::Engine::__ANON__(CODE(0x7ccdb18)) called at /export/home/cpan/bin/perl/lib/site_perl/5.41.13/Plack/Middleware/HTTPExceptions.pm line 32
Plack::Middleware::HTTPExceptions::try {...} () called at /export/home/cpan/bin/perl/lib/site_perl/5.41.13/Try/Tiny.pm line 102
eval {...} called at /export/home/cpan/bin/perl/lib/site_perl/5.41.13/Try/Tiny.pm line 93
Try::Tiny::try(CODE(0x7ccd950), Try::Tiny::Catch=REF(0x7cbfb38)) called at /export/home/cpan/bin/perl/lib/site_perl/5.41.13/Plack/Middleware/HTTPExceptions.pm line 41
Plack::Middleware::HTTPExceptions::__ANON__(CODE(0x7cbf8f8)) called at /export/home/cpan/bin/perl/lib/site_perl/5.41.13/Plack/Util.pm line 339
Plack::Util::__ANON__(CODE(0x7d1b0a0)) called at /export/home/cpan/bin/perl/lib/site_perl/5.41.13/Plack/Util.pm line 339
Plack::Util::__ANON__(CODE(0x7d1afb0)) called at /export/home/cpan/bin/perl/lib/site_perl/5.41.13/Plack/Util.pm line 339
Plack::Util::__ANON__(CODE(0x7d1af38)) called at /export/home/cpan/bin/perl/lib/site_perl/5.41.13/HTTP/Message/PSGI.pm line 100
HTTP::Message::PSGI::res_from_psgi(CODE(0x7ccd6c8)) called at /export/home/cpan/bin/perl/lib/site_perl/5.41.13/HTTP/Message/PSGI.pm line 157
HTTP::Response::from_psgi("HTTP::Response", CODE(0x7ccd6c8)) called at /export/home/cpan/bin/perl/lib/site_perl/5.41.13/Plack/Test/MockHTTP.pm line 24
Plack::Test::MockHTTP::try {...} () called at /export/home/cpan/bin/perl/lib/site_perl/5.41.13/Try/Tiny.pm line 100
eval {...} called at /export/home/cpan/bin/perl/lib/site_perl/5.41.13/Try/Tiny.pm line 93
Try::Tiny::try(CODE(0x7bd52f8), Try::Tiny::Catch=REF(0x7bac390)) called at /export/home/cpan/bin/perl/lib/site_perl/5.41.13/Plack/Test/MockHTTP.pm line 27
Plack::Test::MockHTTP::request(Plack::Test::MockHTTP=HASH(0x967510), HTTP::Request=HASH(0x967150)) called at /export/home/cpan/bin/perl/lib/site_perl/5.41.13/Plack/Test.pm line 38
Plack::Test::__ANON__(HTTP::Request=HASH(0x967150)) called at /export/home/cpan/bin/perl/lib/site_perl/5.41.13/Catalyst/Test.pm line 290
Catalyst::Test::__ANON__(CODE(0x9674c8)) called at /export/home/cpan/bin/perl/lib/site_perl/5.41.13/Plack/Test.pm line 38
Plack::Test::test_psgi("app", CODE(0x7bd58c8), "mangle_response", CODE(0x2235a30), "app", CODE(0x7bcf700), "client", CODE(0x967360)) called at /export/home/cpan/bin/perl/lib/site_perl/5.41.13/Catalyst/Test.pm line 293
Catalyst::Test::_request(HASH(0x8b28e0), "/") called at /export/home/cpan/bin/perl/lib/site_perl/5.41.13/Catalyst/Test.pm line 336
Catalyst::Test::_local_request("ComponentUI", "/") called at /export/home/cpan/bin/perl/lib/site_perl/5.41.13/Catalyst/Test.pm line 32
Catalyst::Test::__ANON__("/") called at t/01app.t line 10
Class::MOP::is_class_loaded is deprecated at /export/home/cpan/bin/perl/lib/site_perl/5.41.13/i86pc-solaris-thread-multi-64/Class/MOP.pm line 87.
Class::MOP::is_class_loaded("ComponentUI::UI::Widget::SiteLayout") called at /export/home/cpan/.cpan/build/Reaction-0.002005-0/blib/lib/Reaction/UI/Skin.pm line 178
Reaction::UI::Skin::widget_class_for(Reaction::UI::Skin=HASH(0x7d54410), Reaction::UI::LayoutSet::TT=HASH(0x7dbe1c8)) called at /export/home/cpan/.cpan/build/Reaction-0.002005-0/blib/lib/Reaction/UI/LayoutSet.pm line 29
Reaction::UI::LayoutSet::BUILD(Reaction::UI::LayoutSet::TT=HASH(0x7dbe1c8), HASH(0x7dbe1b0)) called at constructor Reaction::UI::LayoutSet::TT::new (defined at /export/home/cpan/.cpan/build/Reaction-0.002005-0/blib/lib/Reaction/UI/LayoutSet/TT.pm line 43) line 80
Reaction::UI::LayoutSet::TT::new("Reaction::UI::LayoutSet::TT", "name", "site_layout", "skin", Reaction::UI::Skin=HASH(0x7d54410), "tt_object", Template=HASH(0x6932f68), "source_file", ...) called at /export/home/cpan/.cpan/build/Reaction-0.002005-0/blib/lib/Reaction/UI/Skin.pm line 115
Reaction::UI::Skin::_create_layout_set(Reaction::UI::Skin=HASH(0x7d54410), "site_layout", ARRAY(0x7dac9c0), Reaction::UI::Skin=HASH(0x7d54410)) called at /export/home/cpan/.cpan/build/Reaction-0.002005-0/blib/lib/Reaction/UI/Skin.pm line 110
Reaction::UI::Skin::create_layout_set(Reaction::UI::Skin=HASH(0x7d54410), "site_layout") called at /export/home/cpan/.cpan/build/Reaction-0.002005-0/blib/lib/Reaction/UI/LayoutSet.pm line 83
Reaction::UI::LayoutSet::_load_file(Reaction::UI::LayoutSet::TT=HASH(0x7b066c8), Path::Class::File=HASH(0x7d41b20), HASH(0x7d34608)) called at /export/home/cpan/.cpan/build/Reaction-0.002005-0/blib/lib/Reaction/UI/LayoutSet.pm line 27
Reaction::UI::LayoutSet::BUILD(Reaction::UI::LayoutSet::TT=HASH(0x7b066c8), HASH(0x7d34608)) called at constructor Reaction::UI::LayoutSet::TT::new (defined at /export/home/cpan/.cpan/build/Reaction-0.002005-0/blib/lib/Reaction/UI/LayoutSet/TT.pm line 43) line 80
Reaction::UI::LayoutSet::TT::new("Reaction::UI::LayoutSet::TT", "name", "site_layout", "skin", Reaction::UI::Skin=HASH(0x7d8c230), "next_skin", Reaction::UI::Skin=HASH(0x7d54410), "tt_object", ...) called at /export/home/cpan/.cpan/build/Reaction-0.002005-0/blib/lib/Reaction/UI/Skin.pm line 115
Reaction::UI::Skin::_create_layout_set(Reaction::UI::Skin=HASH(0x7d8c230), "site_layout", ARRAY(0x7d34a10), Reaction::UI::Skin=HASH(0x7d8c230)) called at /export/home/cpan/.cpan/build/Reaction-0.002005-0/blib/lib/Reaction/UI/Skin.pm line 110
Reaction::UI::Skin::create_layout_set(Reaction::UI::Skin=HASH(0x7d8c230), "site_layout") called at /export/home/cpan/.cpan/build/Reaction-0.002005-0/blib/lib/Reaction/UI/LayoutSet.pm line 83
Reaction::UI::LayoutSet::_load_file(Reaction::UI::LayoutSet::TT=HASH(0x7d8c8c0), Path::Class::File=HASH(0x75f1788), HASH(0x7d41bf8)) called at /export/home/cpan/.cpan/build/Reaction-0.002005-0/blib/lib/Reaction/UI/LayoutSet.pm line 27
Reaction::UI::LayoutSet::BUILD(Reaction::UI::LayoutSet::TT=HASH(0x7d8c8c0), HASH(0x7d41bf8)) called at constructor Reaction::UI::LayoutSet::TT::new (defined at /export/home/cpan/.cpan/build/Reaction-0.002005-0/blib/lib/Reaction/UI/LayoutSet/TT.pm line 43) line 80
Reaction::UI::LayoutSet::TT::new("Reaction::UI::LayoutSet::TT", "name", "site_layout", "skin", Reaction::UI::Skin=HASH(0x7d85f30), "next_skin", Reaction::UI::Skin=HASH(0x7d8c230), "tt_object", ...) called at /export/home/cpan/.cpan/build/Reaction-0.002005-0/blib/lib/Reaction/UI/Skin.pm line 115
Reaction::UI::Skin::_create_layout_set(Reaction::UI::Skin=HASH(0x7d85f30), "site_layout", ARRAY(0x7d8c2d8), Reaction::UI::Skin=HASH(0x7d85f30)) called at /export/home/cpan/.cpan/build/Reaction-0.002005-0/blib/lib/Reaction/UI/Skin.pm line 110
Reaction::UI::Skin::create_layout_set(Reaction::UI::Skin=HASH(0x7d85f30), "site_layout") called at inline delegation in Reaction::UI::View for skin->create_layout_set (attribute declared in /export/home/cpan/.cpan/build/Reaction-0.002005-0/blib/lib/Reaction/UI/View.pm at line 22) line 18
Reaction::UI::View::create_layout_set(ComponentUI::View::Site=HASH(0x39f7368), "site_layout") called at /export/home/cpan/.cpan/build/Reaction-0.002005-0/blib/lib/Reaction/UI/View.pm line 99
Reaction::UI::View::layout_set_for(ComponentUI::View::Site=HASH(0x39f7368), Reaction::UI::ViewPort::SiteLayout=HASH(0x7d2b770)) called at /export/home/cpan/.cpan/build/Reaction-0.002005-0/blib/lib/Reaction/UI/View.pm line 78
Reaction::UI::View::render_viewport_args(ComponentUI::View::Site=HASH(0x39f7368), Reaction::UI::ViewPort::SiteLayout=HASH(0x7d2b770)) called at /export/home/cpan/.cpan/build/Reaction-0.002005-0/blib/lib/Reaction/UI/View.pm line 61
Reaction::UI::View::render_window(ComponentUI::View::Site=HASH(0x39f7368), Reaction::UI::Window=HASH(0x7d2b0e0)) called at /export/home/cpan/.cpan/build/Reaction-0.002005-0/blib/lib/Reaction/UI/Window.pm line 74
Reaction::UI::Window::flush_view(Reaction::UI::Window=HASH(0x7d2b0e0)) called at /export/home/cpan/.cpan/build/Reaction-0.002005-0/blib/lib/Reaction/UI/Window.pm line 36
Reaction::UI::Window::flush(Reaction::UI::Window=HASH(0x7d2b0e0)) called at /export/home/cpan/.cpan/build/Reaction-0.002005-0/blib/lib/Reaction/UI/Controller/Root.pm line 38
Reaction::UI::Controller::Root::end(ComponentUI::Controller::Root=HASH(0x7d254a0), ComponentUI=HASH(0x7cce2f8)) called at /export/home/cpan/bin/perl/lib/site_perl/5.41.13/Catalyst/Action.pm line 374
Catalyst::Action::execute(Catalyst::Action=HASH(0x7afead8), ComponentUI::Controller::Root=HASH(0x7d254a0), ComponentUI=HASH(0x7cce2f8)) called at /export/home/cpan/bin/perl/lib/site_perl/5.41.13/Catalyst.pm line 2067
eval {...} called at /export/home/cpan/bin/perl/lib/site_perl/5.41.13/Catalyst.pm line 2067
Catalyst::execute(ComponentUI=HASH(0x7cce2f8), "ComponentUI::Controller::Root", Catalyst::Action=HASH(0x7afead8)) called at /export/home/cpan/bin/perl/lib/site_perl/5.41.13/Catalyst/Action.pm line 368
Catalyst::Action::dispatch(Catalyst::Action=HASH(0x7afead8), ComponentUI=HASH(0x7cce2f8)) called at /export/home/cpan/bin/perl/lib/site_perl/5.41.13/Catalyst/Controller.pm line 188
Catalyst::Controller::_END(ComponentUI::Controller::Root=HASH(0x7d254a0), ComponentUI=HASH(0x7cce2f8)) called at /export/home/cpan/bin/perl/lib/site_perl/5.41.13/Catalyst/Action.pm line 374
Catalyst::Action::execute(Catalyst::Action=HASH(0x7afebe0), ComponentUI::Controller::Root=HASH(0x7d254a0), ComponentUI=HASH(0x7cce2f8)) called at /export/home/cpan/bin/perl/lib/site_perl/5.41.13/Catalyst.pm line 2067
eval {...} called at /export/home/cpan/bin/perl/lib/site_perl/5.41.13/Catalyst.pm line 2067
Catalyst::execute(ComponentUI=HASH(0x7cce2f8), "ComponentUI::Controller::Root", Catalyst::Action=HASH(0x7afebe0)) called at /export/home/cpan/bin/perl/lib/site_perl/5.41.13/Catalyst/Action.pm line 368
Catalyst::Action::dispatch(Catalyst::Action=HASH(0x7afebe0), ComponentUI=HASH(0x7cce2f8)) called at /export/home/cpan/bin/perl/lib/site_perl/5.41.13/Catalyst/Dispatcher.pm line 261
Catalyst::Dispatcher::_do_forward(Catalyst::Dispatcher=HASH(0x2a0f5a8), "forward", ComponentUI=HASH(0x7cce2f8), "_END") called at /export/home/cpan/bin/perl/lib/site_perl/5.41.13/Catalyst/Dispatcher.pm line 241
Catalyst::Dispatcher::forward(Catalyst::Dispatcher=HASH(0x2a0f5a8), ComponentUI=HASH(0x7cce2f8), "_END") called at /export/home/cpan/bin/perl/lib/site_perl/5.41.13/Catalyst.pm line 489
Catalyst::forward(ComponentUI=HASH(0x7cce2f8), "_END") called at /export/home/cpan/bin/perl/lib/site_perl/5.41.13/Catalyst/Controller.pm line 137
Catalyst::Controller::_DISPATCH(ComponentUI::Controller::Root=HASH(0x7d254a0), ComponentUI=HASH(0x7cce2f8)) called at /export/home/cpan/bin/perl/lib/site_perl/5.41.13/Catalyst/Action.pm line 374
Catalyst::Action::execute(Catalyst::Action=HASH(0x7afea00), ComponentUI::Controller::Root=HASH(0x7d254a0), ComponentUI=HASH(0x7cce2f8)) called at /export/home/cpan/bin/perl/lib/site_perl/5.41.13/Catalyst.pm line 2067
eval {...} called at /export/home/cpan/bin/perl/lib/site_perl/5.41.13/Catalyst.pm line 2067
Catalyst::execute(ComponentUI=HASH(0x7cce2f8), "ComponentUI::Controller::Root", Catalyst::Action=HASH(0x7afea00)) called at /export/home/cpan/bin/perl/lib/site_perl/5.41.13/Catalyst/Action.pm line 368
Catalyst::Action::dispatch(Catalyst::Action=HASH(0x7afea00), ComponentUI=HASH(0x7cce2f8)) called at /export/home/cpan/bin/perl/lib/site_perl/5.41.13/Catalyst/Dispatcher.pm line 261
Catalyst::Dispatcher::_do_forward(Catalyst::Dispatcher=HASH(0x2a0f5a8), "forward", ComponentUI=HASH(0x7cce2f8), "//_DISPATCH") called at /export/home/cpan/bin/perl/lib/site_perl/5.41.13/Catalyst/Dispatcher.pm line 241
Catalyst::Dispatcher::forward(Catalyst::Dispatcher=HASH(0x2a0f5a8), ComponentUI=HASH(0x7cce2f8), "//_DISPATCH") called at /export/home/cpan/bin/perl/lib/site_perl/5.41.13/Catalyst.pm line 489
Catalyst::forward(ComponentUI=HASH(0x7cce2f8), "//_DISPATCH") called at /export/home/cpan/bin/perl/lib/site_perl/5.41.13/Catalyst/Dispatcher.pm line 107
Catalyst::Dispatcher::dispatch(Catalyst::Dispatcher=HASH(0x2a0f5a8), ComponentUI=HASH(0x7cce2f8)) called at /export/home/cpan/bin/perl/lib/site_perl/5.41.13/Catalyst.pm line 2013
Catalyst::dispatch(ComponentUI=HASH(0x7cce2f8)) called at /export/home/cpan/bin/perl/lib/site_perl/5.41.13/Catalyst/Plugin/Static/Simple.pm line 85
Class::MOP::Class:::around(CODE(0x2f7b6c8), ComponentUI=HASH(0x7cce2f8)) called at /export/home/cpan/bin/perl/lib/site_perl/5.41.13/i86pc-solaris-thread-multi-64/Class/MOP/Method/Wrapped.pm line 166
ComponentUI::_wrapped_dispatch(ComponentUI=HASH(0x7cce2f8)) called at /export/home/cpan/bin/perl/lib/site_perl/5.41.13/i86pc-solaris-thread-multi-64/Class/MOP/Method/Wrapped.pm line 97
ComponentUI::dispatch(ComponentUI=HASH(0x7cce2f8)) called at /export/home/cpan/bin/perl/lib/site_perl/5.41.13/Catalyst.pm line 2419
Catalyst::try {...} () called at /export/home/cpan/bin/perl/lib/site_perl/5.41.13/Try/Tiny.pm line 102
eval {...} called at /export/home/cpan/bin/perl/lib/site_perl/5.41.13/Try/Tiny.pm line 93
Try::Tiny::try(CODE(0x7ccdcb0), Try::Tiny::Catch=REF(0x7ccdab8)) called at /export/home/cpan/bin/perl/lib/site_perl/5.41.13/Catalyst.pm line 2428
Catalyst::handle_request("ComponentUI", "env", HASH(0x7d1b118), "response_cb", CODE(0x7ccdb18)) called at /export/home/cpan/bin/perl/lib/site_perl/5.41.13/Catalyst/Engine.pm line 808
Catalyst::Engine::__ANON__(CODE(0x7ccdb18)) called at /export/home/cpan/bin/perl/lib/site_perl/5.41.13/Plack/Middleware/HTTPExceptions.pm line 32
Plack::Middleware::HTTPExceptions::try {...} () called at /export/home/cpan/bin/perl/lib/site_perl/5.41.13/Try/Tiny.pm line 102
eval {...} called at /export/home/cpan/bin/perl/lib/site_perl/5.41.13/Try/Tiny.pm line 93
Try::Tiny::try(CODE(0x7ccd950), Try::Tiny::Catch=REF(0x7cbfb38)) called at /export/home/cpan/bin/perl/lib/site_perl/5.41.13/Plack/Middleware/HTTPExceptions.pm line 41
Plack::Middleware::HTTPExceptions::__ANON__(CODE(0x7cbf8f8)) called at /export/home/cpan/bin/perl/lib/site_perl/5.41.13/Plack/Util.pm line 339
Plack::Util::__ANON__(CODE(0x7d1b0a0)) called at /export/home/cpan/bin/perl/lib/site_perl/5.41.13/Plack/Util.pm line 339
Plack::Util::__ANON__(CODE(0x7d1afb0)) called at /export/home/cpan/bin/perl/lib/site_perl/5.41.13/Plack/Util.pm line 339
Plack::Util::__ANON__(CODE(0x7d1af38)) called at /export/home/cpan/bin/perl/lib/site_perl/5.41.13/HTTP/Message/PSGI.pm line 100
HTTP::Message::PSGI::res_from_psgi(CODE(0x7ccd6c8)) called at /export/home/cpan/bin/perl/lib/site_perl/5.41.13/HTTP/Message/PSGI.pm line 157
HTTP::Response::from_psgi("HTTP::Response", CODE(0x7ccd6c8)) called at /export/home/cpan/bin/perl/lib/site_perl/5.41.13/Plack/Test/MockHTTP.pm line 24
Plack::Test::MockHTTP::try {...} () called at /export/home/cpan/bin/perl/lib/site_perl/5.41.13/Try/Tiny.pm line 100
eval {...} called at /export/home/cpan/bin/perl/lib/site_perl/5.41.13/Try/Tiny.pm line 93
Try::Tiny::try(CODE(0x7bd52f8), Try::Tiny::Catch=REF(0x7bac390)) called at /export/home/cpan/bin/perl/lib/site_perl/5.41.13/Plack/Test/MockHTTP.pm line 27
Plack::Test::MockHTTP::request(Plack::Test::MockHTTP=HASH(0x967510), HTTP::Request=HASH(0x967150)) called at /export/home/cpan/bin/perl/lib/site_perl/5.41.13/Plack/Test.pm line 38
Plack::Test::__ANON__(HTTP::Request=HASH(0x967150)) called at /export/home/cpan/bin/perl/lib/site_perl/5.41.13/Catalyst/Test.pm line 290
Catalyst::Test::__ANON__(CODE(0x9674c8)) called at /export/home/cpan/bin/perl/lib/site_perl/5.41.13/Plack/Test.pm line 38
Plack::Test::test_psgi("app", CODE(0x7bd58c8), "mangle_response", CODE(0x2235a30), "app", CODE(0x7bcf700), "client", CODE(0x967360)) called at /export/home/cpan/bin/perl/lib/site_perl/5.41.13/Catalyst/Test.pm line 293
Catalyst::Test::_request(HASH(0x8b28e0), "/") called at /export/home/cpan/bin/perl/lib/site_perl/5.41.13/Catalyst/Test.pm line 336
Catalyst::Test::_local_request("ComponentUI", "/") called at /export/home/cpan/bin/perl/lib/site_perl/5.41.13/Catalyst/Test.pm line 32
Catalyst::Test::__ANON__("/") called at t/01app.t line 10
Class::MOP::load_class is deprecated at /export/home/cpan/bin/perl/lib/site_perl/5.41.13/i86pc-solaris-thread-multi-64/Class/MOP.pm line 69.
Class::MOP::load_class("Reaction::UI::Widget::SiteLayout") called at /export/home/cpan/.cpan/build/Reaction-0.002005-0/blib/lib/Reaction/UI/Skin.pm line 181
eval {...} called at /export/home/cpan/.cpan/build/Reaction-0.002005-0/blib/lib/Reaction/UI/Skin.pm line 181
Reaction::UI::Skin::widget_class_for(Reaction::UI::Skin=HASH(0x7d54410), Reaction::UI::LayoutSet::TT=HASH(0x7dbe1c8)) called at /export/home/cpan/.cpan/build/Reaction-0.002005-0/blib/lib/Reaction/UI/LayoutSet.pm line 29
Reaction::UI::LayoutSet::BUILD(Reaction::UI::LayoutSet::TT=HASH(0x7dbe1c8), HASH(0x7dbe1b0)) called at constructor Reaction::UI::LayoutSet::TT::new (defined at /export/home/cpan/.cpan/build/Reaction-0.002005-0/blib/lib/Reaction/UI/LayoutSet/TT.pm line 43) line 80
Reaction::UI::LayoutSet::TT::new("Reaction::UI::LayoutSet::TT", "name", "site_layout", "skin", Reaction::UI::Skin=HASH(0x7d54410), "tt_object", Template=HASH(0x6932f68), "source_file", ...) called at /export/home/cpan/.cpan/build/Reaction-0.002005-0/blib/lib/Reaction/UI/Skin.pm line 115
Reaction::UI::Skin::_create_layout_set(Reaction::UI::Skin=HASH(0x7d54410), "site_layout", ARRAY(0x7dac9c0), Reaction::UI::Skin=HASH(0x7d54410)) called at /export/home/cpan/.cpan/build/Reaction-0.002005-0/blib/lib/Reaction/UI/Skin.pm line 110
Reaction::UI::Skin::create_layout_set(Reaction::UI::Skin=HASH(0x7d54410), "site_layout") called at /export/home/cpan/.cpan/build/Reaction-0.002005-0/blib/lib/Reaction/UI/LayoutSet.pm line 83
Reaction::UI::LayoutSet::_load_file(Reaction::UI::LayoutSet::TT=HASH(0x7b066c8), Path::Class::File=HASH(0x7d41b20), HASH(0x7d34608)) called at /export/home/cpan/.cpan/build/Reaction-0.002005-0/blib/lib/Reaction/UI/LayoutSet.pm line 27
Reaction::UI::LayoutSet::BUILD(Reaction::UI::LayoutSet::TT=HASH(0x7b066c8), HASH(0x7d34608)) called at constructor Reaction::UI::LayoutSet::TT::new (defined at /export/home/cpan/.cpan/build/Reaction-0.002005-0/blib/lib/Reaction/UI/LayoutSet/TT.pm line 43) line 80
Reaction::UI::LayoutSet::TT::new("Reaction::UI::LayoutSet::TT", "name", "site_layout", "skin", Reaction::UI::Skin=HASH(0x7d8c230), "next_skin", Reaction::UI::Skin=HASH(0x7d54410), "tt_object", ...) called at /export/home/cpan/.cpan/build/Reaction-0.002005-0/blib/lib/Reaction/UI/Skin.pm line 115
Reaction::UI::Skin::_create_layout_set(Reaction::UI::Skin=HASH(0x7d8c230), "site_layout", ARRAY(0x7d34a10), Reaction::UI::Skin=HASH(0x7d8c230)) called at /export/home/cpan/.cpan/build/Reaction-0.002005-0/blib/lib/Reaction/UI/Skin.pm line 110
Reaction::UI::Skin::create_layout_set(Reaction::UI::Skin=HASH(0x7d8c230), "site_layout") called at /export/home/cpan/.cpan/build/Reaction-0.002005-0/blib/lib/Reaction/UI/LayoutSet.pm line 83
Reaction::UI::LayoutSet::_load_file(Reaction::UI::LayoutSet::TT=HASH(0x7d8c8c0), Path::Class::File=HASH(0x75f1788), HASH(0x7d41bf8)) called at /export/home/cpan/.cpan/build/Reaction-0.002005-0/blib/lib/Reaction/UI/LayoutSet.pm line 27
Reaction::UI::LayoutSet::BUILD(Reaction::UI::LayoutSet::TT=HASH(0x7d8c8c0), HASH(0x7d41bf8)) called at constructor Reaction::UI::LayoutSet::TT::new (defined at /export/home/cpan/.cpan/build/Reaction-0.002005-0/blib/lib/Reaction/UI/LayoutSet/TT.pm line 43) line 80
Reaction::UI::LayoutSet::TT::new("Reaction::UI::LayoutSet::TT", "name", "site_layout", "skin", Reaction::UI::Skin=HASH(0x7d85f30), "next_skin", Reaction::UI::Skin=HASH(0x7d8c230), "tt_object", ...) called at /export/home/cpan/.cpan/build/Reaction-0.002005-0/blib/lib/Reaction/UI/Skin.pm line 115
Reaction::UI::Skin::_create_layout_set(Reaction::UI::Skin=HASH(0x7d85f30), "site_layout", ARRAY(0x7d8c2d8), Reaction::UI::Skin=HASH(0x7d85f30)) called at /export/home/cpan/.cpan/build/Reaction-0.002005-0/blib/lib/Reaction/UI/Skin.pm line 110
Reaction::UI::Skin::create_layout_set(Reaction::UI::Skin=HASH(0x7d85f30), "site_layout") called at inline delegation in Reaction::UI::View for skin->create_layout_set (attribute declared in /export/home/cpan/.cpan/build/Reaction-0.002005-0/blib/lib/Reaction/UI/View.pm at line 22) line 18
Reaction::UI::View::create_layout_set(ComponentUI::View::Site=HASH(0x39f7368), "site_layout") called at /export/home/cpan/.cpan/build/Reaction-0.002005-0/blib/lib/Reaction/UI/View.pm line 99
Reaction::UI::View::layout_set_for(ComponentUI::View::Site=HASH(0x39f7368), Reaction::UI::ViewPort::SiteLayout=HASH(0x7d2b770)) called at /export/home/cpan/.cpan/build/Reaction-0.002005-0/blib/lib/Reaction/UI/View.pm line 78
Reaction::UI::View::render_viewport_args(ComponentUI::View::Site=HASH(0x39f7368), Reaction::UI::ViewPort::SiteLayout=HASH(0x7d2b770)) called at /export/home/cpan/.cpan/build/Reaction-0.002005-0/blib/lib/Reaction/UI/View.pm line 61
Reaction::UI::View::render_window(ComponentUI::View::Site=HASH(0x39f7368), Reaction::UI::Window=HASH(0x7d2b0e0)) called at /export/home/cpan/.cpan/build/Reaction-0.002005-0/blib/lib/Reaction/UI/Window.pm line 74
Reaction::UI::Window::flush_view(Reaction::UI::Window=HASH(0x7d2b0e0)) called at /export/home/cpan/.cpan/build/Reaction-0.002005-0/blib/lib/Reaction/UI/Window.pm line 36
Reaction::UI::Window::flush(Reaction::UI::Window=HASH(0x7d2b0e0)) called at /export/home/cpan/.cpan/build/Reaction-0.002005-0/blib/lib/Reaction/UI/Controller/Root.pm line 38
Reaction::UI::Controller::Root::end(ComponentUI::Controller::Root=HASH(0x7d254a0), ComponentUI=HASH(0x7cce2f8)) called at /export/home/cpan/bin/perl/lib/site_perl/5.41.13/Catalyst/Action.pm line 374
Catalyst::Action::execute(Catalyst::Action=HASH(0x7afead8), ComponentUI::Controller::Root=HASH(0x7d254a0), ComponentUI=HASH(0x7cce2f8)) called at /export/home/cpan/bin/perl/lib/site_perl/5.41.13/Catalyst.pm line 2067
eval {...} called at /export/home/cpan/bin/perl/lib/site_perl/5.41.13/Catalyst.pm line 2067
Catalyst::execute(ComponentUI=HASH(0x7cce2f8), "ComponentUI::Controller::Root", Catalyst::Action=HASH(0x7afead8)) called at /export/home/cpan/bin/perl/lib/site_perl/5.41.13/Catalyst/Action.pm line 368
Catalyst::Action::dispatch(Catalyst::Action=HASH(0x7afead8), ComponentUI=HASH(0x7cce2f8)) called at /export/home/cpan/bin/perl/lib/site_perl/5.41.13/Catalyst/Controller.pm line 188
Catalyst::Controller::_END(ComponentUI::Controller::Root=HASH(0x7d254a0), ComponentUI=HASH(0x7cce2f8)) called at /export/home/cpan/bin/perl/lib/site_perl/5.41.13/Catalyst/Action.pm line 374
Catalyst::Action::execute(Catalyst::Action=HASH(0x7afebe0), ComponentUI::Controller::Root=HASH(0x7d254a0), ComponentUI=HASH(0x7cce2f8)) called at /export/home/cpan/bin/perl/lib/site_perl/5.41.13/Catalyst.pm line 2067
eval {...} called at /export/home/cpan/bin/perl/lib/site_perl/5.41.13/Catalyst.pm line 2067
Catalyst::execute(ComponentUI=HASH(0x7cce2f8), "ComponentUI::Controller::Root", Catalyst::Action=HASH(0x7afebe0)) called at /export/home/cpan/bin/perl/lib/site_perl/5.41.13/Catalyst/Action.pm line 368
Catalyst::Action::dispatch(Catalyst::Action=HASH(0x7afebe0), ComponentUI=HASH(0x7cce2f8)) called at /export/home/cpan/bin/perl/lib/site_perl/5.41.13/Catalyst/Dispatcher.pm line 261
Catalyst::Dispatcher::_do_forward(Catalyst::Dispatcher=HASH(0x2a0f5a8), "forward", ComponentUI=HASH(0x7cce2f8), "_END") called at /export/home/cpan/bin/perl/lib/site_perl/5.41.13/Catalyst/Dispatcher.pm line 241
Catalyst::Dispatcher::forward(Catalyst::Dispatcher=HASH(0x2a0f5a8), ComponentUI=HASH(0x7cce2f8), "_END") called at /export/home/cpan/bin/perl/lib/site_perl/5.41.13/Catalyst.pm line 489
Catalyst::forward(ComponentUI=HASH(0x7cce2f8), "_END") called at /export/home/cpan/bin/perl/lib/site_perl/5.41.13/Catalyst/Controller.pm line 137
Catalyst::Controller::_DISPATCH(ComponentUI::Controller::Root=HASH(0x7d254a0), ComponentUI=HASH(0x7cce2f8)) called at /export/home/cpan/bin/perl/lib/site_perl/5.41.13/Catalyst/Action.pm line 374
Catalyst::Action::execute(Catalyst::Action=HASH(0x7afea00), ComponentUI::Controller::Root=HASH(0x7d254a0), ComponentUI=HASH(0x7cce2f8)) called at /export/home/cpan/bin/perl/lib/site_perl/5.41.13/Catalyst.pm line 2067
eval {...} called at /export/home/cpan/bin/perl/lib/site_perl/5.41.13/Catalyst.pm line 2067
Catalyst::execute(ComponentUI=HASH(0x7cce2f8), "ComponentUI::Controller::Root", Catalyst::Action=HASH(0x7afea00)) called at /export/home/cpan/bin/perl/lib/site_perl/5.41.13/Catalyst/Action.pm line 368
Catalyst::Action::dispatch(Catalyst::Action=HASH(0x7afea00), ComponentUI=HASH(0x7cce2f8)) called at /export/home/cpan/bin/perl/lib/site_perl/5.41.13/Catalyst/Dispatcher.pm line 261
Catalyst::Dispatcher::_do_forward(Catalyst::Dispatcher=HASH(0x2a0f5a8), "forward", ComponentUI=HASH(0x7cce2f8), "//_DISPATCH") called at /export/home/cpan/bin/perl/lib/site_perl/5.41.13/Catalyst/Dispatcher.pm line 241
Catalyst::Dispatcher::forward(Catalyst::Dispatcher=HASH(0x2a0f5a8), ComponentUI=HASH(0x7cce2f8), "//_DISPATCH") called at /export/home/cpan/bin/perl/lib/site_perl/5.41.13/Catalyst.pm line 489
Catalyst::forward(ComponentUI=HASH(0x7cce2f8), "//_DISPATCH") called at /export/home/cpan/bin/perl/lib/site_perl/5.41.13/Catalyst/Dispatcher.pm line 107
Catalyst::Dispatcher::dispatch(Catalyst::Dispatcher=HASH(0x2a0f5a8), ComponentUI=HASH(0x7cce2f8)) called at /export/home/cpan/bin/perl/lib/site_perl/5.41.13/Catalyst.pm line 2013
Catalyst::dispatch(ComponentUI=HASH(0x7cce2f8)) called at /export/home/cpan/bin/perl/lib/site_perl/5.41.13/Catalyst/Plugin/Static/Simple.pm line 85
Class::MOP::Class:::around(CODE(0x2f7b6c8), ComponentUI=HASH(0x7cce2f8)) called at /export/home/cpan/bin/perl/lib/site_perl/5.41.13/i86pc-solaris-thread-multi-64/Class/MOP/Method/Wrapped.pm line 166
ComponentUI::_wrapped_dispatch(ComponentUI=HASH(0x7cce2f8)) called at /export/home/cpan/bin/perl/lib/site_perl/5.41.13/i86pc-solaris-thread-multi-64/Class/MOP/Method/Wrapped.pm line 97
ComponentUI::dispatch(ComponentUI=HASH(0x7cce2f8)) called at /export/home/cpan/bin/perl/lib/site_perl/5.41.13/Catalyst.pm line 2419
Catalyst::try {...} () called at /export/home/cpan/bin/perl/lib/site_perl/5.41.13/Try/Tiny.pm line 102
eval {...} called at /export/home/cpan/bin/perl/lib/site_perl/5.41.13/Try/Tiny.pm line 93
Try::Tiny::try(CODE(0x7ccdcb0), Try::Tiny::Catch=REF(0x7ccdab8)) called at /export/home/cpan/bin/perl/lib/site_perl/5.41.13/Catalyst.pm line 2428
Catalyst::handle_request("ComponentUI", "env", HASH(0x7d1b118), "response_cb", CODE(0x7ccdb18)) called at /export/home/cpan/bin/perl/lib/site_perl/5.41.13/Catalyst/Engine.pm line 808
Catalyst::Engine::__ANON__(CODE(0x7ccdb18)) called at /export/home/cpan/bin/perl/lib/site_perl/5.41.13/Plack/Middleware/HTTPExceptions.pm line 32
Plack::Middleware::HTTPExceptions::try {...} () called at /export/home/cpan/bin/perl/lib/site_perl/5.41.13/Try/Tiny.pm line 102
eval {...} called at /export/home/cpan/bin/perl/lib/site_perl/5.41.13/Try/Tiny.pm line 93
Try::Tiny::try(CODE(0x7ccd950), Try::Tiny::Catch=REF(0x7cbfb38)) called at /export/home/cpan/bin/perl/lib/site_perl/5.41.13/Plack/Middleware/HTTPExceptions.pm line 41
Plack::Middleware::HTTPExceptions::__ANON__(CODE(0x7cbf8f8)) called at /export/home/cpan/bin/perl/lib/site_perl/5.41.13/Plack/Util.pm line 339
Plack::Util::__ANON__(CODE(0x7d1b0a0)) called at /export/home/cpan/bin/perl/lib/site_perl/5.41.13/Plack/Util.pm line 339
Plack::Util::__ANON__(CODE(0x7d1afb0)) called at /export/home/cpan/bin/perl/lib/site_perl/5.41.13/Plack/Util.pm line 339
Plack::Util::__ANON__(CODE(0x7d1af38)) called at /export/home/cpan/bin/perl/lib/site_perl/5.41.13/HTTP/Message/PSGI.pm line 100
HTTP::Message::PSGI::res_from_psgi(CODE(0x7ccd6c8)) called at /export/home/cpan/bin/perl/lib/site_perl/5.41.13/HTTP/Message/PSGI.pm line 157
HTTP::Response::from_psgi("HTTP::Response", CODE(0x7ccd6c8)) called at /export/home/cpan/bin/perl/lib/site_perl/5.41.13/Plack/Test/MockHTTP.pm line 24
Plack::Test::MockHTTP::try {...} () called at /export/home/cpan/bin/perl/lib/site_perl/5.41.13/Try/Tiny.pm line 100
eval {...} called at /export/home/cpan/bin/perl/lib/site_perl/5.41.13/Try/Tiny.pm line 93
Try::Tiny::try(CODE(0x7bd52f8), Try::Tiny::Catch=REF(0x7bac390)) called at /export/home/cpan/bin/perl/lib/site_perl/5.41.13/Plack/Test/MockHTTP.pm line 27
Plack::Test::MockHTTP::request(Plack::Test::MockHTTP=HASH(0x967510), HTTP::Request=HASH(0x967150)) called at /export/home/cpan/bin/perl/lib/site_perl/5.41.13/Plack/Test.pm line 38
Plack::Test::__ANON__(HTTP::Request=HASH(0x967150)) called at /export/home/cpan/bin/perl/lib/site_perl/5.41.13/Catalyst/Test.pm line 290
Catalyst::Test::__ANON__(CODE(0x9674c8)) called at /export/home/cpan/bin/perl/lib/site_perl/5.41.13/Plack/Test.pm line 38
Plack::Test::test_psgi("app", CODE(0x7bd58c8), "mangle_response", CODE(0x2235a30), "app", CODE(0x7bcf700), "client", CODE(0x967360)) called at /export/home/cpan/bin/perl/lib/site_perl/5.41.13/Catalyst/Test.pm line 293
Catalyst::Test::_request(HASH(0x8b28e0), "/") called at /export/home/cpan/bin/perl/lib/site_perl/5.41.13/Catalyst/Test.pm line 336
Catalyst::Test::_local_request("ComponentUI", "/") called at /export/home/cpan/bin/perl/lib/site_perl/5.41.13/Catalyst/Test.pm line 32
Catalyst::Test::__ANON__("/") called at t/01app.t line 10
[debug] remote
t/01app.t ................... ok
t/04load_all.t .............. ok
t/05reflect_attr_from.t ..... ok
Class::MOP::load_class is deprecated at /export/home/cpan/bin/perl/lib/site_perl/5.41.13/i86pc-solaris-thread-multi-64/Class/MOP.pm line 69.
Class::MOP::load_class("Reaction::InterfaceModel::Object") called at /export/home/cpan/.cpan/build/Reaction-0.002005-0/blib/lib/Reaction/InterfaceModel/Reflector/DBIC.pm line 149
Reaction::InterfaceModel::Reflector::DBIC::reflect_schema(Reaction::InterfaceModel::Reflector::DBIC=HASH(0x2f814c8), "model_class", "ComponentUI::TestModel", "schema_class", "RTest::TestDB", "sources", ARRAY(0x34d54f0)) called at /export/home/cpan/.cpan/build/Reaction-0.002005-0/blib/lib/ComponentUI/TestModel.pm line 10
require ComponentUI/TestModel.pm called at t/lib/RTest/InterfaceModel/Reflector/DBIC.pm line 6
RTest::InterfaceModel::Reflector::DBIC::BEGIN() called at t/lib/RTest/InterfaceModel/Reflector/DBIC.pm line 6
eval {...} called at t/lib/RTest/InterfaceModel/Reflector/DBIC.pm line 6
require RTest/InterfaceModel/Reflector/DBIC.pm called at t/im_dbic.t line 7
main::BEGIN() called at t/im_dbic.t line 7
eval {...} called at t/im_dbic.t line 7
Class::MOP::load_class is deprecated at /export/home/cpan/bin/perl/lib/site_perl/5.41.13/i86pc-solaris-thread-multi-64/Class/MOP.pm line 69.
Class::MOP::load_class("Reaction::InterfaceModel::Object") called at /export/home/cpan/.cpan/build/Reaction-0.002005-0/blib/lib/Reaction/Class.pm line 123
Reaction::Class::do_class_sub("Reaction::Class", "ComponentUI::TestModel::Foo", "ComponentUI::TestModel::Foo", "is", "Reaction::InterfaceModel::Object", "which", CODE(0x48f6150)) called at /export/home/cpan/.cpan/build/Reaction-0.002005-0/blib/lib/Reaction/Class.pm line 86
Reaction::Class::("ComponentUI::TestModel::Foo", "is", "Reaction::InterfaceModel::Object", "which", CODE(0x48f6150)) called at /export/home/cpan/.cpan/build/Reaction-0.002005-0/blib/lib/ComponentUI/TestModel/Foo.pm line 8
require ComponentUI/TestModel/Foo.pm called at /export/home/cpan/bin/perl/lib/site_perl/5.41.13/Module/Runtime.pm line 120
Module::Runtime::require_module("ComponentUI::TestModel::Foo") called at /export/home/cpan/bin/perl/lib/site_perl/5.41.13/Class/Load.pm line 174
Class::Load::try {...} () called at /export/home/cpan/bin/perl/lib/site_perl/5.41.13/Try/Tiny.pm line 98
eval {...} called at /export/home/cpan/bin/perl/lib/site_perl/5.41.13/Try/Tiny.pm line 93
Try::Tiny::try(CODE(0x484b530), Try::Tiny::Catch=REF(0x48e6fe8)) called at /export/home/cpan/bin/perl/lib/site_perl/5.41.13/Class/Load.pm line 180
Class::Load::try_load_class("ComponentUI::TestModel::Foo", undef) called at /export/home/cpan/bin/perl/lib/site_perl/5.41.13/Class/Load.pm line 35
Class::Load::load_class("ComponentUI::TestModel::Foo") called at /export/home/cpan/.cpan/build/Reaction-0.002005-0/blib/lib/Reaction/InterfaceModel/Reflector/DBIC.pm line 892
eval {...} called at /export/home/cpan/.cpan/build/Reaction-0.002005-0/blib/lib/Reaction/InterfaceModel/Reflector/DBIC.pm line 892
Reaction::InterfaceModel::Reflector::DBIC::_maybe_load_class(Reaction::InterfaceModel::Reflector::DBIC=HASH(0x2f814c8), "ComponentUI::TestModel::Foo") called at /export/home/cpan/.cpan/build/Reaction-0.002005-0/blib/lib/Reaction/InterfaceModel/Reflector/DBIC.pm line 876
Reaction::InterfaceModel::Reflector::DBIC::_load_or_create(Reaction::InterfaceModel::Reflector::DBIC=HASH(0x2f814c8), "ComponentUI::TestModel::Foo", "superclasses", ARRAY(0x488be40)) called at /export/home/cpan/.cpan/build/Reaction-0.002005-0/blib/lib/Reaction/InterfaceModel/Reflector/DBIC.pm line 448
Reaction::InterfaceModel::Reflector::DBIC::reflect_source_object(Reaction::InterfaceModel::Reflector::DBIC=HASH(0x2f814c8), "source_class", "RTest::TestDB::Foo", "source_name", "Foo", "parent_domain_model_name", "_rtest_test_db_store", "parent_class", ...) called at /export/home/cpan/.cpan/build/Reaction-0.002005-0/blib/lib/Reaction/InterfaceModel/Reflector/DBIC.pm line 323
Reaction::InterfaceModel::Reflector::DBIC::reflect_source(Reaction::InterfaceModel::Reflector::DBIC=HASH(0x2f814c8), "source_name", "Foo", "parent_class", "ComponentUI::TestModel", "schema_class", "RTest::TestDB", "source_class", ...) called at /export/home/cpan/.cpan/build/Reaction-0.002005-0/blib/lib/Reaction/InterfaceModel/Reflector/DBIC.pm line 185
Reaction::InterfaceModel::Reflector::DBIC::reflect_schema(Reaction::InterfaceModel::Reflector::DBIC=HASH(0x2f814c8), "model_class", "ComponentUI::TestModel", "schema_class", "RTest::TestDB", "sources", ARRAY(0x34d54f0)) called at /export/home/cpan/.cpan/build/Reaction-0.002005-0/blib/lib/ComponentUI/TestModel.pm line 10
require ComponentUI/TestModel.pm called at t/lib/RTest/InterfaceModel/Reflector/DBIC.pm line 6
RTest::InterfaceModel::Reflector::DBIC::BEGIN() called at t/lib/RTest/InterfaceModel/Reflector/DBIC.pm line 6
eval {...} called at t/lib/RTest/InterfaceModel/Reflector/DBIC.pm line 6
require RTest/InterfaceModel/Reflector/DBIC.pm called at t/im_dbic.t line 7
main::BEGIN() called at t/im_dbic.t line 7
eval {...} called at t/im_dbic.t line 7
Class::MOP::is_class_loaded is deprecated at /export/home/cpan/bin/perl/lib/site_perl/5.41.13/i86pc-solaris-thread-multi-64/Class/MOP.pm line 87.
Class::MOP::is_class_loaded("RTest::TestIM::Foo") called at t/lib/RTest/InterfaceModel/Reflector/DBIC.pm line 74
RTest::InterfaceModel::Reflector::DBIC::test_reflect_schema(RTest::InterfaceModel::Reflector::DBIC=HASH(0x118dc10)) called at /export/home/cpan/bin/perl/lib/site_perl/5.41.13/Test/Class.pm line 293
Test::Class::try {...} () called at /export/home/cpan/bin/perl/lib/site_perl/5.41.13/Try/Tiny.pm line 100
eval {...} called at /export/home/cpan/bin/perl/lib/site_perl/5.41.13/Try/Tiny.pm line 93
Try::Tiny::try(CODE(0x5f3e418), Try::Tiny::Catch=REF(0x5f20d98)) called at /export/home/cpan/bin/perl/lib/site_perl/5.41.13/Test/Class.pm line 293
Test::Class::_run_method(RTest::InterfaceModel::Reflector::DBIC=HASH(0x118dc10), "test_reflect_schema", ARRAY(0x1822a08)) called at /export/home/cpan/bin/perl/lib/site_perl/5.41.13/Test/Class.pm line 402
Test::Class::runtests("Test::Class", RTest::InterfaceModel::Reflector::DBIC=HASH(0x118dc10)) called at t/im_dbic.t line 10
t/im_dbic.t ................. ok
t/ui_focus_stack.t .......... ok
t/ui_view.t ................. ok
t/ui_viewport.t ............. ok
Attempt to call undefined import method with arguments ("5.80") via package "Catalyst::Runtime" (Perhaps you forgot to load the package?) at /export/home/cpan/.cpan/build/Reaction-0.002005-0/blib/lib/ComponentUI.pm line 6.
Class::MOP::load_class is deprecated at /export/home/cpan/bin/perl/lib/site_perl/5.41.13/i86pc-solaris-thread-multi-64/Class/MOP.pm line 69.
Class::MOP::load_class("ComponentUI::TestModel") called at /export/home/cpan/.cpan/build/Reaction-0.002005-0/blib/lib/Catalyst/Model/Reaction/InterfaceModel/DBIC.pm line 24
Catalyst::Model::Reaction::InterfaceModel::DBIC::COMPONENT("ComponentUI::Model::TestModel", "ComponentUI", HASH(0x7b584f0)) called at /export/home/cpan/bin/perl/lib/site_perl/5.41.13/Catalyst.pm line 3240
eval {...} called at /export/home/cpan/bin/perl/lib/site_perl/5.41.13/Catalyst.pm line 3241
Catalyst::setup_component("ComponentUI", "ComponentUI::Model::TestModel") called at /export/home/cpan/bin/perl/lib/site_perl/5.41.13/Catalyst.pm line 3218
Catalyst::__ANON__() called at /export/home/cpan/bin/perl/lib/site_perl/5.41.13/Catalyst.pm line 3065
Catalyst::setup_components("ComponentUI") called at /export/home/cpan/bin/perl/lib/site_perl/5.41.13/Catalyst.pm line 1438
Catalyst::setup("ComponentUI") called at /export/home/cpan/.cpan/build/Reaction-0.002005-0/blib/lib/ComponentUI.pm line 32
require ComponentUI.pm called at /export/home/cpan/bin/perl/lib/site_perl/5.41.13/Module/Runtime.pm line 120
Module::Runtime::require_module("ComponentUI") called at /export/home/cpan/bin/perl/lib/site_perl/5.41.13/Class/Load.pm line 174
Class::Load::try {...} () called at /export/home/cpan/bin/perl/lib/site_perl/5.41.13/Try/Tiny.pm line 98
eval {...} called at /export/home/cpan/bin/perl/lib/site_perl/5.41.13/Try/Tiny.pm line 93
Try::Tiny::try(CODE(0x1264940), Try::Tiny::Catch=REF(0x35e2b88)) called at /export/home/cpan/bin/perl/lib/site_perl/5.41.13/Class/Load.pm line 180
Class::Load::try_load_class("ComponentUI", undef) called at /export/home/cpan/bin/perl/lib/site_perl/5.41.13/Class/Load.pm line 35
Class::Load::load_class("ComponentUI") called at /export/home/cpan/bin/perl/lib/site_perl/5.41.13/Test/WWW/Mechanize/Catalyst.pm line 245
Test::WWW::Mechanize::Catalyst::import("Test::WWW::Mechanize::Catalyst", "ComponentUI") called at t/uncheck_bool_field.t line 6
main::BEGIN() called at t/uncheck_bool_field.t line 6
eval {...} called at t/uncheck_bool_field.t line 6
Class::MOP::load_class is deprecated at /export/home/cpan/bin/perl/lib/site_perl/5.41.13/i86pc-solaris-thread-multi-64/Class/MOP.pm line 69.
Class::MOP::load_class("Reaction::InterfaceModel::Object") called at /export/home/cpan/.cpan/build/Reaction-0.002005-0/blib/lib/Reaction/InterfaceModel/Reflector/DBIC.pm line 149
Reaction::InterfaceModel::Reflector::DBIC::reflect_schema(Reaction::InterfaceModel::Reflector::DBIC=HASH(0x86b6e98), "model_class", "ComponentUI::TestModel", "schema_class", "RTest::TestDB", "sources", ARRAY(0x86b6fe8)) called at /export/home/cpan/.cpan/build/Reaction-0.002005-0/blib/lib/ComponentUI/TestModel.pm line 10
require ComponentUI/TestModel.pm called at /export/home/cpan/bin/perl/lib/site_perl/5.41.13/Module/Runtime.pm line 120
Module::Runtime::require_module("ComponentUI::TestModel") called at /export/home/cpan/bin/perl/lib/site_perl/5.41.13/Class/Load.pm line 174
Class::Load::try {...} () called at /export/home/cpan/bin/perl/lib/site_perl/5.41.13/Try/Tiny.pm line 98
eval {...} called at /export/home/cpan/bin/perl/lib/site_perl/5.41.13/Try/Tiny.pm line 93
Try::Tiny::try(CODE(0x50edaa8), Try::Tiny::Catch=REF(0x811ef60)) called at /export/home/cpan/bin/perl/lib/site_perl/5.41.13/Class/Load.pm line 180
Class::Load::try_load_class("ComponentUI::TestModel", undef) called at /export/home/cpan/bin/perl/lib/site_perl/5.41.13/Class/Load.pm line 35
Class::Load::load_class("ComponentUI::TestModel") called at /export/home/cpan/.cpan/build/Reaction-0.002005-0/blib/lib/Catalyst/Model/Reaction/InterfaceModel/DBIC.pm line 24
Catalyst::Model::Reaction::InterfaceModel::DBIC::COMPONENT("ComponentUI::Model::TestModel", "ComponentUI", HASH(0x7b584f0)) called at /export/home/cpan/bin/perl/lib/site_perl/5.41.13/Catalyst.pm line 3240
eval {...} called at /export/home/cpan/bin/perl/lib/site_perl/5.41.13/Catalyst.pm line 3241
Catalyst::setup_component("ComponentUI", "ComponentUI::Model::TestModel") called at /export/home/cpan/bin/perl/lib/site_perl/5.41.13/Catalyst.pm line 3218
Catalyst::__ANON__() called at /export/home/cpan/bin/perl/lib/site_perl/5.41.13/Catalyst.pm line 3065
Catalyst::setup_components("ComponentUI") called at /export/home/cpan/bin/perl/lib/site_perl/5.41.13/Catalyst.pm line 1438
Catalyst::setup("ComponentUI") called at /export/home/cpan/.cpan/build/Reaction-0.002005-0/blib/lib/ComponentUI.pm line 32
require ComponentUI.pm called at /export/home/cpan/bin/perl/lib/site_perl/5.41.13/Module/Runtime.pm line 120
Module::Runtime::require_module("ComponentUI") called at /export/home/cpan/bin/perl/lib/site_perl/5.41.13/Class/Load.pm line 174
Class::Load::try {...} () called at /export/home/cpan/bin/perl/lib/site_perl/5.41.13/Try/Tiny.pm line 98
eval {...} called at /export/home/cpan/bin/perl/lib/site_perl/5.41.13/Try/Tiny.pm line 93
Try::Tiny::try(CODE(0x1264940), Try::Tiny::Catch=REF(0x35e2b88)) called at /export/home/cpan/bin/perl/lib/site_perl/5.41.13/Class/Load.pm line 180
Class::Load::try_load_class("ComponentUI", undef) called at /export/home/cpan/bin/perl/lib/site_perl/5.41.13/Class/Load.pm line 35
Class::Load::load_class("ComponentUI") called at /export/home/cpan/bin/perl/lib/site_perl/5.41.13/Test/WWW/Mechanize/Catalyst.pm line 245
Test::WWW::Mechanize::Catalyst::import("Test::WWW::Mechanize::Catalyst", "ComponentUI") called at t/uncheck_bool_field.t line 6
main::BEGIN() called at t/uncheck_bool_field.t line 6
eval {...} called at t/uncheck_bool_field.t line 6
Class::MOP::load_class is deprecated at /export/home/cpan/bin/perl/lib/site_perl/5.41.13/i86pc-solaris-thread-multi-64/Class/MOP.pm line 69.
Class::MOP::load_class("Reaction::InterfaceModel::Object") called at /export/home/cpan/.cpan/build/Reaction-0.002005-0/blib/lib/Reaction/Class.pm line 123
Reaction::Class::do_class_sub("Reaction::Class", "ComponentUI::TestModel::Foo", "ComponentUI::TestModel::Foo", "is", "Reaction::InterfaceModel::Object", "which", CODE(0x8795aa8)) called at /export/home/cpan/.cpan/build/Reaction-0.002005-0/blib/lib/Reaction/Class.pm line 86
Reaction::Class::("ComponentUI::TestModel::Foo", "is", "Reaction::InterfaceModel::Object", "which", CODE(0x8795aa8)) called at /export/home/cpan/.cpan/build/Reaction-0.002005-0/blib/lib/ComponentUI/TestModel/Foo.pm line 8
require ComponentUI/TestModel/Foo.pm called at /export/home/cpan/bin/perl/lib/site_perl/5.41.13/Module/Runtime.pm line 120
Module::Runtime::require_module("ComponentUI::TestModel::Foo") called at /export/home/cpan/bin/perl/lib/site_perl/5.41.13/Class/Load.pm line 174
Class::Load::try {...} () called at /export/home/cpan/bin/perl/lib/site_perl/5.41.13/Try/Tiny.pm line 98
eval {...} called at /export/home/cpan/bin/perl/lib/site_perl/5.41.13/Try/Tiny.pm line 93
Try::Tiny::try(CODE(0x87a9628), Try::Tiny::Catch=REF(0x87b5768)) called at /export/home/cpan/bin/perl/lib/site_perl/5.41.13/Class/Load.pm line 180
Class::Load::try_load_class("ComponentUI::TestModel::Foo", undef) called at /export/home/cpan/bin/perl/lib/site_perl/5.41.13/Class/Load.pm line 35
Class::Load::load_class("ComponentUI::TestModel::Foo") called at /export/home/cpan/.cpan/build/Reaction-0.002005-0/blib/lib/Reaction/InterfaceModel/Reflector/DBIC.pm line 892
eval {...} called at /export/home/cpan/.cpan/build/Reaction-0.002005-0/blib/lib/Reaction/InterfaceModel/Reflector/DBIC.pm line 892
Reaction::InterfaceModel::Reflector::DBIC::_maybe_load_class(Reaction::InterfaceModel::Reflector::DBIC=HASH(0x86b6e98), "ComponentUI::TestModel::Foo") called at /export/home/cpan/.cpan/build/Reaction-0.002005-0/blib/lib/Reaction/InterfaceModel/Reflector/DBIC.pm line 876
Reaction::InterfaceModel::Reflector::DBIC::_load_or_create(Reaction::InterfaceModel::Reflector::DBIC=HASH(0x86b6e98), "ComponentUI::TestModel::Foo", "superclasses", ARRAY(0x87622b8)) called at /export/home/cpan/.cpan/build/Reaction-0.002005-0/blib/lib/Reaction/InterfaceModel/Reflector/DBIC.pm line 448
Reaction::InterfaceModel::Reflector::DBIC::reflect_source_object(Reaction::InterfaceModel::Reflector::DBIC=HASH(0x86b6e98), "source_class", "RTest::TestDB::Foo", "schema_class", "RTest::TestDB", "source_name", "Foo", "parent_class", ...) called at /export/home/cpan/.cpan/build/Reaction-0.002005-0/blib/lib/Reaction/InterfaceModel/Reflector/DBIC.pm line 323
Reaction::InterfaceModel::Reflector::DBIC::reflect_source(Reaction::InterfaceModel::Reflector::DBIC=HASH(0x86b6e98), "source_name", "Foo", "parent_class", "ComponentUI::TestModel", "schema_class", "RTest::TestDB", "source_class", ...) called at /export/home/cpan/.cpan/build/Reaction-0.002005-0/blib/lib/Reaction/InterfaceModel/Reflector/DBIC.pm line 185
Reaction::InterfaceModel::Reflector::DBIC::reflect_schema(Reaction::InterfaceModel::Reflector::DBIC=HASH(0x86b6e98), "model_class", "ComponentUI::TestModel", "schema_class", "RTest::TestDB", "sources", ARRAY(0x86b6fe8)) called at /export/home/cpan/.cpan/build/Reaction-0.002005-0/blib/lib/ComponentUI/TestModel.pm line 10
require ComponentUI/TestModel.pm called at /export/home/cpan/bin/perl/lib/site_perl/5.41.13/Module/Runtime.pm line 120
Module::Runtime::require_module("ComponentUI::TestModel") called at /export/home/cpan/bin/perl/lib/site_perl/5.41.13/Class/Load.pm line 174
Class::Load::try {...} () called at /export/home/cpan/bin/perl/lib/site_perl/5.41.13/Try/Tiny.pm line 98
eval {...} called at /export/home/cpan/bin/perl/lib/site_perl/5.41.13/Try/Tiny.pm line 93
Try::Tiny::try(CODE(0x50edaa8), Try::Tiny::Catch=REF(0x811ef60)) called at /export/home/cpan/bin/perl/lib/site_perl/5.41.13/Class/Load.pm line 180
Class::Load::try_load_class("ComponentUI::TestModel", undef) called at /export/home/cpan/bin/perl/lib/site_perl/5.41.13/Class/Load.pm line 35
Class::Load::load_class("ComponentUI::TestModel") called at /export/home/cpan/.cpan/build/Reaction-0.002005-0/blib/lib/Catalyst/Model/Reaction/InterfaceModel/DBIC.pm line 24
Catalyst::Model::Reaction::InterfaceModel::DBIC::COMPONENT("ComponentUI::Model::TestModel", "ComponentUI", HASH(0x7b584f0)) called at /export/home/cpan/bin/perl/lib/site_perl/5.41.13/Catalyst.pm line 3240
eval {...} called at /export/home/cpan/bin/perl/lib/site_perl/5.41.13/Catalyst.pm line 3241
Catalyst::setup_component("ComponentUI", "ComponentUI::Model::TestModel") called at /export/home/cpan/bin/perl/lib/site_perl/5.41.13/Catalyst.pm line 3218
Catalyst::__ANON__() called at /export/home/cpan/bin/perl/lib/site_perl/5.41.13/Catalyst.pm line 3065
Catalyst::setup_components("ComponentUI") called at /export/home/cpan/bin/perl/lib/site_perl/5.41.13/Catalyst.pm line 1438
Catalyst::setup("ComponentUI") called at /export/home/cpan/.cpan/build/Reaction-0.002005-0/blib/lib/ComponentUI.pm line 32
require ComponentUI.pm called at /export/home/cpan/bin/perl/lib/site_perl/5.41.13/Module/Runtime.pm line 120
Module::Runtime::require_module("ComponentUI") called at /export/home/cpan/bin/perl/lib/site_perl/5.41.13/Class/Load.pm line 174
Class::Load::try {...} () called at /export/home/cpan/bin/perl/lib/site_perl/5.41.13/Try/Tiny.pm line 98
eval {...} called at /export/home/cpan/bin/perl/lib/site_perl/5.41.13/Try/Tiny.pm line 93
Try::Tiny::try(CODE(0x1264940), Try::Tiny::Catch=REF(0x35e2b88)) called at /export/home/cpan/bin/perl/lib/site_perl/5.41.13/Class/Load.pm line 180
Class::Load::try_load_class("ComponentUI", undef) called at /export/home/cpan/bin/perl/lib/site_perl/5.41.13/Class/Load.pm line 35
Class::Load::load_class("ComponentUI") called at /export/home/cpan/bin/perl/lib/site_perl/5.41.13/Test/WWW/Mechanize/Catalyst.pm line 245
Test::WWW::Mechanize::Catalyst::import("Test::WWW::Mechanize::Catalyst", "ComponentUI") called at t/uncheck_bool_field.t line 6
main::BEGIN() called at t/uncheck_bool_field.t line 6
eval {...} called at t/uncheck_bool_field.t line 6
Class::MOP::load_class is deprecated at /export/home/cpan/bin/perl/lib/site_perl/5.41.13/i86pc-solaris-thread-multi-64/Class/MOP.pm line 69.
Class::MOP::load_class("ComponentUI::RenderingContext::Site") called at /export/home/cpan/.cpan/build/Reaction-0.002005-0/blib/lib/Reaction/UI/View.pm line 125
eval {...} called at /export/home/cpan/.cpan/build/Reaction-0.002005-0/blib/lib/Reaction/UI/View.pm line 125
Reaction::UI::View::find_related_class(ComponentUI::View::Site=HASH(0x4bf0478), "RenderingContext") called at /export/home/cpan/.cpan/build/Reaction-0.002005-0/blib/lib/Reaction/UI/View.pm line 43
Reaction::UI::View::_build_rendering_context_class(ComponentUI::View::Site=HASH(0x4bf0478)) called at reader Reaction::UI::View::rendering_context_class (defined at /export/home/cpan/.cpan/build/Reaction-0.002005-0/blib/lib/Reaction/UI/View.pm line 29) line 8
Reaction::UI::View::rendering_context_class(ComponentUI::View::Site=HASH(0x4bf0478)) called at /export/home/cpan/.cpan/build/Reaction-0.002005-0/blib/lib/Reaction/UI/View.pm line 134
Reaction::UI::View::create_rendering_context(ComponentUI::View::Site=HASH(0x4bf0478)) called at /export/home/cpan/.cpan/build/Reaction-0.002005-0/blib/lib/Reaction/UI/View.pm line 60
Reaction::UI::View::render_window(ComponentUI::View::Site=HASH(0x4bf0478), Reaction::UI::Window=HASH(0x8fbb908)) called at /export/home/cpan/.cpan/build/Reaction-0.002005-0/blib/lib/Reaction/UI/Window.pm line 74
Reaction::UI::Window::flush_view(Reaction::UI::Window=HASH(0x8fbb908)) called at /export/home/cpan/.cpan/build/Reaction-0.002005-0/blib/lib/Reaction/UI/Window.pm line 36
Reaction::UI::Window::flush(Reaction::UI::Window=HASH(0x8fbb908)) called at /export/home/cpan/.cpan/build/Reaction-0.002005-0/blib/lib/Reaction/UI/Controller/Root.pm line 38
Reaction::UI::Controller::Root::end(ComponentUI::Controller::Root=HASH(0x8fbb9b0), ComponentUI=HASH(0x8f7a3f8)) called at /export/home/cpan/bin/perl/lib/site_perl/5.41.13/Catalyst/Action.pm line 374
Catalyst::Action::execute(Catalyst::Action=HASH(0x8c80b88), ComponentUI::Controller::Root=HASH(0x8fbb9b0), ComponentUI=HASH(0x8f7a3f8)) called at /export/home/cpan/bin/perl/lib/site_perl/5.41.13/Catalyst.pm line 2067
eval {...} called at /export/home/cpan/bin/perl/lib/site_perl/5.41.13/Catalyst.pm line 2067
Catalyst::execute(ComponentUI=HASH(0x8f7a3f8), "ComponentUI::Controller::Root", Catalyst::Action=HASH(0x8c80b88)) called at /export/home/cpan/bin/perl/lib/site_perl/5.41.13/Catalyst/Action.pm line 368
Catalyst::Action::dispatch(Catalyst::Action=HASH(0x8c80b88), ComponentUI=HASH(0x8f7a3f8)) called at /export/home/cpan/bin/perl/lib/site_perl/5.41.13/Catalyst/Controller.pm line 188
Catalyst::Controller::_END(ComponentUI::Controller::TestModel::Baz=HASH(0x8f80110), ComponentUI=HASH(0x8f7a3f8)) called at /export/home/cpan/bin/perl/lib/site_perl/5.41.13/Catalyst/Action.pm line 374
Catalyst::Action::execute(Catalyst::Action=HASH(0x8d75980), ComponentUI::Controller::TestModel::Baz=HASH(0x8f80110), ComponentUI=HASH(0x8f7a3f8)) called at /export/home/cpan/bin/perl/lib/site_perl/5.41.13/Catalyst.pm line 2067
eval {...} called at /export/home/cpan/bin/perl/lib/site_perl/5.41.13/Catalyst.pm line 2067
Catalyst::execute(ComponentUI=HASH(0x8f7a3f8), "ComponentUI::Controller::TestModel::Baz", Catalyst::Action=HASH(0x8d75980)) called at /export/home/cpan/bin/perl/lib/site_perl/5.41.13/Catalyst/Action.pm line 368
Catalyst::Action::dispatch(Catalyst::Action=HASH(0x8d75980), ComponentUI=HASH(0x8f7a3f8)) called at /export/home/cpan/bin/perl/lib/site_perl/5.41.13/Catalyst/Dispatcher.pm line 261
Catalyst::Dispatcher::_do_forward(Catalyst::Dispatcher=HASH(0x3ce72c8), "forward", ComponentUI=HASH(0x8f7a3f8), "_END") called at /export/home/cpan/bin/perl/lib/site_perl/5.41.13/Catalyst/Dispatcher.pm line 241
Catalyst::Dispatcher::forward(Catalyst::Dispatcher=HASH(0x3ce72c8), ComponentUI=HASH(0x8f7a3f8), "_END") called at /export/home/cpan/bin/perl/lib/site_perl/5.41.13/Catalyst.pm line 489
Catalyst::forward(ComponentUI=HASH(0x8f7a3f8), "_END") called at /export/home/cpan/bin/perl/lib/site_perl/5.41.13/Catalyst/Controller.pm line 137
Catalyst::Controller::_DISPATCH(ComponentUI::Controller::TestModel::Baz=HASH(0x8f80110), ComponentUI=HASH(0x8f7a3f8)) called at /export/home/cpan/bin/perl/lib/site_perl/5.41.13/Catalyst/Action.pm line 374
Catalyst::Action::execute(Catalyst::Action=HASH(0x8d6cd80), ComponentUI::Controller::TestModel::Baz=HASH(0x8f80110), ComponentUI=HASH(0x8f7a3f8)) called at /export/home/cpan/bin/perl/lib/site_perl/5.41.13/Catalyst.pm line 2067
eval {...} called at /export/home/cpan/bin/perl/lib/site_perl/5.41.13/Catalyst.pm line 2067
Catalyst::execute(ComponentUI=HASH(0x8f7a3f8), "ComponentUI::Controller::TestModel::Baz", Catalyst::Action=HASH(0x8d6cd80)) called at /export/home/cpan/bin/perl/lib/site_perl/5.41.13/Catalyst/Action.pm line 368
Catalyst::Action::dispatch(Catalyst::Action=HASH(0x8d6cd80), ComponentUI=HASH(0x8f7a3f8)) called at /export/home/cpan/bin/perl/lib/site_perl/5.41.13/Catalyst/Dispatcher.pm line 261
Catalyst::Dispatcher::_do_forward(Catalyst::Dispatcher=HASH(0x3ce72c8), "forward", ComponentUI=HASH(0x8f7a3f8), "/testmodel/baz/_DISPATCH") called at /export/home/cpan/bin/perl/lib/site_perl/5.41.13/Catalyst/Dispatcher.pm line 241
Catalyst::Dispatcher::forward(Catalyst::Dispatcher=HASH(0x3ce72c8), ComponentUI=HASH(0x8f7a3f8), "/testmodel/baz/_DISPATCH") called at /export/home/cpan/bin/perl/lib/site_perl/5.41.13/Catalyst.pm line 489
Catalyst::forward(ComponentUI=HASH(0x8f7a3f8), "/testmodel/baz/_DISPATCH") called at /export/home/cpan/bin/perl/lib/site_perl/5.41.13/Catalyst/Dispatcher.pm line 107
Catalyst::Dispatcher::dispatch(Catalyst::Dispatcher=HASH(0x3ce72c8), ComponentUI=HASH(0x8f7a3f8)) called at /export/home/cpan/bin/perl/lib/site_perl/5.41.13/Catalyst.pm line 2013
Catalyst::dispatch(ComponentUI=HASH(0x8f7a3f8)) called at /export/home/cpan/bin/perl/lib/site_perl/5.41.13/Catalyst/Plugin/Static/Simple.pm line 85
Class::MOP::Class:::around(CODE(0x41d7d40), ComponentUI=HASH(0x8f7a3f8)) called at /export/home/cpan/bin/perl/lib/site_perl/5.41.13/i86pc-solaris-thread-multi-64/Class/MOP/Method/Wrapped.pm line 166
ComponentUI::_wrapped_dispatch(ComponentUI=HASH(0x8f7a3f8)) called at /export/home/cpan/bin/perl/lib/site_perl/5.41.13/i86pc-solaris-thread-multi-64/Class/MOP/Method/Wrapped.pm line 97
ComponentUI::dispatch(ComponentUI=HASH(0x8f7a3f8)) called at /export/home/cpan/bin/perl/lib/site_perl/5.41.13/Catalyst.pm line 2419
Catalyst::try {...} () called at /export/home/cpan/bin/perl/lib/site_perl/5.41.13/Try/Tiny.pm line 102
eval {...} called at /export/home/cpan/bin/perl/lib/site_perl/5.41.13/Try/Tiny.pm line 93
Try::Tiny::try(CODE(0x8f758c0), Try::Tiny::Catch=REF(0x8f756c8)) called at /export/home/cpan/bin/perl/lib/site_perl/5.41.13/Catalyst.pm line 2428
Catalyst::handle_request("ComponentUI", "env", HASH(0x8f78788), "response_cb", CODE(0x8f75728)) called at /export/home/cpan/bin/perl/lib/site_perl/5.41.13/Catalyst/Engine.pm line 808
Catalyst::Engine::__ANON__(CODE(0x8f75728)) called at /export/home/cpan/bin/perl/lib/site_perl/5.41.13/Plack/Middleware/HTTPExceptions.pm line 32
Plack::Middleware::HTTPExceptions::try {...} () called at /export/home/cpan/bin/perl/lib/site_perl/5.41.13/Try/Tiny.pm line 102
eval {...} called at /export/home/cpan/bin/perl/lib/site_perl/5.41.13/Try/Tiny.pm line 93
Try::Tiny::try(CODE(0x8f75560), Try::Tiny::Catch=REF(0x8f79268)) called at /export/home/cpan/bin/perl/lib/site_perl/5.41.13/Plack/Middleware/HTTPExceptions.pm line 41
Plack::Middleware::HTTPExceptions::__ANON__(CODE(0x8f78e30)) called at /export/home/cpan/bin/perl/lib/site_perl/5.41.13/Plack/Util.pm line 339
Plack::Util::__ANON__(CODE(0x8f78680)) called at /export/home/cpan/bin/perl/lib/site_perl/5.41.13/Plack/Util.pm line 339
Plack::Util::__ANON__(CODE(0x8f78440)) called at /export/home/cpan/bin/perl/lib/site_perl/5.41.13/Plack/Util.pm line 339
Plack::Util::__ANON__(CODE(0x8f96948)) called at /export/home/cpan/bin/perl/lib/site_perl/5.41.13/HTTP/Message/PSGI.pm line 100
HTTP::Message::PSGI::res_from_psgi(CODE(0x8f75308)) called at /export/home/cpan/bin/perl/lib/site_perl/5.41.13/HTTP/Message/PSGI.pm line 157
HTTP::Response::from_psgi("HTTP::Response", CODE(0x8f75308)) called at /export/home/cpan/bin/perl/lib/site_perl/5.41.13/Plack/Test/MockHTTP.pm line 24
Plack::Test::MockHTTP::try {...} () called at /export/home/cpan/bin/perl/lib/site_perl/5.41.13/Try/Tiny.pm line 100
eval {...} called at /export/home/cpan/bin/perl/lib/site_perl/5.41.13/Try/Tiny.pm line 93
Try::Tiny::try(CODE(0x8e6f220), Try::Tiny::Catch=REF(0x8e6ee18)) called at /export/home/cpan/bin/perl/lib/site_perl/5.41.13/Plack/Test/MockHTTP.pm line 27
Plack::Test::MockHTTP::request(Plack::Test::MockHTTP=HASH(0x8f6d6d8), HTTP::Request=HASH(0x8f33c58)) called at /export/home/cpan/bin/perl/lib/site_perl/5.41.13/Plack/Test.pm line 38
Plack::Test::__ANON__(HTTP::Request=HASH(0x8f33c58)) called at /export/home/cpan/bin/perl/lib/site_perl/5.41.13/Catalyst/Test.pm line 290
Catalyst::Test::__ANON__(CODE(0x8f6d690)) called at /export/home/cpan/bin/perl/lib/site_perl/5.41.13/Plack/Test.pm line 38
Plack::Test::test_psgi("app", CODE(0x8f6d258), "mangle_response", CODE(0x35ad3f8), "app", CODE(0x8f6d228), "client", CODE(0x8f6d528)) called at /export/home/cpan/bin/perl/lib/site_perl/5.41.13/Catalyst/Test.pm line 293
Catalyst::Test::_request(HASH(0x8f60490), HTTP::Request=HASH(0x8f33c58)) called at /export/home/cpan/bin/perl/lib/site_perl/5.41.13/Catalyst/Test.pm line 336
Catalyst::Test::_local_request("ComponentUI", HTTP::Request=HASH(0x8f33c58)) called at /export/home/cpan/bin/perl/lib/site_perl/5.41.13/Test/WWW/Mechanize/Catalyst.pm line 176
Test::WWW::Mechanize::Catalyst::_do_catalyst_request(Test::WWW::Mechanize::Catalyst=HASH(0x1310820), HTTP::Request=HASH(0x8f33c58)) called at /export/home/cpan/bin/perl/lib/site_perl/5.41.13/Test/WWW/Mechanize/Catalyst.pm line 78
Test::WWW::Mechanize::Catalyst::_make_request(Test::WWW::Mechanize::Catalyst=HASH(0x1310820), HTTP::Request=HASH(0x8f33c58)) called at /export/home/cpan/bin/perl/lib/site_perl/5.41.13/WWW/Mechanize.pm line 1534
WWW::Mechanize::request(Test::WWW::Mechanize::Catalyst=HASH(0x1310820), HTTP::Request=HASH(0x8f33c58)) called at /export/home/cpan/bin/perl/lib/site_perl/5.41.13/LWP/UserAgent.pm line 454
LWP::UserAgent::get(Test::WWW::Mechanize::Catalyst=HASH(0x1310820), "http://localhost/testmodel/baz/id/1/update") called at /export/home/cpan/bin/perl/lib/site_perl/5.41.13/WWW/Mechanize.pm line 124
WWW::Mechanize::get(Test::WWW::Mechanize::Catalyst=HASH(0x1310820), "http://localhost/testmodel/baz/id/1/update") called at /export/home/cpan/bin/perl/lib/site_perl/5.41.13/Test/WWW/Mechanize.pm line 192
Test::WWW::Mechanize::get_ok(Test::WWW::Mechanize::Catalyst=HASH(0x1310820), "http://localhost/testmodel/baz/id/1/update") called at t/uncheck_bool_field.t line 9
Class::MOP::is_class_loaded is deprecated at /export/home/cpan/bin/perl/lib/site_perl/5.41.13/i86pc-solaris-thread-multi-64/Class/MOP.pm line 87.
Class::MOP::is_class_loaded("ComponentUI::UI::Widget::SiteLayout") called at /export/home/cpan/.cpan/build/Reaction-0.002005-0/blib/lib/Reaction/UI/Skin.pm line 178
Reaction::UI::Skin::widget_class_for(Reaction::UI::Skin=HASH(0x942f6a0), Reaction::UI::LayoutSet::TT=HASH(0x9496968)) called at /export/home/cpan/.cpan/build/Reaction-0.002005-0/blib/lib/Reaction/UI/LayoutSet.pm line 29
Reaction::UI::LayoutSet::BUILD(Reaction::UI::LayoutSet::TT=HASH(0x9496968), HASH(0x9496950)) called at constructor Reaction::UI::LayoutSet::TT::new (defined at /export/home/cpan/.cpan/build/Reaction-0.002005-0/blib/lib/Reaction/UI/LayoutSet/TT.pm line 43) line 80
Reaction::UI::LayoutSet::TT::new("Reaction::UI::LayoutSet::TT", "name", "site_layout", "skin", Reaction::UI::Skin=HASH(0x942f6a0), "tt_object", Template=HASH(0x7b587f0), "source_file", ...) called at /export/home/cpan/.cpan/build/Reaction-0.002005-0/blib/lib/Reaction/UI/Skin.pm line 115
Reaction::UI::Skin::_create_layout_set(Reaction::UI::Skin=HASH(0x942f6a0), "site_layout", ARRAY(0x93f6858), Reaction::UI::Skin=HASH(0x942f6a0)) called at /export/home/cpan/.cpan/build/Reaction-0.002005-0/blib/lib/Reaction/UI/Skin.pm line 110
Reaction::UI::Skin::create_layout_set(Reaction::UI::Skin=HASH(0x942f6a0), "site_layout") called at /export/home/cpan/.cpan/build/Reaction-0.002005-0/blib/lib/Reaction/UI/LayoutSet.pm line 83
Reaction::UI::LayoutSet::_load_file(Reaction::UI::LayoutSet::TT=HASH(0x94718f0), Path::Class::File=HASH(0x9414748), HASH(0x9470d38)) called at /export/home/cpan/.cpan/build/Reaction-0.002005-0/blib/lib/Reaction/UI/LayoutSet.pm line 27
Reaction::UI::LayoutSet::BUILD(Reaction::UI::LayoutSet::TT=HASH(0x94718f0), HASH(0x9470d38)) called at constructor Reaction::UI::LayoutSet::TT::new (defined at /export/home/cpan/.cpan/build/Reaction-0.002005-0/blib/lib/Reaction/UI/LayoutSet/TT.pm line 43) line 80
Reaction::UI::LayoutSet::TT::new("Reaction::UI::LayoutSet::TT", "name", "site_layout", "skin", Reaction::UI::Skin=HASH(0x9425d00), "next_skin", Reaction::UI::Skin=HASH(0x942f6a0), "tt_object", ...) called at /export/home/cpan/.cpan/build/Reaction-0.002005-0/blib/lib/Reaction/UI/Skin.pm line 115
Reaction::UI::Skin::_create_layout_set(Reaction::UI::Skin=HASH(0x9425d00), "site_layout", ARRAY(0x94161a0), Reaction::UI::Skin=HASH(0x9425d00)) called at /export/home/cpan/.cpan/build/Reaction-0.002005-0/blib/lib/Reaction/UI/Skin.pm line 110
Reaction::UI::Skin::create_layout_set(Reaction::UI::Skin=HASH(0x9425d00), "site_layout") called at /export/home/cpan/.cpan/build/Reaction-0.002005-0/blib/lib/Reaction/UI/LayoutSet.pm line 83
Reaction::UI::LayoutSet::_load_file(Reaction::UI::LayoutSet::TT=HASH(0x8d4d558), Path::Class::File=HASH(0x93f46b0), HASH(0x8789c50)) called at /export/home/cpan/.cpan/build/Reaction-0.002005-0/blib/lib/Reaction/UI/LayoutSet.pm line 27
Reaction::UI::LayoutSet::BUILD(Reaction::UI::LayoutSet::TT=HASH(0x8d4d558), HASH(0x8789c50)) called at constructor Reaction::UI::LayoutSet::TT::new (defined at /export/home/cpan/.cpan/build/Reaction-0.002005-0/blib/lib/Reaction/UI/LayoutSet/TT.pm line 43) line 80
Reaction::UI::LayoutSet::TT::new("Reaction::UI::LayoutSet::TT", "name", "site_layout", "skin", Reaction::UI::Skin=HASH(0x9425658), "next_skin", Reaction::UI::Skin=HASH(0x9425d00), "tt_object", ...) called at /export/home/cpan/.cpan/build/Reaction-0.002005-0/blib/lib/Reaction/UI/Skin.pm line 115
Reaction::UI::Skin::_create_layout_set(Reaction::UI::Skin=HASH(0x9425658), "site_layout", ARRAY(0x942ef08), Reaction::UI::Skin=HASH(0x9425658)) called at /export/home/cpan/.cpan/build/Reaction-0.002005-0/blib/lib/Reaction/UI/Skin.pm line 110
Reaction::UI::Skin::create_layout_set(Reaction::UI::Skin=HASH(0x9425658), "site_layout") called at inline delegation in Reaction::UI::View for skin->create_layout_set (attribute declared in /export/home/cpan/.cpan/build/Reaction-0.002005-0/blib/lib/Reaction/UI/View.pm at line 22) line 18
Reaction::UI::View::create_layout_set(ComponentUI::View::Site=HASH(0x4bf0478), "site_layout") called at /export/home/cpan/.cpan/build/Reaction-0.002005-0/blib/lib/Reaction/UI/View.pm line 99
Reaction::UI::View::layout_set_for(ComponentUI::View::Site=HASH(0x4bf0478), Reaction::UI::ViewPort::SiteLayout=HASH(0x126b478)) called at /export/home/cpan/.cpan/build/Reaction-0.002005-0/blib/lib/Reaction/UI/View.pm line 78
Reaction::UI::View::render_viewport_args(ComponentUI::View::Site=HASH(0x4bf0478), Reaction::UI::ViewPort::SiteLayout=HASH(0x126b478)) called at /export/home/cpan/.cpan/build/Reaction-0.002005-0/blib/lib/Reaction/UI/View.pm line 61
Reaction::UI::View::render_window(ComponentUI::View::Site=HASH(0x4bf0478), Reaction::UI::Window=HASH(0x8fbb908)) called at /export/home/cpan/.cpan/build/Reaction-0.002005-0/blib/lib/Reaction/UI/Window.pm line 74
Reaction::UI::Window::flush_view(Reaction::UI::Window=HASH(0x8fbb908)) called at /export/home/cpan/.cpan/build/Reaction-0.002005-0/blib/lib/Reaction/UI/Window.pm line 36
Reaction::UI::Window::flush(Reaction::UI::Window=HASH(0x8fbb908)) called at /export/home/cpan/.cpan/build/Reaction-0.002005-0/blib/lib/Reaction/UI/Controller/Root.pm line 38
Reaction::UI::Controller::Root::end(ComponentUI::Controller::Root=HASH(0x8fbb9b0), ComponentUI=HASH(0x8f7a3f8)) called at /export/home/cpan/bin/perl/lib/site_perl/5.41.13/Catalyst/Action.pm line 374
Catalyst::Action::execute(Catalyst::Action=HASH(0x8c80b88), ComponentUI::Controller::Root=HASH(0x8fbb9b0), ComponentUI=HASH(0x8f7a3f8)) called at /export/home/cpan/bin/perl/lib/site_perl/5.41.13/Catalyst.pm line 2067
eval {...} called at /export/home/cpan/bin/perl/lib/site_perl/5.41.13/Catalyst.pm line 2067
Catalyst::execute(ComponentUI=HASH(0x8f7a3f8), "ComponentUI::Controller::Root", Catalyst::Action=HASH(0x8c80b88)) called at /export/home/cpan/bin/perl/lib/site_perl/5.41.13/Catalyst/Action.pm line 368
Catalyst::Action::dispatch(Catalyst::Action=HASH(0x8c80b88), ComponentUI=HASH(0x8f7a3f8)) called at /export/home/cpan/bin/perl/lib/site_perl/5.41.13/Catalyst/Controller.pm line 188
Catalyst::Controller::_END(ComponentUI::Controller::TestModel::Baz=HASH(0x8f80110), ComponentUI=HASH(0x8f7a3f8)) called at /export/home/cpan/bin/perl/lib/site_perl/5.41.13/Catalyst/Action.pm line 374
Catalyst::Action::execute(Catalyst::Action=HASH(0x8d75980), ComponentUI::Controller::TestModel::Baz=HASH(0x8f80110), ComponentUI=HASH(0x8f7a3f8)) called at /export/home/cpan/bin/perl/lib/site_perl/5.41.13/Catalyst.pm line 2067
eval {...} called at /export/home/cpan/bin/perl/lib/site_perl/5.41.13/Catalyst.pm line 2067
Catalyst::execute(ComponentUI=HASH(0x8f7a3f8), "ComponentUI::Controller::TestModel::Baz", Catalyst::Action=HASH(0x8d75980)) called at /export/home/cpan/bin/perl/lib/site_perl/5.41.13/Catalyst/Action.pm line 368
Catalyst::Action::dispatch(Catalyst::Action=HASH(0x8d75980), ComponentUI=HASH(0x8f7a3f8)) called at /export/home/cpan/bin/perl/lib/site_perl/5.41.13/Catalyst/Dispatcher.pm line 261
Catalyst::Dispatcher::_do_forward(Catalyst::Dispatcher=HASH(0x3ce72c8), "forward", ComponentUI=HASH(0x8f7a3f8), "_END") called at /export/home/cpan/bin/perl/lib/site_perl/5.41.13/Catalyst/Dispatcher.pm line 241
Catalyst::Dispatcher::forward(Catalyst::Dispatcher=HASH(0x3ce72c8), ComponentUI=HASH(0x8f7a3f8), "_END") called at /export/home/cpan/bin/perl/lib/site_perl/5.41.13/Catalyst.pm line 489
Catalyst::forward(ComponentUI=HASH(0x8f7a3f8), "_END") called at /export/home/cpan/bin/perl/lib/site_perl/5.41.13/Catalyst/Controller.pm line 137
Catalyst::Controller::_DISPATCH(ComponentUI::Controller::TestModel::Baz=HASH(0x8f80110), ComponentUI=HASH(0x8f7a3f8)) called at /export/home/cpan/bin/perl/lib/site_perl/5.41.13/Catalyst/Action.pm line 374
Catalyst::Action::execute(Catalyst::Action=HASH(0x8d6cd80), ComponentUI::Controller::TestModel::Baz=HASH(0x8f80110), ComponentUI=HASH(0x8f7a3f8)) called at /export/home/cpan/bin/perl/lib/site_perl/5.41.13/Catalyst.pm line 2067
eval {...} called at /export/home/cpan/bin/perl/lib/site_perl/5.41.13/Catalyst.pm line 2067
Catalyst::execute(ComponentUI=HASH(0x8f7a3f8), "ComponentUI::Controller::TestModel::Baz", Catalyst::Action=HASH(0x8d6cd80)) called at /export/home/cpan/bin/perl/lib/site_perl/5.41.13/Catalyst/Action.pm line 368
Catalyst::Action::dispatch(Catalyst::Action=HASH(0x8d6cd80), ComponentUI=HASH(0x8f7a3f8)) called at /export/home/cpan/bin/perl/lib/site_perl/5.41.13/Catalyst/Dispatcher.pm line 261
Catalyst::Dispatcher::_do_forward(Catalyst::Dispatcher=HASH(0x3ce72c8), "forward", ComponentUI=HASH(0x8f7a3f8), "/testmodel/baz/_DISPATCH") called at /export/home/cpan/bin/perl/lib/site_perl/5.41.13/Catalyst/Dispatcher.pm line 241
Catalyst::Dispatcher::forward(Catalyst::Dispatcher=HASH(0x3ce72c8), ComponentUI=HASH(0x8f7a3f8), "/testmodel/baz/_DISPATCH") called at /export/home/cpan/bin/perl/lib/site_perl/5.41.13/Catalyst.pm line 489
Catalyst::forward(ComponentUI=HASH(0x8f7a3f8), "/testmodel/baz/_DISPATCH") called at /export/home/cpan/bin/perl/lib/site_perl/5.41.13/Catalyst/Dispatcher.pm line 107
Catalyst::Dispatcher::dispatch(Catalyst::Dispatcher=HASH(0x3ce72c8), ComponentUI=HASH(0x8f7a3f8)) called at /export/home/cpan/bin/perl/lib/site_perl/5.41.13/Catalyst.pm line 2013
Catalyst::dispatch(ComponentUI=HASH(0x8f7a3f8)) called at /export/home/cpan/bin/perl/lib/site_perl/5.41.13/Catalyst/Plugin/Static/Simple.pm line 85
Class::MOP::Class:::around(CODE(0x41d7d40), ComponentUI=HASH(0x8f7a3f8)) called at /export/home/cpan/bin/perl/lib/site_perl/5.41.13/i86pc-solaris-thread-multi-64/Class/MOP/Method/Wrapped.pm line 166
ComponentUI::_wrapped_dispatch(ComponentUI=HASH(0x8f7a3f8)) called at /export/home/cpan/bin/perl/lib/site_perl/5.41.13/i86pc-solaris-thread-multi-64/Class/MOP/Method/Wrapped.pm line 97
ComponentUI::dispatch(ComponentUI=HASH(0x8f7a3f8)) called at /export/home/cpan/bin/perl/lib/site_perl/5.41.13/Catalyst.pm line 2419
Catalyst::try {...} () called at /export/home/cpan/bin/perl/lib/site_perl/5.41.13/Try/Tiny.pm line 102
eval {...} called at /export/home/cpan/bin/perl/lib/site_perl/5.41.13/Try/Tiny.pm line 93
Try::Tiny::try(CODE(0x8f758c0), Try::Tiny::Catch=REF(0x8f756c8)) called at /export/home/cpan/bin/perl/lib/site_perl/5.41.13/Catalyst.pm line 2428
Catalyst::handle_request("ComponentUI", "env", HASH(0x8f78788), "response_cb", CODE(0x8f75728)) called at /export/home/cpan/bin/perl/lib/site_perl/5.41.13/Catalyst/Engine.pm line 808
Catalyst::Engine::__ANON__(CODE(0x8f75728)) called at /export/home/cpan/bin/perl/lib/site_perl/5.41.13/Plack/Middleware/HTTPExceptions.pm line 32
Plack::Middleware::HTTPExceptions::try {...} () called at /export/home/cpan/bin/perl/lib/site_perl/5.41.13/Try/Tiny.pm line 102
eval {...} called at /export/home/cpan/bin/perl/lib/site_perl/5.41.13/Try/Tiny.pm line 93
Try::Tiny::try(CODE(0x8f75560), Try::Tiny::Catch=REF(0x8f79268)) called at /export/home/cpan/bin/perl/lib/site_perl/5.41.13/Plack/Middleware/HTTPExceptions.pm line 41
Plack::Middleware::HTTPExceptions::__ANON__(CODE(0x8f78e30)) called at /export/home/cpan/bin/perl/lib/site_perl/5.41.13/Plack/Util.pm line 339
Plack::Util::__ANON__(CODE(0x8f78680)) called at /export/home/cpan/bin/perl/lib/site_perl/5.41.13/Plack/Util.pm line 339
Plack::Util::__ANON__(CODE(0x8f78440)) called at /export/home/cpan/bin/perl/lib/site_perl/5.41.13/Plack/Util.pm line 339
Plack::Util::__ANON__(CODE(0x8f96948)) called at /export/home/cpan/bin/perl/lib/site_perl/5.41.13/HTTP/Message/PSGI.pm line 100
HTTP::Message::PSGI::res_from_psgi(CODE(0x8f75308)) called at /export/home/cpan/bin/perl/lib/site_perl/5.41.13/HTTP/Message/PSGI.pm line 157
HTTP::Response::from_psgi("HTTP::Response", CODE(0x8f75308)) called at /export/home/cpan/bin/perl/lib/site_perl/5.41.13/Plack/Test/MockHTTP.pm line 24
Plack::Test::MockHTTP::try {...} () called at /export/home/cpan/bin/perl/lib/site_perl/5.41.13/Try/Tiny.pm line 100
eval {...} called at /export/home/cpan/bin/perl/lib/site_perl/5.41.13/Try/Tiny.pm line 93
Try::Tiny::try(CODE(0x8e6f220), Try::Tiny::Catch=REF(0x8e6ee18)) called at /export/home/cpan/bin/perl/lib/site_perl/5.41.13/Plack/Test/MockHTTP.pm line 27
Plack::Test::MockHTTP::request(Plack::Test::MockHTTP=HASH(0x8f6d6d8), HTTP::Request=HASH(0x8f33c58)) called at /export/home/cpan/bin/perl/lib/site_perl/5.41.13/Plack/Test.pm line 38
Plack::Test::__ANON__(HTTP::Request=HASH(0x8f33c58)) called at /export/home/cpan/bin/perl/lib/site_perl/5.41.13/Catalyst/Test.pm line 290
Catalyst::Test::__ANON__(CODE(0x8f6d690)) called at /export/home/cpan/bin/perl/lib/site_perl/5.41.13/Plack/Test.pm line 38
Plack::Test::test_psgi("app", CODE(0x8f6d258), "mangle_response", CODE(0x35ad3f8), "app", CODE(0x8f6d228), "client", CODE(0x8f6d528)) called at /export/home/cpan/bin/perl/lib/site_perl/5.41.13/Catalyst/Test.pm line 293
Catalyst::Test::_request(HASH(0x8f60490), HTTP::Request=HASH(0x8f33c58)) called at /export/home/cpan/bin/perl/lib/site_perl/5.41.13/Catalyst/Test.pm line 336
Catalyst::Test::_local_request("ComponentUI", HTTP::Request=HASH(0x8f33c58)) called at /export/home/cpan/bin/perl/lib/site_perl/5.41.13/Test/WWW/Mechanize/Catalyst.pm line 176
Test::WWW::Mechanize::Catalyst::_do_catalyst_request(Test::WWW::Mechanize::Catalyst=HASH(0x1310820), HTTP::Request=HASH(0x8f33c58)) called at /export/home/cpan/bin/perl/lib/site_perl/5.41.13/Test/WWW/Mechanize/Catalyst.pm line 78
Test::WWW::Mechanize::Catalyst::_make_request(Test::WWW::Mechanize::Catalyst=HASH(0x1310820), HTTP::Request=HASH(0x8f33c58)) called at /export/home/cpan/bin/perl/lib/site_perl/5.41.13/WWW/Mechanize.pm line 1534
WWW::Mechanize::request(Test::WWW::Mechanize::Catalyst=HASH(0x1310820), HTTP::Request=HASH(0x8f33c58)) called at /export/home/cpan/bin/perl/lib/site_perl/5.41.13/LWP/UserAgent.pm line 454
LWP::UserAgent::get(Test::WWW::Mechanize::Catalyst=HASH(0x1310820), "http://localhost/testmodel/baz/id/1/update") called at /export/home/cpan/bin/perl/lib/site_perl/5.41.13/WWW/Mechanize.pm line 124
WWW::Mechanize::get(Test::WWW::Mechanize::Catalyst=HASH(0x1310820), "http://localhost/testmodel/baz/id/1/update") called at /export/home/cpan/bin/perl/lib/site_perl/5.41.13/Test/WWW/Mechanize.pm line 192
Test::WWW::Mechanize::get_ok(Test::WWW::Mechanize::Catalyst=HASH(0x1310820), "http://localhost/testmodel/baz/id/1/update") called at t/uncheck_bool_field.t line 9
Class::MOP::load_class is deprecated at /export/home/cpan/bin/perl/lib/site_perl/5.41.13/i86pc-solaris-thread-multi-64/Class/MOP.pm line 69.
Class::MOP::load_class("Reaction::UI::Widget::SiteLayout") called at /export/home/cpan/.cpan/build/Reaction-0.002005-0/blib/lib/Reaction/UI/Skin.pm line 181
eval {...} called at /export/home/cpan/.cpan/build/Reaction-0.002005-0/blib/lib/Reaction/UI/Skin.pm line 181
Reaction::UI::Skin::widget_class_for(Reaction::UI::Skin=HASH(0x942f6a0), Reaction::UI::LayoutSet::TT=HASH(0x9496968)) called at /export/home/cpan/.cpan/build/Reaction-0.002005-0/blib/lib/Reaction/UI/LayoutSet.pm line 29
Reaction::UI::LayoutSet::BUILD(Reaction::UI::LayoutSet::TT=HASH(0x9496968), HASH(0x9496950)) called at constructor Reaction::UI::LayoutSet::TT::new (defined at /export/home/cpan/.cpan/build/Reaction-0.002005-0/blib/lib/Reaction/UI/LayoutSet/TT.pm line 43) line 80
Reaction::UI::LayoutSet::TT::new("Reaction::UI::LayoutSet::TT", "name", "site_layout", "skin", Reaction::UI::Skin=HASH(0x942f6a0), "tt_object", Template=HASH(0x7b587f0), "source_file", ...) called at /export/home/cpan/.cpan/build/Reaction-0.002005-0/blib/lib/Reaction/UI/Skin.pm line 115
Reaction::UI::Skin::_create_layout_set(Reaction::UI::Skin=HASH(0x942f6a0), "site_layout", ARRAY(0x93f6858), Reaction::UI::Skin=HASH(0x942f6a0)) called at /export/home/cpan/.cpan/build/Reaction-0.002005-0/blib/lib/Reaction/UI/Skin.pm line 110
Reaction::UI::Skin::create_layout_set(Reaction::UI::Skin=HASH(0x942f6a0), "site_layout") called at /export/home/cpan/.cpan/build/Reaction-0.002005-0/blib/lib/Reaction/UI/LayoutSet.pm line 83
Reaction::UI::LayoutSet::_load_file(Reaction::UI::LayoutSet::TT=HASH(0x94718f0), Path::Class::File=HASH(0x9414748), HASH(0x9470d38)) called at /export/home/cpan/.cpan/build/Reaction-0.002005-0/blib/lib/Reaction/UI/LayoutSet.pm line 27
Reaction::UI::LayoutSet::BUILD(Reaction::UI::LayoutSet::TT=HASH(0x94718f0), HASH(0x9470d38)) called at constructor Reaction::UI::LayoutSet::TT::new (defined at /export/home/cpan/.cpan/build/Reaction-0.002005-0/blib/lib/Reaction/UI/LayoutSet/TT.pm line 43) line 80
Reaction::UI::LayoutSet::TT::new("Reaction::UI::LayoutSet::TT", "name", "site_layout", "skin", Reaction::UI::Skin=HASH(0x9425d00), "next_skin", Reaction::UI::Skin=HASH(0x942f6a0), "tt_object", ...) called at /export/home/cpan/.cpan/build/Reaction-0.002005-0/blib/lib/Reaction/UI/Skin.pm line 115
Reaction::UI::Skin::_create_layout_set(Reaction::UI::Skin=HASH(0x9425d00), "site_layout", ARRAY(0x94161a0), Reaction::UI::Skin=HASH(0x9425d00)) called at /export/home/cpan/.cpan/build/Reaction-0.002005-0/blib/lib/Reaction/UI/Skin.pm line 110
Reaction::UI::Skin::create_layout_set(Reaction::UI::Skin=HASH(0x9425d00), "site_layout") called at /export/home/cpan/.cpan/build/Reaction-0.002005-0/blib/lib/Reaction/UI/LayoutSet.pm line 83
Reaction::UI::LayoutSet::_load_file(Reaction::UI::LayoutSet::TT=HASH(0x8d4d558), Path::Class::File=HASH(0x93f46b0), HASH(0x8789c50)) called at /export/home/cpan/.cpan/build/Reaction-0.002005-0/blib/lib/Reaction/UI/LayoutSet.pm line 27
Reaction::UI::LayoutSet::BUILD(Reaction::UI::LayoutSet::TT=HASH(0x8d4d558), HASH(0x8789c50)) called at constructor Reaction::UI::LayoutSet::TT::new (defined at /export/home/cpan/.cpan/build/Reaction-0.002005-0/blib/lib/Reaction/UI/LayoutSet/TT.pm line 43) line 80
Reaction::UI::LayoutSet::TT::new("Reaction::UI::LayoutSet::TT", "name", "site_layout", "skin", Reaction::UI::Skin=HASH(0x9425658), "next_skin", Reaction::UI::Skin=HASH(0x9425d00), "tt_object", ...) called at /export/home/cpan/.cpan/build/Reaction-0.002005-0/blib/lib/Reaction/UI/Skin.pm line 115
Reaction::UI::Skin::_create_layout_set(Reaction::UI::Skin=HASH(0x9425658), "site_layout", ARRAY(0x942ef08), Reaction::UI::Skin=HASH(0x9425658)) called at /export/home/cpan/.cpan/build/Reaction-0.002005-0/blib/lib/Reaction/UI/Skin.pm line 110
Reaction::UI::Skin::create_layout_set(Reaction::UI::Skin=HASH(0x9425658), "site_layout") called at inline delegation in Reaction::UI::View for skin->create_layout_set (attribute declared in /export/home/cpan/.cpan/build/Reaction-0.002005-0/blib/lib/Reaction/UI/View.pm at line 22) line 18
Reaction::UI::View::create_layout_set(ComponentUI::View::Site=HASH(0x4bf0478), "site_layout") called at /export/home/cpan/.cpan/build/Reaction-0.002005-0/blib/lib/Reaction/UI/View.pm line 99
Reaction::UI::View::layout_set_for(ComponentUI::View::Site=HASH(0x4bf0478), Reaction::UI::ViewPort::SiteLayout=HASH(0x126b478)) called at /export/home/cpan/.cpan/build/Reaction-0.002005-0/blib/lib/Reaction/UI/View.pm line 78
Reaction::UI::View::render_viewport_args(ComponentUI::View::Site=HASH(0x4bf0478), Reaction::UI::ViewPort::SiteLayout=HASH(0x126b478)) called at /export/home/cpan/.cpan/build/Reaction-0.002005-0/blib/lib/Reaction/UI/View.pm line 61
Reaction::UI::View::render_window(ComponentUI::View::Site=HASH(0x4bf0478), Reaction::UI::Window=HASH(0x8fbb908)) called at /export/home/cpan/.cpan/build/Reaction-0.002005-0/blib/lib/Reaction/UI/Window.pm line 74
Reaction::UI::Window::flush_view(Reaction::UI::Window=HASH(0x8fbb908)) called at /export/home/cpan/.cpan/build/Reaction-0.002005-0/blib/lib/Reaction/UI/Window.pm line 36
Reaction::UI::Window::flush(Reaction::UI::Window=HASH(0x8fbb908)) called at /export/home/cpan/.cpan/build/Reaction-0.002005-0/blib/lib/Reaction/UI/Controller/Root.pm line 38
Reaction::UI::Controller::Root::end(ComponentUI::Controller::Root=HASH(0x8fbb9b0), ComponentUI=HASH(0x8f7a3f8)) called at /export/home/cpan/bin/perl/lib/site_perl/5.41.13/Catalyst/Action.pm line 374
Catalyst::Action::execute(Catalyst::Action=HASH(0x8c80b88), ComponentUI::Controller::Root=HASH(0x8fbb9b0), ComponentUI=HASH(0x8f7a3f8)) called at /export/home/cpan/bin/perl/lib/site_perl/5.41.13/Catalyst.pm line 2067
eval {...} called at /export/home/cpan/bin/perl/lib/site_perl/5.41.13/Catalyst.pm line 2067
Catalyst::execute(ComponentUI=HASH(0x8f7a3f8), "ComponentUI::Controller::Root", Catalyst::Action=HASH(0x8c80b88)) called at /export/home/cpan/bin/perl/lib/site_perl/5.41.13/Catalyst/Action.pm line 368
Catalyst::Action::dispatch(Catalyst::Action=HASH(0x8c80b88), ComponentUI=HASH(0x8f7a3f8)) called at /export/home/cpan/bin/perl/lib/site_perl/5.41.13/Catalyst/Controller.pm line 188
Catalyst::Controller::_END(ComponentUI::Controller::TestModel::Baz=HASH(0x8f80110), ComponentUI=HASH(0x8f7a3f8)) called at /export/home/cpan/bin/perl/lib/site_perl/5.41.13/Catalyst/Action.pm line 374
Catalyst::Action::execute(Catalyst::Action=HASH(0x8d75980), ComponentUI::Controller::TestModel::Baz=HASH(0x8f80110), ComponentUI=HASH(0x8f7a3f8)) called at /export/home/cpan/bin/perl/lib/site_perl/5.41.13/Catalyst.pm line 2067
eval {...} called at /export/home/cpan/bin/perl/lib/site_perl/5.41.13/Catalyst.pm line 2067
Catalyst::execute(ComponentUI=HASH(0x8f7a3f8), "ComponentUI::Controller::TestModel::Baz", Catalyst::Action=HASH(0x8d75980)) called at /export/home/cpan/bin/perl/lib/site_perl/5.41.13/Catalyst/Action.pm line 368
Catalyst::Action::dispatch(Catalyst::Action=HASH(0x8d75980), ComponentUI=HASH(0x8f7a3f8)) called at /export/home/cpan/bin/perl/lib/site_perl/5.41.13/Catalyst/Dispatcher.pm line 261
Catalyst::Dispatcher::_do_forward(Catalyst::Dispatcher=HASH(0x3ce72c8), "forward", ComponentUI=HASH(0x8f7a3f8), "_END") called at /export/home/cpan/bin/perl/lib/site_perl/5.41.13/Catalyst/Dispatcher.pm line 241
Catalyst::Dispatcher::forward(Catalyst::Dispatcher=HASH(0x3ce72c8), ComponentUI=HASH(0x8f7a3f8), "_END") called at /export/home/cpan/bin/perl/lib/site_perl/5.41.13/Catalyst.pm line 489
Catalyst::forward(ComponentUI=HASH(0x8f7a3f8), "_END") called at /export/home/cpan/bin/perl/lib/site_perl/5.41.13/Catalyst/Controller.pm line 137
Catalyst::Controller::_DISPATCH(ComponentUI::Controller::TestModel::Baz=HASH(0x8f80110), ComponentUI=HASH(0x8f7a3f8)) called at /export/home/cpan/bin/perl/lib/site_perl/5.41.13/Catalyst/Action.pm line 374
Catalyst::Action::execute(Catalyst::Action=HASH(0x8d6cd80), ComponentUI::Controller::TestModel::Baz=HASH(0x8f80110), ComponentUI=HASH(0x8f7a3f8)) called at /export/home/cpan/bin/perl/lib/site_perl/5.41.13/Catalyst.pm line 2067
eval {...} called at /export/home/cpan/bin/perl/lib/site_perl/5.41.13/Catalyst.pm line 2067
Catalyst::execute(ComponentUI=HASH(0x8f7a3f8), "ComponentUI::Controller::TestModel::Baz", Catalyst::Action=HASH(0x8d6cd80)) called at /export/home/cpan/bin/perl/lib/site_perl/5.41.13/Catalyst/Action.pm line 368
Catalyst::Action::dispatch(Catalyst::Action=HASH(0x8d6cd80), ComponentUI=HASH(0x8f7a3f8)) called at /export/home/cpan/bin/perl/lib/site_perl/5.41.13/Catalyst/Dispatcher.pm line 261
Catalyst::Dispatcher::_do_forward(Catalyst::Dispatcher=HASH(0x3ce72c8), "forward", ComponentUI=HASH(0x8f7a3f8), "/testmodel/baz/_DISPATCH") called at /export/home/cpan/bin/perl/lib/site_perl/5.41.13/Catalyst/Dispatcher.pm line 241
Catalyst::Dispatcher::forward(Catalyst::Dispatcher=HASH(0x3ce72c8), ComponentUI=HASH(0x8f7a3f8), "/testmodel/baz/_DISPATCH") called at /export/home/cpan/bin/perl/lib/site_perl/5.41.13/Catalyst.pm line 489
Catalyst::forward(ComponentUI=HASH(0x8f7a3f8), "/testmodel/baz/_DISPATCH") called at /export/home/cpan/bin/perl/lib/site_perl/5.41.13/Catalyst/Dispatcher.pm line 107
Catalyst::Dispatcher::dispatch(Catalyst::Dispatcher=HASH(0x3ce72c8), ComponentUI=HASH(0x8f7a3f8)) called at /export/home/cpan/bin/perl/lib/site_perl/5.41.13/Catalyst.pm line 2013
Catalyst::dispatch(ComponentUI=HASH(0x8f7a3f8)) called at /export/home/cpan/bin/perl/lib/site_perl/5.41.13/Catalyst/Plugin/Static/Simple.pm line 85
Class::MOP::Class:::around(CODE(0x41d7d40), ComponentUI=HASH(0x8f7a3f8)) called at /export/home/cpan/bin/perl/lib/site_perl/5.41.13/i86pc-solaris-thread-multi-64/Class/MOP/Method/Wrapped.pm line 166
ComponentUI::_wrapped_dispatch(ComponentUI=HASH(0x8f7a3f8)) called at /export/home/cpan/bin/perl/lib/site_perl/5.41.13/i86pc-solaris-thread-multi-64/Class/MOP/Method/Wrapped.pm line 97
ComponentUI::dispatch(ComponentUI=HASH(0x8f7a3f8)) called at /export/home/cpan/bin/perl/lib/site_perl/5.41.13/Catalyst.pm line 2419
Catalyst::try {...} () called at /export/home/cpan/bin/perl/lib/site_perl/5.41.13/Try/Tiny.pm line 102
eval {...} called at /export/home/cpan/bin/perl/lib/site_perl/5.41.13/Try/Tiny.pm line 93
Try::Tiny::try(CODE(0x8f758c0), Try::Tiny::Catch=REF(0x8f756c8)) called at /export/home/cpan/bin/perl/lib/site_perl/5.41.13/Catalyst.pm line 2428
Catalyst::handle_request("ComponentUI", "env", HASH(0x8f78788), "response_cb", CODE(0x8f75728)) called at /export/home/cpan/bin/perl/lib/site_perl/5.41.13/Catalyst/Engine.pm line 808
Catalyst::Engine::__ANON__(CODE(0x8f75728)) called at /export/home/cpan/bin/perl/lib/site_perl/5.41.13/Plack/Middleware/HTTPExceptions.pm line 32
Plack::Middleware::HTTPExceptions::try {...} () called at /export/home/cpan/bin/perl/lib/site_perl/5.41.13/Try/Tiny.pm line 102
eval {...} called at /export/home/cpan/bin/perl/lib/site_perl/5.41.13/Try/Tiny.pm line 93
Try::Tiny::try(CODE(0x8f75560), Try::Tiny::Catch=REF(0x8f79268)) called at /export/home/cpan/bin/perl/lib/site_perl/5.41.13/Plack/Middleware/HTTPExceptions.pm line 41
Plack::Middleware::HTTPExceptions::__ANON__(CODE(0x8f78e30)) called at /export/home/cpan/bin/perl/lib/site_perl/5.41.13/Plack/Util.pm line 339
Plack::Util::__ANON__(CODE(0x8f78680)) called at /export/home/cpan/bin/perl/lib/site_perl/5.41.13/Plack/Util.pm line 339
Plack::Util::__ANON__(CODE(0x8f78440)) called at /export/home/cpan/bin/perl/lib/site_perl/5.41.13/Plack/Util.pm line 339
Plack::Util::__ANON__(CODE(0x8f96948)) called at /export/home/cpan/bin/perl/lib/site_perl/5.41.13/HTTP/Message/PSGI.pm line 100
HTTP::Message::PSGI::res_from_psgi(CODE(0x8f75308)) called at /export/home/cpan/bin/perl/lib/site_perl/5.41.13/HTTP/Message/PSGI.pm line 157
HTTP::Response::from_psgi("HTTP::Response", CODE(0x8f75308)) called at /export/home/cpan/bin/perl/lib/site_perl/5.41.13/Plack/Test/MockHTTP.pm line 24
Plack::Test::MockHTTP::try {...} () called at /export/home/cpan/bin/perl/lib/site_perl/5.41.13/Try/Tiny.pm line 100
eval {...} called at /export/home/cpan/bin/perl/lib/site_perl/5.41.13/Try/Tiny.pm line 93
Try::Tiny::try(CODE(0x8e6f220), Try::Tiny::Catch=REF(0x8e6ee18)) called at /export/home/cpan/bin/perl/lib/site_perl/5.41.13/Plack/Test/MockHTTP.pm line 27
Plack::Test::MockHTTP::request(Plack::Test::MockHTTP=HASH(0x8f6d6d8), HTTP::Request=HASH(0x8f33c58)) called at /export/home/cpan/bin/perl/lib/site_perl/5.41.13/Plack/Test.pm line 38
Plack::Test::__ANON__(HTTP::Request=HASH(0x8f33c58)) called at /export/home/cpan/bin/perl/lib/site_perl/5.41.13/Catalyst/Test.pm line 290
Catalyst::Test::__ANON__(CODE(0x8f6d690)) called at /export/home/cpan/bin/perl/lib/site_perl/5.41.13/Plack/Test.pm line 38
Plack::Test::test_psgi("app", CODE(0x8f6d258), "mangle_response", CODE(0x35ad3f8), "app", CODE(0x8f6d228), "client", CODE(0x8f6d528)) called at /export/home/cpan/bin/perl/lib/site_perl/5.41.13/Catalyst/Test.pm line 293
Catalyst::Test::_request(HASH(0x8f60490), HTTP::Request=HASH(0x8f33c58)) called at /export/home/cpan/bin/perl/lib/site_perl/5.41.13/Catalyst/Test.pm line 336
Catalyst::Test::_local_request("ComponentUI", HTTP::Request=HASH(0x8f33c58)) called at /export/home/cpan/bin/perl/lib/site_perl/5.41.13/Test/WWW/Mechanize/Catalyst.pm line 176
Test::WWW::Mechanize::Catalyst::_do_catalyst_request(Test::WWW::Mechanize::Catalyst=HASH(0x1310820), HTTP::Request=HASH(0x8f33c58)) called at /export/home/cpan/bin/perl/lib/site_perl/5.41.13/Test/WWW/Mechanize/Catalyst.pm line 78
Test::WWW::Mechanize::Catalyst::_make_request(Test::WWW::Mechanize::Catalyst=HASH(0x1310820), HTTP::Request=HASH(0x8f33c58)) called at /export/home/cpan/bin/perl/lib/site_perl/5.41.13/WWW/Mechanize.pm line 1534
WWW::Mechanize::request(Test::WWW::Mechanize::Catalyst=HASH(0x1310820), HTTP::Request=HASH(0x8f33c58)) called at /export/home/cpan/bin/perl/lib/site_perl/5.41.13/LWP/UserAgent.pm line 454
LWP::UserAgent::get(Test::WWW::Mechanize::Catalyst=HASH(0x1310820), "http://localhost/testmodel/baz/id/1/update") called at /export/home/cpan/bin/perl/lib/site_perl/5.41.13/WWW/Mechanize.pm line 124
WWW::Mechanize::get(Test::WWW::Mechanize::Catalyst=HASH(0x1310820), "http://localhost/testmodel/baz/id/1/update") called at /export/home/cpan/bin/perl/lib/site_perl/5.41.13/Test/WWW/Mechanize.pm line 192
Test::WWW::Mechanize::get_ok(Test::WWW::Mechanize::Catalyst=HASH(0x1310820), "http://localhost/testmodel/baz/id/1/update") called at t/uncheck_bool_field.t line 9
t/uncheck_bool_field.t ...... ok
All tests successful.
Files=9, Tests=604, 12 wallclock secs ( 0.09 usr 0.03 sys + 10.73 cusr 1.01 csys = 11.86 CPU)
Result: PASS
------------------------------
PREREQUISITES
------------------------------
Prerequisite modules loaded:
requires:
Module Need Have
--------------------------------------- --------- --------
aliased 0.22 0.34
Catalyst 5.80002 5.90132
Catalyst::Component::ACCEPT_CONTEXT 0.05 0.07
Catalyst::Component::InstancePerContext 0.001001 0.001001
Catalyst::Model::DBIC::Schema 0.23 0.66
Catalyst::Plugin::ConfigLoader 0.23 0.35
Catalyst::Plugin::I18N 0.09 0.10
Catalyst::Plugin::Static::Simple 0.21 0.37
Catalyst::View::TT 0.29 0.46
Class::MOP 0.81 2.2207
Config::General 2.42 2.67
Crypt::Eksblowfish::Bcrypt 0.005 0.009
DateTime 0.47 1.66
DateTime::Event::Recurrence 0.16 0.19
DateTime::Span 0 0.3900
DBIx::Class 0.08100 0.082844
DBIx::Class::IntrospectableM2M 0.001001 0.001002
Devel::Declare 0.005000 0.006022
Email::Valid 0.181 1.204
ExtUtils::MakeMaker 6.11 7.74
File::ShareDir 1.00 1.118
File::Spec 3.29 3.94
JSON 0 4.10
metaclass 0.81 2.2207
Method::Signatures::Simple 0.03 1.07
Moose 0.74 2.2207
MooseX::MethodAttributes 0.18 0.32
MooseX::Role::Parameterized 0.24 1.11
MooseX::Types 0.10 0.51
MooseX::Types::Common 0.001000 0.001015
MooseX::Types::DateTime 0.03 0.13
MooseX::Types::URI 0.02 0.10
namespace::clean 0.11 0.27
Path::Class::Dir 0 0.37
Path::Class::File 0 0.37
perl 5.008001 5.041013
Scalar::Util 1.19 1.69
signatures 0.05 0.14
SQL::Translator 0.11002 1.66
Sub::Exporter 0.982 0.991
Sub::Name 0.04 0.28
Template 2.20 3.102
Test::Class 0.31 0.52
Test::Memory::Cycle 1.04 1.06
Test::WWW::Mechanize::Catalyst 0.51 0.62
Time::ParseDate 2006.0814 2015.103
URI 1.37 5.32
build_requires:
Module Need Have
--------------------------------------- --------- --------
ExtUtils::MakeMaker 6.42 7.74
SQL::Translator 0.11002 1.66
Test::Class 0.31 0.52
Test::Memory::Cycle 1.04 1.06
Test::WWW::Mechanize::Catalyst 0.51 0.62
configure_requires:
Module Need Have
--------------------------------------- --------- --------
ExtUtils::MakeMaker 6.42 7.74
------------------------------
ENVIRONMENT AND OTHER CONTEXT
------------------------------
Environment variables:
AUTOMATED_TESTING = 1
DATE_MANIP_TEST_DM5 = 1
LANG = en_US.UTF-8
LC_ALL = C
NONINTERACTIVE_TESTING = 1
NO_NETWORK_TESTING = 1
PATH = /export/home/cpan/bin/perl/bin:/usr/bin:/usr/sbin:/sbin:/opt/ooce/bin:/usr/gnu/bin
PERL5LIB =
PERL5OPT =
PERL5_CPANPLUS_IS_RUNNING = 2264
PERL5_CPAN_IS_RUNNING = 2264
PERL_MM_USE_DEFAULT = 1
PERL_USE_UNSAFE_INC = 1
SHELL = /bin/sh
TERM = screen
Perl special variables (and OS-specific diagnostics, for MSWin32):
$^X = /export/home/cpan/bin/perl/bin/perl5.41.13
$UID/$EUID = 101 / 101
$GID = 1 1
$EGID = 1 1
Perl module toolchain versions installed:
Module Have
------------------- --------
CPAN 2.38
CPAN::Meta 2.150010
Cwd 3.94
ExtUtils::CBuilder 0.280241
ExtUtils::Command 7.74
ExtUtils::Install 2.22
ExtUtils::MakeMaker 7.74
ExtUtils::Manifest 1.75
ExtUtils::ParseXS 3.57
File::Spec 3.94
JSON 4.10
JSON::PP 4.16
Module::Build 0.4234
Module::Signature 0.89
Parse::CPAN::Meta 2.150010
Test2 1.302213
Test::Harness 3.50
Test::More 1.302213
YAML 1.31
YAML::Syck 1.34
version 0.9933
--
Summary of my perl5 (revision 5 version 41 subversion 13) configuration:
Commit id: e8bbad6bd1fa8beb5a951a859f0028ccffd792b2
Platform:
osname=solaris
osvers=2.11
archname=i86pc-solaris-thread-multi-64
uname='sunos cjg-omniosce 5.11 omnios-r151052-5ce47a2ab6 i86pc i386 i86pc '
config_args='-des -Dprefix=/export/home/cpan/bin/perl -Dscriptdir=/export/home/cpan/bin/perl/bin -Dusedevel -Duse64bitall -Dcc=gcc -Duseithreads'
hint=recommended
useposix=true
d_sigaction=define
useithreads=define
usemultiplicity=define
use64bitint=define
use64bitall=define
uselongdouble=undef
usemymalloc=n
default_inc_excludes_dot=define
Compiler:
cc='gcc'
ccflags ='-D_REENTRANT -m64 -fwrapv -fno-strict-aliasing -pipe -fstack-protector-strong -D_LARGEFILE_SOURCE -D_FILE_OFFSET_BITS=64 -D_FORTIFY_SOURCE=2'
optimize='-O'
cppflags='-D_REENTRANT -m64 -fwrapv -fno-strict-aliasing -pipe -fstack-protector-strong'
ccversion=''
gccversion='14.2.0'
gccosandvers=''
intsize=4
longsize=8
ptrsize=8
doublesize=8
byteorder=12345678
doublekind=3
d_longlong=define
longlongsize=8
d_longdbl=define
longdblsize=16
longdblkind=3
ivtype='long'
ivsize=8
nvtype='double'
nvsize=8
Off_t='off_t'
lseeksize=8
alignbytes=8
prototype=define
Linker and Libraries:
ld='gcc'
ldflags =' -m64 -fstack-protector-strong -L/usr/gnu/lib '
libpth=/opt/gcc-14/lib /usr/lib /usr/gnu/lib /usr/ccs/lib
libs=-lpthread -lsocket -lnsl -ldl -lm -lc
perllibs=-lpthread -lsocket -lnsl -ldl -lm -lc
libc=/lib/libc.so
so=so
useshrplib=true
libperl=libperl.so
gnulibc_version=''
Dynamic Linking:
dlsrc=dl_dlopen.xs
dlext=so
d_dlsymun=undef
ccdlflags=' -R /export/home/cpan/bin/perl/lib/5.41.13/i86pc-solaris-thread-multi-64/CORE'
cccdlflags='-fPIC'
lddlflags=' -shared -m64 -L/usr/gnu/lib -fstack-protector-strong'
Characteristics of this binary (from libperl):
Compile-time options:
HAS_LONG_DOUBLE
HAS_STRTOLD
HAS_TIMES
MULTIPLICITY
PERLIO_LAYERS
PERL_COPY_ON_WRITE
PERL_DONT_CREATE_GVSV
PERL_HASH_FUNC_SIPHASH13
PERL_HASH_USE_SBOX32
PERL_MALLOC_WRAP
PERL_OP_PARENT
PERL_PRESERVE_IVUV
PERL_USE_DEVEL
PERL_USE_SAFE_PUTENV
USE_64_BIT_ALL
USE_64_BIT_INT
USE_ITHREADS
USE_LARGE_FILES
USE_LOCALE
USE_LOCALE_COLLATE
USE_LOCALE_CTYPE
USE_LOCALE_NUMERIC
USE_LOCALE_TIME
USE_PERLIO
USE_PERL_ATOF
USE_REENTRANT_API
USE_THREAD_SAFE_LOCALE
Built under solaris
Compiled at May 20 2025 16:06:51
%ENV:
PERL5LIB=""
PERL5OPT=""
PERL5_CPANPLUS_IS_RUNNING="2264"
PERL5_CPAN_IS_RUNNING="2264"
PERL_MM_USE_DEFAULT="1"
PERL_USE_UNSAFE_INC="1"
@INC:
/export/home/cpan/bin/perl/lib/site_perl/5.41.13/i86pc-solaris-thread-multi-64
/export/home/cpan/bin/perl/lib/site_perl/5.41.13
/export/home/cpan/bin/perl/lib/5.41.13/i86pc-solaris-thread-multi-64
/export/home/cpan/bin/perl/lib/5.41.13
.