MooseX-Types v0.51 Perl 5 v5.20.3 amd64-freebsd-thread-multi

Status
Pass
From
Chris Williams (BINGOS)
Dist
MooseX-Types v0.51
Platform
Perl 5 v5.20.3 amd64-freebsd-thread-multi
Date
2025-04-21 03:14:17
ID
b5c06cea-1e5e-11f0-98b0-b3c3213a625c
This distribution has been tested as part of the CPAN Testers
project, supporting the Perl programming language.  See
http://wiki.cpantesters.org/ for more information or email
questions to cpan-testers-discuss@perl.org


--

Dear Karen Etheridge,

This is a computer-generated error report created automatically by
CPANPLUS, version 0.9914. Testers personal comments may appear
at the end of this report.


Thank you for uploading your work to CPAN.  Congratulations!
All tests were successful.

TEST RESULTS:

Below is the error stack from stage 'make test':

# 
# Versions for all modules listed in MYMETA.json (including optional ones):
# 
# === Configure Requires ===
# 
#     Module               Want     Have
#     ------------------- ----- --------
#     Module::Build::Tiny 0.034    0.051
#     perl                5.008 5.020003
# 
# === Configure Suggests ===
# 
#     Module      Want Have
#     -------- ------- ----
#     JSON::PP 2.27300 4.16
# 
# === Test Requires ===
# 
#     Module            Want     Have
#     ---------------- ----- --------
#     File::Spec         any     3.75
#     Module::Metadata   any 1.000038
#     Moose::Role        any   2.2207
#     Term::ANSIColor    any     4.02
#     Test::Fatal        any    0.017
#     Test::More        0.88 1.302210
#     Test::Needs        any 0.002010
#     if                 any   0.0603
#     lib                any     0.63
#     perl             5.008 5.020003
# 
# === Test Recommends ===
# 
#     Module         Want     Have
#     ---------- -------- --------
#     CPAN::Meta 2.120900 2.150010
# 
# === Runtime Requires ===
# 
#     Module                                 Want     Have
#     ---------------------------------- -------- --------
#     Carp                                    any   1.3301
#     Carp::Clan                             6.00     6.08
#     Exporter                                any     5.71
#     Module::Runtime                         any    0.017
#     Moose                                  1.06   2.2207
#     Moose::Exporter                         any   2.2207
#     Moose::Meta::TypeConstraint::Union      any   2.2207
#     Moose::Util::TypeConstraints            any   2.2207
#     Scalar::Util                           1.19     1.69
#     Sub::Exporter                           any    0.991
#     Sub::Exporter::ForMethods          0.100052 0.100055
#     Sub::Install                            any    0.929
#     Sub::Util                               any     1.69
#     base                                    any     2.22
#     namespace::autoclean                   0.16     0.31
#     overload                                any     1.22
#     parent                                  any    0.228
#     perl                                  5.008 5.020003
#     strict                                  any     1.08
#     warnings                                any     1.23
# 
# === Other Modules ===
# 
#     Module                  Have
#     -------------------- -------
#     Dist::CheckConflicts    0.11
#     Encode                  3.21
#     File::Temp            0.2311
#     JSON::PP                4.16
#     Module::Runtime        0.017
#     Sub::Name            missing
#     YAML                 missing
#     autodie                 2.23
#     namespace::clean        0.27
# 
t/00-report-prereqs.t .............. ok
t/10_moose-types.t ................. ok
t/11_library-definition.t .......... ok
t/12_wrapper-definition.t .......... ok
t/13_typedecorator.t ............... ok
t/14_compatibility-sub-exporter.t .. ok
t/15_recursion.t ................... ok
t/16_introspection.t ............... ok
t/17_syntax_errors.t ............... ok
t/18_combined_libs.t ............... ok
t/19_typelib_with_role.t ........... ok
t/20_union_with_string_type.t ...... ok
t/21_coerce_parameterized_types.t .. ok
t/22_class_type.t .................. ok
t/23_any_subtype.t ................. ok
t/24_class_can_isa.t ............... ok
t/25-fully-qualified.t ............. ok
t/26-multi-combined.t .............. ok
t/regressions/01-is_subtype_of.t ... ok
t/zzz-check-breaks.t ............... ok
All tests successful.
Files=20, Tests=250, 12 wallclock secs ( 0.15 usr  0.11 sys + 10.27 cusr  1.25 csys = 11.77 CPU)
Result: PASS


PREREQUISITES:

Here is a list of prerequisites you specified and versions we
managed to load:

	  Module Name                        Have     Want
	  Carp                             1.3301        0
	  Carp::Clan                         6.08     6.00
	  Exporter                           5.71        0
	  File::Spec                         3.75        0
	  Module::Metadata               1.000038        0
	  Module::Runtime                   0.017        0
	  Moose                            2.2207     1.06
	  Moose::Exporter                  2.2207        0
	  Moose::Meta::TypeConstraint::Union   2.2207        0
	  Moose::Role                      2.2207        0
	  Moose::Util::TypeConstraints     2.2207        0
	  Scalar::Util                       1.69     1.19
	  Sub::Exporter                     0.991        0
	  Sub::Exporter::ForMethods      0.100055 0.100052
	  Sub::Install                      0.929        0
	  Sub::Util                          1.69        0
	  Term::ANSIColor                    4.02        0
	  Test::Fatal                       0.017        0
	  Test::More                     1.302210     0.88
	  Test::Needs                    0.002010        0
	  base                               2.22        0
	  if                               0.0603        0
	  lib                                0.63        0
	  namespace::autoclean               0.31     0.16
	  overload                           1.22        0
	  parent                            0.228        0
	  strict                             1.08        0
	  warnings                           1.23        0

Perl module toolchain versions installed:
	Module Name                        Have
	CPANPLUS                         0.9914
	CPANPLUS::Dist::Build              0.90
	Cwd                                3.75
	ExtUtils::CBuilder             0.280236
	ExtUtils::Command                  7.70
	ExtUtils::Install                  2.22
	ExtUtils::MakeMaker                7.70
	ExtUtils::Manifest                 1.75
	ExtUtils::ParseXS                  3.51
	File::Spec                         3.75
	Module::Build                    0.4234
	Pod::Parser                        1.62
	Pod::Simple                        3.28
	Test2                          1.302210
	Test::Harness                      3.48
	Test::More                     1.302210
	version                          0.9932

******************************** NOTE ********************************
The comments above are created mechanically, possibly without manual
checking by the sender.  As there are many people performing automatic
tests on each upload to CPAN, it is likely that you will receive
identical messages about the same problem.

If you believe that the message is mistaken, please reply to the first
one with correction and/or additional informations, and do not take
it personally.  We appreciate your patience. :)
**********************************************************************

Additional comments:


This report was machine-generated by CPANPLUS::Dist::YACSmoke 1.08.
Powered by minismokebox version 0.68

CPANPLUS is prefering Build.PL

------------------------------
ENVIRONMENT AND OTHER CONTEXT
------------------------------

Environment variables:

    AUTOMATED_TESTING = 1
    LANG = C.UTF-8
    NONINTERACTIVE_TESTING = 1
    PATH = /sbin:/bin:/usr/sbin:/usr/bin:/usr/local/sbin:/usr/local/bin:/home/cpan/bin
    PERL5LIB = /home/cpan/pit/jail/dvEzFog4Fq/lib/perl5:/home/cpan/pit/thr/conf/perl-5.20.3/.cpanplus/5.20.3/build/lsCmI6tOWG/MooseX-Types-0.51/blib/lib:/home/cpan/pit/thr/conf/perl-5.20.3/.cpanplus/5.20.3/build/lsCmI6tOWG/MooseX-Types-0.51/blib/arch
    PERL5_CPANPLUS_IS_RUNNING = 38433
    PERL5_CPANPLUS_IS_VERSION = 0.9914
    PERL5_MINISMOKEBOX = 0.68
    PERL5_YACSMOKE_BASE = /home/cpan/pit/thr/conf/perl-5.20.3
    PERL_EXTUTILS_AUTOINSTALL = --defaultdeps
    PERL_LOCAL_LIB_ROOT = /home/cpan/pit/jail/dvEzFog4Fq
    PERL_MB_OPT = --install_base "/home/cpan/pit/jail/dvEzFog4Fq"
    PERL_MM_OPT = INSTALL_BASE=/home/cpan/pit/jail/dvEzFog4Fq
    PERL_MM_USE_DEFAULT = 1
    PERL_USE_UNSAFE_INC = 1
    SHELL = /usr/local/bin/bash
    TERM = screen

Perl special variables (and OS-specific diagnostics, for MSWin32):

    Perl: $^X = /home/cpan/pit/thr/perl-5.20.3/bin/perl
    UID:  $<  = 1002
    EUID: $>  = 1002
    GID:  $(  = 1002 1002
    EGID: $)  = 1002 1002


-------------------------------


--

Summary of my perl5 (revision 5 version 20 subversion 3) configuration:
   
  Platform:
    osname=freebsd, osvers=14.1-release, archname=amd64-freebsd-thread-multi
    uname='freebsd flitter 14.1-release freebsd 14.1-release releng14.1-n267679-10e31f0946d8 generic amd64 '
    config_args='-des -Dprefix=/home/cpan/pit/thr/perl-5.20.3 -Dusethreads'
    hint=recommended, useposix=true, d_sigaction=define
    useithreads=define, usemultiplicity=define
    use64bitint=define, use64bitall=define, uselongdouble=undef
    usemymalloc=n, bincompat5005=undef
  Compiler:
    cc='cc', ccflags ='-DHAS_FPSETMASK -DHAS_FLOATINGPOINT_H -DNO_POSIX_2008_LOCALE -fno-strict-aliasing -pipe -fstack-protector -I/usr/local/include',
    optimize='-O2',
    cppflags='-DHAS_FPSETMASK -DHAS_FLOATINGPOINT_H -DNO_POSIX_2008_LOCALE -fno-strict-aliasing -pipe -fstack-protector -I/usr/local/include'
    ccversion='', gccversion='FreeBSD Clang 18.1.5 (https://github.com/llvm/llvm-project.git llvmorg-18.1.5-0-g617a15a9eac9)', gccosandvers=''
    intsize=4, longsize=8, ptrsize=8, doublesize=8, byteorder=12345678
    d_longlong=define, longlongsize=8, d_longdbl=define, longdblsize=16
    ivtype='long', ivsize=8, nvtype='double', nvsize=8, Off_t='off_t', lseeksize=8
    alignbytes=8, prototype=define
  Linker and Libraries:
    ld='cc', ldflags ='-pthread -Wl,-E  -fstack-protector -L/usr/local/lib'
    libpth=/usr/lib /usr/local/lib /usr/lib/clang/18/lib /usr/lib
    libs=-lpthread -lgdbm -ldl -lm -lcrypt -lutil
    perllibs=-lpthread -ldl -lm -lcrypt -lutil
    libc=, so=so, useshrplib=false, libperl=libperl.a
    gnulibc_version=''
  Dynamic Linking:
    dlsrc=dl_dlopen.xs, dlext=so, d_dlsymun=undef, ccdlflags=' '
    cccdlflags='-DPIC -fPIC', lddlflags='-shared  -L/usr/local/lib -fstack-protector'


Characteristics of this binary (from libperl): 
  Compile-time options: HAS_TIMES MULTIPLICITY PERLIO_LAYERS
                        PERL_DONT_CREATE_GVSV
                        PERL_HASH_FUNC_ONE_AT_A_TIME_HARD
                        PERL_IMPLICIT_CONTEXT PERL_MALLOC_WRAP
                        PERL_NEW_COPY_ON_WRITE PERL_PRESERVE_IVUV
                        USE_64_BIT_ALL USE_64_BIT_INT USE_ITHREADS
                        USE_LARGE_FILES USE_LOCALE USE_LOCALE_COLLATE
                        USE_LOCALE_CTYPE USE_LOCALE_NUMERIC USE_PERLIO
                        USE_PERL_ATOF USE_REENTRANT_API
  Locally applied patches:
	Devel::PatchPerl 2.09
  Built under freebsd
  Compiled at Jun 16 2024 22:44:01
  %ENV:
    PERL5LIB="/home/cpan/pit/jail/dvEzFog4Fq/lib/perl5:/home/cpan/pit/thr/conf/perl-5.20.3/.cpanplus/5.20.3/build/lsCmI6tOWG/MooseX-Types-0.51/blib/lib:/home/cpan/pit/thr/conf/perl-5.20.3/.cpanplus/5.20.3/build/lsCmI6tOWG/MooseX-Types-0.51/blib/arch"
    PERL5_CPANPLUS_IS_RUNNING="38433"
    PERL5_CPANPLUS_IS_VERSION="0.9914"
    PERL5_MINISMOKEBOX="0.68"
    PERL5_YACSMOKE_BASE="/home/cpan/pit/thr/conf/perl-5.20.3"
    PERL_EXTUTILS_AUTOINSTALL="--defaultdeps"
    PERL_LOCAL_LIB_ROOT="/home/cpan/pit/jail/dvEzFog4Fq"
    PERL_MB_OPT="--install_base "/home/cpan/pit/jail/dvEzFog4Fq""
    PERL_MM_OPT="INSTALL_BASE=/home/cpan/pit/jail/dvEzFog4Fq"
    PERL_MM_USE_DEFAULT="1"
    PERL_USE_UNSAFE_INC="1"
  @INC:
    /home/cpan/pit/jail/dvEzFog4Fq/lib/perl5/5.20.3/amd64-freebsd-thread-multi
    /home/cpan/pit/jail/dvEzFog4Fq/lib/perl5/5.20.3
    /home/cpan/pit/jail/dvEzFog4Fq/lib/perl5/amd64-freebsd-thread-multi
    /home/cpan/pit/jail/dvEzFog4Fq/lib/perl5
    /home/cpan/pit/thr/conf/perl-5.20.3/.cpanplus/5.20.3/build/lsCmI6tOWG/MooseX-Types-0.51/blib/lib
    /home/cpan/pit/thr/conf/perl-5.20.3/.cpanplus/5.20.3/build/lsCmI6tOWG/MooseX-Types-0.51/blib/arch
    /home/cpan/pit/thr/perl-5.20.3/lib/site_perl/5.20.3/amd64-freebsd-thread-multi
    /home/cpan/pit/thr/perl-5.20.3/lib/site_perl/5.20.3
    /home/cpan/pit/thr/perl-5.20.3/lib/5.20.3/amd64-freebsd-thread-multi
    /home/cpan/pit/thr/perl-5.20.3/lib/5.20.3
    .