Report for Catalyst-Plugin-Server-JSONRPC-0.07

Back
From: metabase:user:c1859b88-af6d-11df-b000-ae20fb0c70d3
Subject: PASS Catalyst-Plugin-Server-JSONRPC-0.07 v5.10.1 OpenBSD
Date: 2010-09-10T23:39:52Z

This distribution has been tested as part of the CPAN Testers
project, supporting the Perl programming language.  See
http://wiki.cpantesters.org/ for more information or email
questions to cpan-testers-discuss@perl.org


--
Dear Jose Luis Martinez Torres,

This is a computer-generated report for Catalyst-Plugin-Server-JSONRPC-0.07
on perl 5.10.1, created by CPAN-Reporter-1.18.

Thank you for uploading your work to CPAN.  Congratulations!
All tests were successful.

Sections of this report:

    * Tester comments
    * Program output
    * Prerequisites
    * Environment and other context

------------------------------
TESTER COMMENTS
------------------------------

Additional comments from tester:

this report is from an automated smoke testing program
and was not reviewed by a human for accuracy

------------------------------
PROGRAM OUTPUT
------------------------------

Output from '/usr/bin/make test':

PERL_DL_NONLAZY=1 /usr/bin/perl "-MExtUtils::Command::MM" "-e" "test_harness(0, 'blib/lib', 'blib/arch')" t/*.t
t/001_use.t ............ ok
t/002_live.t ........... ok
t/003_Settings.t ....... ok
t/004_Attributes.t ..... ok
t/005_listMethods.t .... ok
t/020_Dispatch_live.t .. ok
t/030_Error_live.t ..... ok
# 101 echo_fault
t/040_faultcode.t ...... ok
t/990_pod.t ............ skipped: set TEST_POD to enable this test
t/991_pod_coverage.t ... skipped: Test::Pod::Coverage 1.04 required
All tests successful.
Files=10, Tests=103, 150 wallclock secs ( 0.91 usr  0.51 sys + 129.35 cusr 12.19 csys = 142.96 CPU)
Result: PASS

------------------------------
PREREQUISITES
------------------------------

Prerequisite modules loaded:

requires:

    Module                   Need Have   
    ------------------------ ---- -------
    Catalyst                 5.66 5.80025
    Catalyst::Plugin::Server 0.01 0.28   
    JSON                     2.0  2.21   
    JSON::RPC::Common        0.03 0.07   
    MRO::Compat              0    0.11   

configure_requires:

    Module                   Need Have   
    ------------------------ ---- -------
    ExtUtils::MakeMaker      0    6.56   


------------------------------
ENVIRONMENT AND OTHER CONTEXT
------------------------------

Environment variables:

    AUTOMATED_TESTING = 1
    PATH = /home/tester/bin:/bin:/sbin:/usr/bin:/usr/sbin:/usr/X11R6/bin:/usr/local/bin:/usr/local/sbin:/usr/games:.
    PERL5LIB = /home/tester/.cpan/build/Catalyst-Plugin-Server-0.28-N6EFgT/blib/arch:/home/tester/.cpan/build/Catalyst-Plugin-Server-0.28-N6EFgT/blib/lib:/home/tester/.cpan/build/Clone-Fast-0.93-cd_Sjr/blib/arch:/home/tester/.cpan/build/Clone-Fast-0.93-cd_Sjr/blib/lib:/home/tester/.cpan/build/RPC-XML-0.73-lUNdNG/blib/arch:/home/tester/.cpan/build/RPC-XML-0.73-lUNdNG/blib/lib:/home/tester/.cpan/build/XML-Parser-2.36-H_Q_UU/blib/arch:/home/tester/.cpan/build/XML-Parser-2.36-H_Q_UU/blib/lib:/home/tester/.cpan/build/JSON-RPC-Common-0.07-wF4OXE/blib/arch:/home/tester/.cpan/build/JSON-RPC-Common-0.07-wF4OXE/blib/lib:/home/tester/.cpan/build/Test-use-ok-0.02-TujjZo/blib/arch:/home/tester/.cpan/build/Test-use-ok-0.02-TujjZo/blib/lib
    PERL5OPT = 
    PERL5_CPANPLUS_IS_RUNNING = 9620
    PERL5_CPAN_IS_RUNNING = 9620
    PERL5_CPAN_IS_RUNNING_IN_RECURSION = 6388,9620
    PERL_CR_SMOKER_CURRENT = Catalyst-Plugin-Server-JSONRPC-0.07
    PERL_EXTUTILS_AUTOINSTALL = --defaultdeps
    PERL_MM_USE_DEFAULT = 1
    SHELL = /bin/ksh
    TERM = rxvt

Perl special variables (and OS-specific diagnostics, for MSWin32):

    $^X = /usr/bin/perl
    $UID/$EUID = 2000 / 2000
    $GID = 2000 2000 0
    $EGID = 2000 2000 0

Perl module toolchain versions installed:

    Module              Have  
    ------------------- ------
    CPAN                1.9402
    Cwd                 3.31  
    ExtUtils::CBuilder  0.2703
    ExtUtils::Command   1.16  
    ExtUtils::Install   1.54  
    ExtUtils::MakeMaker 6.56  
    ExtUtils::Manifest  1.58  
    ExtUtils::ParseXS   2.2206
    File::Spec          3.31  
    Module::Build       0.3607
    Module::Signature   n/a   
    Test::Harness       3.22  
    Test::More          0.96  
    YAML                0.71  
    YAML::Syck          1.12  
    version             0.82  


--

Summary of my perl5 (revision 5 version 10 subversion 1) configuration:
   
  Platform:
    osname=openbsd, osvers=4.8, archname=sparc64-openbsd
    uname='openbsd'
    config_args='-dsE -Dopenbsd_distribution=defined -Dmksymlinks'
    hint=recommended, useposix=true, d_sigaction=define
    useithreads=undef, usemultiplicity=undef
    useperlio=define, d_sfio=undef, uselargefiles=define, usesocks=undef
    use64bitint=define, use64bitall=define, uselongdouble=undef
    usemymalloc=n, bincompat5005=undef
  Compiler:
    cc='cc', ccflags ='-fno-strict-aliasing -fno-delete-null-pointer-checks -pipe -fstack-protector -I/usr/local/include',
    optimize='-O2',
    cppflags='-fno-strict-aliasing -fno-delete-null-pointer-checks -pipe -fstack-protector -I/usr/local/include'
    ccversion='', gccversion='4.2.1 20070719 ', gccosandvers='openbsd4.8'
    intsize=4, longsize=8, ptrsize=8, doublesize=8, byteorder=87654321
    d_longlong=define, longlongsize=8, d_longdbl=define, longdblsize=16
    ivtype='long', ivsize=8, nvtype='double', nvsize=8, Off_t='off_t', lseeksize=8
    alignbytes=8, prototype=define
  Linker and Libraries:
    ld='cc', ldflags ='-Wl,-E  -fstack-protector'
    libpth=/usr/lib
    libs=-lm -lutil -lc
    perllibs=-lm -lutil -lc
    libc=/usr/lib/libc.a, so=so, useshrplib=true, libperl=libperl.so.11.1
    gnulibc_version=''
  Dynamic Linking:
    dlsrc=dl_dlopen.xs, dlext=so, d_dlsymun=undef, ccdlflags='-Wl,-R/usr/libdata/perl5/sparc64-openbsd/5.10.1/CORE'
    cccdlflags='-DPIC -fPIC ', lddlflags='-shared -fPIC  -fstack-protector'


Characteristics of this binary (from libperl): 
  Compile-time options: PERL_DONT_CREATE_GVSV PERL_MALLOC_WRAP USE_64_BIT_ALL
                        USE_64_BIT_INT USE_LARGE_FILES USE_PERLIO
  Built under OpenBSD
  %ENV:
    PERL5LIB="/home/tester/.cpan/build/Catalyst-Plugin-Server-0.28-N6EFgT/blib/arch:/home/tester/.cpan/build/Catalyst-Plugin-Server-0.28-N6EFgT/blib/lib:/home/tester/.cpan/build/Clone-Fast-0.93-cd_Sjr/blib/arch:/home/tester/.cpan/build/Clone-Fast-0.93-cd_Sjr/blib/lib:/home/tester/.cpan/build/RPC-XML-0.73-lUNdNG/blib/arch:/home/tester/.cpan/build/RPC-XML-0.73-lUNdNG/blib/lib:/home/tester/.cpan/build/XML-Parser-2.36-H_Q_UU/blib/arch:/home/tester/.cpan/build/XML-Parser-2.36-H_Q_UU/blib/lib:/home/tester/.cpan/build/JSON-RPC-Common-0.07-wF4OXE/blib/arch:/home/tester/.cpan/build/JSON-RPC-Common-0.07-wF4OXE/blib/lib:/home/tester/.cpan/build/Test-use-ok-0.02-TujjZo/blib/arch:/home/tester/.cpan/build/Test-use-ok-0.02-TujjZo/blib/lib"
    PERL5OPT=""
    PERL5_CPANPLUS_IS_RUNNING="9620"
    PERL5_CPAN_IS_RUNNING="9620"
    PERL5_CPAN_IS_RUNNING_IN_RECURSION="6388,9620"
    PERL_CR_SMOKER_CURRENT="Catalyst-Plugin-Server-JSONRPC-0.07"
    PERL_EXTUTILS_AUTOINSTALL="--defaultdeps"
    PERL_MM_USE_DEFAULT="1"
  @INC:
    /home/tester/.cpan/build/Catalyst-Plugin-Server-0.28-N6EFgT/blib/arch
    /home/tester/.cpan/build/Catalyst-Plugin-Server-0.28-N6EFgT/blib/lib
    /home/tester/.cpan/build/Clone-Fast-0.93-cd_Sjr/blib/arch
    /home/tester/.cpan/build/Clone-Fast-0.93-cd_Sjr/blib/lib
    /home/tester/.cpan/build/RPC-XML-0.73-lUNdNG/blib/arch
    /home/tester/.cpan/build/RPC-XML-0.73-lUNdNG/blib/lib
    /home/tester/.cpan/build/XML-Parser-2.36-H_Q_UU/blib/arch
    /home/tester/.cpan/build/XML-Parser-2.36-H_Q_UU/blib/lib
    /home/tester/.cpan/build/JSON-RPC-Common-0.07-wF4OXE/blib/arch
    /home/tester/.cpan/build/JSON-RPC-Common-0.07-wF4OXE/blib/lib
    /home/tester/.cpan/build/Test-use-ok-0.02-TujjZo/blib/arch
    /home/tester/.cpan/build/Test-use-ok-0.02-TujjZo/blib/lib
    /usr/libdata/perl5/sparc64-openbsd/5.10.1
    /usr/local/libdata/perl5/sparc64-openbsd/5.10.1
    /usr/libdata/perl5
    /usr/local/libdata/perl5
    /usr/local/libdata/perl5/site_perl/sparc64-openbsd
    /usr/libdata/perl5/site_perl/sparc64-openbsd
    /usr/local/libdata/perl5/site_perl
    /usr/libdata/perl5/site_perl
    .