Mail-Mbox-MessageParser v1.5111 Perl 5 v5.37.9 x86_64-linux

Status
Pass
From
Andreas J. König (ANDK)
Dist
Mail-Mbox-MessageParser v1.5111
Platform
Perl 5 v5.37.9 x86_64-linux
Date
2023-02-26 22:20:00
ID
b5a49876-b623-11ed-87d7-bad4a0688e59
This distribution has been tested as part of the CPAN Testers
project, supporting the Perl programming language.  See
http://wiki.cpantesters.org/ for more information or email
questions to cpan-testers-discuss@perl.org


--
Dear David Coppit,

This is a computer-generated report for Mail-Mbox-MessageParser-1.5111
on perl 5.37.9, created by CPAN-Reporter-1.2018.

Thank you for uploading your work to CPAN.  Congratulations!
All tests were successful.

Sections of this report:

    * Tester comments
    * Program output
    * Prerequisites
    * Environment and other context

------------------------------
TESTER COMMENTS
------------------------------

Additional comments from tester:

this report is from an automated smoke testing program
and was not reviewed by a human for accuracy

------------------------------
PROGRAM OUTPUT
------------------------------

Output from '/usr/bin/make test':

PERL_DL_NONLAZY=1 "/tmp/basesmoker-reloperl-hV9s/bin/perl" "-MExtUtils::Command::MM" "-MTest::Harness" "-e" "undef *Test::Harness::Switches; test_harness(1, 'blib/lib', 'blib/arch')" t/*.t
t/000_standard__compile.t ....... 
1..6
ok 1 - blib/lib/Mail/Mbox/MessageParser.pm compiles
ok 2 - blib/lib/Mail/Mbox/MessageParser/Grep.pm compiles
ok 3 - blib/lib/Mail/Mbox/MessageParser/MetaInfo.pm compiles
ok 4 - blib/lib/Mail/Mbox/MessageParser/Cache.pm compiles
ok 5 - blib/lib/Mail/Mbox/MessageParser/Config.pm compiles
ok 6 - blib/lib/Mail/Mbox/MessageParser/Perl.pm compiles
ok
t/000_standard__perl_critic.t ... skipped: Author test. Set $ENV{TEST_AUTHOR} to a true value to run.
t/000_standard__pod.t ........... 
1..6
ok 1 - POD test for blib/lib/Mail/Mbox/MessageParser.pm
ok 2 - POD test for blib/lib/Mail/Mbox/MessageParser/Grep.pm
ok 3 - POD test for blib/lib/Mail/Mbox/MessageParser/MetaInfo.pm
ok 4 - POD test for blib/lib/Mail/Mbox/MessageParser/Cache.pm
ok 5 - POD test for blib/lib/Mail/Mbox/MessageParser/Config.pm
ok 6 - POD test for blib/lib/Mail/Mbox/MessageParser/Perl.pm
ok
t/000_standard__pod_coverage.t .. 
1..6
ok 1 - Pod coverage on Mail::Mbox::MessageParser
ok 2 - Pod coverage on Mail::Mbox::MessageParser::Grep
ok 3 - Pod coverage on Mail::Mbox::MessageParser::MetaInfo
ok 4 - Pod coverage on Mail::Mbox::MessageParser::Cache
ok 5 - Pod coverage on Mail::Mbox::MessageParser::Config
ok 6 - Pod coverage on Mail::Mbox::MessageParser::Perl
ok
t/appended_mailbox.t ............ 
1..6
Testing modified mailbox with Perl implementation
Comparing /tmp/ortH0UCl56 to t/mailboxes/mailarc-1.txt
Output /tmp/ortH0UCl56 looks good.
ok 1 - Computing differences
Testing modified mailbox with Cache implementation
Comparing /tmp/rKDeZ6RdiS to t/mailboxes/mailarc-1.txt
Output /tmp/rKDeZ6RdiS looks good.
ok 2 - Computing differences
Testing modified mailbox with Grep implementation
ok 3 # skip GNU grep not available
Testing modified mailbox with Perl implementation
Comparing /tmp/fPXoOoeI2p to t/mailboxes/mailarc-1.txt
Output /tmp/fPXoOoeI2p looks good.
ok 4 - Computing differences
Testing modified mailbox with Cache implementation
Comparing /tmp/xiqv9rl6S1 to t/mailboxes/mailarc-1.txt
Output /tmp/xiqv9rl6S1 looks good.
ok 5 - Computing differences
Testing modified mailbox with Grep implementation
ok 6 # skip GNU grep not available
ok
t/bzip2.t ....................... 
1..1
Running test:
  "/usr/bin/cat" "t/mailboxes/mailarc-2.txt.bz2" | "/usr/bin/bzip2" -cd
Comparing /tmp/F7Wy3YOnPP to t/results/mailarc-2.txt
Output /tmp/F7Wy3YOnPP looks good.
Comparing /tmp/CvTOssfH66 to t/results/none
Output /tmp/CvTOssfH66 looks good.
ok 1 - Computing differences
ok
t/endline.t ..................... 
1..8
Testing filename: t/mailboxes/mailarc-1-dos.txt
ok 1 - Dos endline expected
ok 2 - Dos endline expected
ok 3 - Dos endline expected
ok 4 # skip GNU grep not available
Testing filename: t/mailboxes/mailarc-1.txt
ok 5 - Unix endline expected
ok 6 - Unix endline expected
ok 7 - Unix endline expected
ok 8 # skip GNU grep not available
ok
t/filehandle_compressed.t ....... 
1..16
Testing filename: t/mailboxes/mailarc-2.txt.bz2
Comparing /tmp/fJTiMIRtsH to t/mailboxes/mailarc-2.txt
Output /tmp/fJTiMIRtsH looks good.
ok 1 - Computing differences
Comparing /tmp/8xjFj1oOoy to t/mailboxes/mailarc-2.txt
Output /tmp/8xjFj1oOoy looks good.
ok 2 - Computing differences
Comparing /tmp/_ZbGIlZCv1 to t/mailboxes/mailarc-2.txt
Output /tmp/_ZbGIlZCv1 looks good.
ok 3 - Computing differences
ok 4 # skip GNU grep not available
Testing filename: t/mailboxes/mailarc-2.txt.gz
Comparing /tmp/6Akeb4rJGm to t/mailboxes/mailarc-2.txt
Output /tmp/6Akeb4rJGm looks good.
ok 5 - Computing differences
Comparing /tmp/dtXaCizru4 to t/mailboxes/mailarc-2.txt
Output /tmp/dtXaCizru4 looks good.
ok 6 - Computing differences
Comparing /tmp/BuQ8d7lM1f to t/mailboxes/mailarc-2.txt
Output /tmp/BuQ8d7lM1f looks good.
ok 7 - Computing differences
ok 8 # skip GNU grep not available
Testing filename: t/mailboxes/mailarc-2.txt.lz
ok 9 # skip lzip not available
ok 10 # skip lzip not available
ok 11 # skip lzip not available
ok 12 # skip lzip not available
Testing filename: t/mailboxes/mailarc-2.txt.xz
Comparing /tmp/ZEv9vsdI2Z to t/mailboxes/mailarc-2.txt
Output /tmp/ZEv9vsdI2Z looks good.
ok 13 - Computing differences
Comparing /tmp/EcJS0AfY1w to t/mailboxes/mailarc-2.txt
Output /tmp/EcJS0AfY1w looks good.
ok 14 - Computing differences
Comparing /tmp/emCzPriugd to t/mailboxes/mailarc-2.txt
Output /tmp/emCzPriugd looks good.
ok 15 - Computing differences
ok 16 # skip GNU grep not available
ok
t/filehandle_noncompressed.t .... 
1..44
Testing filename: t/mailboxes/binary_body.txt
Comparing /tmp/UcEGqUKjPi to t/mailboxes/binary_body.txt
Output /tmp/UcEGqUKjPi looks good.
ok 1 - Computing differences
Comparing /tmp/XAAk7C1Tu4 to t/mailboxes/binary_body.txt
Output /tmp/XAAk7C1Tu4 looks good.
ok 2 - Computing differences
Comparing /tmp/6jLVOpH8ht to t/mailboxes/binary_body.txt
Output /tmp/6jLVOpH8ht looks good.
ok 3 - Computing differences
ok 4 # skip GNU grep not available
Testing filename: t/mailboxes/hessbug.txt
Comparing /tmp/kVJs_WBHd1 to t/mailboxes/hessbug.txt
Output /tmp/kVJs_WBHd1 looks good.
ok 5 - Computing differences
Comparing /tmp/wLR9vyytUV to t/mailboxes/hessbug.txt
Output /tmp/wLR9vyytUV looks good.
ok 6 - Computing differences
Comparing /tmp/bZiLevAC1q to t/mailboxes/hessbug.txt
Output /tmp/bZiLevAC1q looks good.
ok 7 - Computing differences
ok 8 # skip GNU grep not available
Testing filename: t/mailboxes/invalid-boundaries.txt
Comparing /tmp/D0yq5Avpnz to t/mailboxes/invalid-boundaries.txt
Output /tmp/D0yq5Avpnz looks good.
ok 9 - Computing differences
Comparing /tmp/zh8JW6DTpg to t/mailboxes/invalid-boundaries.txt
Output /tmp/zh8JW6DTpg looks good.
ok 10 - Computing differences
Comparing /tmp/pzkh6JFzY2 to t/mailboxes/invalid-boundaries.txt
Output /tmp/pzkh6JFzY2 looks good.
ok 11 - Computing differences
ok 12 # skip GNU grep not available
Testing filename: t/mailboxes/mailarc-1-dos.txt
Comparing /tmp/yHsy4tDlaI to t/mailboxes/mailarc-1-dos.txt
Output /tmp/yHsy4tDlaI looks good.
ok 13 - Computing differences
Comparing /tmp/4At4ID5mWL to t/mailboxes/mailarc-1-dos.txt
Output /tmp/4At4ID5mWL looks good.
ok 14 - Computing differences
Comparing /tmp/zLOYxMpmpj to t/mailboxes/mailarc-1-dos.txt
Output /tmp/zLOYxMpmpj looks good.
ok 15 - Computing differences
ok 16 # skip GNU grep not available
Testing filename: t/mailboxes/mailarc-1.txt
Comparing /tmp/ay2FRADVzj to t/mailboxes/mailarc-1.txt
Output /tmp/ay2FRADVzj looks good.
ok 17 - Computing differences
Comparing /tmp/JTpN09cecs to t/mailboxes/mailarc-1.txt
Output /tmp/JTpN09cecs looks good.
ok 18 - Computing differences
Comparing /tmp/13XC2fHRYO to t/mailboxes/mailarc-1.txt
Output /tmp/13XC2fHRYO looks good.
ok 19 - Computing differences
ok 20 # skip GNU grep not available
Testing filename: t/mailboxes/mailarc-2.txt
Comparing /tmp/DKCx2VcuIH to t/mailboxes/mailarc-2.txt
Output /tmp/DKCx2VcuIH looks good.
ok 21 - Computing differences
Comparing /tmp/cZLVUzKOZE to t/mailboxes/mailarc-2.txt
Output /tmp/cZLVUzKOZE looks good.
ok 22 - Computing differences
Comparing /tmp/g4UFMT1NWJ to t/mailboxes/mailarc-2.txt
Output /tmp/g4UFMT1NWJ looks good.
ok 23 - Computing differences
ok 24 # skip GNU grep not available
Testing filename: t/mailboxes/mailarc-3.txt
Comparing /tmp/c5NiFE7ijc to t/mailboxes/mailarc-3.txt
Output /tmp/c5NiFE7ijc looks good.
ok 25 - Computing differences
Comparing /tmp/a3sjy4IRdh to t/mailboxes/mailarc-3.txt
Output /tmp/a3sjy4IRdh looks good.
ok 26 - Computing differences
Comparing /tmp/CagFCvHPWI to t/mailboxes/mailarc-3.txt
Output /tmp/CagFCvHPWI looks good.
ok 27 - Computing differences
ok 28 # skip GNU grep not available
Testing filename: t/mailboxes/mailseparators.txt
Comparing /tmp/xLRHdt4E5E to t/mailboxes/mailseparators.txt
Output /tmp/xLRHdt4E5E looks good.
ok 29 - Computing differences
Comparing /tmp/wNFAZez9RI to t/mailboxes/mailseparators.txt
Output /tmp/wNFAZez9RI looks good.
ok 30 - Computing differences
Comparing /tmp/EKB2TplYa8 to t/mailboxes/mailseparators.txt
Output /tmp/EKB2TplYa8 looks good.
ok 31 - Computing differences
ok 32 # skip GNU grep not available
Testing filename: t/mailboxes/malformed.txt
Comparing /tmp/VTKdQWwjhv to t/mailboxes/malformed.txt
Output /tmp/VTKdQWwjhv looks good.
ok 33 - Computing differences
Comparing /tmp/0BPPNfWGbv to t/mailboxes/malformed.txt
Output /tmp/0BPPNfWGbv looks good.
ok 34 - Computing differences
Comparing /tmp/m_cLFE5RBk to t/mailboxes/malformed.txt
Output /tmp/m_cLFE5RBk looks good.
ok 35 - Computing differences
ok 36 # skip GNU grep not available
Testing filename: t/mailboxes/newlines_at_beginning.txt
Comparing /tmp/dgcXPLzL5P to t/mailboxes/newlines_at_beginning.txt
Output /tmp/dgcXPLzL5P looks good.
ok 37 - Computing differences
Comparing /tmp/zddpOTZkbp to t/mailboxes/newlines_at_beginning.txt
Output /tmp/zddpOTZkbp looks good.
ok 38 - Computing differences
Comparing /tmp/0ld4YwSTTs to t/mailboxes/newlines_at_beginning.txt
Output /tmp/0ld4YwSTTs looks good.
ok 39 - Computing differences
ok 40 # skip GNU grep not available
Testing filename: t/mailboxes/vm-emacs.txt
Comparing /tmp/ccKbKujA5b to t/mailboxes/vm-emacs.txt
Output /tmp/ccKbKujA5b looks good.
ok 41 - Computing differences
Comparing /tmp/ao9k04Hdpp to t/mailboxes/vm-emacs.txt
Output /tmp/ao9k04Hdpp looks good.
ok 42 - Computing differences
Comparing /tmp/axmmKduDbO to t/mailboxes/vm-emacs.txt
Output /tmp/axmmKduDbO looks good.
ok 43 - Computing differences
ok 44 # skip GNU grep not available
ok
t/filename_compressed.t ......... 
1..4
Testing filename: t/mailboxes/mailarc-2.txt.bz2
Comparing /tmp/J4SH78wn2c to t/mailboxes/mailarc-2.txt
Output /tmp/J4SH78wn2c looks good.
ok 1 - Computing differences
Testing filename: t/mailboxes/mailarc-2.txt.gz
Comparing /tmp/QPzQZaF3mL to t/mailboxes/mailarc-2.txt
Output /tmp/QPzQZaF3mL looks good.
ok 2 - Computing differences
Testing filename: t/mailboxes/mailarc-2.txt.lz
ok 3 # skip lzip not available
Testing filename: t/mailboxes/mailarc-2.txt.xz
Comparing /tmp/idVws7uqke to t/mailboxes/mailarc-2.txt
Output /tmp/idVws7uqke looks good.
ok 4 - Computing differences
ok
t/filename_noncompressed.t ...... 
1..11
Testing filename: t/mailboxes/binary_body.txt
Comparing /tmp/veQ5loMgbm to t/mailboxes/binary_body.txt
Output /tmp/veQ5loMgbm looks good.
ok 1 - Computing differences
Testing filename: t/mailboxes/hessbug.txt
Comparing /tmp/QJaoX1ceHo to t/mailboxes/hessbug.txt
Output /tmp/QJaoX1ceHo looks good.
ok 2 - Computing differences
Testing filename: t/mailboxes/invalid-boundaries.txt
Comparing /tmp/C0L4VmSz3F to t/mailboxes/invalid-boundaries.txt
Output /tmp/C0L4VmSz3F looks good.
ok 3 - Computing differences
Testing filename: t/mailboxes/mailarc-1-dos.txt
Comparing /tmp/WhJk6zhtWW to t/mailboxes/mailarc-1-dos.txt
Output /tmp/WhJk6zhtWW looks good.
ok 4 - Computing differences
Testing filename: t/mailboxes/mailarc-1.txt
Comparing /tmp/bOh6VeoOHZ to t/mailboxes/mailarc-1.txt
Output /tmp/bOh6VeoOHZ looks good.
ok 5 - Computing differences
Testing filename: t/mailboxes/mailarc-2.txt
Comparing /tmp/r171B300Nr to t/mailboxes/mailarc-2.txt
Output /tmp/r171B300Nr looks good.
ok 6 - Computing differences
Testing filename: t/mailboxes/mailarc-3.txt
Comparing /tmp/8X3RAiRMXn to t/mailboxes/mailarc-3.txt
Output /tmp/8X3RAiRMXn looks good.
ok 7 - Computing differences
Testing filename: t/mailboxes/mailseparators.txt
Comparing /tmp/5IfY_E7miv to t/mailboxes/mailseparators.txt
Output /tmp/5IfY_E7miv looks good.
ok 8 - Computing differences
Testing filename: t/mailboxes/malformed.txt
Comparing /tmp/br6Iu0xik0 to t/mailboxes/malformed.txt
Output /tmp/br6Iu0xik0 looks good.
ok 9 - Computing differences
Testing filename: t/mailboxes/newlines_at_beginning.txt
Comparing /tmp/lJmNLiQMoE to t/mailboxes/newlines_at_beginning.txt
Output /tmp/lJmNLiQMoE looks good.
ok 10 - Computing differences
Testing filename: t/mailboxes/vm-emacs.txt
Comparing /tmp/hR9G3xSm8p to t/mailboxes/vm-emacs.txt
Output /tmp/hR9G3xSm8p looks good.
ok 11 - Computing differences
ok
t/grep.t ........................ 
1..4
Running test:
  unset LC_ALL LC_COLLATE LANG LC_CTYPE LC_MESSAGES; grep --extended-regexp --line-number --byte-offset --binary-files=text "^From [^:]+(:[0-9][0-9]){1,2}(  *([A-Z]{2,6}|[+-]?[0-9]{4})){1,3}( remote from .*)?
?$" t/mailboxes/mailarc-1.txt
ok 1 # skip 1
Running test:
  unset LC_ALL LC_COLLATE LANG LC_CTYPE LC_MESSAGES; grep --extended-regexp --line-number --byte-offset --binary-files=text "^From [^:]+(:[0-9][0-9]){1,2}(  *([A-Z]{2,6}|[+-]?[0-9]{4})){1,3}( remote from .*)?
?$" t/mailboxes/mailarc-2.txt
ok 2 # skip 1
Running test:
  unset LC_ALL LC_COLLATE LANG LC_CTYPE LC_MESSAGES; grep --extended-regexp --line-number --byte-offset --binary-files=text "^From [^:]+(:[0-9][0-9]){1,2}(  *([A-Z]{2,6}|[+-]?[0-9]{4})){1,3}( remote from .*)?
?$" t/mailboxes/mailarc-3.txt
ok 3 # skip 1
Running test:
  unset LC_ALL LC_COLLATE LANG LC_CTYPE LC_MESSAGES; grep --extended-regexp --line-number --byte-offset --binary-files=text "^From [^:]+(:[0-9][0-9]){1,2}(  *([A-Z]{2,6}|[+-]?[0-9]{4})){1,3}( remote from .*)?
?$" t/mailboxes/mailseparators.txt
ok 4 # skip 1
ok
t/gzip.t ........................ 
1..1
Running test:
  "/usr/bin/cat" "t/mailboxes/mailarc-2.txt.gz" | "/usr/bin/gzip" -cd
Comparing /tmp/S6I9qF1Yw5 to t/results/mailarc-2.txt
Output /tmp/S6I9qF1Yw5 looks good.
Comparing /tmp/Yt7s02nss_ to t/results/none
Output /tmp/Yt7s02nss_ looks good.
ok 1 - Computing differences
ok
t/length.t ...................... 
1..30
Testing filename: t/mailboxes/binary_body.txt
Comparing /tmp/Nq9jVfTPaD to t/results/length_binary_body.stdout
Output /tmp/Nq9jVfTPaD looks good.
ok 1 - Computing differences
Comparing /tmp/37zA6cKGb3 to t/results/length_binary_body.stdout
Output /tmp/37zA6cKGb3 looks good.
ok 2 - Computing differences
ok 3 # skip GNU grep not available
Testing filename: t/mailboxes/hessbug.txt
Comparing /tmp/IEPjYcRSfN to t/results/length_hessbug.stdout
Output /tmp/IEPjYcRSfN looks good.
ok 4 - Computing differences
Comparing /tmp/bfYXxiL3zs to t/results/length_hessbug.stdout
Output /tmp/bfYXxiL3zs looks good.
ok 5 - Computing differences
ok 6 # skip GNU grep not available
Testing filename: t/mailboxes/invalid-boundaries.txt
Comparing /tmp/YsfbazLjJt to t/results/length_invalid-boundaries.stdout
Output /tmp/YsfbazLjJt looks good.
ok 7 - Computing differences
Comparing /tmp/jv0qCuFnIj to t/results/length_invalid-boundaries.stdout
Output /tmp/jv0qCuFnIj looks good.
ok 8 - Computing differences
ok 9 # skip GNU grep not available
Testing filename: t/mailboxes/mailarc-1-dos.txt
Comparing /tmp/vABuJyyRfF to t/results/length_mailarc-1-dos.stdout
Output /tmp/vABuJyyRfF looks good.
ok 10 - Computing differences
Comparing /tmp/oKYMenXV9N to t/results/length_mailarc-1-dos.stdout
Output /tmp/oKYMenXV9N looks good.
ok 11 - Computing differences
ok 12 # skip GNU grep not available
Testing filename: t/mailboxes/mailarc-1.txt
Comparing /tmp/ns0g3XQtsZ to t/results/length_mailarc-1.stdout
Output /tmp/ns0g3XQtsZ looks good.
ok 13 - Computing differences
Comparing /tmp/yOaPgytRrP to t/results/length_mailarc-1.stdout
Output /tmp/yOaPgytRrP looks good.
ok 14 - Computing differences
ok 15 # skip GNU grep not available
Testing filename: t/mailboxes/mailarc-2.txt
Comparing /tmp/BPJidjR_ui to t/results/length_mailarc-2.stdout
Output /tmp/BPJidjR_ui looks good.
ok 16 - Computing differences
Comparing /tmp/iItz1KHdwS to t/results/length_mailarc-2.stdout
Output /tmp/iItz1KHdwS looks good.
ok 17 - Computing differences
ok 18 # skip GNU grep not available
Testing filename: t/mailboxes/mailarc-3.txt
Comparing /tmp/VIf81h5pZz to t/results/length_mailarc-3.stdout
Output /tmp/VIf81h5pZz looks good.
ok 19 - Computing differences
Comparing /tmp/bKOru9cb1m to t/results/length_mailarc-3.stdout
Output /tmp/bKOru9cb1m looks good.
ok 20 - Computing differences
ok 21 # skip GNU grep not available
Testing filename: t/mailboxes/mailseparators.txt
Comparing /tmp/WWZO3TVg9u to t/results/length_mailseparators.stdout
Output /tmp/WWZO3TVg9u looks good.
ok 22 - Computing differences
Comparing /tmp/qSAMmUBIkW to t/results/length_mailseparators.stdout
Output /tmp/qSAMmUBIkW looks good.
ok 23 - Computing differences
ok 24 # skip GNU grep not available
Testing filename: t/mailboxes/malformed.txt
Comparing /tmp/o9JLo57O65 to t/results/length_malformed.stdout
Output /tmp/o9JLo57O65 looks good.
ok 25 - Computing differences
Comparing /tmp/ABWv03rJPz to t/results/length_malformed.stdout
Output /tmp/ABWv03rJPz looks good.
ok 26 - Computing differences
ok 27 # skip GNU grep not available
Testing filename: t/mailboxes/newlines_at_beginning.txt
Comparing /tmp/SpwkEV8EXM to t/results/length_newlines_at_beginning.stdout
Output /tmp/SpwkEV8EXM looks good.
ok 28 - Computing differences
Comparing /tmp/eN7Vzd35Qb to t/results/length_newlines_at_beginning.stdout
Output /tmp/eN7Vzd35Qb looks good.
ok 29 - Computing differences
ok 30 # skip GNU grep not available
ok
t/line_number.t ................. 
1..30
Testing filename: t/mailboxes/binary_body.txt
Comparing /tmp/HYPLvMfJw4 to t/results/line_number_binary_body.stdout
Output /tmp/HYPLvMfJw4 looks good.
ok 1 - Computing differences
Comparing /tmp/7sCyeGyyK5 to t/results/line_number_binary_body.stdout
Output /tmp/7sCyeGyyK5 looks good.
ok 2 - Computing differences
ok 3 # skip GNU grep not available
Testing filename: t/mailboxes/hessbug.txt
Comparing /tmp/fF3fz0056P to t/results/line_number_hessbug.stdout
Output /tmp/fF3fz0056P looks good.
ok 4 - Computing differences
Comparing /tmp/hsU6o9G_42 to t/results/line_number_hessbug.stdout
Output /tmp/hsU6o9G_42 looks good.
ok 5 - Computing differences
ok 6 # skip GNU grep not available
Testing filename: t/mailboxes/invalid-boundaries.txt
Comparing /tmp/cGux_H4Qao to t/results/line_number_invalid-boundaries.stdout
Output /tmp/cGux_H4Qao looks good.
ok 7 - Computing differences
Comparing /tmp/0KYj04C9gJ to t/results/line_number_invalid-boundaries.stdout
Output /tmp/0KYj04C9gJ looks good.
ok 8 - Computing differences
ok 9 # skip GNU grep not available
Testing filename: t/mailboxes/mailarc-1-dos.txt
Comparing /tmp/hqXPK1IRid to t/results/line_number_mailarc-1-dos.stdout
Output /tmp/hqXPK1IRid looks good.
ok 10 - Computing differences
Comparing /tmp/Fg1ALLhUfn to t/results/line_number_mailarc-1-dos.stdout
Output /tmp/Fg1ALLhUfn looks good.
ok 11 - Computing differences
ok 12 # skip GNU grep not available
Testing filename: t/mailboxes/mailarc-1.txt
Comparing /tmp/0BYLpnUhim to t/results/line_number_mailarc-1.stdout
Output /tmp/0BYLpnUhim looks good.
ok 13 - Computing differences
Comparing /tmp/7efShnBi6i to t/results/line_number_mailarc-1.stdout
Output /tmp/7efShnBi6i looks good.
ok 14 - Computing differences
ok 15 # skip GNU grep not available
Testing filename: t/mailboxes/mailarc-2.txt
Comparing /tmp/kWaL_xkBSb to t/results/line_number_mailarc-2.stdout
Output /tmp/kWaL_xkBSb looks good.
ok 16 - Computing differences
Comparing /tmp/uOWPOyuM_z to t/results/line_number_mailarc-2.stdout
Output /tmp/uOWPOyuM_z looks good.
ok 17 - Computing differences
ok 18 # skip GNU grep not available
Testing filename: t/mailboxes/mailarc-3.txt
Comparing /tmp/wBYWfkloz_ to t/results/line_number_mailarc-3.stdout
Output /tmp/wBYWfkloz_ looks good.
ok 19 - Computing differences
Comparing /tmp/fFzOqbvfyR to t/results/line_number_mailarc-3.stdout
Output /tmp/fFzOqbvfyR looks good.
ok 20 - Computing differences
ok 21 # skip GNU grep not available
Testing filename: t/mailboxes/mailseparators.txt
Comparing /tmp/nVxQAlKK0f to t/results/line_number_mailseparators.stdout
Output /tmp/nVxQAlKK0f looks good.
ok 22 - Computing differences
Comparing /tmp/HkYSAyr2UG to t/results/line_number_mailseparators.stdout
Output /tmp/HkYSAyr2UG looks good.
ok 23 - Computing differences
ok 24 # skip GNU grep not available
Testing filename: t/mailboxes/malformed.txt
Comparing /tmp/AAbdKAhu_y to t/results/line_number_malformed.stdout
Output /tmp/AAbdKAhu_y looks good.
ok 25 - Computing differences
Comparing /tmp/ilLYS0VH1q to t/results/line_number_malformed.stdout
Output /tmp/ilLYS0VH1q looks good.
ok 26 - Computing differences
ok 27 # skip GNU grep not available
Testing filename: t/mailboxes/newlines_at_beginning.txt
Comparing /tmp/gIGJ6MAtPQ to t/results/line_number_newlines_at_beginning.stdout
Output /tmp/gIGJ6MAtPQ looks good.
ok 28 - Computing differences
Comparing /tmp/MszKkp0Khu to t/results/line_number_newlines_at_beginning.stdout
Output /tmp/MszKkp0Khu looks good.
ok 29 - Computing differences
ok 30 # skip GNU grep not available
ok
t/lzip.t ........................ 
1..1
Running test:
  "/usr/bin/cat" "t/mailboxes/mailarc-2.txt.lz" | "lzip" -cd
ok 1 # skip lzip not available
ok
t/number.t ...................... 
1..30
Testing filename: t/mailboxes/binary_body.txt
Comparing /tmp/lPv2qlmXXi to t/results/number_binary_body.stdout
Output /tmp/lPv2qlmXXi looks good.
ok 1 - Computing differences
Comparing /tmp/J9LGuJUZiJ to t/results/number_binary_body.stdout
Output /tmp/J9LGuJUZiJ looks good.
ok 2 - Computing differences
ok 3 # skip GNU grep not available
Testing filename: t/mailboxes/hessbug.txt
Comparing /tmp/b2E9pluHdi to t/results/number_hessbug.stdout
Output /tmp/b2E9pluHdi looks good.
ok 4 - Computing differences
Comparing /tmp/PGr0_hgjha to t/results/number_hessbug.stdout
Output /tmp/PGr0_hgjha looks good.
ok 5 - Computing differences
ok 6 # skip GNU grep not available
Testing filename: t/mailboxes/invalid-boundaries.txt
Comparing /tmp/QAqTF1FBGD to t/results/number_invalid-boundaries.stdout
Output /tmp/QAqTF1FBGD looks good.
ok 7 - Computing differences
Comparing /tmp/cjxaBLqHOB to t/results/number_invalid-boundaries.stdout
Output /tmp/cjxaBLqHOB looks good.
ok 8 - Computing differences
ok 9 # skip GNU grep not available
Testing filename: t/mailboxes/mailarc-1-dos.txt
Comparing /tmp/kN8o7CkOCm to t/results/number_mailarc-1-dos.stdout
Output /tmp/kN8o7CkOCm looks good.
ok 10 - Computing differences
Comparing /tmp/fvKTK2FzAi to t/results/number_mailarc-1-dos.stdout
Output /tmp/fvKTK2FzAi looks good.
ok 11 - Computing differences
ok 12 # skip GNU grep not available
Testing filename: t/mailboxes/mailarc-1.txt
Comparing /tmp/arnSP16JnF to t/results/number_mailarc-1.stdout
Output /tmp/arnSP16JnF looks good.
ok 13 - Computing differences
Comparing /tmp/cHPs8pEKPp to t/results/number_mailarc-1.stdout
Output /tmp/cHPs8pEKPp looks good.
ok 14 - Computing differences
ok 15 # skip GNU grep not available
Testing filename: t/mailboxes/mailarc-2.txt
Comparing /tmp/NWiY77GPVZ to t/results/number_mailarc-2.stdout
Output /tmp/NWiY77GPVZ looks good.
ok 16 - Computing differences
Comparing /tmp/JOrbv1Z8V5 to t/results/number_mailarc-2.stdout
Output /tmp/JOrbv1Z8V5 looks good.
ok 17 - Computing differences
ok 18 # skip GNU grep not available
Testing filename: t/mailboxes/mailarc-3.txt
Comparing /tmp/VsKmDjixku to t/results/number_mailarc-3.stdout
Output /tmp/VsKmDjixku looks good.
ok 19 - Computing differences
Comparing /tmp/r1eBokPJsz to t/results/number_mailarc-3.stdout
Output /tmp/r1eBokPJsz looks good.
ok 20 - Computing differences
ok 21 # skip GNU grep not available
Testing filename: t/mailboxes/mailseparators.txt
Comparing /tmp/4ziMgvJpM5 to t/results/number_mailseparators.stdout
Output /tmp/4ziMgvJpM5 looks good.
ok 22 - Computing differences
Comparing /tmp/2BNl8x1qSs to t/results/number_mailseparators.stdout
Output /tmp/2BNl8x1qSs looks good.
ok 23 - Computing differences
ok 24 # skip GNU grep not available
Testing filename: t/mailboxes/malformed.txt
Comparing /tmp/AcYBIInD8v to t/results/number_malformed.stdout
Output /tmp/AcYBIInD8v looks good.
ok 25 - Computing differences
Comparing /tmp/3gja4nL8Jk to t/results/number_malformed.stdout
Output /tmp/3gja4nL8Jk looks good.
ok 26 - Computing differences
ok 27 # skip GNU grep not available
Testing filename: t/mailboxes/newlines_at_beginning.txt
Comparing /tmp/SORPIcpR35 to t/results/number_newlines_at_beginning.stdout
Output /tmp/SORPIcpR35 looks good.
ok 28 - Computing differences
Comparing /tmp/2NncUiK9nk to t/results/number_newlines_at_beginning.stdout
Output /tmp/2NncUiK9nk looks good.
ok 29 - Computing differences
ok 30 # skip GNU grep not available
ok
t/offset.t ...................... 
1..30
Testing filename: t/mailboxes/binary_body.txt
Comparing /tmp/RBw8FydH8W to t/results/offset_binary_body.stdout
Output /tmp/RBw8FydH8W looks good.
ok 1 - Computing differences
Comparing /tmp/rFTy2yROIw to t/results/offset_binary_body.stdout
Output /tmp/rFTy2yROIw looks good.
ok 2 - Computing differences
ok 3 # skip GNU grep not available
Testing filename: t/mailboxes/hessbug.txt
Comparing /tmp/JTfHQmuon_ to t/results/offset_hessbug.stdout
Output /tmp/JTfHQmuon_ looks good.
ok 4 - Computing differences
Comparing /tmp/uP_HTl2M46 to t/results/offset_hessbug.stdout
Output /tmp/uP_HTl2M46 looks good.
ok 5 - Computing differences
ok 6 # skip GNU grep not available
Testing filename: t/mailboxes/invalid-boundaries.txt
Comparing /tmp/uO5Ba2xUkE to t/results/offset_invalid-boundaries.stdout
Output /tmp/uO5Ba2xUkE looks good.
ok 7 - Computing differences
Comparing /tmp/hi4dzWeMX_ to t/results/offset_invalid-boundaries.stdout
Output /tmp/hi4dzWeMX_ looks good.
ok 8 - Computing differences
ok 9 # skip GNU grep not available
Testing filename: t/mailboxes/mailarc-1-dos.txt
Comparing /tmp/dh8PtIj8y4 to t/results/offset_mailarc-1-dos.stdout
Output /tmp/dh8PtIj8y4 looks good.
ok 10 - Computing differences
Comparing /tmp/i82wDxegW2 to t/results/offset_mailarc-1-dos.stdout
Output /tmp/i82wDxegW2 looks good.
ok 11 - Computing differences
ok 12 # skip GNU grep not available
Testing filename: t/mailboxes/mailarc-1.txt
Comparing /tmp/tCaRmiP4AG to t/results/offset_mailarc-1.stdout
Output /tmp/tCaRmiP4AG looks good.
ok 13 - Computing differences
Comparing /tmp/qfl6qD33Vc to t/results/offset_mailarc-1.stdout
Output /tmp/qfl6qD33Vc looks good.
ok 14 - Computing differences
ok 15 # skip GNU grep not available
Testing filename: t/mailboxes/mailarc-2.txt
Comparing /tmp/xxbpjAXA9A to t/results/offset_mailarc-2.stdout
Output /tmp/xxbpjAXA9A looks good.
ok 16 - Computing differences
Comparing /tmp/JHgNO9zFv4 to t/results/offset_mailarc-2.stdout
Output /tmp/JHgNO9zFv4 looks good.
ok 17 - Computing differences
ok 18 # skip GNU grep not available
Testing filename: t/mailboxes/mailarc-3.txt
Comparing /tmp/IedZ64Xf6V to t/results/offset_mailarc-3.stdout
Output /tmp/IedZ64Xf6V looks good.
ok 19 - Computing differences
Comparing /tmp/OZjFPkNxzF to t/results/offset_mailarc-3.stdout
Output /tmp/OZjFPkNxzF looks good.
ok 20 - Computing differences
ok 21 # skip GNU grep not available
Testing filename: t/mailboxes/mailseparators.txt
Comparing /tmp/3AfZNLshVy to t/results/offset_mailseparators.stdout
Output /tmp/3AfZNLshVy looks good.
ok 22 - Computing differences
Comparing /tmp/e4IMewD_zo to t/results/offset_mailseparators.stdout
Output /tmp/e4IMewD_zo looks good.
ok 23 - Computing differences
ok 24 # skip GNU grep not available
Testing filename: t/mailboxes/malformed.txt
Comparing /tmp/QvJkMuFXdY to t/results/offset_malformed.stdout
Output /tmp/QvJkMuFXdY looks good.
ok 25 - Computing differences
Comparing /tmp/Nt8DBLF5Ad to t/results/offset_malformed.stdout
Output /tmp/Nt8DBLF5Ad looks good.
ok 26 - Computing differences
ok 27 # skip GNU grep not available
Testing filename: t/mailboxes/newlines_at_beginning.txt
Comparing /tmp/PwmmcONfe_ to t/results/offset_newlines_at_beginning.stdout
Output /tmp/PwmmcONfe_ looks good.
ok 28 - Computing differences
Comparing /tmp/cvgThfOOH5 to t/results/offset_newlines_at_beginning.stdout
Output /tmp/cvgThfOOH5 looks good.
ok 29 - Computing differences
ok 30 # skip GNU grep not available
ok
t/prologue.t .................... 
1..33
Testing filename: t/mailboxes/binary_body.txt
Comparing /tmp/9Hhabsuet8 to t/mailboxes/binary_body.txt
Output /tmp/9Hhabsuet8 looks good.
ok 1 - Computing differences
Comparing /tmp/Tja09hKj5p to t/mailboxes/binary_body.txt
Output /tmp/Tja09hKj5p looks good.
ok 2 - Computing differences
ok 3 # skip GNU grep not available
Testing filename: t/mailboxes/hessbug.txt
Comparing /tmp/mCOBjH4V8w to t/mailboxes/hessbug.txt
Output /tmp/mCOBjH4V8w looks good.
ok 4 - Computing differences
Comparing /tmp/Hiaknc2YE4 to t/mailboxes/hessbug.txt
Output /tmp/Hiaknc2YE4 looks good.
ok 5 - Computing differences
ok 6 # skip GNU grep not available
Testing filename: t/mailboxes/invalid-boundaries.txt
Comparing /tmp/I16GL5dmXt to t/mailboxes/invalid-boundaries.txt
Output /tmp/I16GL5dmXt looks good.
ok 7 - Computing differences
Comparing /tmp/I3PSCpXVVN to t/mailboxes/invalid-boundaries.txt
Output /tmp/I3PSCpXVVN looks good.
ok 8 - Computing differences
ok 9 # skip GNU grep not available
Testing filename: t/mailboxes/mailarc-1-dos.txt
Comparing /tmp/6XxV7HSxlA to t/mailboxes/mailarc-1-dos.txt
Output /tmp/6XxV7HSxlA looks good.
ok 10 - Computing differences
Comparing /tmp/CuJiFer19z to t/mailboxes/mailarc-1-dos.txt
Output /tmp/CuJiFer19z looks good.
ok 11 - Computing differences
ok 12 # skip GNU grep not available
Testing filename: t/mailboxes/mailarc-1.txt
Comparing /tmp/Ni_ToRzWEN to t/mailboxes/mailarc-1.txt
Output /tmp/Ni_ToRzWEN looks good.
ok 13 - Computing differences
Comparing /tmp/LQj3A_Blug to t/mailboxes/mailarc-1.txt
Output /tmp/LQj3A_Blug looks good.
ok 14 - Computing differences
ok 15 # skip GNU grep not available
Testing filename: t/mailboxes/mailarc-2.txt
Comparing /tmp/2vbCRYryQ1 to t/mailboxes/mailarc-2.txt
Output /tmp/2vbCRYryQ1 looks good.
ok 16 - Computing differences
Comparing /tmp/uQLONIOkeh to t/mailboxes/mailarc-2.txt
Output /tmp/uQLONIOkeh looks good.
ok 17 - Computing differences
ok 18 # skip GNU grep not available
Testing filename: t/mailboxes/mailarc-3.txt
Comparing /tmp/fbpyRH0NpU to t/mailboxes/mailarc-3.txt
Output /tmp/fbpyRH0NpU looks good.
ok 19 - Computing differences
Comparing /tmp/sdiiAkcPUu to t/mailboxes/mailarc-3.txt
Output /tmp/sdiiAkcPUu looks good.
ok 20 - Computing differences
ok 21 # skip GNU grep not available
Testing filename: t/mailboxes/mailseparators.txt
Comparing /tmp/mwF82sO2ge to t/mailboxes/mailseparators.txt
Output /tmp/mwF82sO2ge looks good.
ok 22 - Computing differences
Comparing /tmp/ZmWxqgghIN to t/mailboxes/mailseparators.txt
Output /tmp/ZmWxqgghIN looks good.
ok 23 - Computing differences
ok 24 # skip GNU grep not available
Testing filename: t/mailboxes/malformed.txt
Comparing /tmp/6IIin1hREU to t/mailboxes/malformed.txt
Output /tmp/6IIin1hREU looks good.
ok 25 - Computing differences
Comparing /tmp/Ro8bcpm6vi to t/mailboxes/malformed.txt
Output /tmp/Ro8bcpm6vi looks good.
ok 26 - Computing differences
ok 27 # skip GNU grep not available
Testing filename: t/mailboxes/newlines_at_beginning.txt
Comparing /tmp/uXSVQSVLff to t/mailboxes/newlines_at_beginning.txt
Output /tmp/uXSVQSVLff looks good.
ok 28 - Computing differences
Comparing /tmp/GjOvYruUvl to t/mailboxes/newlines_at_beginning.txt
Output /tmp/GjOvYruUvl looks good.
ok 29 - Computing differences
ok 30 # skip GNU grep not available
Testing filename: t/mailboxes/vm-emacs.txt
Comparing /tmp/In1ttPA0vF to t/mailboxes/vm-emacs.txt
Output /tmp/In1ttPA0vF looks good.
ok 31 - Computing differences
Comparing /tmp/iLRdiUF7Y6 to t/mailboxes/vm-emacs.txt
Output /tmp/iLRdiUF7Y6 looks good.
ok 32 - Computing differences
ok 33 # skip GNU grep not available
ok
t/reset.t ....................... 
1..60
Testing filename: t/mailboxes/binary_body.txt
Testing partial mailbox reset with Perl implementation
Comparing /tmp/FxgOgE_Jim to t/results/reset_binary_body.stdout
Output /tmp/FxgOgE_Jim looks good.
ok 1 - Computing differences
Testing partial mailbox reset with Cache implementation
Comparing /tmp/5t4lpzbw_2 to t/results/reset_binary_body.stdout
Output /tmp/5t4lpzbw_2 looks good.
ok 2 - Computing differences
Testing partial mailbox reset with Grep implementation
ok 3 # skip GNU grep not available
Testing full mailbox reset with Perl implementation
Comparing /tmp/5ttmE10E0G to t/results/reset_binary_body.stdout
Output /tmp/5ttmE10E0G looks good.
ok 4 - Computing differences
Testing full mailbox reset with Cache implementation
Comparing /tmp/dkwCTkpqj_ to t/results/reset_binary_body.stdout
Output /tmp/dkwCTkpqj_ looks good.
ok 5 - Computing differences
Testing full mailbox reset with Grep implementation
ok 6 # skip GNU grep not available
Testing filename: t/mailboxes/hessbug.txt
Testing partial mailbox reset with Perl implementation
Comparing /tmp/zzhsw_wdwm to t/results/reset_hessbug.stdout
Output /tmp/zzhsw_wdwm looks good.
ok 7 - Computing differences
Testing partial mailbox reset with Cache implementation
Comparing /tmp/aqlHURr_s0 to t/results/reset_hessbug.stdout
Output /tmp/aqlHURr_s0 looks good.
ok 8 - Computing differences
Testing partial mailbox reset with Grep implementation
ok 9 # skip GNU grep not available
Testing full mailbox reset with Perl implementation
Comparing /tmp/k96bvLXbIm to t/results/reset_hessbug.stdout
Output /tmp/k96bvLXbIm looks good.
ok 10 - Computing differences
Testing full mailbox reset with Cache implementation
Comparing /tmp/Flr9UTEfwg to t/results/reset_hessbug.stdout
Output /tmp/Flr9UTEfwg looks good.
ok 11 - Computing differences
Testing full mailbox reset with Grep implementation
ok 12 # skip GNU grep not available
Testing filename: t/mailboxes/invalid-boundaries.txt
Testing partial mailbox reset with Perl implementation
Comparing /tmp/9j4dumCWd9 to t/results/reset_invalid-boundaries.stdout
Output /tmp/9j4dumCWd9 looks good.
ok 13 - Computing differences
Testing partial mailbox reset with Cache implementation
Comparing /tmp/qiGDHTyKOf to t/results/reset_invalid-boundaries.stdout
Output /tmp/qiGDHTyKOf looks good.
ok 14 - Computing differences
Testing partial mailbox reset with Grep implementation
ok 15 # skip GNU grep not available
Testing full mailbox reset with Perl implementation
Comparing /tmp/Efr8FSDd0e to t/results/reset_invalid-boundaries.stdout
Output /tmp/Efr8FSDd0e looks good.
ok 16 - Computing differences
Testing full mailbox reset with Cache implementation
Comparing /tmp/eWGLEXrXaC to t/results/reset_invalid-boundaries.stdout
Output /tmp/eWGLEXrXaC looks good.
ok 17 - Computing differences
Testing full mailbox reset with Grep implementation
ok 18 # skip GNU grep not available
Testing filename: t/mailboxes/mailarc-1-dos.txt
Testing partial mailbox reset with Perl implementation
Comparing /tmp/yzodFz0Kfm to t/results/reset_mailarc-1-dos.stdout
Output /tmp/yzodFz0Kfm looks good.
ok 19 - Computing differences
Testing partial mailbox reset with Cache implementation
Comparing /tmp/5L8wPptQip to t/results/reset_mailarc-1-dos.stdout
Output /tmp/5L8wPptQip looks good.
ok 20 - Computing differences
Testing partial mailbox reset with Grep implementation
ok 21 # skip GNU grep not available
Testing full mailbox reset with Perl implementation
Comparing /tmp/rSL9Vg7Q_D to t/results/reset_mailarc-1-dos.stdout
Output /tmp/rSL9Vg7Q_D looks good.
ok 22 - Computing differences
Testing full mailbox reset with Cache implementation
Comparing /tmp/E7ljLNLyXL to t/results/reset_mailarc-1-dos.stdout
Output /tmp/E7ljLNLyXL looks good.
ok 23 - Computing differences
Testing full mailbox reset with Grep implementation
ok 24 # skip GNU grep not available
Testing filename: t/mailboxes/mailarc-1.txt
Testing partial mailbox reset with Perl implementation
Comparing /tmp/stukZ4Gr9S to t/results/reset_mailarc-1.stdout
Output /tmp/stukZ4Gr9S looks good.
ok 25 - Computing differences
Testing partial mailbox reset with Cache implementation
Comparing /tmp/hBSuQwPJWa to t/results/reset_mailarc-1.stdout
Output /tmp/hBSuQwPJWa looks good.
ok 26 - Computing differences
Testing partial mailbox reset with Grep implementation
ok 27 # skip GNU grep not available
Testing full mailbox reset with Perl implementation
Comparing /tmp/LMfvcfuGvD to t/results/reset_mailarc-1.stdout
Output /tmp/LMfvcfuGvD looks good.
ok 28 - Computing differences
Testing full mailbox reset with Cache implementation
Comparing /tmp/kc5xKPEjhW to t/results/reset_mailarc-1.stdout
Output /tmp/kc5xKPEjhW looks good.
ok 29 - Computing differences
Testing full mailbox reset with Grep implementation
ok 30 # skip GNU grep not available
Testing filename: t/mailboxes/mailarc-2.txt
Testing partial mailbox reset with Perl implementation
Comparing /tmp/dxDalx50i6 to t/results/reset_mailarc-2.stdout
Output /tmp/dxDalx50i6 looks good.
ok 31 - Computing differences
Testing partial mailbox reset with Cache implementation
Comparing /tmp/yD3BmgBfZ9 to t/results/reset_mailarc-2.stdout
Output /tmp/yD3BmgBfZ9 looks good.
ok 32 - Computing differences
Testing partial mailbox reset with Grep implementation
ok 33 # skip GNU grep not available
Testing full mailbox reset with Perl implementation
Comparing /tmp/aLLE4V4yFi to t/results/reset_mailarc-2.stdout
Output /tmp/aLLE4V4yFi looks good.
ok 34 - Computing differences
Testing full mailbox reset with Cache implementation
Comparing /tmp/IJdme4_vGp to t/results/reset_mailarc-2.stdout
Output /tmp/IJdme4_vGp looks good.
ok 35 - Computing differences
Testing full mailbox reset with Grep implementation
ok 36 # skip GNU grep not available
Testing filename: t/mailboxes/mailarc-3.txt
Testing partial mailbox reset with Perl implementation
Comparing /tmp/YQA_U5cdwx to t/results/reset_mailarc-3.stdout
Output /tmp/YQA_U5cdwx looks good.
ok 37 - Computing differences
Testing partial mailbox reset with Cache implementation
Comparing /tmp/PMBrad8J5t to t/results/reset_mailarc-3.stdout
Output /tmp/PMBrad8J5t looks good.
ok 38 - Computing differences
Testing partial mailbox reset with Grep implementation
ok 39 # skip GNU grep not available
Testing full mailbox reset with Perl implementation
Comparing /tmp/z9wf4i3gdd to t/results/reset_mailarc-3.stdout
Output /tmp/z9wf4i3gdd looks good.
ok 40 - Computing differences
Testing full mailbox reset with Cache implementation
Comparing /tmp/kBvqac8YZA to t/results/reset_mailarc-3.stdout
Output /tmp/kBvqac8YZA looks good.
ok 41 - Computing differences
Testing full mailbox reset with Grep implementation
ok 42 # skip GNU grep not available
Testing filename: t/mailboxes/mailseparators.txt
Testing partial mailbox reset with Perl implementation
Comparing /tmp/FmjfBNsdgW to t/results/reset_mailseparators.stdout
Output /tmp/FmjfBNsdgW looks good.
ok 43 - Computing differences
Testing partial mailbox reset with Cache implementation
Comparing /tmp/MQBXDricNC to t/results/reset_mailseparators.stdout
Output /tmp/MQBXDricNC looks good.
ok 44 - Computing differences
Testing partial mailbox reset with Grep implementation
ok 45 # skip GNU grep not available
Testing full mailbox reset with Perl implementation
Comparing /tmp/iP1A4MpmuK to t/results/reset_mailseparators.stdout
Output /tmp/iP1A4MpmuK looks good.
ok 46 - Computing differences
Testing full mailbox reset with Cache implementation
Comparing /tmp/ufaJlbwZzH to t/results/reset_mailseparators.stdout
Output /tmp/ufaJlbwZzH looks good.
ok 47 - Computing differences
Testing full mailbox reset with Grep implementation
ok 48 # skip GNU grep not available
Testing filename: t/mailboxes/malformed.txt
Testing partial mailbox reset with Perl implementation
Comparing /tmp/2ZPblZnFSa to t/results/reset_malformed.stdout
Output /tmp/2ZPblZnFSa looks good.
ok 49 - Computing differences
Testing partial mailbox reset with Cache implementation
Comparing /tmp/PujVU1AZLr to t/results/reset_malformed.stdout
Output /tmp/PujVU1AZLr looks good.
ok 50 - Computing differences
Testing partial mailbox reset with Grep implementation
ok 51 # skip GNU grep not available
Testing full mailbox reset with Perl implementation
Comparing /tmp/efi0WrPKO_ to t/results/reset_malformed.stdout
Output /tmp/efi0WrPKO_ looks good.
ok 52 - Computing differences
Testing full mailbox reset with Cache implementation
Comparing /tmp/R2ww5r41ZR to t/results/reset_malformed.stdout
Output /tmp/R2ww5r41ZR looks good.
ok 53 - Computing differences
Testing full mailbox reset with Grep implementation
ok 54 # skip GNU grep not available
Testing filename: t/mailboxes/newlines_at_beginning.txt
Testing partial mailbox reset with Perl implementation
Comparing /tmp/o1o_zfyT9b to t/results/reset_newlines_at_beginning.stdout
Output /tmp/o1o_zfyT9b looks good.
ok 55 - Computing differences
Testing partial mailbox reset with Cache implementation
Comparing /tmp/rfI6c3zX3w to t/results/reset_newlines_at_beginning.stdout
Output /tmp/rfI6c3zX3w looks good.
ok 56 - Computing differences
Testing partial mailbox reset with Grep implementation
ok 57 # skip GNU grep not available
Testing full mailbox reset with Perl implementation
Comparing /tmp/FLAuMUxtiA to t/results/reset_newlines_at_beginning.stdout
Output /tmp/FLAuMUxtiA looks good.
ok 58 - Computing differences
Testing full mailbox reset with Cache implementation
Comparing /tmp/w7dCTobVuD to t/results/reset_newlines_at_beginning.stdout
Output /tmp/w7dCTobVuD looks good.
ok 59 - Computing differences
Testing full mailbox reset with Grep implementation
ok 60 # skip GNU grep not available
ok
t/separators.t .................. 
1..6
Testing filename: t/mailboxes/separators1.sep
ok 1 - Number of emails in t/mailboxes/separators1.sep
ok 2 - Number of emails in t/mailboxes/separators1.sep
ok 3 # skip GNU grep not available
Testing filename: t/mailboxes/separators2.sep
ok 4 - Number of emails in t/mailboxes/separators2.sep
ok 5 - Number of emails in t/mailboxes/separators2.sep
ok 6 # skip GNU grep not available
ok
t/stdin_compressed.t ............ 
1..4
Testing filename: t/mailboxes/mailarc-2.txt.bz2
Comparing /tmp/GqIdW6xEeK to t/mailboxes/mailarc-2.txt
Output /tmp/GqIdW6xEeK looks good.
ok 1 - Computing differences
Testing filename: t/mailboxes/mailarc-2.txt.gz
Comparing /tmp/6cILCcHBQv to t/mailboxes/mailarc-2.txt
Output /tmp/6cILCcHBQv looks good.
ok 2 - Computing differences
Testing filename: t/mailboxes/mailarc-2.txt.lz
ok 3 # skip lzip not available
Testing filename: t/mailboxes/mailarc-2.txt.xz
Comparing /tmp/hCI_ct7Hot to t/mailboxes/mailarc-2.txt
Output /tmp/hCI_ct7Hot looks good.
ok 4 - Computing differences
ok
t/stdin_uncompressed.t .......... 
1..11
Testing filename: t/mailboxes/binary_body.txt
Comparing /tmp/uKxzyjOdho to t/mailboxes/binary_body.txt
Output /tmp/uKxzyjOdho looks good.
ok 1 - Computing differences
Testing filename: t/mailboxes/hessbug.txt
Comparing /tmp/vykSAkTTYB to t/mailboxes/hessbug.txt
Output /tmp/vykSAkTTYB looks good.
ok 2 - Computing differences
Testing filename: t/mailboxes/invalid-boundaries.txt
Comparing /tmp/VuYyy56JU7 to t/mailboxes/invalid-boundaries.txt
Output /tmp/VuYyy56JU7 looks good.
ok 3 - Computing differences
Testing filename: t/mailboxes/mailarc-1-dos.txt
Comparing /tmp/Qe6hnr6xYa to t/mailboxes/mailarc-1-dos.txt
Output /tmp/Qe6hnr6xYa looks good.
ok 4 - Computing differences
Testing filename: t/mailboxes/mailarc-1.txt
Comparing /tmp/C7Ra16ndXe to t/mailboxes/mailarc-1.txt
Output /tmp/C7Ra16ndXe looks good.
ok 5 - Computing differences
Testing filename: t/mailboxes/mailarc-2.txt
Comparing /tmp/2jc1rVxezw to t/mailboxes/mailarc-2.txt
Output /tmp/2jc1rVxezw looks good.
ok 6 - Computing differences
Testing filename: t/mailboxes/mailarc-3.txt
Comparing /tmp/lnrN26clYH to t/mailboxes/mailarc-3.txt
Output /tmp/lnrN26clYH looks good.
ok 7 - Computing differences
Testing filename: t/mailboxes/mailseparators.txt
Comparing /tmp/TDmoDULQj2 to t/mailboxes/mailseparators.txt
Output /tmp/TDmoDULQj2 looks good.
ok 8 - Computing differences
Testing filename: t/mailboxes/malformed.txt
Comparing /tmp/fXyajtKjQo to t/mailboxes/malformed.txt
Output /tmp/fXyajtKjQo looks good.
ok 9 - Computing differences
Testing filename: t/mailboxes/newlines_at_beginning.txt
Comparing /tmp/BIyMdi9q0y to t/mailboxes/newlines_at_beginning.txt
Output /tmp/BIyMdi9q0y looks good.
ok 10 - Computing differences
Testing filename: t/mailboxes/vm-emacs.txt
Comparing /tmp/ekLAkHRilq to t/mailboxes/vm-emacs.txt
Output /tmp/ekLAkHRilq looks good.
ok 11 - Computing differences
ok
t/undef_return_value.t .......... 
1..33
Testing Perl 
Comparing /tmp/DrdblH4Pwy to t/mailboxes/binary_body.txt
Output /tmp/DrdblH4Pwy looks good.
ok 1 - Computing differences
Testing Cache implementation
Comparing /tmp/0vnbriLVMK to t/mailboxes/binary_body.txt
Output /tmp/0vnbriLVMK looks good.
ok 2 - Computing differences
ok 3 # skip GNU grep not available
Testing Perl 
Comparing /tmp/jypC1iynbh to t/mailboxes/hessbug.txt
Output /tmp/jypC1iynbh looks good.
ok 4 - Computing differences
Testing Cache implementation
Comparing /tmp/ynwGYSP2LS to t/mailboxes/hessbug.txt
Output /tmp/ynwGYSP2LS looks good.
ok 5 - Computing differences
ok 6 # skip GNU grep not available
Testing Perl 
Comparing /tmp/xnOUrO6TPP to t/mailboxes/invalid-boundaries.txt
Output /tmp/xnOUrO6TPP looks good.
ok 7 - Computing differences
Testing Cache implementation
Comparing /tmp/tLWIzl8yGZ to t/mailboxes/invalid-boundaries.txt
Output /tmp/tLWIzl8yGZ looks good.
ok 8 - Computing differences
ok 9 # skip GNU grep not available
Testing Perl 
Comparing /tmp/1JVNcJGFoH to t/mailboxes/mailarc-1-dos.txt
Output /tmp/1JVNcJGFoH looks good.
ok 10 - Computing differences
Testing Cache implementation
Comparing /tmp/KZfFXSghB2 to t/mailboxes/mailarc-1-dos.txt
Output /tmp/KZfFXSghB2 looks good.
ok 11 - Computing differences
ok 12 # skip GNU grep not available
Testing Perl 
Comparing /tmp/92Um4MNKX9 to t/mailboxes/mailarc-1.txt
Output /tmp/92Um4MNKX9 looks good.
ok 13 - Computing differences
Testing Cache implementation
Comparing /tmp/qBsVvu3Z4P to t/mailboxes/mailarc-1.txt
Output /tmp/qBsVvu3Z4P looks good.
ok 14 - Computing differences
ok 15 # skip GNU grep not available
Testing Perl 
Comparing /tmp/MCwR7MRl5G to t/mailboxes/mailarc-2.txt
Output /tmp/MCwR7MRl5G looks good.
ok 16 - Computing differences
Testing Cache implementation
Comparing /tmp/Tw5gazv_kR to t/mailboxes/mailarc-2.txt
Output /tmp/Tw5gazv_kR looks good.
ok 17 - Computing differences
ok 18 # skip GNU grep not available
Testing Perl 
Comparing /tmp/7sjT7p4sTv to t/mailboxes/mailarc-3.txt
Output /tmp/7sjT7p4sTv looks good.
ok 19 - Computing differences
Testing Cache implementation
Comparing /tmp/Ao_Tkv5euJ to t/mailboxes/mailarc-3.txt
Output /tmp/Ao_Tkv5euJ looks good.
ok 20 - Computing differences
ok 21 # skip GNU grep not available
Testing Perl 
Comparing /tmp/o4LxOY3lgn to t/mailboxes/mailseparators.txt
Output /tmp/o4LxOY3lgn looks good.
ok 22 - Computing differences
Testing Cache implementation
Comparing /tmp/6IcEmYZdVo to t/mailboxes/mailseparators.txt
Output /tmp/6IcEmYZdVo looks good.
ok 23 - Computing differences
ok 24 # skip GNU grep not available
Testing Perl 
Comparing /tmp/D4TjKQ7k5d to t/mailboxes/malformed.txt
Output /tmp/D4TjKQ7k5d looks good.
ok 25 - Computing differences
Testing Cache implementation
Comparing /tmp/H8V_gjd0E7 to t/mailboxes/malformed.txt
Output /tmp/H8V_gjd0E7 looks good.
ok 26 - Computing differences
ok 27 # skip GNU grep not available
Testing Perl 
Comparing /tmp/oqcpmBPjfE to t/mailboxes/newlines_at_beginning.txt
Output /tmp/oqcpmBPjfE looks good.
ok 28 - Computing differences
Testing Cache implementation
Comparing /tmp/BeDZwmYvmj to t/mailboxes/newlines_at_beginning.txt
Output /tmp/BeDZwmYvmj looks good.
ok 29 - Computing differences
ok 30 # skip GNU grep not available
Testing Perl 
Comparing /tmp/H6vzEMqIWj to t/mailboxes/vm-emacs.txt
Output /tmp/H6vzEMqIWj looks good.
ok 31 - Computing differences
Testing Cache implementation
Comparing /tmp/di8xkOf9Oz to t/mailboxes/vm-emacs.txt
Output /tmp/di8xkOf9Oz looks good.
ok 32 - Computing differences
ok 33 # skip GNU grep not available
ok
t/xz.t .......................... 
1..1
Running test:
  "/usr/bin/cat" "t/mailboxes/mailarc-2.txt.xz" | "/usr/bin/xz" -cd
Comparing /tmp/tNPdewfiFP to t/results/mailarc-2.txt
Output /tmp/tNPdewfiFP looks good.
Comparing /tmp/Fi1YQPywKf to t/results/none
Output /tmp/Fi1YQPywKf looks good.
ok 1 - Computing differences
ok
All tests successful.
Files=25, Tests=382,  5 wallclock secs ( 0.14 usr  0.05 sys +  4.22 cusr  0.95 csys =  5.36 CPU)
Result: PASS

------------------------------
PREREQUISITES
------------------------------

Prerequisite modules loaded:

requires:

    Module              Need  Have    
    ------------------- ----- --------
    FileHandle::Unget   0     0.1634  
    perl                5.005 5.037009
    Storable            0     3.29    

build_requires:

    Module              Need  Have    
    ------------------- ----- --------
    ExtUtils::MakeMaker 6.36  7.66    
    File::Path          2.08  2.18    
    File::Slurper       0     0.014   
    Test::Compile       0     v3.1.0  
    Test::More          0     1.302192
    Text::Diff          0     1.45    
    UNIVERSAL::require  0     0.19    
    URI::Escape         0     5.17    

configure_requires:

    Module              Need  Have    
    ------------------- ----- --------
    ExtUtils::MakeMaker 6.36  7.66    
    URI::Escape         0     5.17    


------------------------------
ENVIRONMENT AND OTHER CONTEXT
------------------------------

Environment variables:

    AUTOMATED_TESTING = 1
    LANG = en_US.UTF-8
    PATH = /home/sand/bin:/usr/local/bin:/usr/local/sbin:/usr/sbin:/usr/bin:/sbin:/bin:/usr/games:/usr/local/games:/snap/bin:/usr/local/perl/bin:/usr/X11/bin
    PERL5LIB = /tmp/loop_over_bdir-4036900-qeKetM/Alien-SNMP-MIBDEV-2.020000-0/blib/arch:/tmp/loop_over_bdir-4036900-qeKetM/Alien-SNMP-MIBDEV-2.020000-0/blib/lib:/tmp/loop_over_bdir-4036900-qeKetM/LiquidWeb-Storm-CLI-1.03-0/blib/arch:/tmp/loop_over_bdir-4036900-qeKetM/LiquidWeb-Storm-CLI-1.03-0/blib/lib:/tmp/loop_over_bdir-4036900-qeKetM/CORBA-Python-2.66-0/blib/arch:/tmp/loop_over_bdir-4036900-qeKetM/CORBA-Python-2.66-0/blib/lib:/tmp/loop_over_bdir-4036900-qeKetM/triceps-2.1.0-0/blib/arch:/tmp/loop_over_bdir-4036900-qeKetM/triceps-2.1.0-0/blib/lib:/tmp/loop_over_bdir-4036900-qeKetM/Devel-Required-0.16-0/blib/arch:/tmp/loop_over_bdir-4036900-qeKetM/Devel-Required-0.16-0/blib/lib:/tmp/loop_over_bdir-4036900-qeKetM/Linux-InitFS-0.2-0/blib/arch:/tmp/loop_over_bdir-4036900-qeKetM/Linux-InitFS-0.2-0/blib/lib:/tmp/loop_over_bdir-4036900-qeKetM/Net-OpenVPN-DDNS-0.1-0/blib/arch:/tmp/loop_over_bdir-4036900-qeKetM/Net-OpenVPN-DDNS-0.1-0/blib/lib:/tmp/loop_over_bdir-4036900-qeKetM/Lingua-YaTeA-0.626-0/blib/arch:/tmp/loop_over_bdir-4036900-qeKetM/Lingua-YaTeA-0.626-0/blib/lib:/tmp/loop_over_bdir-4036900-qeKetM/mmds-1.902-0/blib/arch:/tmp/loop_over_bdir-4036900-qeKetM/mmds-1.902-0/blib/lib:/tmp/loop_over_bdir-4036900-qeKetM/makepp-1.19-0/blib/arch:/tmp/loop_over_bdir-4036900-qeKetM/makepp-1.19-0/blib/lib:/tmp/loop_over_bdir-4036900-qeKetM/Net-Async-WebService-lxd-0.03-0/blib/arch:/tmp/loop_over_bdir-4036900-qeKetM/Net-Async-WebService-lxd-0.03-0/blib/lib:/tmp/loop_over_bdir-4036900-qeKetM/downsexta-0/blib/arch:/tmp/loop_over_bdir-4036900-qeKetM/downsexta-0/blib/lib:/tmp/loop_over_bdir-4036900-qeKetM/Dpkg-1.21.19-0/blib/arch:/tmp/loop_over_bdir-4036900-qeKetM/Dpkg-1.21.19-0/blib/lib:/tmp/loop_over_bdir-4036900-qeKetM/Simulation-Automate-1.0.1-0/blib/arch:/tmp/loop_over_bdir-4036900-qeKetM/Simulation-Automate-1.0.1-0/blib/lib
    PERL5OPT = 
    PERL5_CPANPLUS_IS_RUNNING = 4036908
    PERL5_CPAN_IS_RUNNING = 4036908
    PERL_CANARY_STABILITY_NOPROMPT = 1
    PERL_MM_USE_DEFAULT = 1
    PERL_USE_UNSAFE_INC = 1
    SHELL = /usr/bin/zsh
    TERM = screen

Perl special variables (and OS-specific diagnostics, for MSWin32):

    $^X = /tmp/basesmoker-reloperl-hV9s/bin/perl
    $UID/$EUID = 1005 / 1005
    $GID = 1005 1005
    $EGID = 1005 1005

Perl module toolchain versions installed:

    Module              Have    
    ------------------- --------
    CPAN                2.34    
    CPAN::Meta          2.150010
    Cwd                 3.88    
    ExtUtils::CBuilder  0.280238
    ExtUtils::Command   7.66    
    ExtUtils::Install   2.22    
    ExtUtils::MakeMaker 7.66    
    ExtUtils::Manifest  1.73    
    ExtUtils::ParseXS   3.49    
    File::Spec          3.88    
    JSON                4.10    
    JSON::PP            4.16    
    Module::Build       0.4232  
    Module::Signature   0.88    
    Parse::CPAN::Meta   2.150010
    Test::Harness       3.44    
    Test::More          1.302192
    YAML                1.30    
    YAML::Syck          1.34    
    version             0.9929  


--

Summary of my perl5 (revision 5 version 37 subversion 9) configuration:
  Commit id: 692cfdb0a41902b1e4fd4d934426ef95c2b4b694
  Platform:
    osname=linux
    osvers=5.4.0-139-generic
    archname=x86_64-linux
    uname='linux k93focal 5.4.0-139-generic #156-ubuntu smp fri jan 20 17:27:18 utc 2023 x86_64 x86_64 x86_64 gnulinux '
    config_args='-Dprefix=/home/sand/src/perl/repoperls/installed-perls/host/k93focal/v5.37.9/b254 -Dmyhostname=k93focal -Dinstallusrbinperl=n -Uversiononly -Dusedevel -des -Ui_db -Dlibswanted=cl pthread socket inet nsl gdbm dbm malloc dl ld sun m crypt sec util c cposix posix ucb BSD gdbm_compat -Uuseithreads -Uuselongdouble -DEBUGGING=both'
    hint=recommended
    useposix=true
    d_sigaction=define
    useithreads=undef
    usemultiplicity=undef
    use64bitint=define
    use64bitall=define
    uselongdouble=undef
    usemymalloc=n
    default_inc_excludes_dot=define
  Compiler:
    cc='cc'
    ccflags ='-fwrapv -DDEBUGGING -fno-strict-aliasing -pipe -fstack-protector-strong -I/usr/local/include -D_LARGEFILE_SOURCE -D_FILE_OFFSET_BITS=64'
    optimize='-O2 -g'
    cppflags='-fwrapv -DDEBUGGING -fno-strict-aliasing -pipe -fstack-protector-strong -I/usr/local/include'
    ccversion=''
    gccversion='9.4.0'
    gccosandvers=''
    intsize=4
    longsize=8
    ptrsize=8
    doublesize=8
    byteorder=12345678
    doublekind=3
    d_longlong=define
    longlongsize=8
    d_longdbl=define
    longdblsize=16
    longdblkind=3
    ivtype='long'
    ivsize=8
    nvtype='double'
    nvsize=8
    Off_t='off_t'
    lseeksize=8
    alignbytes=8
    prototype=define
  Linker and Libraries:
    ld='cc'
    ldflags =' -fstack-protector-strong -L/usr/local/lib'
    libpth=/usr/local/lib /usr/lib/x86_64-linux-gnu /usr/lib /usr/lib64
    libs=-lpthread -lnsl -ldl -lm -lcrypt -lutil -lc
    perllibs=-lpthread -lnsl -ldl -lm -lcrypt -lutil -lc
    libc=libc-2.31.so
    so=so
    useshrplib=false
    libperl=libperl.a
    gnulibc_version='2.31'
  Dynamic Linking:
    dlsrc=dl_dlopen.xs
    dlext=so
    d_dlsymun=undef
    ccdlflags='-Wl,-E'
    cccdlflags='-fPIC'
    lddlflags='-shared -O2 -g -L/usr/local/lib -fstack-protector-strong'


Characteristics of this binary (from libperl): 
  Compile-time options:
    DEBUGGING
    HAS_TIMES
    PERLIO_LAYERS
    PERL_COPY_ON_WRITE
    PERL_DONT_CREATE_GVSV
    PERL_HASH_FUNC_SIPHASH13
    PERL_HASH_USE_SBOX32
    PERL_MALLOC_WRAP
    PERL_OP_PARENT
    PERL_PRESERVE_IVUV
    PERL_USE_DEVEL
    PERL_USE_SAFE_PUTENV
    USE_64_BIT_ALL
    USE_64_BIT_INT
    USE_LARGE_FILES
    USE_LOCALE
    USE_LOCALE_COLLATE
    USE_LOCALE_CTYPE
    USE_LOCALE_NUMERIC
    USE_LOCALE_TIME
    USE_PERLIO
    USE_PERL_ATOF
  Built under linux
  Compiled at Feb 21 2023 03:30:19
  %ENV:
    PERL5LIB="/tmp/loop_over_bdir-4036900-qeKetM/Alien-SNMP-MIBDEV-2.020000-0/blib/arch:/tmp/loop_over_bdir-4036900-qeKetM/Alien-SNMP-MIBDEV-2.020000-0/blib/lib:/tmp/loop_over_bdir-4036900-qeKetM/LiquidWeb-Storm-CLI-1.03-0/blib/arch:/tmp/loop_over_bdir-4036900-qeKetM/LiquidWeb-Storm-CLI-1.03-0/blib/lib:/tmp/loop_over_bdir-4036900-qeKetM/CORBA-Python-2.66-0/blib/arch:/tmp/loop_over_bdir-4036900-qeKetM/CORBA-Python-2.66-0/blib/lib:/tmp/loop_over_bdir-4036900-qeKetM/triceps-2.1.0-0/blib/arch:/tmp/loop_over_bdir-4036900-qeKetM/triceps-2.1.0-0/blib/lib:/tmp/loop_over_bdir-4036900-qeKetM/Devel-Required-0.16-0/blib/arch:/tmp/loop_over_bdir-4036900-qeKetM/Devel-Required-0.16-0/blib/lib:/tmp/loop_over_bdir-4036900-qeKetM/Linux-InitFS-0.2-0/blib/arch:/tmp/loop_over_bdir-4036900-qeKetM/Linux-InitFS-0.2-0/blib/lib:/tmp/loop_over_bdir-4036900-qeKetM/Net-OpenVPN-DDNS-0.1-0/blib/arch:/tmp/loop_over_bdir-4036900-qeKetM/Net-OpenVPN-DDNS-0.1-0/blib/lib:/tmp/loop_over_bdir-4036900-qeKetM/Lingua-YaTeA-0.626-0/blib/arch:/tmp/loop_over_bdir-4036900-qeKetM/Lingua-YaTeA-0.626-0/blib/lib:/tmp/loop_over_bdir-4036900-qeKetM/mmds-1.902-0/blib/arch:/tmp/loop_over_bdir-4036900-qeKetM/mmds-1.902-0/blib/lib:/tmp/loop_over_bdir-4036900-qeKetM/makepp-1.19-0/blib/arch:/tmp/loop_over_bdir-4036900-qeKetM/makepp-1.19-0/blib/lib:/tmp/loop_over_bdir-4036900-qeKetM/Net-Async-WebService-lxd-0.03-0/blib/arch:/tmp/loop_over_bdir-4036900-qeKetM/Net-Async-WebService-lxd-0.03-0/blib/lib:/tmp/loop_over_bdir-4036900-qeKetM/downsexta-0/blib/arch:/tmp/loop_over_bdir-4036900-qeKetM/downsexta-0/blib/lib:/tmp/loop_over_bdir-4036900-qeKetM/Dpkg-1.21.19-0/blib/arch:/tmp/loop_over_bdir-4036900-qeKetM/Dpkg-1.21.19-0/blib/lib:/tmp/loop_over_bdir-4036900-qeKetM/Simulation-Automate-1.0.1-0/blib/arch:/tmp/loop_over_bdir-4036900-qeKetM/Simulation-Automate-1.0.1-0/blib/lib"
    PERL5OPT=""
    PERL5_CPANPLUS_IS_RUNNING="4036908"
    PERL5_CPAN_IS_RUNNING="4036908"
    PERL_CANARY_STABILITY_NOPROMPT="1"
    PERL_MM_USE_DEFAULT="1"
    PERL_USE_UNSAFE_INC="1"
  @INC:
    /tmp/loop_over_bdir-4036900-qeKetM/Alien-SNMP-MIBDEV-2.020000-0/blib/arch
    /tmp/loop_over_bdir-4036900-qeKetM/Alien-SNMP-MIBDEV-2.020000-0/blib/lib
    /tmp/loop_over_bdir-4036900-qeKetM/LiquidWeb-Storm-CLI-1.03-0/blib/arch
    /tmp/loop_over_bdir-4036900-qeKetM/LiquidWeb-Storm-CLI-1.03-0/blib/lib
    /tmp/loop_over_bdir-4036900-qeKetM/CORBA-Python-2.66-0/blib/arch
    /tmp/loop_over_bdir-4036900-qeKetM/CORBA-Python-2.66-0/blib/lib
    /tmp/loop_over_bdir-4036900-qeKetM/triceps-2.1.0-0/blib/arch
    /tmp/loop_over_bdir-4036900-qeKetM/triceps-2.1.0-0/blib/lib
    /tmp/loop_over_bdir-4036900-qeKetM/Devel-Required-0.16-0/blib/arch
    /tmp/loop_over_bdir-4036900-qeKetM/Devel-Required-0.16-0/blib/lib
    /tmp/loop_over_bdir-4036900-qeKetM/Linux-InitFS-0.2-0/blib/arch
    /tmp/loop_over_bdir-4036900-qeKetM/Linux-InitFS-0.2-0/blib/lib
    /tmp/loop_over_bdir-4036900-qeKetM/Net-OpenVPN-DDNS-0.1-0/blib/arch
    /tmp/loop_over_bdir-4036900-qeKetM/Net-OpenVPN-DDNS-0.1-0/blib/lib
    /tmp/loop_over_bdir-4036900-qeKetM/Lingua-YaTeA-0.626-0/blib/arch
    /tmp/loop_over_bdir-4036900-qeKetM/Lingua-YaTeA-0.626-0/blib/lib
    /tmp/loop_over_bdir-4036900-qeKetM/mmds-1.902-0/blib/arch
    /tmp/loop_over_bdir-4036900-qeKetM/mmds-1.902-0/blib/lib
    /tmp/loop_over_bdir-4036900-qeKetM/makepp-1.19-0/blib/arch
    /tmp/loop_over_bdir-4036900-qeKetM/makepp-1.19-0/blib/lib
    /tmp/loop_over_bdir-4036900-qeKetM/Net-Async-WebService-lxd-0.03-0/blib/arch
    /tmp/loop_over_bdir-4036900-qeKetM/Net-Async-WebService-lxd-0.03-0/blib/lib
    /tmp/loop_over_bdir-4036900-qeKetM/downsexta-0/blib/arch
    /tmp/loop_over_bdir-4036900-qeKetM/downsexta-0/blib/lib
    /tmp/loop_over_bdir-4036900-qeKetM/Dpkg-1.21.19-0/blib/arch
    /tmp/loop_over_bdir-4036900-qeKetM/Dpkg-1.21.19-0/blib/lib
    /tmp/loop_over_bdir-4036900-qeKetM/Simulation-Automate-1.0.1-0/blib/arch
    /tmp/loop_over_bdir-4036900-qeKetM/Simulation-Automate-1.0.1-0/blib/lib
    /home/sand/src/perl/repoperls/installed-perls/host/k93focal/v5.37.9/b254/lib/site_perl/5.37.9/x86_64-linux
    /home/sand/src/perl/repoperls/installed-perls/host/k93focal/v5.37.9/b254/lib/site_perl/5.37.9
    /home/sand/src/perl/repoperls/installed-perls/host/k93focal/v5.37.9/b254/lib/5.37.9/x86_64-linux
    /home/sand/src/perl/repoperls/installed-perls/host/k93focal/v5.37.9/b254/lib/5.37.9
    .