Back
From: metabase:user:e7b34f46-36ca-11e0-a826-945c7ca43f85
Subject: PASS Dist-Zilla-Config-Slicer-0.201 v5.20.2 GNU/Linux
Date: 2015-07-26T14:15:03Z
This distribution has been tested as part of the CPAN Testers
project, supporting the Perl programming language. See
http://wiki.cpantesters.org/ for more information or email
questions to cpan-testers-discuss@perl.org
--
Dear Randy Stauner,
This is a computer-generated report for Dist-Zilla-Config-Slicer-0.201
on perl 5.20.2, created by CPAN-Reporter-1.2014.
Thank you for uploading your work to CPAN. Congratulations!
All tests were successful.
Sections of this report:
* Tester comments
* Program output
* Prerequisites
* Environment and other context
------------------------------
TESTER COMMENTS
------------------------------
Additional comments from tester:
none provided
------------------------------
PROGRAM OUTPUT
------------------------------
Output from '/usr/bin/make test':
PERL_DL_NONLAZY=1 "/home/tom/perl5/perlbrew/perls/perl-5.20.2/bin/perl" "-MExtUtils::Command::MM" "-MTest::Harness" "-e" "undef *Test::Harness::Switches; test_harness(0, 'blib/lib', 'blib/arch')" t/*.t
t/00-compile.t ......... ok
#
# Versions for all modules listed in MYMETA.json (including optional ones):
#
# === Configure Requires ===
#
# Module Want Have
# ------------------- ---- ----
# ExtUtils::MakeMaker any 7.04
#
# === Build Requires ===
#
# Module Want Have
# ------------------- ---- ----
# ExtUtils::MakeMaker any 7.04
#
# === Test Requires ===
#
# Module Want Have
# ------------------------------------- ---- --------
# Dist::Zilla::Role::PluginBundle any 5.037
# Dist::Zilla::Role::PluginBundle::Easy any 5.037
# ExtUtils::MakeMaker any 7.04
# File::Spec any 3.47
# File::Temp any 0.2304
# IO::Handle any 1.35
# IPC::Open3 any 1.16
# Test::More 0.96 1.001014
# lib any 0.63
#
# === Test Recommends ===
#
# Module Want Have
# ---------- -------- --------
# CPAN::Meta 2.120900 2.150005
#
# === Runtime Requires ===
#
# Module Want Have
# --------------------------------- ---- ------
# Config::MVP::Slicer any 0.302
# Dist::Zilla::PluginBundle::Filter any 5.037
# Dist::Zilla::Util 4 5.037
# Moose any 2.1403
# Moose::Role any 2.1403
# strict any 1.08
# warnings any 1.23
#
t/00-report-prereqs.t .. ok
t/bundle-filter.t ...... ok
t/bundle-role.t ........ ok
t/slicer.t ............. ok
All tests successful.
Files=5, Tests=27, 2 wallclock secs ( 0.04 usr 0.01 sys + 1.53 cusr 0.11 csys = 1.69 CPU)
Result: PASS
------------------------------
PREREQUISITES
------------------------------
Prerequisite modules loaded:
requires:
Module Need Have
------------------------------------- -------- --------
Config::MVP::Slicer 0 0.302
Dist::Zilla::PluginBundle::Filter 0 5.037
Dist::Zilla::Util 4 5.037
Moose 0 2.1403
Moose::Role 0 2.1403
perl 5.006 5.020002
strict 0 1.08
warnings 0 1.23
build_requires:
Module Need Have
------------------------------------- -------- --------
Dist::Zilla::Role::PluginBundle 0 5.037
Dist::Zilla::Role::PluginBundle::Easy 0 5.037
ExtUtils::MakeMaker 0 7.04
File::Spec 0 3.47
File::Temp 0 0.2304
IO::Handle 0 1.35
IPC::Open3 0 1.16
lib 0 0.63
Test::More 0.96 1.001014
configure_requires:
Module Need Have
------------------------------------- -------- --------
ExtUtils::MakeMaker 0 7.04
perl 5.006 5.020002
opt_build_requires:
Module Need Have
------------------------------------- -------- --------
CPAN::Meta 2.120900 2.150005
------------------------------
ENVIRONMENT AND OTHER CONTEXT
------------------------------
Environment variables:
LANG = en_GB.UTF-8
LD_LIBRARY_PATH = /home/tom/local/lib:
PATH = /home/tom/dev/local-lib/5.20.2/bin:/home/tom/perl5/perlbrew/bin:/home/tom/perl5/perlbrew/perls/perl-5.20.2/bin:/home/tom/local/bin:/home/tom/dev/local-lib/5.20.2/bin:/home/tom/local/bin:/usr/local/sbin:/usr/local/bin:/usr/sbin:/usr/bin:/sbin:/bin:/usr/games:/usr/local/games:/opt/android-sdk/platform-tools:/opt/android-sdk/tools:/home/tom/.rvm/bin:/home/tom/android-sdk-linux/platform-tools:/home/tom/android-sdk-linux/tools:/opt/android-sdk/platform-tools:/opt/android-sdk/tools:/home/tom/.rvm/bin:/home/tom/android-sdk-linux/platform-tools:/home/tom/android-sdk-linux/tools
PERL5LIB = /home/tom/dev/local-lib/5.20.2/lib/perl5:/home/tom/dev/local-lib/5.20.2/lib/perl5
PERL5OPT =
PERL5_CPANPLUS_IS_RUNNING = 29919
PERL5_CPAN_IS_RUNNING = 29919
PERLBREW_BASHRC_VERSION = 0.73
PERLBREW_HOME = /home/tom/.perlbrew
PERLBREW_MANPATH = /home/tom/perl5/perlbrew/perls/perl-5.20.2/man
PERLBREW_PATH = /home/tom/perl5/perlbrew/bin:/home/tom/perl5/perlbrew/perls/perl-5.20.2/bin
PERLBREW_PERL = perl-5.20.2
PERLBREW_ROOT = /home/tom/perl5/perlbrew
PERLBREW_VERSION = 0.73
PERL_CPANM_OPT = --mirror http://cpan.perlsite.co.uk --mirror-only
PERL_LOCAL_LIB_ROOT = /home/tom/dev/local-lib/5.20.2:/home/tom/dev/local-lib/5.20.2
PERL_LWP_SSL_VERIFY_HOSTNAME = 0
PERL_MB_OPT = --install_base "/home/tom/dev/local-lib/5.20.2"
PERL_MM_OPT = INSTALL_BASE=/home/tom/dev/local-lib/5.20.2
PERL_MM_USE_DEFAULT = 1
SHELL = /bin/bash
TERM = xterm-256color
Perl special variables (and OS-specific diagnostics, for MSWin32):
$^X = /home/tom/perl5/perlbrew/perls/perl-5.20.2/bin/perl
$UID/$EUID = 1000 / 1000
$GID = 1000 4 24 27 29 30 46 108 110 999 1000
$EGID = 1000 4 24 27 29 30 46 108 110 999 1000
Perl module toolchain versions installed:
Module Have
------------------- --------
CPAN 2.10
CPAN::Meta 2.150005
Cwd 3.47
ExtUtils::CBuilder 0.280217
ExtUtils::Command 1.18
ExtUtils::Install 1.67
ExtUtils::MakeMaker 7.04
ExtUtils::Manifest 1.70
ExtUtils::ParseXS 3.24
File::Spec 3.47
JSON 2.90
JSON::PP 2.27203
Module::Build 0.4211
Module::Signature 0.73
Parse::CPAN::Meta 1.4414
Test::Harness 3.35
Test::More 1.001014
YAML 1.15
YAML::Syck 1.29
version 0.9909
--
Summary of my perl5 (revision 5 version 20 subversion 2) configuration:
Platform:
osname=linux, osvers=3.13.0-37-generic, archname=x86_64-linux
uname='linux roku 3.13.0-37-generic #64-ubuntu smp mon sep 22 21:28:38 utc 2014 x86_64 x86_64 x86_64 gnulinux '
config_args='-de -Dprefix=/home/tom/perl5/perlbrew/perls/perl-5.20.2 -Aeval:scriptdir=/home/tom/perl5/perlbrew/perls/perl-5.20.2/bin'
hint=recommended, useposix=true, d_sigaction=define
useithreads=undef, usemultiplicity=undef
use64bitint=define, use64bitall=define, uselongdouble=undef
usemymalloc=n, bincompat5005=undef
Compiler:
cc='cc', ccflags ='-fwrapv -fno-strict-aliasing -pipe -fstack-protector -I/usr/local/include -D_LARGEFILE_SOURCE -D_FILE_OFFSET_BITS=64',
optimize='-O2',
cppflags='-fwrapv -fno-strict-aliasing -pipe -fstack-protector -I/usr/local/include'
ccversion='', gccversion='4.8.2', gccosandvers=''
intsize=4, longsize=8, ptrsize=8, doublesize=8, byteorder=12345678
d_longlong=define, longlongsize=8, d_longdbl=define, longdblsize=16
ivtype='long', ivsize=8, nvtype='double', nvsize=8, Off_t='off_t', lseeksize=8
alignbytes=8, prototype=define
Linker and Libraries:
ld='cc', ldflags =' -fstack-protector -L/usr/local/lib'
libpth=/usr/local/lib /usr/lib/gcc/x86_64-linux-gnu/4.8/include-fixed /usr/include/x86_64-linux-gnu /usr/lib /lib/x86_64-linux-gnu /lib/../lib /usr/lib/x86_64-linux-gnu /usr/lib/../lib /lib
libs=-lnsl -ldb -ldl -lm -lcrypt -lutil -lc
perllibs=-lnsl -ldl -lm -lcrypt -lutil -lc
libc=libc-2.19.so, so=so, useshrplib=false, libperl=libperl.a
gnulibc_version='2.19'
Dynamic Linking:
dlsrc=dl_dlopen.xs, dlext=so, d_dlsymun=undef, ccdlflags='-Wl,-E'
cccdlflags='-fPIC', lddlflags='-shared -O2 -L/usr/local/lib -fstack-protector'
Characteristics of this binary (from libperl):
Compile-time options: HAS_TIMES PERLIO_LAYERS PERL_DONT_CREATE_GVSV
PERL_HASH_FUNC_ONE_AT_A_TIME_HARD PERL_MALLOC_WRAP
PERL_NEW_COPY_ON_WRITE PERL_PRESERVE_IVUV
USE_64_BIT_ALL USE_64_BIT_INT USE_LARGE_FILES
USE_LOCALE USE_LOCALE_COLLATE USE_LOCALE_CTYPE
USE_LOCALE_NUMERIC USE_PERLIO USE_PERL_ATOF
Locally applied patches:
Devel::PatchPerl 1.30
Built under linux
Compiled at Feb 27 2015 14:18:54
%ENV:
PERL5LIB="/home/tom/dev/local-lib/5.20.2/lib/perl5:/home/tom/dev/local-lib/5.20.2/lib/perl5"
PERL5OPT=""
PERL5_CPANPLUS_IS_RUNNING="29919"
PERL5_CPAN_IS_RUNNING="29919"
PERLBREW_BASHRC_VERSION="0.73"
PERLBREW_HOME="/home/tom/.perlbrew"
PERLBREW_MANPATH="/home/tom/perl5/perlbrew/perls/perl-5.20.2/man"
PERLBREW_PATH="/home/tom/perl5/perlbrew/bin:/home/tom/perl5/perlbrew/perls/perl-5.20.2/bin"
PERLBREW_PERL="perl-5.20.2"
PERLBREW_ROOT="/home/tom/perl5/perlbrew"
PERLBREW_VERSION="0.73"
PERL_CPANM_OPT="--mirror http://cpan.perlsite.co.uk --mirror-only"
PERL_LOCAL_LIB_ROOT="/home/tom/dev/local-lib/5.20.2:/home/tom/dev/local-lib/5.20.2"
PERL_LWP_SSL_VERIFY_HOSTNAME="0"
PERL_MB_OPT="--install_base "/home/tom/dev/local-lib/5.20.2""
PERL_MM_OPT="INSTALL_BASE=/home/tom/dev/local-lib/5.20.2"
PERL_MM_USE_DEFAULT="1"
@INC:
/home/tom/dev/local-lib/5.20.2/lib/perl5/x86_64-linux
/home/tom/dev/local-lib/5.20.2/lib/perl5
/home/tom/dev/local-lib/5.20.2/lib/perl5/x86_64-linux
/home/tom/dev/local-lib/5.20.2/lib/perl5
/home/tom/perl5/perlbrew/perls/perl-5.20.2/lib/site_perl/5.20.2/x86_64-linux
/home/tom/perl5/perlbrew/perls/perl-5.20.2/lib/site_perl/5.20.2
/home/tom/perl5/perlbrew/perls/perl-5.20.2/lib/5.20.2/x86_64-linux
/home/tom/perl5/perlbrew/perls/perl-5.20.2/lib/5.20.2
.