POE-Component-Client-SMTP v0.22 Perl 5 v5.29.3 x86_64-linux-thread-multi-ld
- Status
- Pass
- From
- Andreas J. König (ANDK)
- Dist
-
POE-Component-Client-SMTP v0.22
- Platform
- Perl 5 v5.29.3 x86_64-linux-thread-multi-ld
- Date
- 2018-08-29 13:16:15
- ID
- b56a9d6a-ab8d-11e8-b60c-14c6888e715b
This distribution has been tested as part of the CPAN Testers
project, supporting the Perl programming language. See
http://wiki.cpantesters.org/ for more information or email
questions to cpan-testers-discuss@perl.org
--
Dear George Patrascan,
This is a computer-generated report for POE-Component-Client-SMTP-0.22
on perl 5.29.3, created by CPAN-Reporter-1.2018.
Thank you for uploading your work to CPAN. Congratulations!
All tests were successful.
Sections of this report:
* Tester comments
* Program output
* Prerequisites
* Environment and other context
------------------------------
TESTER COMMENTS
------------------------------
Additional comments from tester:
this report is from an automated smoke testing program
and was not reviewed by a human for accuracy
------------------------------
PROGRAM OUTPUT
------------------------------
Output from './Build test':
# Testing POE::Component::Client::SMTP 0.22, Perl 5.029003, /tmp/basesmoker-reloperl-7F58/bin/perl
t/00-load.t ......................... ok
ClientFilter ignored with ClientInputFilter and ClientOutputFilter at t/010-send-simple.t line 58.
t/010-send-simple.t ................. ok
ClientFilter ignored with ClientInputFilter and ClientOutputFilter at t/015-receive-5XY-code.t line 59.
t/015-receive-5XY-code.t ............ ok
ClientFilter ignored with ClientInputFilter and ClientOutputFilter at t/015-receive-DATA-5XY-code.t line 59.
t/015-receive-DATA-5XY-code.t ....... ok
ClientFilter ignored with ClientInputFilter and ClientOutputFilter at t/017-unknown-code.t line 60.
t/017-unknown-code.t ................ ok
t/018-consolidated_error_message.t .. ok
ClientFilter ignored with ClientInputFilter and ClientOutputFilter at t/020-send-using-all-params.t line 59.
# All Params
t/020-send-using-all-params.t ....... ok
ClientFilter ignored with ClientInputFilter and ClientOutputFilter at t/025-timeout.t line 29.
t/025-timeout.t ..................... ok
ClientFilter ignored with ClientInputFilter and ClientOutputFilter at t/030-auth-plain1.t line 77.
# Test PLAIN AUTH
t/030-auth-plain1.t ................. ok
ClientFilter ignored with ClientInputFilter and ClientOutputFilter at t/040-transaction-log.t line 71.
t/040-transaction-log.t ............. ok
ClientFilter ignored with ClientInputFilter and ClientOutputFilter at t/045-messagefile-filehandle.t line 68.
t/045-messagefile-filehandle.t ...... ok
ClientFilter ignored with ClientInputFilter and ClientOutputFilter at t/050-send-with-bcc-cc.t line 58.
# Send, To, CC, BCC
t/050-send-with-bcc-cc.t ............ ok
ClientFilter ignored with ClientInputFilter and ClientOutputFilter at t/060-send-defaults.t line 75.
# Defaults
t/060-send-defaults.t ............... ok
ClientFilter ignored with ClientInputFilter and ClientOutputFilter at t/070-test-error-return.t line 59.
t/070-test-error-return.t ........... ok
# Testing SMTP Transparency
# using POE::Component::Client::SMTP VERSION: 0.22
t/080-transparent.t ................. ok
# Using POE::Component::Client::SMTP version: 0.22
t/085-transparent_file.t ............ ok
# Using POE::Component::Client::SMTP version: 0.22
t/090-server_drops_data.t ........... ok
t/pod-coverage.t .................... ok
t/pod.t ............................. ok
All tests successful.
Files=19, Tests=67, 6 wallclock secs ( 0.05 usr 0.13 sys + 1.95 cusr 0.49 csys = 2.62 CPU)
Result: PASS
------------------------------
PREREQUISITES
------------------------------
Prerequisite modules loaded:
requires:
Module Need Have
------------------------------ ---- --------
Carp 0 1.50
Data::Dumper 0 2.171
perl 0 5.029003
POE 0.26 1.367
POE::Filter::Line 0 1.367
POE::Filter::Stream 0 1.367
POE::Filter::Transparent::SMTP 0.2 0.2
POE::Wheel::ReadWrite 0 1.367
POE::Wheel::SocketFactory 0 1.367
Socket 0 2.027
Symbol 0 1.08
Test::More 0 1.302140
configure_requires:
Module Need Have
------------------------------ ---- --------
ExtUtils::MakeMaker 0 7.34
------------------------------
ENVIRONMENT AND OTHER CONTEXT
------------------------------
Environment variables:
AUTOMATED_TESTING = 1
LANG = en_US.UTF-8
PATH = /home/sand/bin:/usr/local/bin:/usr/bin:/bin:/usr/games:/usr/local/perl/bin:/usr/X11/bin:/sbin:/usr/sbin
PERL5LIB =
PERL5OPT =
PERL5_CPANPLUS_IS_RUNNING = 24322
PERL5_CPAN_IS_RUNNING = 24322
PERL_CANARY_STABILITY_NOPROMPT = 1
PERL_MM_USE_DEFAULT = 1
PERL_USE_UNSAFE_INC = 1
SHELL = /usr/bin/zsh
TERM = screen
Perl special variables (and OS-specific diagnostics, for MSWin32):
$^X = /tmp/basesmoker-reloperl-7F58/bin/perl
$UID/$EUID = 1005 / 1005
$GID = 1005 1005
$EGID = 1005 1005
Perl module toolchain versions installed:
Module Have
------------------- --------
CPAN 2.20
CPAN::Meta 2.150010
Cwd 3.75
ExtUtils::CBuilder 0.280230
ExtUtils::Command 7.34
ExtUtils::Install 2.14
ExtUtils::MakeMaker 7.34
ExtUtils::Manifest 1.71
ExtUtils::ParseXS 3.39
File::Spec 3.75
JSON 2.97001
JSON::PP 2.97001
Module::Build 0.4224
Module::Signature 0.82
Parse::CPAN::Meta 2.150010
Test::Harness 3.42
Test::More 1.302140
YAML 1.26
YAML::Syck 1.30
version 0.9924
--
Summary of my perl5 (revision 5 version 29 subversion 3) configuration:
Commit id: effe213a108212a3be7ff1674b2ea34fc8babb02
Platform:
osname=linux
osvers=4.14.0-3-amd64
archname=x86_64-linux-thread-multi-ld
uname='linux k93msid 4.14.0-3-amd64 #1 smp debian 4.14.12-2 (2018-01-06) x86_64 gnulinux '
config_args='-Dprefix=/home/sand/src/perl/repoperls/installed-perls/host/k93msid/v5.29.2-34-geffe213a10/8854 -Dmyhostname=k93msid -Dinstallusrbinperl=n -Uversiononly -Dusedevel -des -Ui_db -Dlibswanted=cl pthread socket inet nsl gdbm dbm malloc dl ld sun m crypt sec util c cposix posix ucb BSD gdbm_compat -Duseithreads -Duselongdouble -DEBUGGING=-g'
hint=recommended
useposix=true
d_sigaction=define
useithreads=define
usemultiplicity=define
use64bitint=define
use64bitall=define
uselongdouble=define
usemymalloc=n
default_inc_excludes_dot=define
bincompat5005=undef
Compiler:
cc='cc'
ccflags ='-D_REENTRANT -D_GNU_SOURCE -fwrapv -fno-strict-aliasing -pipe -fstack-protector-strong -I/usr/local/include -D_LARGEFILE_SOURCE -D_FILE_OFFSET_BITS=64 -D_FORTIFY_SOURCE=2'
optimize='-O2 -g'
cppflags='-D_REENTRANT -D_GNU_SOURCE -fwrapv -fno-strict-aliasing -pipe -fstack-protector-strong -I/usr/local/include'
ccversion=''
gccversion='7.2.0'
gccosandvers=''
intsize=4
longsize=8
ptrsize=8
doublesize=8
byteorder=12345678
doublekind=3
d_longlong=define
longlongsize=8
d_longdbl=define
longdblsize=16
longdblkind=3
ivtype='long'
ivsize=8
nvtype='long double'
nvsize=16
Off_t='off_t'
lseeksize=8
alignbytes=16
prototype=define
Linker and Libraries:
ld='cc'
ldflags =' -fstack-protector-strong -L/usr/local/lib'
libpth=/usr/local/lib /usr/lib/gcc/x86_64-linux-gnu/7/include-fixed /usr/include/x86_64-linux-gnu /usr/lib /lib/x86_64-linux-gnu /lib/../lib /usr/lib/x86_64-linux-gnu /usr/lib/../lib /lib
libs=-lpthread -lnsl -ldl -lm -lcrypt -lutil -lc
perllibs=-lpthread -lnsl -ldl -lm -lcrypt -lutil -lc
libc=libc-2.26.so
so=so
useshrplib=false
libperl=libperl.a
gnulibc_version='2.26'
Dynamic Linking:
dlsrc=dl_dlopen.xs
dlext=so
d_dlsymun=undef
ccdlflags='-Wl,-E'
cccdlflags='-fPIC'
lddlflags='-shared -O2 -g -L/usr/local/lib -fstack-protector-strong'
Characteristics of this binary (from libperl):
Compile-time options:
HAS_TIMES
MULTIPLICITY
PERLIO_LAYERS
PERL_COPY_ON_WRITE
PERL_DONT_CREATE_GVSV
PERL_IMPLICIT_CONTEXT
PERL_MALLOC_WRAP
PERL_OP_PARENT
PERL_PRESERVE_IVUV
PERL_USE_DEVEL
USE_64_BIT_ALL
USE_64_BIT_INT
USE_ITHREADS
USE_LARGE_FILES
USE_LOCALE
USE_LOCALE_COLLATE
USE_LOCALE_CTYPE
USE_LOCALE_NUMERIC
USE_LOCALE_TIME
USE_LONG_DOUBLE
USE_PERLIO
USE_PERL_ATOF
USE_REENTRANT_API
Built under linux
Compiled at Aug 27 2018 21:18:58
%ENV:
PERL5LIB=""
PERL5OPT=""
PERL5_CPANPLUS_IS_RUNNING="24322"
PERL5_CPAN_IS_RUNNING="24322"
PERL_CANARY_STABILITY_NOPROMPT="1"
PERL_MM_USE_DEFAULT="1"
PERL_USE_UNSAFE_INC="1"
@INC:
/home/sand/src/perl/repoperls/installed-perls/host/k93msid/v5.29.2-34-geffe213a10/8854/lib/site_perl/5.29.3/x86_64-linux-thread-multi-ld
/home/sand/src/perl/repoperls/installed-perls/host/k93msid/v5.29.2-34-geffe213a10/8854/lib/site_perl/5.29.3
/home/sand/src/perl/repoperls/installed-perls/host/k93msid/v5.29.2-34-geffe213a10/8854/lib/5.29.3/x86_64-linux-thread-multi-ld
/home/sand/src/perl/repoperls/installed-perls/host/k93msid/v5.29.2-34-geffe213a10/8854/lib/5.29.3
.