HTML-FormatExternal v26 Perl 5 v5.20.2 x86_64-linux
- Status
- Pass
- From
- Chris Williams (BINGOS)
- Dist
-
HTML-FormatExternal v26
- Platform
- Perl 5 v5.20.2 x86_64-linux
- Date
- 2020-10-09 23:54:03
- ID
- b56a90d2-0a8a-11eb-a9f9-f9eb91108de4
This distribution has been tested as part of the CPAN Testers
project, supporting the Perl programming language. See
http://wiki.cpantesters.org/ for more information or email
questions to cpan-testers-discuss@perl.org
--
Dear Kevin Ryde,
This is a computer-generated error report created automatically by
CPANPLUS, version 0.9908. Testers personal comments may appear
at the end of this report.
Thank you for uploading your work to CPAN. Congratulations!
All tests were successful.
TEST RESULTS:
Below is the error stack from stage 'make test':
PERL_DL_NONLAZY=1 "/home/cpan/pit/bare/perl-5.20.2/bin/perl" "-MExtUtils::Command::MM" "-MTest::Harness" "-e" "undef *Test::Harness::Switches; test_harness(0, 'blib/lib', 'blib/arch')" t/*.t
t/Elinks.t .......... ok
# HTML::FormatText::Elinks
# HTML::FormatText::Elinks program_full_version $VAR1 = undef;
# HTML::FormatText::Elinks program_version $VAR1 = undef;
# HTML::FormatText::Html2text
# HTML::FormatText::Html2text program_full_version $VAR1 = undef;
# HTML::FormatText::Html2text program_version $VAR1 = undef;
# HTML::FormatText::Html2text _have_ascii() no
# HTML::FormatText::Links
# HTML::FormatText::Links program_full_version $VAR1 = 'Links 2.20.2
# ';
# HTML::FormatText::Links program_version $VAR1 = '2.20.2';
# HTML::FormatText::Links _have_html_margin() yes
# $output = "123 567 9012\nabc def ghij\n";
# Colon character is ordinary in filenames: 0
# Temporary directory /tmp/ixLloROWBP
# HTML::FormatText::Lynx
# HTML::FormatText::Lynx program_full_version $VAR1 = 'Lynx Version 2.8.9rel.1 (08 Jul 2018)
# libwww-FM 2.14, SSL-MM 1.4.1, OpenSSL 1.1.1g, ncurses 6.2.20200523
# Built on linux-musl (Dec 21 2019 18:16:14).
#
# Copyrights held by the Lynx Developers Group,
# the University of Kansas, CERN, and other contributors.
# Distributed under the GNU General Public License (Version 2).
# See https://lynx.invisible-island.net/ and the online help for more information.
#
# See http://www.openssl.org/ for information about OpenSSL.
# ';
# HTML::FormatText::Lynx program_version $VAR1 = '2.8.9rel.1';
# HTML::FormatText::Lynx _have_nomargins() yes
# $output = "123 567 9012\nabc def ghij\n";
# Colon character is ordinary in filenames: 0
# Temporary directory /tmp/rCtF1SkZwR
# HTML::FormatText::Netrik
# HTML::FormatText::Netrik program_full_version $VAR1 = undef;
# HTML::FormatText::Netrik program_version $VAR1 = undef;
# HTML::FormatText::W3m
# HTML::FormatText::W3m program_full_version $VAR1 = undef;
# HTML::FormatText::W3m program_version $VAR1 = undef;
# HTML::FormatText::Zen
# HTML::FormatText::Zen program_full_version $VAR1 = undef;
# HTML::FormatText::Zen program_version $VAR1 = undef;
t/FormatExternal.t .. ok
t/Links.t ........... ok
# HTML::FormatText::W3m
t/taint.t ........... skipped: due to Taint::Util not available
# HTML::FormatText::W3m
t/wide.t ............ skipped: due to HTML::FormatText::W3m program not available
All tests successful.
Files=5, Tests=303, 0 wallclock secs ( 0.04 usr 0.01 sys + 0.50 cusr 0.14 csys = 0.69 CPU)
Result: PASS
PREREQUISITES:
Here is a list of prerequisites you specified and versions we
managed to load:
Module Name Have Want
ExtUtils::MakeMaker 7.48 0
File::Spec 3.75 0.8
File::Temp 0.2311 0.18
IPC::Run 20200505.0 0
Test::More 1.302181 0
URI::file 4.21 0.08
constant::defer 6 0
Perl module toolchain versions installed:
Module Name Have
CPANPLUS 0.9908
CPANPLUS::Dist::Build 0.90
Cwd 3.75
ExtUtils::CBuilder 0.280234
ExtUtils::Command 7.48
ExtUtils::Install 2.18
ExtUtils::MakeMaker 7.48
ExtUtils::Manifest 1.72
ExtUtils::ParseXS 3.35
File::Spec 3.75
Module::Build 0.4231
Pod::Parser 1.62
Pod::Simple 3.28
Test2 1.302181
Test::Harness 3.42
Test::More 1.302181
version 0.9928
******************************** NOTE ********************************
The comments above are created mechanically, possibly without manual
checking by the sender. As there are many people performing automatic
tests on each upload to CPAN, it is likely that you will receive
identical messages about the same problem.
If you believe that the message is mistaken, please reply to the first
one with correction and/or additional informations, and do not take
it personally. We appreciate your patience. :)
**********************************************************************
Additional comments:
This report was machine-generated by CPANPLUS::Dist::YACSmoke 1.08.
Powered by minismokebox version 0.68
CPANPLUS is prefering Build.PL
------------------------------
ENVIRONMENT AND OTHER CONTEXT
------------------------------
Environment variables:
AUTOMATED_TESTING = 1
LANG = C.UTF-8
LC_COLLATE = C
NONINTERACTIVE_TESTING = 1
PATH = /usr/local/sbin:/usr/local/bin:/usr/sbin:/usr/bin:/sbin:/bin
PERL5LIB = /home/cpan/pit/jail/ycq8Gy0l6r/lib/perl5:/home/cpan/pit/bare/conf/perl-5.20.2/.cpanplus/5.20.2/build/4TFqqWpTIY/HTML-FormatExternal-26/blib/lib:/home/cpan/pit/bare/conf/perl-5.20.2/.cpanplus/5.20.2/build/4TFqqWpTIY/HTML-FormatExternal-26/blib/arch
PERL5_CPANPLUS_IS_RUNNING = 27512
PERL5_CPANPLUS_IS_VERSION = 0.9908
PERL5_MINISMOKEBOX = 0.68
PERL5_YACSMOKE_BASE = /home/cpan/pit/bare/conf/perl-5.20.2
PERL_EXTUTILS_AUTOINSTALL = --defaultdeps
PERL_LOCAL_LIB_ROOT = /home/cpan/pit/jail/ycq8Gy0l6r
PERL_MB_OPT = --install_base "/home/cpan/pit/jail/ycq8Gy0l6r"
PERL_MM_OPT = INSTALL_BASE=/home/cpan/pit/jail/ycq8Gy0l6r
PERL_MM_USE_DEFAULT = 1
PERL_USE_UNSAFE_INC = 1
SHELL = /bin/bash
TERM = screen
Perl special variables (and OS-specific diagnostics, for MSWin32):
Perl: $^X = /home/cpan/pit/bare/perl-5.20.2/bin/perl
UID: $< = 1001
EUID: $> = 1001
GID: $( = 1001 1001
EGID: $) = 1001 1001
-------------------------------
--
Summary of my perl5 (revision 5 version 20 subversion 2) configuration:
Platform:
osname=linux, osvers=5.4.12-1-lts, archname=x86_64-linux
uname='linux august 5.4.12-1-lts #2-alpine smp thu, 16 jan 2020 12:53:54 utc x86_64 linux '
config_args='-des -Dprefix=/home/cpan/pit/bare/perl-5.20.2'
hint=recommended, useposix=true, d_sigaction=define
useithreads=undef, usemultiplicity=undef
use64bitint=define, use64bitall=define, uselongdouble=undef
usemymalloc=n, bincompat5005=undef
Compiler:
cc='cc', ccflags ='-D_GNU_SOURCE -fwrapv -fno-strict-aliasing -pipe -fstack-protector -D_LARGEFILE_SOURCE -D_FILE_OFFSET_BITS=64',
optimize='-O2',
cppflags='-D_GNU_SOURCE -fwrapv -fno-strict-aliasing -pipe -fstack-protector'
ccversion='', gccversion='9.2.0', gccosandvers=''
intsize=4, longsize=8, ptrsize=8, doublesize=8, byteorder=12345678
d_longlong=define, longlongsize=8, d_longdbl=define, longdblsize=16
ivtype='long', ivsize=8, nvtype='double', nvsize=8, Off_t='off_t', lseeksize=8
alignbytes=8, prototype=define
Linker and Libraries:
ld='cc', ldflags =' -fstack-protector -L/usr/local/lib'
libpth=/usr/include/fortify /usr/lib /usr/local/lib /lib/../lib /usr/lib/../lib /lib
libs=-lgdbm -ldl -lm -lcrypt -lutil -lc -lgdbm_compat
perllibs=-ldl -lm -lcrypt -lutil -lc
libc=/usr/lib/libc.a, so=so, useshrplib=false, libperl=libperl.a
gnulibc_version=''
Dynamic Linking:
dlsrc=dl_dlopen.xs, dlext=so, d_dlsymun=undef, ccdlflags='-Wl,-E'
cccdlflags='-fPIC', lddlflags='-shared -O2 -L/usr/local/lib -fstack-protector'
Characteristics of this binary (from libperl):
Compile-time options: HAS_TIMES PERLIO_LAYERS PERL_DONT_CREATE_GVSV
PERL_HASH_FUNC_ONE_AT_A_TIME_HARD PERL_MALLOC_WRAP
PERL_NEW_COPY_ON_WRITE PERL_PRESERVE_IVUV
USE_64_BIT_ALL USE_64_BIT_INT USE_LARGE_FILES
USE_LOCALE USE_LOCALE_COLLATE USE_LOCALE_CTYPE
USE_LOCALE_NUMERIC USE_PERLIO USE_PERL_ATOF
Locally applied patches:
Devel::PatchPerl 1.82
Built under linux
Compiled at Jan 28 2020 22:47:46
%ENV:
PERL5LIB="/home/cpan/pit/jail/ycq8Gy0l6r/lib/perl5:/home/cpan/pit/bare/conf/perl-5.20.2/.cpanplus/5.20.2/build/4TFqqWpTIY/HTML-FormatExternal-26/blib/lib:/home/cpan/pit/bare/conf/perl-5.20.2/.cpanplus/5.20.2/build/4TFqqWpTIY/HTML-FormatExternal-26/blib/arch"
PERL5_CPANPLUS_IS_RUNNING="27512"
PERL5_CPANPLUS_IS_VERSION="0.9908"
PERL5_MINISMOKEBOX="0.68"
PERL5_YACSMOKE_BASE="/home/cpan/pit/bare/conf/perl-5.20.2"
PERL_EXTUTILS_AUTOINSTALL="--defaultdeps"
PERL_LOCAL_LIB_ROOT="/home/cpan/pit/jail/ycq8Gy0l6r"
PERL_MB_OPT="--install_base "/home/cpan/pit/jail/ycq8Gy0l6r""
PERL_MM_OPT="INSTALL_BASE=/home/cpan/pit/jail/ycq8Gy0l6r"
PERL_MM_USE_DEFAULT="1"
PERL_USE_UNSAFE_INC="1"
@INC:
/home/cpan/pit/jail/ycq8Gy0l6r/lib/perl5/5.20.2/x86_64-linux
/home/cpan/pit/jail/ycq8Gy0l6r/lib/perl5/5.20.2
/home/cpan/pit/jail/ycq8Gy0l6r/lib/perl5/x86_64-linux
/home/cpan/pit/jail/ycq8Gy0l6r/lib/perl5
/home/cpan/pit/bare/conf/perl-5.20.2/.cpanplus/5.20.2/build/4TFqqWpTIY/HTML-FormatExternal-26/blib/lib
/home/cpan/pit/bare/conf/perl-5.20.2/.cpanplus/5.20.2/build/4TFqqWpTIY/HTML-FormatExternal-26/blib/arch
/home/cpan/pit/bare/perl-5.20.2/lib/site_perl/5.20.2/x86_64-linux
/home/cpan/pit/bare/perl-5.20.2/lib/site_perl/5.20.2
/home/cpan/pit/bare/perl-5.20.2/lib/5.20.2/x86_64-linux
/home/cpan/pit/bare/perl-5.20.2/lib/5.20.2
.