IO-stringy v2.111 Perl 5 v5.26.1 x86_64-linux-thread-multi
- Status
- Pass
- From
- Nigel Horne
- Dist
-
IO-stringy v2.111
- Platform
- Perl 5 v5.26.1 x86_64-linux-thread-multi
- Date
- 2017-09-28 14:52:54
- ID
- b557c80e-a45c-11e7-8929-daabf0ac1f1e
This distribution has been tested as part of the CPAN Testers
project, supporting the Perl programming language. See
http://wiki.cpantesters.org/ for more information or email
questions to cpan-testers-discuss@perl.org
--
Dear Dianne Skoll,
This is a computer-generated report for IO-stringy-2.111
on perl 5.26.1, created by CPAN-Reporter-1.2018.
Thank you for uploading your work to CPAN. Congratulations!
All tests were successful.
Sections of this report:
* Tester comments
* Program output
* Prerequisites
* Environment and other context
------------------------------
TESTER COMMENTS
------------------------------
Additional comments from tester:
this report is from an automated smoke testing program
and was not reviewed by a human for accuracy
------------------------------
PROGRAM OUTPUT
------------------------------
Output from '/usr/bin/make test':
pp_hot.c:4143:6: runtime error: null pointer passed as argument 1, which is declared to never be null
PERL_DL_NONLAZY=1 "/usr/bin/perl" "-MExtUtils::Command::MM" "-MTest::Harness" "-e" "undef *Test::Harness::Switches; test_harness(0, 'blib/lib', 'blib/arch')" t/*.t
t/IO_InnerFile.t .... ok
t/IO_Lines.t ........ ok
t/IO_WrapTie.t ...... ok
t/IO_Scalar.t ....... ok
t/IO_ScalarArray.t .. ok
t/simple.t .......... ok
t/two.t ............. ok
All tests successful.
Files=7, Tests=125, 0 wallclock secs ( 0.03 usr 0.01 sys + 0.15 cusr 0.01 csys = 0.20 CPU)
Result: PASS
------------------------------
PREREQUISITES
------------------------------
Prerequisite modules loaded:
build_requires:
Module Need Have
------------------- ---- ----
ExtUtils::MakeMaker 0 7.30
configure_requires:
Module Need Have
------------------- ---- ----
ExtUtils::MakeMaker 0 7.30
------------------------------
ENVIRONMENT AND OTHER CONTEXT
------------------------------
Environment variables:
AUTOMATED_TESTING = 1
HARNESS_OPTIONS = j10
LANG = en_GB.UTF-8
PATH = /home/njh/perl5/perlbrew/bin:/home/njh/perl5/perlbrew/perls/perl-5.26.1-sanitize-undefined/bin:/home/njh/perl5/perlbrew/bin:/usr/bin:/bin
PERL5LIB = /tmp/build/Module-Build-Tiny-0.039-5/blib/arch:/tmp/build/Module-Build-Tiny-0.039-5/blib/lib:/tmp/build/ExtUtils-InstallPaths-0.011-5/blib/arch:/tmp/build/ExtUtils-InstallPaths-0.011-5/blib/lib:/tmp/build/ExtUtils-Helpers-0.026-5/blib/arch:/tmp/build/ExtUtils-Helpers-0.026-5/blib/lib:/tmp/build/ExtUtils-Config-0.008-5/blib/arch:/tmp/build/ExtUtils-Config-0.008-5/blib/lib
PERL5OPT =
PERL5_CPANPLUS_IS_RUNNING = 6896
PERL5_CPAN_IS_RUNNING = 6896
PERLBREW_BASHRC_VERSION = 0.80
PERLBREW_HOME = /home/njh/.perlbrew
PERLBREW_LIB =
PERLBREW_MANPATH = /home/njh/perl5/perlbrew/perls/perl-5.26.1-sanitize-undefined/man
PERLBREW_PATH = /home/njh/perl5/perlbrew/bin:/home/njh/perl5/perlbrew/perls/perl-5.26.1-sanitize-undefined/bin
PERLBREW_PERL = perl-5.26.1-sanitize-undefined
PERLBREW_ROOT = /home/njh/perl5/perlbrew
PERLBREW_VERSION = 0.80
PERL_LOCAL_LIB_ROOT =
PERL_USE_UNSAFE_INC = 1
SHELL = /bin/sh
Perl special variables (and OS-specific diagnostics, for MSWin32):
$^X = /home/njh/perl5/perlbrew/perls/perl-5.26.1-sanitize-undefined/bin/perl
$UID/$EUID = 1000 / 1000
$GID = 1000 4 24 25 29 30 44 46 107 112 118 1000
$EGID = 1000 4 24 25 29 30 44 46 107 112 118 1000
Perl module toolchain versions installed:
Module Have
------------------- ----------
CPAN 2.18
CPAN::Meta 2.150010
Cwd 3.67
ExtUtils::CBuilder 0.280226
ExtUtils::Command 7.30
ExtUtils::Install 2.06
ExtUtils::MakeMaker 7.30
ExtUtils::Manifest 1.70
ExtUtils::ParseXS 3.34
File::Spec 3.67
JSON 2.94
JSON::PP 2.27400_02
Module::Build 0.4224
Module::Signature n/a
Parse::CPAN::Meta 2.150010
Test::Harness 3.39
Test::More 1.302096
YAML n/a
YAML::Syck 1.30
version 0.9917
--
Summary of my perl5 (revision 5 version 26 subversion 1) configuration:
Platform:
osname=linux
osvers=4.12.0-2-amd64
archname=x86_64-linux-thread-multi
uname='linux microcenter 4.12.0-2-amd64 #1 smp debian 4.12.13-1 (2017-09-19) x86_64 gnulinux '
config_args='-de -Dprefix=/home/njh/perl5/perlbrew/perls/perl-5.26.1-sanitize-undefined -Duseithreads -Dusedevel -Accflags=-fsanitize=undefined -g -O2 -lubsan -Acc=gcc-7 -Aldflags=-fsanitize=undefined -g -lubsan -Alddlflags=-shared -O2 -L/usr/local/lib -fstack-protector-strong -fsanitize=undefined -g -lubsan -Aeval:scriptdir=/home/njh/perl5/perlbrew/perls/perl-5.26.1-sanitize-undefined/bin'
hint=recommended
useposix=true
d_sigaction=define
useithreads=define
usemultiplicity=define
use64bitint=define
use64bitall=define
uselongdouble=undef
usemymalloc=n
default_inc_excludes_dot=define
bincompat5005=undef
Compiler:
cc=' gcc-7'
ccflags ='-D_REENTRANT -D_GNU_SOURCE -fsanitize=undefined -g -O2 -lubsan -fno-strict-aliasing -pipe -fstack-protector-strong -I/usr/local/include -D_LARGEFILE_SOURCE -D_FILE_OFFSET_BITS=64 -D_FORTIFY_SOURCE=2'
optimize='-O2'
cppflags='-D_REENTRANT -D_GNU_SOURCE -fsanitize=undefined -g -O2 -lubsan -fno-strict-aliasing -pipe -fstack-protector-strong -I/usr/local/include'
ccversion=''
gccversion='7.2.0'
gccosandvers=''
intsize=4
longsize=8
ptrsize=8
doublesize=8
byteorder=12345678
doublekind=3
d_longlong=define
longlongsize=8
d_longdbl=define
longdblsize=16
longdblkind=3
ivtype='long'
ivsize=8
nvtype='double'
nvsize=8
Off_t='off_t'
lseeksize=8
alignbytes=8
prototype=define
Linker and Libraries:
ld=' gcc-7'
ldflags =' -fsanitize=undefined -g -lubsan -fstack-protector-strong -L/usr/local/lib'
libpth=/usr/local/lib /usr/lib/gcc/x86_64-linux-gnu/7/include-fixed /usr/include/x86_64-linux-gnu /usr/lib /lib/x86_64-linux-gnu /lib/../lib /usr/lib/x86_64-linux-gnu /usr/lib/../lib /lib
libs=-lpthread -lnsl -lgdbm -ldb -ldl -lm -lcrypt -lutil -lc -lgdbm_compat
perllibs=-lpthread -lnsl -ldl -lm -lcrypt -lutil -lc
libc=libc-2.24.so
so=so
useshrplib=false
libperl=libperl.a
gnulibc_version='2.24'
Dynamic Linking:
dlsrc=dl_dlopen.xs
dlext=so
d_dlsymun=undef
ccdlflags='-Wl,-E'
cccdlflags='-fPIC'
lddlflags=' -shared -O2 -L/usr/local/lib -fstack-protector-strong -fsanitize=undefined -g -lubsan'
Characteristics of this binary (from libperl):
Compile-time options:
HAS_TIMES
MULTIPLICITY
PERLIO_LAYERS
PERL_COPY_ON_WRITE
PERL_DONT_CREATE_GVSV
PERL_IMPLICIT_CONTEXT
PERL_MALLOC_WRAP
PERL_OP_PARENT
PERL_PRESERVE_IVUV
PERL_USE_DEVEL
USE_64_BIT_ALL
USE_64_BIT_INT
USE_ITHREADS
USE_LARGE_FILES
USE_LOCALE
USE_LOCALE_COLLATE
USE_LOCALE_CTYPE
USE_LOCALE_NUMERIC
USE_LOCALE_TIME
USE_PERLIO
USE_PERL_ATOF
USE_REENTRANT_API
Built under linux
Compiled at Sep 27 2017 17:48:45
%ENV:
PERL5LIB="/tmp/build/Module-Build-Tiny-0.039-5/blib/arch:/tmp/build/Module-Build-Tiny-0.039-5/blib/lib:/tmp/build/ExtUtils-InstallPaths-0.011-5/blib/arch:/tmp/build/ExtUtils-InstallPaths-0.011-5/blib/lib:/tmp/build/ExtUtils-Helpers-0.026-5/blib/arch:/tmp/build/ExtUtils-Helpers-0.026-5/blib/lib:/tmp/build/ExtUtils-Config-0.008-5/blib/arch:/tmp/build/ExtUtils-Config-0.008-5/blib/lib"
PERL5OPT=""
PERL5_CPANPLUS_IS_RUNNING="6896"
PERL5_CPAN_IS_RUNNING="6896"
PERLBREW_BASHRC_VERSION="0.80"
PERLBREW_HOME="/home/njh/.perlbrew"
PERLBREW_LIB=""
PERLBREW_MANPATH="/home/njh/perl5/perlbrew/perls/perl-5.26.1-sanitize-undefined/man"
PERLBREW_PATH="/home/njh/perl5/perlbrew/bin:/home/njh/perl5/perlbrew/perls/perl-5.26.1-sanitize-undefined/bin"
PERLBREW_PERL="perl-5.26.1-sanitize-undefined"
PERLBREW_ROOT="/home/njh/perl5/perlbrew"
PERLBREW_VERSION="0.80"
PERL_LOCAL_LIB_ROOT=""
PERL_USE_UNSAFE_INC="1"
@INC:
/tmp/build/Module-Build-Tiny-0.039-5/blib/arch
/tmp/build/Module-Build-Tiny-0.039-5/blib/lib
/tmp/build/ExtUtils-InstallPaths-0.011-5/blib/arch
/tmp/build/ExtUtils-InstallPaths-0.011-5/blib/lib
/tmp/build/ExtUtils-Helpers-0.026-5/blib/arch
/tmp/build/ExtUtils-Helpers-0.026-5/blib/lib
/tmp/build/ExtUtils-Config-0.008-5/blib/arch
/tmp/build/ExtUtils-Config-0.008-5/blib/lib
/home/njh/perl5/perlbrew/perls/perl-5.26.1-sanitize-undefined/lib/site_perl/5.26.1/x86_64-linux-thread-multi
/home/njh/perl5/perlbrew/perls/perl-5.26.1-sanitize-undefined/lib/site_perl/5.26.1
/home/njh/perl5/perlbrew/perls/perl-5.26.1-sanitize-undefined/lib/5.26.1/x86_64-linux-thread-multi
/home/njh/perl5/perlbrew/perls/perl-5.26.1-sanitize-undefined/lib/5.26.1
.