Report for POE-Component-SmokeBox-Recent-1.36

Back
From: metabase:user:30f4dfbe-2aae-11df-837a-5e0a49663a4f
Subject: PASS POE-Component-SmokeBox-Recent-1.36 v5.12.3 GNU/Linux
Date: 2011-12-26T20:03:41Z

This distribution has been tested as part of the CPAN Testers
project, supporting the Perl programming language.  See
http://wiki.cpantesters.org/ for more information or email
questions to cpan-testers-discuss@perl.org


--
Dear Chris Williams,

This is a computer-generated report for POE-Component-SmokeBox-Recent-1.36
on perl 5.12.3, created by CPAN-Reporter-1.2003.

Thank you for uploading your work to CPAN.  Congratulations!
All tests were successful.

Sections of this report:

    * Tester comments
    * Program output
    * Prerequisites
    * Environment and other context

------------------------------
TESTER COMMENTS
------------------------------

Additional comments from tester:

none provided

------------------------------
PROGRAM OUTPUT
------------------------------

Output from '/usr/bin/make test':

PERL_DL_NONLAZY=1 /home/njh/perl5/perlbrew/perls/perl-5.12.3/bin/perl "-MExtUtils::Command::MM" "-e" "test_harness(0, 'inc', 'blib/lib', 'blib/arch')" t/*.t
# Testing POE::Component::SmokeBox::Recent-1.36, POE-1.350, Perl 5.012003, /home/njh/perl5/perlbrew/perls/perl-5.12.3/bin/perl
t/00_use.t ............. ok
# 127.0.0.1,33942,127.0.0.1,33332
# GET ///pub/CPAN/RECENT
# Host: 127.0.0.1:33332
# User-Agent: POE-Component-SmokeBox-Recent-HTTP/1.36 (perl; N; POE; en; rv:1.360000)
# X-HTTP-Version: 1.1
# 
t/01_http.t ............ ok
# 400 Bad Request
# Connection: close
# Date: Mon, 26 Dec 2011 19:57:34 GMT
# Server: OpenDNS Guide
# Content-Length: 349
# Content-Type: text/html
# X-HTTP-Version: 1.0
# 
# <?xml version="1.0" encoding="iso-8859-1"?>
# <!DOCTYPE html PUBLIC "-//W3C//DTD XHTML 1.0 Transitional//EN"
#          "http://www.w3.org/TR/xhtml1/DTD/xhtml1-transitional.dtd">
# <html xmlns="http://www.w3.org/1999/xhtml" xml:lang="en" lang="en">
#  <head>
#   <title>400 - Bad Request</title>
#  </head>
#  <body>
#   <h1>400 - Bad Request</h1>
#  </body>
# </html>
t/01_http_sockerr.t .... ok
# 127.0.0.1,42713,127.0.0.1,35963
# GET ///pub/CPAN/RECENT
# Host: 127.0.0.1:35963
# User-Agent: POE-Component-SmokeBox-Recent-HTTP/1.36 (perl; N; POE; en; rv:1.360000)
# X-HTTP-Version: 1.1
# 
# Timed out connection after 10 seconds.
t/01_http_timeout.t .... ok
# 127.0.0.1,48108,127.0.0.1,34815
# USER anonymous
# PASS anon@anon.org
# PASV
# RETR /pub/CPAN/RECENT
# QUIT
t/01_retr.t ............ ok
t/01_retr_sockerr.t .... ok
# 127.0.0.1,49474,127.0.0.1,33145
# USER anonymous
# PASS anon@anon.org
# PASV
# RETR /pub/CPAN/RECENT
# QUIT
t/02_local_ftp.t ....... ok
Possible attempt to put comments in qw() list at t/02_local_ftp_rss.t line 72.
# 127.0.0.1,39318,127.0.0.1,49443
# USER anonymous
# PASS anon@anon.org
# PASV
# RETR /pub/CPAN/modules/01modules.mtime.rss
# QUIT
t/02_local_ftp_rss.t ... ok
# GET ///RECENT
# Host: 127.0.0.1:43289
# User-Agent: POE-Component-SmokeBox-Recent-HTTP/1.36 (perl; N; POE; en; rv:1.360000)
# X-HTTP-Version: 1.1
# 
t/03_local_http.t ...... ok
# GET ///modules/01modules.mtime.rss
# Host: 127.0.0.1:37898
# User-Agent: POE-Component-SmokeBox-Recent-HTTP/1.36 (perl; N; POE; en; rv:1.360000)
# X-HTTP-Version: 1.1
# 
t/03_local_http_rss.t .. ok
# A/AB/ABRAXXA/Catalyst-Controller-DBIC-API-2.004003.tar.gz
# A/AB/ABRAXXA/DBIx-Class-UUIDColumns-0.02006.tar.gz
# A/AG/AGORDON/Dancer-Plugin-EncodeID-0.02.tar.gz
# A/AK/AKALINUX/DBIx-BulkLoader-Mysql-1.006.tar.gz
# A/AK/AKALINUX/Data-Range-Compare-Stream-0.001.tar.gz
# A/AK/AKALINUX/Data-Range-Compare-Stream-0.002.tar.gz
# A/AK/AKALINUX/Data-Range-Compare-Stream-0.003.tar.gz
# A/AK/AKALINUX/Data-Range-Compare-Stream-0.004.tar.gz
# A/AK/AKALINUX/Data-Range-Compare-Stream-0.005.tar.gz
# A/AK/AKALINUX/Data-Range-Compare-Stream-0.006.tar.gz
# A/AL/ALEXBIO/Dist-Zilla-Plugin-GitHub-0.14.tar.gz
# A/AR/ARC/ex-monkeypatched-0.03.tar.gz
# A/AW/AWNCORP/MongoDBI-0.0.4.tar.gz
# A/AW/AWWAIID/Plack-Middleware-Scrutiny-0.02.tar.gz
# A/AZ/AZAWAWI/Wx-Scintilla-0.36.tar.gz
# A/AZ/AZAWAWI/Wx-Scintilla-0.37_01.tar.gz
# B/BA/BABF/Acme-Hi-0.01.tar.gz
# B/BA/BABF/Archive-StringToZip-1.03.tar.gz
# B/BA/BABF/Text-CSV-Slurp-0.9.tar.gz
# B/BA/BAYASHI/Data-Dumper-AutoEncode-0.102.tar.gz
# B/BB/BBB/ttylog-0.85.tar.gz
# B/BD/BDFOY/Module-Release-2.06.tar.gz
# B/BD/BDFOY/Module-Release-2.06_01.tar.gz
# B/BF/BFAIST/Mojolicious-Plugin-HTMLTemplateRenderer-0.01.tar.gz
# B/BH/BHEISIG/RT-Extension-MandatoryFields-0.4.tar.gz
# B/BI/BINGOS/CPAN-Perl-Releases-0.40.tar.gz
# B/BI/BINGOS/CPANPLUS-0.9114.tar.gz
# B/BI/BINGOS/CPANPLUS-0.9115.tar.gz
# B/BI/BINGOS/Module-CoreList-2.59.tar.gz
# B/BI/BINGOS/Term-UI-0.28.tar.gz
# B/BI/BINGOS/Term-UI-0.30.tar.gz
# B/BK/BKB/Video-Subtitle-SRT-0.02.tar.gz
# B/BO/BOBTFISH/MooseX-Getopt-0.38.tar.gz
# B/BO/BOOK/WWW-Mailman-1.05.tar.gz
# B/BR/BRADH/Goose-0.014.tar.gz
# B/BR/BRADH/Goose-0.015.tar.gz
# B/BR/BRADH/Goose-0.016.tar.gz
# C/CE/CELOGEEK/MooX-Options-0.8.tar.gz
# C/CF/CFAERBER/Net-IDN-Encode-1.102.tar.gz
# C/CF/CFAERBER/Net-IDN-Encode-1.900_20111221.tar.gz
# C/CF/CFAERBER/Net-IDN-Encode-1.900_20111224.tar.gz
# C/CF/CFUHRMAN/Log-Fine-0.59.tar.gz
# C/CH/CHANSEN/Unicode-UTF8-0.54.tar.gz
# C/CH/CHANSEN/Unicode-UTF8-0.55.tar.gz
# C/CH/CHM/PDL-2.4.9_016.tar.gz
# C/CH/CHM/PDL-2.4.9_991.tar.gz
# C/CJ/CJCOLLIER/NIST-NVD/NIST-NVD-0.03.tar.gz
# C/CJ/CJCOLLIER/NIST-NVD/NIST-NVD-0.04.tar.gz
# C/CJ/CJM/Dist-Zilla-Plugins-CJM-4.05.tar.gz
# C/CJ/CJM/WebService-NFSN-1.02.tar.gz
# C/CK/CKAISER/Term-ReadLine-TTYtter-1.3.tar.gz
# C/CO/CORION/MozRepl-RemoteObject-0.29.tar.gz
# C/CO/CORLISS/Paranoid/Paranoid-0.32.tar.gz
# C/CO/COSIMO/Postfix-Mailq-0.01.tar.gz
# C/CU/CUBABIT/WebService-GlucoseBuddy-1.113540.tar.gz
# D/DA/DAGOLDEN/Capture-Tiny-0.14.tar.gz
# D/DA/DAGOLDEN/Capture-Tiny-0.15.tar.gz
# D/DA/DAGOLDEN/Data-UUID-MT-0.004.tar.gz
# D/DA/DAKKAR/Data-MultiValued-0.0.1_4.tar.gz
# D/DA/DAROLD/Apache2/ModProxyPerlHtml/Apache2-ModProxyPerlHtml-3.2.tar.gz
# D/DA/DAVEWOOD/CatalystX-Resource-0.001_004.tar.gz
# D/DA/DAVIDO/Inline-CPP-0.33_001.tar.gz
# D/DA/DAVIDO/Inline-CPP-0.33_002.tar.gz
# D/DA/DAVIDO/Inline-CPP-0.33_003.tar.gz
# D/DC/DCARVELL/Debug-Xray-0.05.tar.gz
# D/DM/DMAKI/STF-Dispatcher-PSGI-1.05.tar.gz
# D/DM/DMUEY/Module-Want-0.4.tar.gz
# D/DO/DOHERTY/Text-UpsideDown-1.20_1.tar.gz
# D/DO/DOHERTY/utf8-all-0.003.tar.gz
# D/DO/DOLMEN/Number-Phone-FR-0.0611350.tar.gz
# D/DO/DOY/circular-require-0.04.tar.gz
# D/DR/DRAEGTUN/PerlX-QuoteOperator-0.04.tar.gz
# D/DR/DROLSKY/Class-Load-0.13.tar.gz
# D/DR/DROLSKY/MooseX-Types-0.31.tar.gz
# D/DR/DROLSKY/perl-5.15.6.tar.bz2
# D/DR/DROLSKY/perl-5.15.6.tar.gz
# D/DR/DRSTEVE/Crypt-Password-0.23.tgz
# D/DR/DRSTEVE/Crypt-Password-0.24.tgz
# D/DR/DRSTEVE/Crypt-Password-0.25.tgz
# D/DS/DSB/ClearCase-SyncTree-0.59.tar.gz
# E/EC/ECARROLL/MooseX-Types-DateTime-ButMaintained-0.14.tar.gz
# E/EG/EGILES/Test-Compile-0.13_1.tar.gz
# E/EG/EGILES/Test-Compile-v0.13.1.tar.gz
# F/FA/FANGLY/Statistics-R-0.25.tar.gz
# F/FA/FASTLY/Net-Fastly-0.95.tar.gz
# F/FA/FAYLAND/Business-AuthorizeNet-CIM-0.05.tar.gz
# F/FA/FAYLAND/Business-AuthorizeNet-CIM-0.06.tar.gz
# F/FI/FIBO/PNI-0.21.0.tar.gz
# F/FI/FIBO/PNI-0.21.1.tar.gz
# F/FI/FIBO/PNI-Core-0.06-withoutworldwriteables.tar.gz
# F/FI/FIBO/PNI-Core-0.06.1.tar.gz
# F/FI/FIBO/PNI-Core-0.06.2.tar.gz
# F/FI/FIBO/PNI-Core-0.06.tar.gz
# F/FI/FIBO/PNI-Node-Perlop-0.04-withoutworldwriteables.tar.gz
# F/FI/FIBO/PNI-Node-Perlop-0.04.1.tar.gz
# F/FI/FIBO/PNI-Node-Perlop-0.04.tar.gz
# F/FI/FIBO/PNI-Node-Perlvar-0.03.1.tar.gz
# F/FR/FREDERICD/Koha-Contrib-Tamil-0.001-TRIAL.tar.gz
# F/FR/FREDERICD/Koha-Contrib-Tamil-0.001.tar.gz
# G/GG/GGOLDBACH/Perl-Analysis-Static-0.004-TRIAL.tar.gz
# G/GN/GNB/Devel-Plumber-0.3.4.tar.gz
# G/GP/GPHAT/Data-SearchEngine-ElasticSearch-0.14.tar.gz
# G/GP/GPHAT/Data-SearchEngine-ElasticSearch-0.15.tar.gz
# G/GP/GPHAT/Data-SearchEngine-ElasticSearch-0.16.tar.gz
# G/GP/GPHAT/Dist-Zilla-Plugin-Dpkg-0.01.tar.gz
# G/GP/GPHAT/Dist-Zilla-Plugin-Dpkg-0.02.tar.gz
# G/GP/GPHAT/Dist-Zilla-Plugin-Dpkg-0.03.tar.gz
# G/GP/GPHAT/Dist-Zilla-Plugin-Dpkg-PerlbrewStarman-0.01.tar.gz
# G/GP/GPHAT/Dist-Zilla-Plugin-Dpkg-PerlbrewStarman-0.02.tar.gz
# G/GP/GPHAT/Dist-Zilla-Plugin-Dpkg-PerlbrewStarman-0.03.tar.gz
# G/GR/GRAY/AnyEvent-MtGox-Stream-0.01.tar.gz
# G/GR/GRAY/AnyEvent-MtGox-Stream-0.02.tar.gz
# G/GR/GRUBER/DBIx-Perlish-0.58.tar.gz
# G/GT/GTERMARS/Log-Dispatch-TestDiag-0.01.tar.gz
# G/GW/GWILLIAMS/RDF-Trine-0.137.tar.gz
# H/HE/HENRYYKT/MojoX-JSON-RPC-0.02.tar.gz
# H/HO/HORNBURG/Dancer-Template-TemplateFlute-0.0024.tar.gz
# H/HO/HORNBURG/Template-Flute-0.0024.tar.gz
# I/IF/IFUSCHINI/Apache2-ApacheMobileFilter-3.50.tar.gz
# I/IN/INA/Char/Big5HKSCS/Char-Big5HKSCS-0.79.tar.gz
# I/IN/INA/Char/Big5Plus/Char-Big5Plus-0.79.tar.gz
# I/IN/INA/Char/Cyrillic/Char-Cyrillic-0.79.tar.gz
# I/IN/INA/Char/EUCJP/Char-EUCJP-0.79.tar.gz
# I/IN/INA/Char/GB18030/Char-GB18030-0.79.tar.gz
# I/IN/INA/Char/GBK/Char-GBK-0.79.tar.gz
# I/IN/INA/Char/Greek/Char-Greek-0.79.tar.gz
# I/IN/INA/Char/HP15/Char-HP15-0.79.tar.gz
# I/IN/INA/Char/INFORMIXV6ALS/Char-INFORMIXV6ALS-0.79.tar.gz
# I/IN/INA/Char/KOI8R/Char-KOI8R-0.79.tar.gz
# I/IN/INA/Char/KOI8U/Char-KOI8U-0.79.tar.gz
# I/IN/INA/Char/Latin1/Char-Latin1-0.79.tar.gz
# I/IN/INA/Char/Latin10/Char-Latin10-0.79.tar.gz
# I/IN/INA/Char/Latin2/Char-Latin2-0.79.tar.gz
# I/IN/INA/Char/Latin3/Char-Latin3-0.79.tar.gz
# I/IN/INA/Char/Latin4/Char-Latin4-0.79.tar.gz
# I/IN/INA/Char/Latin5/Char-Latin5-0.79.tar.gz
# I/IN/INA/Char/Latin6/Char-Latin6-0.79.tar.gz
# I/IN/INA/Char/Latin7/Char-Latin7-0.79.tar.gz
# I/IN/INA/Char/Latin8/Char-Latin8-0.79.tar.gz
# I/IN/INA/Char/Latin9/Char-Latin9-0.79.tar.gz
# I/IN/INA/Char/OldUTF8/Char-OldUTF8-0.79.tar.gz
# I/IN/INA/Char/Sjis/Char-Sjis-0.79.tar.gz
# I/IN/INA/Char/UHC/Char-UHC-0.79.tar.gz
# I/IN/INA/Char/USASCII/Char-USASCII-0.79.tar.gz
# I/IN/INA/Char/UTF2/Char-UTF2-0.79.tar.gz
# I/IN/INA/Char/Windows1252/Char-Windows1252-0.79.tar.gz
# I/IN/INA/Char/Windows1258/Char-Windows1258-0.79.tar.gz
# I/IR/IRONCAMEL/Net-OpenStack-Attack-1.0000.tar.gz
# I/IR/IRONCAMEL/Net-OpenStack-Compute-1.0000.tar.gz
# I/IR/IRONCAMEL/Net-OpenStack-Compute-1.0001.tar.gz
# J/JE/JETTERO/Net-IMAP-Simple-1.2027.tar.gz
# J/JJ/JJNAPIORK/Catalyst-ActionRole-QueryParameter-0.04.tar.gz
# J/JK/JKEGL/Marpa-HTML-0.110_001.tar.gz
# J/JK/JKEGL/Marpa-HTML-0.110_002.tar.gz
# J/JK/JKEGL/Marpa-R2-0.001_012.tar.gz
# J/JK/JKEGL/Marpa-R2-0.001_013.tar.gz
# J/JK/JKEGL/Marpa-XS-1.001_000.tar.gz
# J/JO/JOHND/AWS-S3-0.020.tar.gz
# J/JO/JOHND/Data-Properties-JSON-0.002.tar.gz
# J/JO/JOHND/VSO-0.020.tar.gz
# J/JO/JOHND/VSO-0.021.tar.gz
# J/JO/JONALLEN/App-cpackage-1.01.tar.gz
# J/JO/JORDAN/Doxygen-Filter-Perl/Doxygen-Filter-Perl-1.00.tar.gz
# J/JQ/JQUELIN/Dist-Zilla-Plugin-Git-1.113560.tar.gz
# J/JS/JSWARTZ/Log-Any-Adapter-0.04.tar.gz
# J/JS/JSWARTZ/Log-Any-Adapter-0.05.tar.gz
# J/JU/JUNKER/Dendral-HTTP-Request-0.1.5.tar.gz
# J/JU/JUNKER/Dendral-HTTP-Response-0.1.0.tar.gz
# K/KB/KBA/MooseX-Semantic-0.001.tar.gz
# K/KB/KBA/RDF-Trine-Serializer-SparqlUpdate-0.001.tar.gz
# K/KB/KBA/RDF-TrineX-RuleEngine-Jena-0.001.tar.gz
# K/KE/KESTEB/Scaffold-0.09.tar.gz
# K/KI/KITANO/Perl-Metrics-Lite-0.01.tar.gz
# K/KI/KITANO/Perl-Metrics-Lite-0.02.tar.gz
# K/KI/KITANO/Perl-Metrics-Lite-0.03.tar.gz
# K/KI/KITANO/Perl-Metrics-Lite-0.04.tar.gz
# K/KI/KITANO/Perl-Metrics-Lite-0.05.tar.gz
# K/KI/KITANO/Test-Perl-Metrics-Lite-0.01.tar.gz
# K/KI/KITANO/Test-Perl-Metrics-Lite-0.02.tar.gz
# K/KI/KIWANAMI/RPC-EPC-Service-v0.0.1.tar.gz
# K/KI/KIWANAMI/RPC-EPC-Service-v0.0.2.tar.gz
# K/KI/KIWANAMI/RPC-EPC-Service-v0.0.3.tar.gz
# K/KJ/KJETILK/RDF-Trine-Store-File-0.1.tar.gz
# K/KO/KOHTS/Yandex-Tools-0.13.tar.gz
# K/KO/KOHTS/Yandex-Tools-0.14.tar.gz
# K/KO/KOHTS/snaked-0.12.tar.gz
# K/KO/KOORCHIK/Mojolicious-Plugin-CSRFProtect-0.06.tar.gz
# K/KO/KOORCHIK/Mojolicious-Plugin-CSRFProtect-0.07.tar.gz
# K/KO/KOORCHIK/Mojolicious-Plugin-JSUrlFor-0.05.tar.gz
# K/KO/KOORCHIK/Mojolicious-Plugin-JSUrlFor-0.06.tar.gz
# K/KR/KRYDE/Math-NumSeq-23.tar.gz
# K/KR/KRYDE/Math-NumSeq-24.tar.gz
# K/KR/KRYDE/math-image-86.tar.gz
# K/KR/KRYDE/math-image-87.tar.gz
# K/KS/KSURI/App-Mver-0.06.tar.gz
# L/LA/LAJANDY/Helios-2.30_5072.tar.gz
# L/LE/LEMBARK/FindBin-libs-1.60.tar.gz
# L/LE/LEMBARK/Parallel-Queue-2.04.tar.gz
# L/LE/LEONT/Bio-SFF-0.003.tar.gz
# L/LE/LEONT/Bio-SFF-0.004.tar.gz
# L/LE/LEONT/autodie-variables-0.002.tar.gz
# L/LO/LOGIE/SWISH-Filters-ImageTypesToXml-0.02.tar.gz
# M/MA/MALLEN/Net-API-Gett-0.02.tar.gz
# M/MA/MARKG/Net-OpenSRS-Email_APP-0.61.tar.gz
# M/MA/MARKOV/POSIX-1003-0.02.tar.gz
# M/MA/MARKOV/POSIX-1003-0.03.tar.gz
# M/MA/MARKOV/POSIX-1003-0.04.tar.gz
# M/MA/MARKOV/POSIX-1003-0.05.tar.gz
# M/MA/MARKOV/POSIX-1003-0.06.tar.gz
# M/MA/MART/Linux-ProcessInfo-0.01.tar.gz
# M/MA/MARTIJN/Data-Transform-Zlib-0.02.tar.gz
# M/ME/MEETTYA/Kaiten-Container-0.37.tar.gz
# M/ME/MELEZHIK/Bundler-v0.0.25.tar.gz
# M/ME/MELEZHIK/Bundler-v0.0.26.tar.gz
# M/ME/MELEZHIK/Bundler-v0.0.28.tar.gz
# M/ME/MELLERY/URL-Google-GURL-0.01.tar.gz
# M/ME/MELLERY/URL-Google-GURL-0.02.tar.gz
# M/MG/MGOULD/List-Priority-0.03.tar.gz
# M/MG/MGOULD/List-Priority-0.03rc1.tar.gz
# M/MI/MIYAGAWA/App-cpanminus-1.5007.tar.gz
# M/ML/MLEHMANN/BDB-1.9.tar.gz
# M/MN/MNUNBERG/Devel-PtrTable-0.03.tar.gz
# M/MN/MNUNBERG/File-Dir-Hash-0.02.tar.gz
# M/MN/MNUNBERG/POE-Sugar-Attributes-0.01.tar.gz
# M/MN/MNUNBERG/POE-Sugar-Attributes-0.02.tar.gz
# M/MN/MNUNBERG/Ref-Store-0.19.tar.gz
# M/MN/MNUNBERG/Test-LWP-MockSocket-http-0.05.tar.gz
# M/MN/MNUNBERG/Text-Prefix-XS-0.01-TRIAL.tar.gz
# M/MN/MNUNBERG/Text-Prefix-XS-0.02-TRIAL.tar.gz
# M/MN/MNUNBERG/Text-Prefix-XS-0.05.tar.gz
# M/MN/MNUNBERG/Text-Prefix-XS-0.08.tar.gz
# M/MN/MNUNBERG/Text-Prefix-XS-0.09.tar.gz
# M/MN/MNUNBERG/Text-Prefix-XS-0.10.tar.gz
# M/MN/MNUNBERG/Text-Prefix-XS-0.11.tar.gz
# M/MO/MOOCOW/PDL-CCS-1.15.tar.gz
# M/MR/MRAMBERG/Mojolicious-2.39.tar.gz
# M/MR/MRDVT/Spreadsheet-WriteExcel-Simple-Tabs-0.10.tar.gz
# M/MS/MSCHILLI/App-Daemon-0.14.tar.gz
# M/MS/MSCHILLI/Archive-Tar-Wrapper-0.15.tar.gz
# M/MS/MSTROUT/Tak-0.001002.tar.gz
# M/MS/MSTROUT/Tak-0.001003.tar.gz
# M/MS/MSTROUT/Tak-Daemon-0.001001.tar.gz
# M/MS/MSTROUT/Web-Simple-0.011.tar.gz
# M/MU/MURATAYA/MIME-EcoEncode-0.50.tar.gz
# N/NE/NEKOKAK/DBIx-TransactionManager-1.11.tar.gz
# N/NE/NEKOKAK/Teng-0.14_04.tar.gz
# N/NI/NIXUS/Stuff-0.0.1.tar.gz
# N/NI/NIXUS/Stuff-0.0.2.tar.gz
# N/NI/NIXUS/Stuff-0.0.3.tar.gz
# N/NO/NOUDARD/DBIx-Class-Result-ColumnData-0.14.tar.gz
# O/OL/OLIVER/App-passmanager-1.113580.tar.gz
# O/OL/OLLY/Search-Xapian-1.2.8.0.tar.gz
# O/OT/OTY/EBook-EPUB-0.6.tar.gz
# P/PA/PATCH/Template-Plugin-Ligature-0.01.tar.gz
# P/PA/PATCH/Template-Plugin-Ligature-0.02.tar.gz
# P/PA/PATCH/Template-Plugin-Ligature-0.03.tar.gz
# P/PA/PATCH/Text-Ligature-0.01.tar.gz
# P/PA/PATCH/Text-Ligature-0.02.tar.gz
# P/PE/PEK/WebService-Rajce-0.04.tar.gz
# P/PE/PEK/WebService-Rajce-0.05.tar.gz
# P/PE/PEK/WebService-Rajce-0.06.tar.gz
# P/PE/PERLER/DBIx-Class-Graph-1.04.tar.gz
# P/PE/PEVANS/Net-Async-HTTP-0.14.tar.gz
# P/PH/PHRED/Apache-SizeLimit-0.96.tar.gz
# P/PR/PRAVUS/Proc-Lite-0.09_01.tar.gz
# R/RA/RAYMOR/Linux-LVM-0.15.01.tar.gz
# R/RE/REEDFISH/Net-FullAuto-0.9989.tar.gz
# R/RE/REEDFISH/Term-Menus-2.04.tar.gz
# R/RI/RIBASUSHI/Moo-0.009013.tar.gz
# R/RI/RIBASUSHI/namespace-clean-0.21_01.tar.gz
# R/RI/RIBASUSHI/namespace-clean-0.21_02.tar.gz
# R/RJ/RJBS/App-Cmd-0.313.tar.gz
# R/RJ/RJBS/CPAN-Mini-1.111008.tar.gz
# R/RJ/RJBS/Color-Palette-0.100001.tar.gz
# R/RJ/RJBS/Color-Palette-0.100002.tar.gz
# R/RJ/RJBS/Email-Simple-2.101.tar.gz
# R/RJ/RJBS/IPC-Run3-0.045.tar.gz
# R/RJ/RJBS/Module-Starter-Plugin-SimpleStore-0.144.tar.gz
# R/RJ/RJBS/MooseX-ClassCompositor-0.003.tar.gz
# R/RJ/RJBS/MooseX-Types-Perl-0.101341.tar.gz
# R/RJ/RJBS/WWW-AdventCalendar-1.106.tar.gz
# R/RJ/RJBS/WWW-AdventCalendar-1.107.tar.gz
# R/RO/ROKR/DBIx-NoSQL-0.0018.tar.gz
# R/RO/ROKR/Document-TriPart-0.024.tar.gz
# R/RO/ROKR/Getopt-Chain-0.017.tar.gz
# R/RO/ROKR/Module-Install-ParseRequires-0.002.tar.gz
# R/RS/RSIMOES/Dancer-Logger-PSGI-0.020_001-TRIAL.tar.gz
# R/RS/RSIMOES/Dancer-Logger-PSGI-0.04.tar.gz
# R/RS/RSIMOES/WWW-eNom-v1.0.2.tar.gz
# R/RU/RURBAN/App-perlall-0.01.tar.gz
# R/RU/RURBAN/App-perlall-0.02.tar.gz
# S/SA/SALVA/Math-Int64-0.18_01.tar.gz
# S/SA/SALVA/Math-Int64-0.18_02.tar.gz
# S/SA/SALVA/Math-Int64-0.18_03.tar.gz
# S/SA/SALVA/Math-Int64-0.18_04.tar.gz
# S/SA/SALVA/Net-OpenSSH-0.57.tar.gz
# S/SA/SALVA/Net-SFTP-Server-0.03.tar.gz
# S/SA/SANKO/AnyEvent-BitTorrent-v0.1.1.tar.gz
# S/SA/SANKO/AnyEvent-BitTorrent-v0.1.1_1.tar.gz
# S/SA/SANKO/AnyEvent-BitTorrent-v0.1.2.tar.gz
# S/SA/SANKO/AnyEvent-BitTorrent-v0.1.2_1.tar.gz
# S/SA/SANKO/AnyEvent-BitTorrent-v0.1.3.tar.gz
# S/SA/SARGIE/Test-BDD-Cucumber-0.02.tar.gz
# S/SA/SAXJAZMAN/cif/CIF-Client-0.01.tar.gz
# S/SC/SCHUBIGER/LaTeX-TOM-1.03.tar.gz
# S/SH/SHLOMIF/App-XML-DocBook-Builder-0.0400.tar.gz
# S/SH/SHLOMIF/Graph-Easy-0.71.tar.gz
# S/SH/SHLOMIF/XML-LibXML-1.89.tar.gz
# S/SH/SHOOTNIX/Mojolicious-Plugin-AnyData-1.10.tar.gz
# S/SH/SHOOTNIX/Mojolicious-Plugin-AnyData-1.11.tar.gz
# S/SK/SKI/Bundle-Elkhound-0.01.tar.gz
# S/SK/SKI/Bundle-Moose-0.01.tar.gz
# S/SK/SKI/Bundle-dualLived-1.00.tar.gz
# S/SK/SKI/Bundle-dualLived-1.01.tar.gz
# S/SM/SMUELLER/Alien-ROOT-v5.32.0.1.tar.gz
# S/SM/SMUELLER/ExtUtils-ParseXS-3.08.tar.gz
# S/SM/SMUELLER/Filter-Simple-0.88.tar.gz
# S/SM/SMUELLER/PathTools-3.39_01.tar.gz
# S/SM/SMUELLER/SOOT-0.17.tar.gz
# S/SM/SMUELLER/SelfLoader-1.19.tar.gz
# S/SM/SMUELLER/SelfLoader-1.20.tar.gz
# S/SN/SNUMANO/Net-CloudStack-0.00006.tar.gz
# S/SN/SNUMANO/Net-CloudStack-0.00007.tar.gz
# S/SR/SREZIC/App-psort-0.01_57.tar.gz
# S/SR/SREZIC/Geo-Coder-Googlev3-0.10_51.tar.gz
# S/SR/SREZIC/Geo-Coder-Googlev3-0.10_52.tar.gz
# S/SR/SREZIC/Geo-Coder-Googlev3-0.11.tar.gz
# S/SR/SRI/Mojolicious-2.40.tar.gz
# S/SU/SULLR/Net-Inspect-0.01.tar.gz
# S/SU/SULLR/Net-Inspect-0.02.tar.gz
# S/SU/SULLR/Net-Inspect-0.03.tar.gz
# S/SZ/SZABGAB/File-Open-OOP-0.01.tar.gz
# S/SZ/SZABGAB/Term-ProgressBar-2.10.tar.gz
# T/TH/THALJEF/Perl-Critic-1.117.tar.gz
# T/TK/TKEEFER/eBay-API-Simple-0.27.tar.gz
# T/TL/TLINDEN/Crypt-PWSafe3-1.01.tar.gz
# T/TO/TOBYINK/Pointy-Counter-0.001.tar.gz
# T/TO/TODDR/Exporter-5.66.tar.gz
# T/TO/TODDR/Locale-Maketext-1.21.tar.gz
# T/TO/TODDR/Tie-File-0.98.tar.gz
# T/TO/TOKUHIROM/DBIx-Inspector-0.06.tar.gz
# T/TO/TONVOON/Nagios-Plugin-0.36.tar.gz
# T/TO/TOSHIFJW/Fuse-Class-0.02.tar.gz
# T/TR/TRCJR/Parse-Selenese-0.006.tar.gz
# T/TR/TRLORENZ/MooseX-OmniTrigger-0.02.tar.gz
# T/TR/TRLORENZ/MooseX-OmniTrigger-0.03.tar.gz
# T/TR/TRLORENZ/MooseX-OmniTrigger-0.04.tar.gz
# V/VT/VTI/Routes-Tiny-0.009014.tar.gz
# V/VV/VVELOX/Toader-0.0.0.tar.gz
# V/VV/VVELOX/Toader-0.0.1.tar.gz
# W/WE/WEBY/Mojolicious-Plugin-Mobi-0.02.tar.gz
# W/WO/WOHL/File-Properties-0.02.tar.gz
# W/WU/WULEE/Net-SSH-Mechanize-v0.1.1.tar.gz
# W/WY/WYANT/Astro-App-Satpass2-0.000_33.tar.gz
# W/WY/WYANT/Games-Sudoku-General-0.012.tar.gz
# X/XA/XAICRON/DBIx-QueryLog-0.24.tar.gz
# X/XA/XAICRON/IO-Prompt-Simple-0.04.tar.gz
# X/XA/XAOC/Cairo-1.082.tar.gz
# X/XA/XAOC/Glib-Object-Introspection-0.005.tar.gz
# X/XS/XSAWYERX/POE-Component-OpenSSH-0.10.tar.gz
# Y/YH/YHPENG/Net-Evernote-0.04.tgz
# Y/YS/YSIMONX/WWW-RobotRules-Extended-0.01.tar.gz
# Y/YU/YURAN/MR-Tarantool-0.0.10.tar.gz
# Y/YU/YURAN/MR-Tarantool-0.0.7.tar.gz
# Y/YU/YURAN/MR-Tarantool-0.0.8.tar.gz
# Y/YU/YURAN/MR-Tarantool-0.0.9.tar.gz
# Z/ZW/ZWON/File-Flock-Tiny-0.04.tar.gz
# Z/ZZ/ZZZ/Nginx-Perl-1.1.11.1.tar.gz
# Z/ZZ/ZZZ/Redis-Parser-XS-0.02.tar.gz
t/04_live_ftp.t ........ ok
# B/BI/BINGOS/Module-CoreList-2.59.tar.gz
# T/TK/TKEEFER/eBay-API-Simple-0.27.tar.gz
# W/WY/WYANT/Games-Sudoku-General-0.012.tar.gz
# B/BI/BINGOS/CPANPLUS-0.9115.tar.gz
# D/DO/DOLMEN/Number-Phone-FR-0.0611350.tar.gz
# L/LE/LEMBARK/FindBin-libs-1.60.tar.gz
# D/DC/DCARVELL/Debug-Xray-0.05.tar.gz
# M/MN/MNUNBERG/Ref-Store-0.19.tar.gz
# M/MN/MNUNBERG/POE-Sugar-Attributes-0.02.tar.gz
# G/GN/GNB/Devel-Plumber-0.3.4.tar.gz
# T/TR/TRCJR/Parse-Selenese-0.006.tar.gz
# M/MU/MURATAYA/MIME-EcoEncode-0.50.tar.gz
# M/MS/MSCHILLI/Archive-Tar-Wrapper-0.15.tar.gz
# S/SA/SALVA/Net-OpenSSH-0.57.tar.gz
# S/SZ/SZABGAB/Term-ProgressBar-2.10.tar.gz
# S/SZ/SZABGAB/File-Open-OOP-0.01.tar.gz
# T/TL/TLINDEN/Crypt-PWSafe3-1.01.tar.gz
# D/DA/DAROLD/Apache2-ModProxyPerlHtml-3.2.tar.gz
# A/AZ/AZAWAWI/Wx-Scintilla-0.36.tar.gz
# R/RJ/RJBS/WWW-AdventCalendar-1.107.tar.gz
# T/TO/TOKUHIROM/DBIx-Inspector-0.06.tar.gz
# B/BA/BAYASHI/Data-Dumper-AutoEncode-0.102.tar.gz
# L/LE/LEONT/autodie-variables-0.002.tar.gz
# R/RE/REEDFISH/Net-FullAuto-0.9989.tar.gz
# A/AB/ABRAXXA/DBIx-Class-UUIDColumns-0.02006.tar.gz
# X/XA/XAICRON/DBIx-QueryLog-0.24.tar.gz
# A/AG/AGORDON/Dancer-Plugin-EncodeID-0.02.tar.gz
# M/MG/MGOULD/List-Priority-0.03.tar.gz
# F/FA/FANGLY/Statistics-R-0.25.tar.gz
# G/GP/GPHAT/Dist-Zilla-Plugin-Dpkg-0.03.tar.gz
# G/GP/GPHAT/Dist-Zilla-Plugin-Dpkg-PerlbrewStarman-0.03.tar.gz
# S/SU/SULLR/Net-Inspect-0.03.tar.gz
# T/TH/THALJEF/Perl-Critic-1.117.tar.gz
# B/BI/BINGOS/Term-UI-0.30.tar.gz
# C/CJ/CJM/WebService-NFSN-1.02.tar.gz
# D/DM/DMUEY/Module-Want-0.4.tar.gz
# C/CJ/CJM/Dist-Zilla-Plugins-CJM-4.05.tar.gz
# R/RJ/RJBS/MooseX-ClassCompositor-0.003.tar.gz
# Z/ZZ/ZZZ/Nginx-Perl-1.1.11.1.tar.gz
# H/HE/HENRYYKT/MojoX-JSON-RPC-0.02.tar.gz
# P/PH/PHRED/Apache-SizeLimit-0.96.tar.gz
# A/AW/AWWAIID/Plack-Middleware-Scrutiny-0.02.tar.gz
# B/BK/BKB/Video-Subtitle-SRT-0.02.tar.gz
# J/JS/JSWARTZ/Log-Any-Adapter-0.04.tar.gz
# J/JS/JSWARTZ/Log-Any-Adapter-0.05.tar.gz
# J/JQ/JQUELIN/Dist-Zilla-Plugin-Git-1.113560.tar.gz
# P/PE/PEK/WebService-Rajce-0.06.tar.gz
# C/CH/CHANSEN/Unicode-UTF8-0.55.tar.gz
# B/BF/BFAIST/Mojolicious-Plugin-HTMLTemplateRenderer-0.01.tar.gz
# S/SM/SMUELLER/Alien-ROOT-v5.32.0.1.tar.gz
# J/JO/JONALLEN/App-cpackage-1.01.tar.gz
# A/AR/ARC/ex-monkeypatched-0.03.tar.gz
# D/DR/DROLSKY/Class-Load-0.13.tar.gz
# B/BO/BOOK/WWW-Mailman-1.05.tar.gz
# M/MA/MART/Linux-ProcessInfo-0.01.tar.gz
# M/MA/MARTIJN/Data-Transform-Zlib-0.02.tar.gz
# N/NI/NIXUS/Stuff-0.0.1.tar.gz
# S/SR/SREZIC/Geo-Coder-Googlev3-0.11.tar.gz
# K/KJ/KJETILK/RDF-Trine-Store-File-0.1.tar.gz
# G/GR/GRAY/AnyEvent-MtGox-Stream-0.02.tar.gz
# I/IR/IRONCAMEL/Net-OpenStack-Attack-1.0000.tar.gz
# J/JO/JORDAN/Doxygen-Filter-Perl-1.00.tar.gz
# D/DR/DROLSKY/MooseX-Types-0.31.tar.gz
# K/KR/KRYDE/math-image-86.tar.gz
# I/IR/IRONCAMEL/Net-OpenStack-Compute-1.0001.tar.gz
# D/DR/DRSTEVE/Crypt-Password-0.25.tgz
# R/RO/ROKR/DBIx-NoSQL-0.0018.tar.gz
# M/MS/MSTROUT/Web-Simple-0.011.tar.gz
# O/OT/OTY/EBook-EPUB-0.6.tar.gz
# A/AK/AKALINUX/Data-Range-Compare-Stream-0.006.tar.gz
# W/WO/WOHL/File-Properties-0.02.tar.gz
# A/AK/AKALINUX/DBIx-BulkLoader-Mysql-1.006.tar.gz
# M/MS/MSTROUT/Tak-0.001003.tar.gz
# R/RO/ROKR/Module-Install-ParseRequires-0.002.tar.gz
# T/TO/TOSHIFJW/Fuse-Class-0.02.tar.gz
# B/BO/BOBTFISH/MooseX-Getopt-0.38.tar.gz
# K/KO/KOORCHIK/Mojolicious-Plugin-CSRFProtect-0.07.tar.gz
# M/ME/MELEZHIK/Bundler-v0.0.28.tar.gz
# T/TO/TONVOON/Nagios-Plugin-0.36.tar.gz
# K/KS/KSURI/App-Mver-0.06.tar.gz
# J/JE/JETTERO/Net-IMAP-Simple-1.2027.tar.gz
# S/SH/SHLOMIF/Graph-Easy-0.71.tar.gz
# K/KB/KBA/RDF-TrineX-RuleEngine-Jena-0.001.tar.gz
# R/RI/RIBASUSHI/Moo-0.009013.tar.gz
# T/TO/TODDR/Exporter-5.66.tar.gz
# G/GP/GPHAT/Data-SearchEngine-ElasticSearch-0.16.tar.gz
# T/TO/TODDR/Locale-Maketext-1.21.tar.gz
# K/KB/KBA/RDF-Trine-Serializer-SparqlUpdate-0.001.tar.gz
# T/TO/TODDR/Tie-File-0.98.tar.gz
# K/KB/KBA/MooseX-Semantic-0.001.tar.gz
# M/MA/MALLEN/Net-API-Gett-0.02.tar.gz
# X/XA/XAICRON/IO-Prompt-Simple-0.04.tar.gz
# R/RJ/RJBS/App-Cmd-0.313.tar.gz
# R/RJ/RJBS/CPAN-Mini-1.111008.tar.gz
# R/RJ/RJBS/IPC-Run3-0.045.tar.gz
# R/RJ/RJBS/Module-Starter-Plugin-SimpleStore-0.144.tar.gz
# R/RJ/RJBS/Email-Simple-2.101.tar.gz
# F/FI/FIBO/PNI-Node-Perlop-0.04.1.tar.gz
# J/JO/JOHND/Data-Properties-JSON-0.002.tar.gz
# S/SC/SCHUBIGER/LaTeX-TOM-1.03.tar.gz
# C/CK/CKAISER/Term-ReadLine-TTYtter-1.3.tar.gz
# R/RJ/RJBS/MooseX-Types-Perl-0.101341.tar.gz
# Z/ZZ/ZZZ/Redis-Parser-XS-0.02.tar.gz
# F/FI/FIBO/PNI-Core-0.06.2.tar.gz
# F/FI/FIBO/PNI-0.21.1.tar.gz
# F/FI/FIBO/PNI-Node-Perlvar-0.03.1.tar.gz
# S/SA/SANKO/AnyEvent-BitTorrent-v0.1.3.tar.gz
# F/FA/FAYLAND/Business-AuthorizeNet-CIM-0.06.tar.gz
# K/KI/KITANO/Test-Perl-Metrics-Lite-0.02.tar.gz
# R/RS/RSIMOES/WWW-eNom-v1.0.2.tar.gz
# S/SK/SKI/Bundle-Moose-0.01.tar.gz
# K/KI/KITANO/Perl-Metrics-Lite-0.05.tar.gz
# R/RS/RSIMOES/Dancer-Logger-PSGI-0.04.tar.gz
# S/SH/SHLOMIF/XML-LibXML-1.89.tar.gz
# S/SR/SRI/Mojolicious-2.40.tar.gz
# C/CF/CFUHRMAN/Log-Fine-0.59.tar.gz
# P/PE/PERLER/DBIx-Class-Graph-1.04.tar.gz
# O/OL/OLIVER/App-passmanager-1.113580.tar.gz
# D/DR/DRAEGTUN/PerlX-QuoteOperator-0.04.tar.gz
# N/NI/NIXUS/Stuff-0.0.3.tar.gz
# S/SH/SHOOTNIX/Mojolicious-Plugin-AnyData-1.11.tar.gz
# P/PE/PEVANS/Net-Async-HTTP-0.14.tar.gz
# S/SK/SKI/Bundle-dualLived-1.01.tar.gz
# Y/YH/YHPENG/Net-Evernote-0.04.tgz
# M/MN/MNUNBERG/Text-Prefix-XS-0.11.tar.gz
# S/SK/SKI/Bundle-Elkhound-0.01.tar.gz
# C/CE/CELOGEEK/MooX-Options-0.8.tar.gz
# S/SH/SHLOMIF/App-XML-DocBook-Builder-0.0400.tar.gz
# M/MA/MARKOV/POSIX-1003-0.06.tar.gz
# K/KR/KRYDE/Math-NumSeq-24.tar.gz
# K/KR/KRYDE/math-image-87.tar.gz
# T/TR/TRLORENZ/MooseX-OmniTrigger-0.04.tar.gz
# P/PA/PATCH/Text-Ligature-0.02.tar.gz
# P/PA/PATCH/Template-Plugin-Ligature-0.03.tar.gz
# M/MS/MSCHILLI/App-Daemon-0.14.tar.gz
# X/XA/XAOC/Glib-Object-Introspection-0.005.tar.gz
# K/KO/KOORCHIK/Mojolicious-Plugin-JSUrlFor-0.06.tar.gz
# K/KI/KIWANAMI/RPC-EPC-Service-v0.0.3.tar.gz
# M/ME/MELEZHIK/CPANPLUS-Shell-Default-Plugins-Repo-v0.0.1.tar.gz
# R/RI/RIBASUSHI/Class-Accessor-Grouped-0.10005.tar.gz
# R/RI/RIBASUSHI/namespace-clean-0.22.tar.gz
# B/BO/BOOK/Git-Repository-1.24.tar.gz
# M/ME/MELEZHIK/CPAN-Repo-v0.0.4.tar.gz
# S/SS/SSINYAGIN/SIAM-0.10.tar.gz
# O/OL/OLIVER/Net-CLI-Interact-1.113600.tar.gz
# O/OL/OLIVER/Net-Appliance-Session-3.113600.tar.gz
# X/XA/XAICRON/Test-Flatten-0.07.tar.gz
# K/KU/KUMY/Graphics-HotMap-0.0001.tar.gz
# K/KM/KMCGRATH/Rose-DBx-Object-Cached-FastMmap-0.05.tar.gz
# D/DE/DESPAIR/Net-Whois-Raw-2.39.tar.gz
t/04_live_ftp_rss.t .... ok
# A/AB/ABRAXXA/Catalyst-Controller-DBIC-API-2.004003.tar.gz
# A/AB/ABRAXXA/DBIx-Class-UUIDColumns-0.02006.tar.gz
# A/AG/AGORDON/Dancer-Plugin-EncodeID-0.02.tar.gz
# A/AK/AKALINUX/DBIx-BulkLoader-Mysql-1.006.tar.gz
# A/AK/AKALINUX/Data-Range-Compare-Stream-0.001.tar.gz
# A/AK/AKALINUX/Data-Range-Compare-Stream-0.002.tar.gz
# A/AK/AKALINUX/Data-Range-Compare-Stream-0.003.tar.gz
# A/AK/AKALINUX/Data-Range-Compare-Stream-0.004.tar.gz
# A/AK/AKALINUX/Data-Range-Compare-Stream-0.005.tar.gz
# A/AK/AKALINUX/Data-Range-Compare-Stream-0.006.tar.gz
# A/AL/ALEXBIO/Dist-Zilla-Plugin-GitHub-0.14.tar.gz
# A/AR/ARC/ex-monkeypatched-0.03.tar.gz
# A/AW/AWNCORP/MongoDBI-0.0.4.tar.gz
# A/AW/AWWAIID/Plack-Middleware-Scrutiny-0.02.tar.gz
# A/AZ/AZAWAWI/Wx-Scintilla-0.36.tar.gz
# A/AZ/AZAWAWI/Wx-Scintilla-0.37_01.tar.gz
# B/BA/BABF/Acme-Hi-0.01.tar.gz
# B/BA/BABF/Archive-StringToZip-1.03.tar.gz
# B/BA/BABF/Text-CSV-Slurp-0.9.tar.gz
# B/BA/BAYASHI/Data-Dumper-AutoEncode-0.102.tar.gz
# B/BB/BBB/ttylog-0.85.tar.gz
# B/BD/BDFOY/Module-Release-2.06.tar.gz
# B/BD/BDFOY/Module-Release-2.06_01.tar.gz
# B/BF/BFAIST/Mojolicious-Plugin-HTMLTemplateRenderer-0.01.tar.gz
# B/BH/BHEISIG/RT-Extension-MandatoryFields-0.4.tar.gz
# B/BI/BINGOS/CPAN-Perl-Releases-0.40.tar.gz
# B/BI/BINGOS/CPANPLUS-0.9114.tar.gz
# B/BI/BINGOS/CPANPLUS-0.9115.tar.gz
# B/BI/BINGOS/Module-CoreList-2.59.tar.gz
# B/BI/BINGOS/Term-UI-0.28.tar.gz
# B/BI/BINGOS/Term-UI-0.30.tar.gz
# B/BK/BKB/Video-Subtitle-SRT-0.02.tar.gz
# B/BO/BOBTFISH/MooseX-Getopt-0.38.tar.gz
# B/BO/BOOK/WWW-Mailman-1.05.tar.gz
# B/BR/BRADH/Goose-0.014.tar.gz
# B/BR/BRADH/Goose-0.015.tar.gz
# B/BR/BRADH/Goose-0.016.tar.gz
# C/CE/CELOGEEK/MooX-Options-0.8.tar.gz
# C/CF/CFAERBER/Net-IDN-Encode-1.102.tar.gz
# C/CF/CFAERBER/Net-IDN-Encode-1.900_20111221.tar.gz
# C/CF/CFAERBER/Net-IDN-Encode-1.900_20111224.tar.gz
# C/CF/CFUHRMAN/Log-Fine-0.59.tar.gz
# C/CH/CHANSEN/Unicode-UTF8-0.54.tar.gz
# C/CH/CHANSEN/Unicode-UTF8-0.55.tar.gz
# C/CH/CHM/PDL-2.4.9_016.tar.gz
# C/CH/CHM/PDL-2.4.9_991.tar.gz
# C/CJ/CJCOLLIER/NIST-NVD/NIST-NVD-0.03.tar.gz
# C/CJ/CJCOLLIER/NIST-NVD/NIST-NVD-0.04.tar.gz
# C/CJ/CJM/Dist-Zilla-Plugins-CJM-4.05.tar.gz
# C/CJ/CJM/WebService-NFSN-1.02.tar.gz
# C/CK/CKAISER/Term-ReadLine-TTYtter-1.3.tar.gz
# C/CO/CORION/MozRepl-RemoteObject-0.29.tar.gz
# C/CO/CORLISS/Paranoid/Paranoid-0.32.tar.gz
# C/CO/COSIMO/Postfix-Mailq-0.01.tar.gz
# C/CU/CUBABIT/WebService-GlucoseBuddy-1.113540.tar.gz
# D/DA/DAGOLDEN/Capture-Tiny-0.14.tar.gz
# D/DA/DAGOLDEN/Capture-Tiny-0.15.tar.gz
# D/DA/DAGOLDEN/Data-UUID-MT-0.004.tar.gz
# D/DA/DAKKAR/Data-MultiValued-0.0.1_4.tar.gz
# D/DA/DAROLD/Apache2/ModProxyPerlHtml/Apache2-ModProxyPerlHtml-3.2.tar.gz
# D/DA/DAVEWOOD/CatalystX-Resource-0.001_004.tar.gz
# D/DA/DAVIDO/Inline-CPP-0.33_001.tar.gz
# D/DA/DAVIDO/Inline-CPP-0.33_002.tar.gz
# D/DA/DAVIDO/Inline-CPP-0.33_003.tar.gz
# D/DC/DCARVELL/Debug-Xray-0.05.tar.gz
# D/DM/DMAKI/STF-Dispatcher-PSGI-1.05.tar.gz
# D/DM/DMUEY/Module-Want-0.4.tar.gz
# D/DO/DOHERTY/Text-UpsideDown-1.20_1.tar.gz
# D/DO/DOHERTY/utf8-all-0.003.tar.gz
# D/DO/DOLMEN/Number-Phone-FR-0.0611350.tar.gz
# D/DO/DOY/circular-require-0.04.tar.gz
# D/DR/DRAEGTUN/PerlX-QuoteOperator-0.04.tar.gz
# D/DR/DROLSKY/Class-Load-0.13.tar.gz
# D/DR/DROLSKY/MooseX-Types-0.31.tar.gz
# D/DR/DROLSKY/perl-5.15.6.tar.bz2
# D/DR/DROLSKY/perl-5.15.6.tar.gz
# D/DR/DRSTEVE/Crypt-Password-0.23.tgz
# D/DR/DRSTEVE/Crypt-Password-0.24.tgz
# D/DR/DRSTEVE/Crypt-Password-0.25.tgz
# D/DS/DSB/ClearCase-SyncTree-0.59.tar.gz
# E/EC/ECARROLL/MooseX-Types-DateTime-ButMaintained-0.14.tar.gz
# E/EG/EGILES/Test-Compile-0.13_1.tar.gz
# E/EG/EGILES/Test-Compile-v0.13.1.tar.gz
# F/FA/FANGLY/Statistics-R-0.25.tar.gz
# F/FA/FASTLY/Net-Fastly-0.95.tar.gz
# F/FA/FAYLAND/Business-AuthorizeNet-CIM-0.05.tar.gz
# F/FA/FAYLAND/Business-AuthorizeNet-CIM-0.06.tar.gz
# F/FI/FIBO/PNI-0.21.0.tar.gz
# F/FI/FIBO/PNI-0.21.1.tar.gz
# F/FI/FIBO/PNI-Core-0.06-withoutworldwriteables.tar.gz
# F/FI/FIBO/PNI-Core-0.06.1.tar.gz
# F/FI/FIBO/PNI-Core-0.06.2.tar.gz
# F/FI/FIBO/PNI-Core-0.06.tar.gz
# F/FI/FIBO/PNI-Node-Perlop-0.04-withoutworldwriteables.tar.gz
# F/FI/FIBO/PNI-Node-Perlop-0.04.1.tar.gz
# F/FI/FIBO/PNI-Node-Perlop-0.04.tar.gz
# F/FI/FIBO/PNI-Node-Perlvar-0.03.1.tar.gz
# F/FR/FREDERICD/Koha-Contrib-Tamil-0.001-TRIAL.tar.gz
# F/FR/FREDERICD/Koha-Contrib-Tamil-0.001.tar.gz
# G/GG/GGOLDBACH/Perl-Analysis-Static-0.004-TRIAL.tar.gz
# G/GN/GNB/Devel-Plumber-0.3.4.tar.gz
# G/GP/GPHAT/Data-SearchEngine-ElasticSearch-0.14.tar.gz
# G/GP/GPHAT/Data-SearchEngine-ElasticSearch-0.15.tar.gz
# G/GP/GPHAT/Data-SearchEngine-ElasticSearch-0.16.tar.gz
# G/GP/GPHAT/Dist-Zilla-Plugin-Dpkg-0.01.tar.gz
# G/GP/GPHAT/Dist-Zilla-Plugin-Dpkg-0.02.tar.gz
# G/GP/GPHAT/Dist-Zilla-Plugin-Dpkg-0.03.tar.gz
# G/GP/GPHAT/Dist-Zilla-Plugin-Dpkg-PerlbrewStarman-0.01.tar.gz
# G/GP/GPHAT/Dist-Zilla-Plugin-Dpkg-PerlbrewStarman-0.02.tar.gz
# G/GP/GPHAT/Dist-Zilla-Plugin-Dpkg-PerlbrewStarman-0.03.tar.gz
# G/GR/GRAY/AnyEvent-MtGox-Stream-0.01.tar.gz
# G/GR/GRAY/AnyEvent-MtGox-Stream-0.02.tar.gz
# G/GR/GRUBER/DBIx-Perlish-0.58.tar.gz
# G/GT/GTERMARS/Log-Dispatch-TestDiag-0.01.tar.gz
# G/GW/GWILLIAMS/RDF-Trine-0.137.tar.gz
# H/HE/HENRYYKT/MojoX-JSON-RPC-0.02.tar.gz
# H/HO/HORNBURG/Dancer-Template-TemplateFlute-0.0024.tar.gz
# H/HO/HORNBURG/Template-Flute-0.0024.tar.gz
# I/IF/IFUSCHINI/Apache2-ApacheMobileFilter-3.50.tar.gz
# I/IN/INA/Char/Big5HKSCS/Char-Big5HKSCS-0.79.tar.gz
# I/IN/INA/Char/Big5Plus/Char-Big5Plus-0.79.tar.gz
# I/IN/INA/Char/Cyrillic/Char-Cyrillic-0.79.tar.gz
# I/IN/INA/Char/EUCJP/Char-EUCJP-0.79.tar.gz
# I/IN/INA/Char/GB18030/Char-GB18030-0.79.tar.gz
# I/IN/INA/Char/GBK/Char-GBK-0.79.tar.gz
# I/IN/INA/Char/Greek/Char-Greek-0.79.tar.gz
# I/IN/INA/Char/HP15/Char-HP15-0.79.tar.gz
# I/IN/INA/Char/INFORMIXV6ALS/Char-INFORMIXV6ALS-0.79.tar.gz
# I/IN/INA/Char/KOI8R/Char-KOI8R-0.79.tar.gz
# I/IN/INA/Char/KOI8U/Char-KOI8U-0.79.tar.gz
# I/IN/INA/Char/Latin1/Char-Latin1-0.79.tar.gz
# I/IN/INA/Char/Latin10/Char-Latin10-0.79.tar.gz
# I/IN/INA/Char/Latin2/Char-Latin2-0.79.tar.gz
# I/IN/INA/Char/Latin3/Char-Latin3-0.79.tar.gz
# I/IN/INA/Char/Latin4/Char-Latin4-0.79.tar.gz
# I/IN/INA/Char/Latin5/Char-Latin5-0.79.tar.gz
# I/IN/INA/Char/Latin6/Char-Latin6-0.79.tar.gz
# I/IN/INA/Char/Latin7/Char-Latin7-0.79.tar.gz
# I/IN/INA/Char/Latin8/Char-Latin8-0.79.tar.gz
# I/IN/INA/Char/Latin9/Char-Latin9-0.79.tar.gz
# I/IN/INA/Char/OldUTF8/Char-OldUTF8-0.79.tar.gz
# I/IN/INA/Char/Sjis/Char-Sjis-0.79.tar.gz
# I/IN/INA/Char/UHC/Char-UHC-0.79.tar.gz
# I/IN/INA/Char/USASCII/Char-USASCII-0.79.tar.gz
# I/IN/INA/Char/UTF2/Char-UTF2-0.79.tar.gz
# I/IN/INA/Char/Windows1252/Char-Windows1252-0.79.tar.gz
# I/IN/INA/Char/Windows1258/Char-Windows1258-0.79.tar.gz
# I/IR/IRONCAMEL/Net-OpenStack-Attack-1.0000.tar.gz
# I/IR/IRONCAMEL/Net-OpenStack-Compute-1.0000.tar.gz
# I/IR/IRONCAMEL/Net-OpenStack-Compute-1.0001.tar.gz
# J/JE/JETTERO/Net-IMAP-Simple-1.2027.tar.gz
# J/JJ/JJNAPIORK/Catalyst-ActionRole-QueryParameter-0.04.tar.gz
# J/JK/JKEGL/Marpa-HTML-0.110_001.tar.gz
# J/JK/JKEGL/Marpa-HTML-0.110_002.tar.gz
# J/JK/JKEGL/Marpa-R2-0.001_012.tar.gz
# J/JK/JKEGL/Marpa-R2-0.001_013.tar.gz
# J/JK/JKEGL/Marpa-XS-1.001_000.tar.gz
# J/JO/JOHND/AWS-S3-0.020.tar.gz
# J/JO/JOHND/Data-Properties-JSON-0.002.tar.gz
# J/JO/JOHND/VSO-0.020.tar.gz
# J/JO/JOHND/VSO-0.021.tar.gz
# J/JO/JONALLEN/App-cpackage-1.01.tar.gz
# J/JO/JORDAN/Doxygen-Filter-Perl/Doxygen-Filter-Perl-1.00.tar.gz
# J/JQ/JQUELIN/Dist-Zilla-Plugin-Git-1.113560.tar.gz
# J/JS/JSWARTZ/Log-Any-Adapter-0.04.tar.gz
# J/JS/JSWARTZ/Log-Any-Adapter-0.05.tar.gz
# J/JU/JUNKER/Dendral-HTTP-Request-0.1.5.tar.gz
# J/JU/JUNKER/Dendral-HTTP-Response-0.1.0.tar.gz
# K/KB/KBA/MooseX-Semantic-0.001.tar.gz
# K/KB/KBA/RDF-Trine-Serializer-SparqlUpdate-0.001.tar.gz
# K/KB/KBA/RDF-TrineX-RuleEngine-Jena-0.001.tar.gz
# K/KE/KESTEB/Scaffold-0.09.tar.gz
# K/KI/KITANO/Perl-Metrics-Lite-0.01.tar.gz
# K/KI/KITANO/Perl-Metrics-Lite-0.02.tar.gz
# K/KI/KITANO/Perl-Metrics-Lite-0.03.tar.gz
# K/KI/KITANO/Perl-Metrics-Lite-0.04.tar.gz
# K/KI/KITANO/Perl-Metrics-Lite-0.05.tar.gz
# K/KI/KITANO/Test-Perl-Metrics-Lite-0.01.tar.gz
# K/KI/KITANO/Test-Perl-Metrics-Lite-0.02.tar.gz
# K/KI/KIWANAMI/RPC-EPC-Service-v0.0.1.tar.gz
# K/KI/KIWANAMI/RPC-EPC-Service-v0.0.2.tar.gz
# K/KI/KIWANAMI/RPC-EPC-Service-v0.0.3.tar.gz
# K/KJ/KJETILK/RDF-Trine-Store-File-0.1.tar.gz
# K/KO/KOHTS/Yandex-Tools-0.13.tar.gz
# K/KO/KOHTS/Yandex-Tools-0.14.tar.gz
# K/KO/KOHTS/snaked-0.12.tar.gz
# K/KO/KOORCHIK/Mojolicious-Plugin-CSRFProtect-0.06.tar.gz
# K/KO/KOORCHIK/Mojolicious-Plugin-CSRFProtect-0.07.tar.gz
# K/KO/KOORCHIK/Mojolicious-Plugin-JSUrlFor-0.05.tar.gz
# K/KO/KOORCHIK/Mojolicious-Plugin-JSUrlFor-0.06.tar.gz
# K/KR/KRYDE/Math-NumSeq-23.tar.gz
# K/KR/KRYDE/Math-NumSeq-24.tar.gz
# K/KR/KRYDE/math-image-86.tar.gz
# K/KR/KRYDE/math-image-87.tar.gz
# K/KS/KSURI/App-Mver-0.06.tar.gz
# L/LA/LAJANDY/Helios-2.30_5072.tar.gz
# L/LE/LEMBARK/FindBin-libs-1.60.tar.gz
# L/LE/LEMBARK/Parallel-Queue-2.04.tar.gz
# L/LE/LEONT/Bio-SFF-0.003.tar.gz
# L/LE/LEONT/Bio-SFF-0.004.tar.gz
# L/LE/LEONT/autodie-variables-0.002.tar.gz
# L/LO/LOGIE/SWISH-Filters-ImageTypesToXml-0.02.tar.gz
# M/MA/MALLEN/Net-API-Gett-0.02.tar.gz
# M/MA/MARKG/Net-OpenSRS-Email_APP-0.61.tar.gz
# M/MA/MARKOV/POSIX-1003-0.02.tar.gz
# M/MA/MARKOV/POSIX-1003-0.03.tar.gz
# M/MA/MARKOV/POSIX-1003-0.04.tar.gz
# M/MA/MARKOV/POSIX-1003-0.05.tar.gz
# M/MA/MARKOV/POSIX-1003-0.06.tar.gz
# M/MA/MART/Linux-ProcessInfo-0.01.tar.gz
# M/MA/MARTIJN/Data-Transform-Zlib-0.02.tar.gz
# M/ME/MEETTYA/Kaiten-Container-0.37.tar.gz
# M/ME/MELEZHIK/Bundler-v0.0.25.tar.gz
# M/ME/MELEZHIK/Bundler-v0.0.26.tar.gz
# M/ME/MELEZHIK/Bundler-v0.0.28.tar.gz
# M/ME/MELLERY/URL-Google-GURL-0.01.tar.gz
# M/ME/MELLERY/URL-Google-GURL-0.02.tar.gz
# M/MG/MGOULD/List-Priority-0.03.tar.gz
# M/MG/MGOULD/List-Priority-0.03rc1.tar.gz
# M/MI/MIYAGAWA/App-cpanminus-1.5007.tar.gz
# M/ML/MLEHMANN/BDB-1.9.tar.gz
# M/MN/MNUNBERG/Devel-PtrTable-0.03.tar.gz
# M/MN/MNUNBERG/File-Dir-Hash-0.02.tar.gz
# M/MN/MNUNBERG/POE-Sugar-Attributes-0.01.tar.gz
# M/MN/MNUNBERG/POE-Sugar-Attributes-0.02.tar.gz
# M/MN/MNUNBERG/Ref-Store-0.19.tar.gz
# M/MN/MNUNBERG/Test-LWP-MockSocket-http-0.05.tar.gz
# M/MN/MNUNBERG/Text-Prefix-XS-0.01-TRIAL.tar.gz
# M/MN/MNUNBERG/Text-Prefix-XS-0.02-TRIAL.tar.gz
# M/MN/MNUNBERG/Text-Prefix-XS-0.05.tar.gz
# M/MN/MNUNBERG/Text-Prefix-XS-0.08.tar.gz
# M/MN/MNUNBERG/Text-Prefix-XS-0.09.tar.gz
# M/MN/MNUNBERG/Text-Prefix-XS-0.10.tar.gz
# M/MN/MNUNBERG/Text-Prefix-XS-0.11.tar.gz
# M/MO/MOOCOW/PDL-CCS-1.15.tar.gz
# M/MR/MRAMBERG/Mojolicious-2.39.tar.gz
# M/MR/MRDVT/Spreadsheet-WriteExcel-Simple-Tabs-0.10.tar.gz
# M/MS/MSCHILLI/App-Daemon-0.14.tar.gz
# M/MS/MSCHILLI/Archive-Tar-Wrapper-0.15.tar.gz
# M/MS/MSTROUT/Tak-0.001002.tar.gz
# M/MS/MSTROUT/Tak-0.001003.tar.gz
# M/MS/MSTROUT/Tak-Daemon-0.001001.tar.gz
# M/MS/MSTROUT/Web-Simple-0.011.tar.gz
# M/MU/MURATAYA/MIME-EcoEncode-0.50.tar.gz
# N/NE/NEKOKAK/DBIx-TransactionManager-1.11.tar.gz
# N/NE/NEKOKAK/Teng-0.14_04.tar.gz
# N/NI/NIXUS/Stuff-0.0.1.tar.gz
# N/NI/NIXUS/Stuff-0.0.2.tar.gz
# N/NI/NIXUS/Stuff-0.0.3.tar.gz
# N/NO/NOUDARD/DBIx-Class-Result-ColumnData-0.14.tar.gz
# O/OL/OLIVER/App-passmanager-1.113580.tar.gz
# O/OL/OLLY/Search-Xapian-1.2.8.0.tar.gz
# O/OT/OTY/EBook-EPUB-0.6.tar.gz
# P/PA/PATCH/Template-Plugin-Ligature-0.01.tar.gz
# P/PA/PATCH/Template-Plugin-Ligature-0.02.tar.gz
# P/PA/PATCH/Template-Plugin-Ligature-0.03.tar.gz
# P/PA/PATCH/Text-Ligature-0.01.tar.gz
# P/PA/PATCH/Text-Ligature-0.02.tar.gz
# P/PE/PEK/WebService-Rajce-0.04.tar.gz
# P/PE/PEK/WebService-Rajce-0.05.tar.gz
# P/PE/PEK/WebService-Rajce-0.06.tar.gz
# P/PE/PERLER/DBIx-Class-Graph-1.04.tar.gz
# P/PE/PEVANS/Net-Async-HTTP-0.14.tar.gz
# P/PH/PHRED/Apache-SizeLimit-0.96.tar.gz
# P/PR/PRAVUS/Proc-Lite-0.09_01.tar.gz
# R/RA/RAYMOR/Linux-LVM-0.15.01.tar.gz
# R/RE/REEDFISH/Net-FullAuto-0.9989.tar.gz
# R/RE/REEDFISH/Term-Menus-2.04.tar.gz
# R/RI/RIBASUSHI/Moo-0.009013.tar.gz
# R/RI/RIBASUSHI/namespace-clean-0.21_01.tar.gz
# R/RI/RIBASUSHI/namespace-clean-0.21_02.tar.gz
# R/RJ/RJBS/App-Cmd-0.313.tar.gz
# R/RJ/RJBS/CPAN-Mini-1.111008.tar.gz
# R/RJ/RJBS/Color-Palette-0.100001.tar.gz
# R/RJ/RJBS/Color-Palette-0.100002.tar.gz
# R/RJ/RJBS/Email-Simple-2.101.tar.gz
# R/RJ/RJBS/IPC-Run3-0.045.tar.gz
# R/RJ/RJBS/Module-Starter-Plugin-SimpleStore-0.144.tar.gz
# R/RJ/RJBS/MooseX-ClassCompositor-0.003.tar.gz
# R/RJ/RJBS/MooseX-Types-Perl-0.101341.tar.gz
# R/RJ/RJBS/WWW-AdventCalendar-1.106.tar.gz
# R/RJ/RJBS/WWW-AdventCalendar-1.107.tar.gz
# R/RO/ROKR/DBIx-NoSQL-0.0018.tar.gz
# R/RO/ROKR/Document-TriPart-0.024.tar.gz
# R/RO/ROKR/Getopt-Chain-0.017.tar.gz
# R/RO/ROKR/Module-Install-ParseRequires-0.002.tar.gz
# R/RS/RSIMOES/Dancer-Logger-PSGI-0.020_001-TRIAL.tar.gz
# R/RS/RSIMOES/Dancer-Logger-PSGI-0.04.tar.gz
# R/RS/RSIMOES/WWW-eNom-v1.0.2.tar.gz
# R/RU/RURBAN/App-perlall-0.01.tar.gz
# R/RU/RURBAN/App-perlall-0.02.tar.gz
# S/SA/SALVA/Math-Int64-0.18_01.tar.gz
# S/SA/SALVA/Math-Int64-0.18_02.tar.gz
# S/SA/SALVA/Math-Int64-0.18_03.tar.gz
# S/SA/SALVA/Math-Int64-0.18_04.tar.gz
# S/SA/SALVA/Net-OpenSSH-0.57.tar.gz
# S/SA/SALVA/Net-SFTP-Server-0.03.tar.gz
# S/SA/SANKO/AnyEvent-BitTorrent-v0.1.1.tar.gz
# S/SA/SANKO/AnyEvent-BitTorrent-v0.1.1_1.tar.gz
# S/SA/SANKO/AnyEvent-BitTorrent-v0.1.2.tar.gz
# S/SA/SANKO/AnyEvent-BitTorrent-v0.1.2_1.tar.gz
# S/SA/SANKO/AnyEvent-BitTorrent-v0.1.3.tar.gz
# S/SA/SARGIE/Test-BDD-Cucumber-0.02.tar.gz
# S/SA/SAXJAZMAN/cif/CIF-Client-0.01.tar.gz
# S/SC/SCHUBIGER/LaTeX-TOM-1.03.tar.gz
# S/SH/SHLOMIF/App-XML-DocBook-Builder-0.0400.tar.gz
# S/SH/SHLOMIF/Graph-Easy-0.71.tar.gz
# S/SH/SHLOMIF/XML-LibXML-1.89.tar.gz
# S/SH/SHOOTNIX/Mojolicious-Plugin-AnyData-1.10.tar.gz
# S/SH/SHOOTNIX/Mojolicious-Plugin-AnyData-1.11.tar.gz
# S/SK/SKI/Bundle-Elkhound-0.01.tar.gz
# S/SK/SKI/Bundle-Moose-0.01.tar.gz
# S/SK/SKI/Bundle-dualLived-1.00.tar.gz
# S/SK/SKI/Bundle-dualLived-1.01.tar.gz
# S/SM/SMUELLER/Alien-ROOT-v5.32.0.1.tar.gz
# S/SM/SMUELLER/ExtUtils-ParseXS-3.08.tar.gz
# S/SM/SMUELLER/Filter-Simple-0.88.tar.gz
# S/SM/SMUELLER/PathTools-3.39_01.tar.gz
# S/SM/SMUELLER/SOOT-0.17.tar.gz
# S/SM/SMUELLER/SelfLoader-1.19.tar.gz
# S/SM/SMUELLER/SelfLoader-1.20.tar.gz
# S/SN/SNUMANO/Net-CloudStack-0.00006.tar.gz
# S/SN/SNUMANO/Net-CloudStack-0.00007.tar.gz
# S/SR/SREZIC/App-psort-0.01_57.tar.gz
# S/SR/SREZIC/Geo-Coder-Googlev3-0.10_51.tar.gz
# S/SR/SREZIC/Geo-Coder-Googlev3-0.10_52.tar.gz
# S/SR/SREZIC/Geo-Coder-Googlev3-0.11.tar.gz
# S/SR/SRI/Mojolicious-2.40.tar.gz
# S/SU/SULLR/Net-Inspect-0.01.tar.gz
# S/SU/SULLR/Net-Inspect-0.02.tar.gz
# S/SU/SULLR/Net-Inspect-0.03.tar.gz
# S/SZ/SZABGAB/File-Open-OOP-0.01.tar.gz
# S/SZ/SZABGAB/Term-ProgressBar-2.10.tar.gz
# T/TH/THALJEF/Perl-Critic-1.117.tar.gz
# T/TK/TKEEFER/eBay-API-Simple-0.27.tar.gz
# T/TL/TLINDEN/Crypt-PWSafe3-1.01.tar.gz
# T/TO/TOBYINK/Pointy-Counter-0.001.tar.gz
# T/TO/TODDR/Exporter-5.66.tar.gz
# T/TO/TODDR/Locale-Maketext-1.21.tar.gz
# T/TO/TODDR/Tie-File-0.98.tar.gz
# T/TO/TOKUHIROM/DBIx-Inspector-0.06.tar.gz
# T/TO/TONVOON/Nagios-Plugin-0.36.tar.gz
# T/TO/TOSHIFJW/Fuse-Class-0.02.tar.gz
# T/TR/TRCJR/Parse-Selenese-0.006.tar.gz
# T/TR/TRLORENZ/MooseX-OmniTrigger-0.02.tar.gz
# T/TR/TRLORENZ/MooseX-OmniTrigger-0.03.tar.gz
# T/TR/TRLORENZ/MooseX-OmniTrigger-0.04.tar.gz
# V/VT/VTI/Routes-Tiny-0.009014.tar.gz
# V/VV/VVELOX/Toader-0.0.0.tar.gz
# V/VV/VVELOX/Toader-0.0.1.tar.gz
# W/WE/WEBY/Mojolicious-Plugin-Mobi-0.02.tar.gz
# W/WO/WOHL/File-Properties-0.02.tar.gz
# W/WU/WULEE/Net-SSH-Mechanize-v0.1.1.tar.gz
# W/WY/WYANT/Astro-App-Satpass2-0.000_33.tar.gz
# W/WY/WYANT/Games-Sudoku-General-0.012.tar.gz
# X/XA/XAICRON/DBIx-QueryLog-0.24.tar.gz
# X/XA/XAICRON/IO-Prompt-Simple-0.04.tar.gz
# X/XA/XAOC/Cairo-1.082.tar.gz
# X/XA/XAOC/Glib-Object-Introspection-0.005.tar.gz
# X/XS/XSAWYERX/POE-Component-OpenSSH-0.10.tar.gz
# Y/YH/YHPENG/Net-Evernote-0.04.tgz
# Y/YS/YSIMONX/WWW-RobotRules-Extended-0.01.tar.gz
# Y/YU/YURAN/MR-Tarantool-0.0.10.tar.gz
# Y/YU/YURAN/MR-Tarantool-0.0.7.tar.gz
# Y/YU/YURAN/MR-Tarantool-0.0.8.tar.gz
# Y/YU/YURAN/MR-Tarantool-0.0.9.tar.gz
# Z/ZW/ZWON/File-Flock-Tiny-0.04.tar.gz
# Z/ZZ/ZZZ/Nginx-Perl-1.1.11.1.tar.gz
# Z/ZZ/ZZZ/Redis-Parser-XS-0.02.tar.gz
t/05_live_http.t ....... ok
# B/BI/BINGOS/Module-CoreList-2.59.tar.gz
# T/TK/TKEEFER/eBay-API-Simple-0.27.tar.gz
# W/WY/WYANT/Games-Sudoku-General-0.012.tar.gz
# B/BI/BINGOS/CPANPLUS-0.9115.tar.gz
# D/DO/DOLMEN/Number-Phone-FR-0.0611350.tar.gz
# L/LE/LEMBARK/FindBin-libs-1.60.tar.gz
# D/DC/DCARVELL/Debug-Xray-0.05.tar.gz
# M/MN/MNUNBERG/Ref-Store-0.19.tar.gz
# M/MN/MNUNBERG/POE-Sugar-Attributes-0.02.tar.gz
# G/GN/GNB/Devel-Plumber-0.3.4.tar.gz
# T/TR/TRCJR/Parse-Selenese-0.006.tar.gz
# M/MU/MURATAYA/MIME-EcoEncode-0.50.tar.gz
# M/MS/MSCHILLI/Archive-Tar-Wrapper-0.15.tar.gz
# S/SA/SALVA/Net-OpenSSH-0.57.tar.gz
# S/SZ/SZABGAB/Term-ProgressBar-2.10.tar.gz
# S/SZ/SZABGAB/File-Open-OOP-0.01.tar.gz
# T/TL/TLINDEN/Crypt-PWSafe3-1.01.tar.gz
# D/DA/DAROLD/Apache2-ModProxyPerlHtml-3.2.tar.gz
# A/AZ/AZAWAWI/Wx-Scintilla-0.36.tar.gz
# R/RJ/RJBS/WWW-AdventCalendar-1.107.tar.gz
# T/TO/TOKUHIROM/DBIx-Inspector-0.06.tar.gz
# B/BA/BAYASHI/Data-Dumper-AutoEncode-0.102.tar.gz
# L/LE/LEONT/autodie-variables-0.002.tar.gz
# R/RE/REEDFISH/Net-FullAuto-0.9989.tar.gz
# A/AB/ABRAXXA/DBIx-Class-UUIDColumns-0.02006.tar.gz
# X/XA/XAICRON/DBIx-QueryLog-0.24.tar.gz
# A/AG/AGORDON/Dancer-Plugin-EncodeID-0.02.tar.gz
# M/MG/MGOULD/List-Priority-0.03.tar.gz
# F/FA/FANGLY/Statistics-R-0.25.tar.gz
# G/GP/GPHAT/Dist-Zilla-Plugin-Dpkg-0.03.tar.gz
# G/GP/GPHAT/Dist-Zilla-Plugin-Dpkg-PerlbrewStarman-0.03.tar.gz
# S/SU/SULLR/Net-Inspect-0.03.tar.gz
# T/TH/THALJEF/Perl-Critic-1.117.tar.gz
# B/BI/BINGOS/Term-UI-0.30.tar.gz
# C/CJ/CJM/WebService-NFSN-1.02.tar.gz
# D/DM/DMUEY/Module-Want-0.4.tar.gz
# C/CJ/CJM/Dist-Zilla-Plugins-CJM-4.05.tar.gz
# R/RJ/RJBS/MooseX-ClassCompositor-0.003.tar.gz
# Z/ZZ/ZZZ/Nginx-Perl-1.1.11.1.tar.gz
# H/HE/HENRYYKT/MojoX-JSON-RPC-0.02.tar.gz
# P/PH/PHRED/Apache-SizeLimit-0.96.tar.gz
# A/AW/AWWAIID/Plack-Middleware-Scrutiny-0.02.tar.gz
# B/BK/BKB/Video-Subtitle-SRT-0.02.tar.gz
# J/JS/JSWARTZ/Log-Any-Adapter-0.04.tar.gz
# J/JS/JSWARTZ/Log-Any-Adapter-0.05.tar.gz
# J/JQ/JQUELIN/Dist-Zilla-Plugin-Git-1.113560.tar.gz
# P/PE/PEK/WebService-Rajce-0.06.tar.gz
# C/CH/CHANSEN/Unicode-UTF8-0.55.tar.gz
# B/BF/BFAIST/Mojolicious-Plugin-HTMLTemplateRenderer-0.01.tar.gz
# S/SM/SMUELLER/Alien-ROOT-v5.32.0.1.tar.gz
# J/JO/JONALLEN/App-cpackage-1.01.tar.gz
# A/AR/ARC/ex-monkeypatched-0.03.tar.gz
# D/DR/DROLSKY/Class-Load-0.13.tar.gz
# B/BO/BOOK/WWW-Mailman-1.05.tar.gz
# M/MA/MART/Linux-ProcessInfo-0.01.tar.gz
# M/MA/MARTIJN/Data-Transform-Zlib-0.02.tar.gz
# N/NI/NIXUS/Stuff-0.0.1.tar.gz
# S/SR/SREZIC/Geo-Coder-Googlev3-0.11.tar.gz
# K/KJ/KJETILK/RDF-Trine-Store-File-0.1.tar.gz
# G/GR/GRAY/AnyEvent-MtGox-Stream-0.02.tar.gz
# I/IR/IRONCAMEL/Net-OpenStack-Attack-1.0000.tar.gz
# J/JO/JORDAN/Doxygen-Filter-Perl-1.00.tar.gz
# D/DR/DROLSKY/MooseX-Types-0.31.tar.gz
# K/KR/KRYDE/math-image-86.tar.gz
# I/IR/IRONCAMEL/Net-OpenStack-Compute-1.0001.tar.gz
# D/DR/DRSTEVE/Crypt-Password-0.25.tgz
# R/RO/ROKR/DBIx-NoSQL-0.0018.tar.gz
# M/MS/MSTROUT/Web-Simple-0.011.tar.gz
# O/OT/OTY/EBook-EPUB-0.6.tar.gz
# A/AK/AKALINUX/Data-Range-Compare-Stream-0.006.tar.gz
# W/WO/WOHL/File-Properties-0.02.tar.gz
# A/AK/AKALINUX/DBIx-BulkLoader-Mysql-1.006.tar.gz
# M/MS/MSTROUT/Tak-0.001003.tar.gz
# R/RO/ROKR/Module-Install-ParseRequires-0.002.tar.gz
# T/TO/TOSHIFJW/Fuse-Class-0.02.tar.gz
# B/BO/BOBTFISH/MooseX-Getopt-0.38.tar.gz
# K/KO/KOORCHIK/Mojolicious-Plugin-CSRFProtect-0.07.tar.gz
# M/ME/MELEZHIK/Bundler-v0.0.28.tar.gz
# T/TO/TONVOON/Nagios-Plugin-0.36.tar.gz
# K/KS/KSURI/App-Mver-0.06.tar.gz
# J/JE/JETTERO/Net-IMAP-Simple-1.2027.tar.gz
# S/SH/SHLOMIF/Graph-Easy-0.71.tar.gz
# K/KB/KBA/RDF-TrineX-RuleEngine-Jena-0.001.tar.gz
# R/RI/RIBASUSHI/Moo-0.009013.tar.gz
# T/TO/TODDR/Exporter-5.66.tar.gz
# G/GP/GPHAT/Data-SearchEngine-ElasticSearch-0.16.tar.gz
# T/TO/TODDR/Locale-Maketext-1.21.tar.gz
# K/KB/KBA/RDF-Trine-Serializer-SparqlUpdate-0.001.tar.gz
# T/TO/TODDR/Tie-File-0.98.tar.gz
# K/KB/KBA/MooseX-Semantic-0.001.tar.gz
# M/MA/MALLEN/Net-API-Gett-0.02.tar.gz
# X/XA/XAICRON/IO-Prompt-Simple-0.04.tar.gz
# R/RJ/RJBS/App-Cmd-0.313.tar.gz
# R/RJ/RJBS/CPAN-Mini-1.111008.tar.gz
# R/RJ/RJBS/IPC-Run3-0.045.tar.gz
# R/RJ/RJBS/Module-Starter-Plugin-SimpleStore-0.144.tar.gz
# R/RJ/RJBS/Email-Simple-2.101.tar.gz
# F/FI/FIBO/PNI-Node-Perlop-0.04.1.tar.gz
# J/JO/JOHND/Data-Properties-JSON-0.002.tar.gz
# S/SC/SCHUBIGER/LaTeX-TOM-1.03.tar.gz
# C/CK/CKAISER/Term-ReadLine-TTYtter-1.3.tar.gz
# R/RJ/RJBS/MooseX-Types-Perl-0.101341.tar.gz
# Z/ZZ/ZZZ/Redis-Parser-XS-0.02.tar.gz
# F/FI/FIBO/PNI-Core-0.06.2.tar.gz
# F/FI/FIBO/PNI-0.21.1.tar.gz
# F/FI/FIBO/PNI-Node-Perlvar-0.03.1.tar.gz
# S/SA/SANKO/AnyEvent-BitTorrent-v0.1.3.tar.gz
# F/FA/FAYLAND/Business-AuthorizeNet-CIM-0.06.tar.gz
# K/KI/KITANO/Test-Perl-Metrics-Lite-0.02.tar.gz
# R/RS/RSIMOES/WWW-eNom-v1.0.2.tar.gz
# S/SK/SKI/Bundle-Moose-0.01.tar.gz
# K/KI/KITANO/Perl-Metrics-Lite-0.05.tar.gz
# R/RS/RSIMOES/Dancer-Logger-PSGI-0.04.tar.gz
# S/SH/SHLOMIF/XML-LibXML-1.89.tar.gz
# S/SR/SRI/Mojolicious-2.40.tar.gz
# C/CF/CFUHRMAN/Log-Fine-0.59.tar.gz
# P/PE/PERLER/DBIx-Class-Graph-1.04.tar.gz
# O/OL/OLIVER/App-passmanager-1.113580.tar.gz
# D/DR/DRAEGTUN/PerlX-QuoteOperator-0.04.tar.gz
# N/NI/NIXUS/Stuff-0.0.3.tar.gz
# S/SH/SHOOTNIX/Mojolicious-Plugin-AnyData-1.11.tar.gz
# P/PE/PEVANS/Net-Async-HTTP-0.14.tar.gz
# S/SK/SKI/Bundle-dualLived-1.01.tar.gz
# Y/YH/YHPENG/Net-Evernote-0.04.tgz
# M/MN/MNUNBERG/Text-Prefix-XS-0.11.tar.gz
# S/SK/SKI/Bundle-Elkhound-0.01.tar.gz
# C/CE/CELOGEEK/MooX-Options-0.8.tar.gz
# S/SH/SHLOMIF/App-XML-DocBook-Builder-0.0400.tar.gz
# M/MA/MARKOV/POSIX-1003-0.06.tar.gz
# K/KR/KRYDE/Math-NumSeq-24.tar.gz
# K/KR/KRYDE/math-image-87.tar.gz
# T/TR/TRLORENZ/MooseX-OmniTrigger-0.04.tar.gz
# P/PA/PATCH/Text-Ligature-0.02.tar.gz
# P/PA/PATCH/Template-Plugin-Ligature-0.03.tar.gz
# M/MS/MSCHILLI/App-Daemon-0.14.tar.gz
# X/XA/XAOC/Glib-Object-Introspection-0.005.tar.gz
# K/KO/KOORCHIK/Mojolicious-Plugin-JSUrlFor-0.06.tar.gz
# K/KI/KIWANAMI/RPC-EPC-Service-v0.0.3.tar.gz
# M/ME/MELEZHIK/CPANPLUS-Shell-Default-Plugins-Repo-v0.0.1.tar.gz
# R/RI/RIBASUSHI/Class-Accessor-Grouped-0.10005.tar.gz
# R/RI/RIBASUSHI/namespace-clean-0.22.tar.gz
# B/BO/BOOK/Git-Repository-1.24.tar.gz
# M/ME/MELEZHIK/CPAN-Repo-v0.0.4.tar.gz
# S/SS/SSINYAGIN/SIAM-0.10.tar.gz
# O/OL/OLIVER/Net-CLI-Interact-1.113600.tar.gz
# O/OL/OLIVER/Net-Appliance-Session-3.113600.tar.gz
# X/XA/XAICRON/Test-Flatten-0.07.tar.gz
# K/KU/KUMY/Graphics-HotMap-0.0001.tar.gz
# K/KM/KMCGRATH/Rose-DBx-Object-Cached-FastMmap-0.05.tar.gz
# D/DE/DESPAIR/Net-Whois-Raw-2.39.tar.gz
t/05_live_http_rss.t ... ok
# A/AB/ABRAXXA/Catalyst-Controller-DBIC-API-2.004003.tar.gz
# A/AB/ABRAXXA/DBIx-Class-UUIDColumns-0.02006.tar.gz
# A/AG/AGORDON/Dancer-Plugin-EncodeID-0.02.tar.gz
# A/AK/AKALINUX/DBIx-BulkLoader-Mysql-1.006.tar.gz
# A/AK/AKALINUX/Data-Range-Compare-Stream-0.001.tar.gz
# A/AK/AKALINUX/Data-Range-Compare-Stream-0.002.tar.gz
# A/AK/AKALINUX/Data-Range-Compare-Stream-0.003.tar.gz
# A/AK/AKALINUX/Data-Range-Compare-Stream-0.004.tar.gz
# A/AK/AKALINUX/Data-Range-Compare-Stream-0.005.tar.gz
# A/AK/AKALINUX/Data-Range-Compare-Stream-0.006.tar.gz
# A/AL/ALEXBIO/Dist-Zilla-Plugin-GitHub-0.14.tar.gz
# A/AR/ARC/ex-monkeypatched-0.03.tar.gz
# A/AW/AWNCORP/MongoDBI-0.0.4.tar.gz
# A/AW/AWWAIID/Plack-Middleware-Scrutiny-0.02.tar.gz
# A/AZ/AZAWAWI/Wx-Scintilla-0.36.tar.gz
# A/AZ/AZAWAWI/Wx-Scintilla-0.37_01.tar.gz
# B/BA/BABF/Acme-Hi-0.01.tar.gz
# B/BA/BABF/Archive-StringToZip-1.03.tar.gz
# B/BA/BABF/Text-CSV-Slurp-0.9.tar.gz
# B/BA/BAYASHI/Data-Dumper-AutoEncode-0.102.tar.gz
# B/BB/BBB/ttylog-0.85.tar.gz
# B/BD/BDFOY/Module-Release-2.06.tar.gz
# B/BD/BDFOY/Module-Release-2.06_01.tar.gz
# B/BF/BFAIST/Mojolicious-Plugin-HTMLTemplateRenderer-0.01.tar.gz
# B/BH/BHEISIG/RT-Extension-MandatoryFields-0.4.tar.gz
# B/BI/BINGOS/CPAN-Perl-Releases-0.40.tar.gz
# B/BI/BINGOS/CPANPLUS-0.9114.tar.gz
# B/BI/BINGOS/CPANPLUS-0.9115.tar.gz
# B/BI/BINGOS/Module-CoreList-2.59.tar.gz
# B/BI/BINGOS/Term-UI-0.28.tar.gz
# B/BI/BINGOS/Term-UI-0.30.tar.gz
# B/BK/BKB/Video-Subtitle-SRT-0.02.tar.gz
# B/BO/BOBTFISH/MooseX-Getopt-0.38.tar.gz
# B/BO/BOOK/WWW-Mailman-1.05.tar.gz
# B/BR/BRADH/Goose-0.014.tar.gz
# B/BR/BRADH/Goose-0.015.tar.gz
# B/BR/BRADH/Goose-0.016.tar.gz
# C/CE/CELOGEEK/MooX-Options-0.8.tar.gz
# C/CF/CFAERBER/Net-IDN-Encode-1.102.tar.gz
# C/CF/CFAERBER/Net-IDN-Encode-1.900_20111221.tar.gz
# C/CF/CFAERBER/Net-IDN-Encode-1.900_20111224.tar.gz
# C/CF/CFUHRMAN/Log-Fine-0.59.tar.gz
# C/CH/CHANSEN/Unicode-UTF8-0.54.tar.gz
# C/CH/CHANSEN/Unicode-UTF8-0.55.tar.gz
# C/CH/CHM/PDL-2.4.9_016.tar.gz
# C/CH/CHM/PDL-2.4.9_991.tar.gz
# C/CJ/CJCOLLIER/NIST-NVD/NIST-NVD-0.03.tar.gz
# C/CJ/CJCOLLIER/NIST-NVD/NIST-NVD-0.04.tar.gz
# C/CJ/CJM/Dist-Zilla-Plugins-CJM-4.05.tar.gz
# C/CJ/CJM/WebService-NFSN-1.02.tar.gz
# C/CK/CKAISER/Term-ReadLine-TTYtter-1.3.tar.gz
# C/CO/CORION/MozRepl-RemoteObject-0.29.tar.gz
# C/CO/CORLISS/Paranoid/Paranoid-0.32.tar.gz
# C/CO/COSIMO/Postfix-Mailq-0.01.tar.gz
# C/CU/CUBABIT/WebService-GlucoseBuddy-1.113540.tar.gz
# D/DA/DAGOLDEN/Capture-Tiny-0.14.tar.gz
# D/DA/DAGOLDEN/Capture-Tiny-0.15.tar.gz
# D/DA/DAGOLDEN/Data-UUID-MT-0.004.tar.gz
# D/DA/DAKKAR/Data-MultiValued-0.0.1_4.tar.gz
# D/DA/DAROLD/Apache2/ModProxyPerlHtml/Apache2-ModProxyPerlHtml-3.2.tar.gz
# D/DA/DAVEWOOD/CatalystX-Resource-0.001_004.tar.gz
# D/DA/DAVIDO/Inline-CPP-0.33_001.tar.gz
# D/DA/DAVIDO/Inline-CPP-0.33_002.tar.gz
# D/DA/DAVIDO/Inline-CPP-0.33_003.tar.gz
# D/DC/DCARVELL/Debug-Xray-0.05.tar.gz
# D/DM/DMAKI/STF-Dispatcher-PSGI-1.05.tar.gz
# D/DM/DMUEY/Module-Want-0.4.tar.gz
# D/DO/DOHERTY/Text-UpsideDown-1.20_1.tar.gz
# D/DO/DOHERTY/utf8-all-0.003.tar.gz
# D/DO/DOLMEN/Number-Phone-FR-0.0611350.tar.gz
# D/DO/DOY/circular-require-0.04.tar.gz
# D/DR/DRAEGTUN/PerlX-QuoteOperator-0.04.tar.gz
# D/DR/DROLSKY/Class-Load-0.13.tar.gz
# D/DR/DROLSKY/MooseX-Types-0.31.tar.gz
# D/DR/DROLSKY/perl-5.15.6.tar.bz2
# D/DR/DROLSKY/perl-5.15.6.tar.gz
# D/DR/DRSTEVE/Crypt-Password-0.23.tgz
# D/DR/DRSTEVE/Crypt-Password-0.24.tgz
# D/DR/DRSTEVE/Crypt-Password-0.25.tgz
# D/DS/DSB/ClearCase-SyncTree-0.59.tar.gz
# E/EC/ECARROLL/MooseX-Types-DateTime-ButMaintained-0.14.tar.gz
# E/EG/EGILES/Test-Compile-0.13_1.tar.gz
# E/EG/EGILES/Test-Compile-v0.13.1.tar.gz
# F/FA/FANGLY/Statistics-R-0.25.tar.gz
# F/FA/FASTLY/Net-Fastly-0.95.tar.gz
# F/FA/FAYLAND/Business-AuthorizeNet-CIM-0.05.tar.gz
# F/FA/FAYLAND/Business-AuthorizeNet-CIM-0.06.tar.gz
# F/FI/FIBO/PNI-0.21.0.tar.gz
# F/FI/FIBO/PNI-0.21.1.tar.gz
# F/FI/FIBO/PNI-Core-0.06-withoutworldwriteables.tar.gz
# F/FI/FIBO/PNI-Core-0.06.1.tar.gz
# F/FI/FIBO/PNI-Core-0.06.2.tar.gz
# F/FI/FIBO/PNI-Core-0.06.tar.gz
# F/FI/FIBO/PNI-Node-Perlop-0.04-withoutworldwriteables.tar.gz
# F/FI/FIBO/PNI-Node-Perlop-0.04.1.tar.gz
# F/FI/FIBO/PNI-Node-Perlop-0.04.tar.gz
# F/FI/FIBO/PNI-Node-Perlvar-0.03.1.tar.gz
# F/FR/FREDERICD/Koha-Contrib-Tamil-0.001-TRIAL.tar.gz
# F/FR/FREDERICD/Koha-Contrib-Tamil-0.001.tar.gz
# G/GG/GGOLDBACH/Perl-Analysis-Static-0.004-TRIAL.tar.gz
# G/GN/GNB/Devel-Plumber-0.3.4.tar.gz
# G/GP/GPHAT/Data-SearchEngine-ElasticSearch-0.14.tar.gz
# G/GP/GPHAT/Data-SearchEngine-ElasticSearch-0.15.tar.gz
# G/GP/GPHAT/Data-SearchEngine-ElasticSearch-0.16.tar.gz
# G/GP/GPHAT/Dist-Zilla-Plugin-Dpkg-0.01.tar.gz
# G/GP/GPHAT/Dist-Zilla-Plugin-Dpkg-0.02.tar.gz
# G/GP/GPHAT/Dist-Zilla-Plugin-Dpkg-0.03.tar.gz
# G/GP/GPHAT/Dist-Zilla-Plugin-Dpkg-PerlbrewStarman-0.01.tar.gz
# G/GP/GPHAT/Dist-Zilla-Plugin-Dpkg-PerlbrewStarman-0.02.tar.gz
# G/GP/GPHAT/Dist-Zilla-Plugin-Dpkg-PerlbrewStarman-0.03.tar.gz
# G/GR/GRAY/AnyEvent-MtGox-Stream-0.01.tar.gz
# G/GR/GRAY/AnyEvent-MtGox-Stream-0.02.tar.gz
# G/GR/GRUBER/DBIx-Perlish-0.58.tar.gz
# G/GT/GTERMARS/Log-Dispatch-TestDiag-0.01.tar.gz
# G/GW/GWILLIAMS/RDF-Trine-0.137.tar.gz
# H/HE/HENRYYKT/MojoX-JSON-RPC-0.02.tar.gz
# H/HO/HORNBURG/Dancer-Template-TemplateFlute-0.0024.tar.gz
# H/HO/HORNBURG/Template-Flute-0.0024.tar.gz
# I/IF/IFUSCHINI/Apache2-ApacheMobileFilter-3.50.tar.gz
# I/IN/INA/Char/Big5HKSCS/Char-Big5HKSCS-0.79.tar.gz
# I/IN/INA/Char/Big5Plus/Char-Big5Plus-0.79.tar.gz
# I/IN/INA/Char/Cyrillic/Char-Cyrillic-0.79.tar.gz
# I/IN/INA/Char/EUCJP/Char-EUCJP-0.79.tar.gz
# I/IN/INA/Char/GB18030/Char-GB18030-0.79.tar.gz
# I/IN/INA/Char/GBK/Char-GBK-0.79.tar.gz
# I/IN/INA/Char/Greek/Char-Greek-0.79.tar.gz
# I/IN/INA/Char/HP15/Char-HP15-0.79.tar.gz
# I/IN/INA/Char/INFORMIXV6ALS/Char-INFORMIXV6ALS-0.79.tar.gz
# I/IN/INA/Char/KOI8R/Char-KOI8R-0.79.tar.gz
# I/IN/INA/Char/KOI8U/Char-KOI8U-0.79.tar.gz
# I/IN/INA/Char/Latin1/Char-Latin1-0.79.tar.gz
# I/IN/INA/Char/Latin10/Char-Latin10-0.79.tar.gz
# I/IN/INA/Char/Latin2/Char-Latin2-0.79.tar.gz
# I/IN/INA/Char/Latin3/Char-Latin3-0.79.tar.gz
# I/IN/INA/Char/Latin4/Char-Latin4-0.79.tar.gz
# I/IN/INA/Char/Latin5/Char-Latin5-0.79.tar.gz
# I/IN/INA/Char/Latin6/Char-Latin6-0.79.tar.gz
# I/IN/INA/Char/Latin7/Char-Latin7-0.79.tar.gz
# I/IN/INA/Char/Latin8/Char-Latin8-0.79.tar.gz
# I/IN/INA/Char/Latin9/Char-Latin9-0.79.tar.gz
# I/IN/INA/Char/OldUTF8/Char-OldUTF8-0.79.tar.gz
# I/IN/INA/Char/Sjis/Char-Sjis-0.79.tar.gz
# I/IN/INA/Char/UHC/Char-UHC-0.79.tar.gz
# I/IN/INA/Char/USASCII/Char-USASCII-0.79.tar.gz
# I/IN/INA/Char/UTF2/Char-UTF2-0.79.tar.gz
# I/IN/INA/Char/Windows1252/Char-Windows1252-0.79.tar.gz
# I/IN/INA/Char/Windows1258/Char-Windows1258-0.79.tar.gz
# I/IR/IRONCAMEL/Net-OpenStack-Attack-1.0000.tar.gz
# I/IR/IRONCAMEL/Net-OpenStack-Compute-1.0000.tar.gz
# I/IR/IRONCAMEL/Net-OpenStack-Compute-1.0001.tar.gz
# J/JE/JETTERO/Net-IMAP-Simple-1.2027.tar.gz
# J/JJ/JJNAPIORK/Catalyst-ActionRole-QueryParameter-0.04.tar.gz
# J/JK/JKEGL/Marpa-HTML-0.110_001.tar.gz
# J/JK/JKEGL/Marpa-HTML-0.110_002.tar.gz
# J/JK/JKEGL/Marpa-R2-0.001_012.tar.gz
# J/JK/JKEGL/Marpa-R2-0.001_013.tar.gz
# J/JK/JKEGL/Marpa-XS-1.001_000.tar.gz
# J/JO/JOHND/AWS-S3-0.020.tar.gz
# J/JO/JOHND/Data-Properties-JSON-0.002.tar.gz
# J/JO/JOHND/VSO-0.020.tar.gz
# J/JO/JOHND/VSO-0.021.tar.gz
# J/JO/JONALLEN/App-cpackage-1.01.tar.gz
# J/JO/JORDAN/Doxygen-Filter-Perl/Doxygen-Filter-Perl-1.00.tar.gz
# J/JQ/JQUELIN/Dist-Zilla-Plugin-Git-1.113560.tar.gz
# J/JS/JSWARTZ/Log-Any-Adapter-0.04.tar.gz
# J/JS/JSWARTZ/Log-Any-Adapter-0.05.tar.gz
# J/JU/JUNKER/Dendral-HTTP-Request-0.1.5.tar.gz
# J/JU/JUNKER/Dendral-HTTP-Response-0.1.0.tar.gz
# K/KB/KBA/MooseX-Semantic-0.001.tar.gz
# K/KB/KBA/RDF-Trine-Serializer-SparqlUpdate-0.001.tar.gz
# K/KB/KBA/RDF-TrineX-RuleEngine-Jena-0.001.tar.gz
# K/KE/KESTEB/Scaffold-0.09.tar.gz
# K/KI/KITANO/Perl-Metrics-Lite-0.01.tar.gz
# K/KI/KITANO/Perl-Metrics-Lite-0.02.tar.gz
# K/KI/KITANO/Perl-Metrics-Lite-0.03.tar.gz
# K/KI/KITANO/Perl-Metrics-Lite-0.04.tar.gz
# K/KI/KITANO/Perl-Metrics-Lite-0.05.tar.gz
# K/KI/KITANO/Test-Perl-Metrics-Lite-0.01.tar.gz
# K/KI/KITANO/Test-Perl-Metrics-Lite-0.02.tar.gz
# K/KI/KIWANAMI/RPC-EPC-Service-v0.0.1.tar.gz
# K/KI/KIWANAMI/RPC-EPC-Service-v0.0.2.tar.gz
# K/KI/KIWANAMI/RPC-EPC-Service-v0.0.3.tar.gz
# K/KJ/KJETILK/RDF-Trine-Store-File-0.1.tar.gz
# K/KO/KOHTS/Yandex-Tools-0.13.tar.gz
# K/KO/KOHTS/Yandex-Tools-0.14.tar.gz
# K/KO/KOHTS/snaked-0.12.tar.gz
# K/KO/KOORCHIK/Mojolicious-Plugin-CSRFProtect-0.06.tar.gz
# K/KO/KOORCHIK/Mojolicious-Plugin-CSRFProtect-0.07.tar.gz
# K/KO/KOORCHIK/Mojolicious-Plugin-JSUrlFor-0.05.tar.gz
# K/KO/KOORCHIK/Mojolicious-Plugin-JSUrlFor-0.06.tar.gz
# K/KR/KRYDE/Math-NumSeq-23.tar.gz
# K/KR/KRYDE/Math-NumSeq-24.tar.gz
# K/KR/KRYDE/math-image-86.tar.gz
# K/KR/KRYDE/math-image-87.tar.gz
# K/KS/KSURI/App-Mver-0.06.tar.gz
# L/LA/LAJANDY/Helios-2.30_5072.tar.gz
# L/LE/LEMBARK/FindBin-libs-1.60.tar.gz
# L/LE/LEMBARK/Parallel-Queue-2.04.tar.gz
# L/LE/LEONT/Bio-SFF-0.003.tar.gz
# L/LE/LEONT/Bio-SFF-0.004.tar.gz
# L/LE/LEONT/autodie-variables-0.002.tar.gz
# L/LO/LOGIE/SWISH-Filters-ImageTypesToXml-0.02.tar.gz
# M/MA/MALLEN/Net-API-Gett-0.02.tar.gz
# M/MA/MARKG/Net-OpenSRS-Email_APP-0.61.tar.gz
# M/MA/MARKOV/POSIX-1003-0.02.tar.gz
# M/MA/MARKOV/POSIX-1003-0.03.tar.gz
# M/MA/MARKOV/POSIX-1003-0.04.tar.gz
# M/MA/MARKOV/POSIX-1003-0.05.tar.gz
# M/MA/MARKOV/POSIX-1003-0.06.tar.gz
# M/MA/MART/Linux-ProcessInfo-0.01.tar.gz
# M/MA/MARTIJN/Data-Transform-Zlib-0.02.tar.gz
# M/ME/MEETTYA/Kaiten-Container-0.37.tar.gz
# M/ME/MELEZHIK/Bundler-v0.0.25.tar.gz
# M/ME/MELEZHIK/Bundler-v0.0.26.tar.gz
# M/ME/MELEZHIK/Bundler-v0.0.28.tar.gz
# M/ME/MELLERY/URL-Google-GURL-0.01.tar.gz
# M/ME/MELLERY/URL-Google-GURL-0.02.tar.gz
# M/MG/MGOULD/List-Priority-0.03.tar.gz
# M/MG/MGOULD/List-Priority-0.03rc1.tar.gz
# M/MI/MIYAGAWA/App-cpanminus-1.5007.tar.gz
# M/ML/MLEHMANN/BDB-1.9.tar.gz
# M/MN/MNUNBERG/Devel-PtrTable-0.03.tar.gz
# M/MN/MNUNBERG/File-Dir-Hash-0.02.tar.gz
# M/MN/MNUNBERG/POE-Sugar-Attributes-0.01.tar.gz
# M/MN/MNUNBERG/POE-Sugar-Attributes-0.02.tar.gz
# M/MN/MNUNBERG/Ref-Store-0.19.tar.gz
# M/MN/MNUNBERG/Test-LWP-MockSocket-http-0.05.tar.gz
# M/MN/MNUNBERG/Text-Prefix-XS-0.01-TRIAL.tar.gz
# M/MN/MNUNBERG/Text-Prefix-XS-0.02-TRIAL.tar.gz
# M/MN/MNUNBERG/Text-Prefix-XS-0.05.tar.gz
# M/MN/MNUNBERG/Text-Prefix-XS-0.08.tar.gz
# M/MN/MNUNBERG/Text-Prefix-XS-0.09.tar.gz
# M/MN/MNUNBERG/Text-Prefix-XS-0.10.tar.gz
# M/MN/MNUNBERG/Text-Prefix-XS-0.11.tar.gz
# M/MO/MOOCOW/PDL-CCS-1.15.tar.gz
# M/MR/MRAMBERG/Mojolicious-2.39.tar.gz
# M/MR/MRDVT/Spreadsheet-WriteExcel-Simple-Tabs-0.10.tar.gz
# M/MS/MSCHILLI/App-Daemon-0.14.tar.gz
# M/MS/MSCHILLI/Archive-Tar-Wrapper-0.15.tar.gz
# M/MS/MSTROUT/Tak-0.001002.tar.gz
# M/MS/MSTROUT/Tak-0.001003.tar.gz
# M/MS/MSTROUT/Tak-Daemon-0.001001.tar.gz
# M/MS/MSTROUT/Web-Simple-0.011.tar.gz
# M/MU/MURATAYA/MIME-EcoEncode-0.50.tar.gz
# N/NE/NEKOKAK/DBIx-TransactionManager-1.11.tar.gz
# N/NE/NEKOKAK/Teng-0.14_04.tar.gz
# N/NI/NIXUS/Stuff-0.0.1.tar.gz
# N/NI/NIXUS/Stuff-0.0.2.tar.gz
# N/NI/NIXUS/Stuff-0.0.3.tar.gz
# N/NO/NOUDARD/DBIx-Class-Result-ColumnData-0.14.tar.gz
# O/OL/OLIVER/App-passmanager-1.113580.tar.gz
# O/OL/OLLY/Search-Xapian-1.2.8.0.tar.gz
# O/OT/OTY/EBook-EPUB-0.6.tar.gz
# P/PA/PATCH/Template-Plugin-Ligature-0.01.tar.gz
# P/PA/PATCH/Template-Plugin-Ligature-0.02.tar.gz
# P/PA/PATCH/Template-Plugin-Ligature-0.03.tar.gz
# P/PA/PATCH/Text-Ligature-0.01.tar.gz
# P/PA/PATCH/Text-Ligature-0.02.tar.gz
# P/PE/PEK/WebService-Rajce-0.04.tar.gz
# P/PE/PEK/WebService-Rajce-0.05.tar.gz
# P/PE/PEK/WebService-Rajce-0.06.tar.gz
# P/PE/PERLER/DBIx-Class-Graph-1.04.tar.gz
# P/PE/PEVANS/Net-Async-HTTP-0.14.tar.gz
# P/PH/PHRED/Apache-SizeLimit-0.96.tar.gz
# P/PR/PRAVUS/Proc-Lite-0.09_01.tar.gz
# R/RA/RAYMOR/Linux-LVM-0.15.01.tar.gz
# R/RE/REEDFISH/Net-FullAuto-0.9989.tar.gz
# R/RE/REEDFISH/Term-Menus-2.04.tar.gz
# R/RI/RIBASUSHI/Moo-0.009013.tar.gz
# R/RI/RIBASUSHI/namespace-clean-0.21_01.tar.gz
# R/RI/RIBASUSHI/namespace-clean-0.21_02.tar.gz
# R/RJ/RJBS/App-Cmd-0.313.tar.gz
# R/RJ/RJBS/CPAN-Mini-1.111008.tar.gz
# R/RJ/RJBS/Color-Palette-0.100001.tar.gz
# R/RJ/RJBS/Color-Palette-0.100002.tar.gz
# R/RJ/RJBS/Email-Simple-2.101.tar.gz
# R/RJ/RJBS/IPC-Run3-0.045.tar.gz
# R/RJ/RJBS/Module-Starter-Plugin-SimpleStore-0.144.tar.gz
# R/RJ/RJBS/MooseX-ClassCompositor-0.003.tar.gz
# R/RJ/RJBS/MooseX-Types-Perl-0.101341.tar.gz
# R/RJ/RJBS/WWW-AdventCalendar-1.106.tar.gz
# R/RJ/RJBS/WWW-AdventCalendar-1.107.tar.gz
# R/RO/ROKR/DBIx-NoSQL-0.0018.tar.gz
# R/RO/ROKR/Document-TriPart-0.024.tar.gz
# R/RO/ROKR/Getopt-Chain-0.017.tar.gz
# R/RO/ROKR/Module-Install-ParseRequires-0.002.tar.gz
# R/RS/RSIMOES/Dancer-Logger-PSGI-0.020_001-TRIAL.tar.gz
# R/RS/RSIMOES/Dancer-Logger-PSGI-0.04.tar.gz
# R/RS/RSIMOES/WWW-eNom-v1.0.2.tar.gz
# R/RU/RURBAN/App-perlall-0.01.tar.gz
# R/RU/RURBAN/App-perlall-0.02.tar.gz
# S/SA/SALVA/Math-Int64-0.18_01.tar.gz
# S/SA/SALVA/Math-Int64-0.18_02.tar.gz
# S/SA/SALVA/Math-Int64-0.18_03.tar.gz
# S/SA/SALVA/Math-Int64-0.18_04.tar.gz
# S/SA/SALVA/Net-OpenSSH-0.57.tar.gz
# S/SA/SALVA/Net-SFTP-Server-0.03.tar.gz
# S/SA/SANKO/AnyEvent-BitTorrent-v0.1.1.tar.gz
# S/SA/SANKO/AnyEvent-BitTorrent-v0.1.1_1.tar.gz
# S/SA/SANKO/AnyEvent-BitTorrent-v0.1.2.tar.gz
# S/SA/SANKO/AnyEvent-BitTorrent-v0.1.2_1.tar.gz
# S/SA/SANKO/AnyEvent-BitTorrent-v0.1.3.tar.gz
# S/SA/SARGIE/Test-BDD-Cucumber-0.02.tar.gz
# S/SA/SAXJAZMAN/cif/CIF-Client-0.01.tar.gz
# S/SC/SCHUBIGER/LaTeX-TOM-1.03.tar.gz
# S/SH/SHLOMIF/App-XML-DocBook-Builder-0.0400.tar.gz
# S/SH/SHLOMIF/Graph-Easy-0.71.tar.gz
# S/SH/SHLOMIF/XML-LibXML-1.89.tar.gz
# S/SH/SHOOTNIX/Mojolicious-Plugin-AnyData-1.10.tar.gz
# S/SH/SHOOTNIX/Mojolicious-Plugin-AnyData-1.11.tar.gz
# S/SK/SKI/Bundle-Elkhound-0.01.tar.gz
# S/SK/SKI/Bundle-Moose-0.01.tar.gz
# S/SK/SKI/Bundle-dualLived-1.00.tar.gz
# S/SK/SKI/Bundle-dualLived-1.01.tar.gz
# S/SM/SMUELLER/Alien-ROOT-v5.32.0.1.tar.gz
# S/SM/SMUELLER/ExtUtils-ParseXS-3.08.tar.gz
# S/SM/SMUELLER/Filter-Simple-0.88.tar.gz
# S/SM/SMUELLER/PathTools-3.39_01.tar.gz
# S/SM/SMUELLER/SOOT-0.17.tar.gz
# S/SM/SMUELLER/SelfLoader-1.19.tar.gz
# S/SM/SMUELLER/SelfLoader-1.20.tar.gz
# S/SN/SNUMANO/Net-CloudStack-0.00006.tar.gz
# S/SN/SNUMANO/Net-CloudStack-0.00007.tar.gz
# S/SR/SREZIC/App-psort-0.01_57.tar.gz
# S/SR/SREZIC/Geo-Coder-Googlev3-0.10_51.tar.gz
# S/SR/SREZIC/Geo-Coder-Googlev3-0.10_52.tar.gz
# S/SR/SREZIC/Geo-Coder-Googlev3-0.11.tar.gz
# S/SR/SRI/Mojolicious-2.40.tar.gz
# S/SU/SULLR/Net-Inspect-0.01.tar.gz
# S/SU/SULLR/Net-Inspect-0.02.tar.gz
# S/SU/SULLR/Net-Inspect-0.03.tar.gz
# S/SZ/SZABGAB/File-Open-OOP-0.01.tar.gz
# S/SZ/SZABGAB/Term-ProgressBar-2.10.tar.gz
# T/TH/THALJEF/Perl-Critic-1.117.tar.gz
# T/TK/TKEEFER/eBay-API-Simple-0.27.tar.gz
# T/TL/TLINDEN/Crypt-PWSafe3-1.01.tar.gz
# T/TO/TOBYINK/Pointy-Counter-0.001.tar.gz
# T/TO/TODDR/Exporter-5.66.tar.gz
# T/TO/TODDR/Locale-Maketext-1.21.tar.gz
# T/TO/TODDR/Tie-File-0.98.tar.gz
# T/TO/TOKUHIROM/DBIx-Inspector-0.06.tar.gz
# T/TO/TONVOON/Nagios-Plugin-0.36.tar.gz
# T/TO/TOSHIFJW/Fuse-Class-0.02.tar.gz
# T/TR/TRCJR/Parse-Selenese-0.006.tar.gz
# T/TR/TRLORENZ/MooseX-OmniTrigger-0.02.tar.gz
# T/TR/TRLORENZ/MooseX-OmniTrigger-0.03.tar.gz
# T/TR/TRLORENZ/MooseX-OmniTrigger-0.04.tar.gz
# V/VT/VTI/Routes-Tiny-0.009014.tar.gz
# V/VV/VVELOX/Toader-0.0.0.tar.gz
# V/VV/VVELOX/Toader-0.0.1.tar.gz
# W/WE/WEBY/Mojolicious-Plugin-Mobi-0.02.tar.gz
# W/WO/WOHL/File-Properties-0.02.tar.gz
# W/WU/WULEE/Net-SSH-Mechanize-v0.1.1.tar.gz
# W/WY/WYANT/Astro-App-Satpass2-0.000_33.tar.gz
# W/WY/WYANT/Games-Sudoku-General-0.012.tar.gz
# X/XA/XAICRON/DBIx-QueryLog-0.24.tar.gz
# X/XA/XAICRON/IO-Prompt-Simple-0.04.tar.gz
# X/XA/XAOC/Cairo-1.082.tar.gz
# X/XA/XAOC/Glib-Object-Introspection-0.005.tar.gz
# X/XS/XSAWYERX/POE-Component-OpenSSH-0.10.tar.gz
# Y/YH/YHPENG/Net-Evernote-0.04.tgz
# Y/YS/YSIMONX/WWW-RobotRules-Extended-0.01.tar.gz
# Y/YU/YURAN/MR-Tarantool-0.0.10.tar.gz
# Y/YU/YURAN/MR-Tarantool-0.0.7.tar.gz
# Y/YU/YURAN/MR-Tarantool-0.0.8.tar.gz
# Y/YU/YURAN/MR-Tarantool-0.0.9.tar.gz
# Z/ZW/ZWON/File-Flock-Tiny-0.04.tar.gz
# Z/ZZ/ZZZ/Nginx-Perl-1.1.11.1.tar.gz
# Z/ZZ/ZZZ/Redis-Parser-XS-0.02.tar.gz
t/06_cpantesters.t ..... ok
# A/AB/ABH/Geo-Coder-Yahoo-0.45.tar.gz
# A/AB/ABURS/DateTime-Format-Excel-0.30.tar.gz
# A/AD/ADAMK/Devel-Leak-Object-1.01.tar.gz
# A/AD/ADAMK/Module-Manifest-1.08.tar.gz
# A/AF/AFFC/Parse-Log-Smbd-0.01.tar.gz
# A/AF/AFFC/Parse-Log-Smbd-0.01_01.tar.gz
# A/AF/AFFC/Parse-Log-Smbd-0.01_02.tar.gz
# A/AF/AFFC/Parse-Log-Smbd-0.01_03.tar.gz
# A/AF/AFFC/Parse-Log-Smbd-0.01_04.tar.gz
# A/AL/ALEXBIO/TwitShell-4.08.tar.gz
# A/AL/ALFILLE/OWNet-1.20.tar.gz
# A/AL/ALINKE/Lingua-Lid-0.02.tar.gz
# A/AL/ALPHAZULU/TM-View-0.7.tar.gz
# A/AM/AMBS/Lingua/Lingua-Jspell-1.65.tar.gz
# A/AN/ANDK/Devel-SawAmpersand-0.32.tar.gz
# A/AS/ASH/Class-Discover-1.000003.tar.gz
# A/AV/AVAR/Crypt-CVS-0.02.tar.gz
# A/AV/AVAR/Dist-Zilla-PluginBundle-AVAR-0.20.tar.gz
# A/AV/AVAR/Net-FCP-Tiny-0.01.tar.gz
# A/AV/AVAR/Net-FCP-Tiny-0.02.tar.gz
# A/AV/AVAR/Net-FCP-Tiny-0.03.tar.gz
# B/BB/BBAXTER/FlatFile-DataStore-0.11.tar.gz
# B/BB/BBAXTER/FlatFile-DataStore-0.12.tar.gz
# B/BB/BBAXTER/FlatFile-DataStore-0.13.tar.gz
# B/BB/BBAXTER/FlatFile-DataStore-0.14.tar.gz
# B/BI/BIGPRESH/Dancer-Plugin-Database-0.05.tar.gz
# B/BI/BIGPRESH/Dancer-Plugin-Database-0.06.tar.gz
# B/BI/BIGPRESH/Dancer-Template-HtmlTemplate-0.04.tar.gz
# B/BI/BINGOS/Dist-Zilla-Plugin-GithubMeta-0.10.tar.gz
# B/BI/BINGOS/Dist-Zilla-PluginBundle-BINGOS-0.02.tar.gz
# B/BI/BINGOS/Dist-Zooky-0.02.tar.gz
# B/BI/BINGOS/Dist-Zooky-0.04.tar.gz
# B/BI/BINGOS/POE-Component-Client-NNTP-2.20.tar.gz
# B/BJ/BJOERN/Geo-MedianCenter-XS-0.01.tar.gz
# B/BO/BOBTFISH/Catalyst-Devel-1.28.tar.gz
# B/BO/BOBTFISH/Catalyst-Plugin-I18N-0.10.tar.gz
# B/BO/BOBTFISH/MooseX-MethodAttributes-0.23.tar.gz
# B/BO/BOOK/Git-Repository-1.01.tar.gz
# B/BO/BOOK/Git-Repository-1.02.tar.gz
# B/BO/BOOK/Git-Repository-1.03.tar.gz
# B/BR/BRICAS/Geo-IPfree-1.101650.tar.gz
# B/BR/BRICAS/WWW-Wikipedia-1.97.tar.gz
# B/BT/BTMCINNES/UMLS-Interface-0.63.tar.gz
# B/BT/BTMCINNES/UMLS-Similarity-0.57.tar.gz
# C/CA/CAMELCASE/HTML-TurboForm-0.630.tar.gz
# C/CE/CEBJYRE/Net-Google-FederatedLogin-0.4.0.tar.gz
# C/CH/CHRISA/MooseX-Types-Varchar-0.02.tar.gz
# C/CI/CINDY/Plack-Middleware-Session-SerializedCookie-1.01.tar.gz
# C/CJ/CJM/MooseX-AttributeTree-0.02.tar.gz
# C/CJ/CJM/PostScript-Report-0.07.tar.gz
# C/CS/CSTEPHENE/BioX-SeqUtils-Promoter-0.0.4.tar.gz
# C/CS/CSTEPHENE/BioX-SeqUtils-Promoter-0.0.5.tar.gz
# C/CU/CUB/Catalyst-TraitFor-Model-DBIC-Schema-ConnectInfo-Several-0.06.tar.gz
# D/DA/DAGOLDEN/CPAN-Meta-2.101670.tar.gz
# D/DA/DAGOLDEN/Capture-Tiny-0.08.tar.gz
# D/DA/DANNY/Rose-DBx-Object-Renderer-0.72.tar.gz
# D/DA/DAVIDP/Xymon-Client-0.03.tar.gz
# D/DA/DAVIDP/Xymon-Server-History-0.03.tar.gz
# D/DH/DHOUSTON/CatalystX-Controller-Pluggable-0.01.tar.gz
# D/DH/DHOUSTON/CatalystX-Controller-Pluggable-0.02.tar.gz
# D/DJ/DJIBEL/Tk-Canvas-GradientColor-1.03.tar.gz
# D/DJ/DJIBEL/Tk-Canvas-GradientColor-1.04.tar.gz
# D/DJ/DJIBEL/Tk-ColoredButton-1.00.tar.gz
# D/DJ/DJIBEL/Tk-ColoredButton-1.01.tar.gz
# D/DJ/DJIBEL/Tk-ForDummies-Graph-1.13.tar.gz
# D/DM/DMITRYNOD/AnyEvent-ImageShack-0.01.tar.gz
# D/DO/DOLMEN/Parse-nm-0.06.tar.gz
# D/DO/DOOM/Emacs-Rep-0.05.tar.gz
# D/DO/DORMANDO/Cache-Memcached-1.29.tar.gz
# D/DO/DORMANDO/Perlbal-1.76.tar.gz
# D/DO/DOY/App-Termcast-0.07.tar.gz
# D/DO/DOY/Carp-Always-Color-0.04.tar.gz
# D/DO/DOY/Dist-Zilla-PluginBundle-DOY-0.03.tar.gz
# D/DO/DOY/Moose-1.08.tar.gz
# D/DO/DOY/MooseX-Constructor-AllErrors-0.011.tar.gz
# D/DO/DOY/MooseX-NonMoose-0.09.tar.gz
# D/DO/DOY/Package-Stash-0.05.tar.gz
# D/DR/DRBEAN/Dist-Zilla-Plugin-SVK-0.02.tar.gz
# D/DR/DRBEAN/Grades-0.10.tar.gz
# D/DR/DRBEAN/Grades-0.11.tar.gz
# D/DR/DROLSKY/Fey-0.35.tar.gz
# D/DU/DUNCAND/Muldis-D-0.130.0.tar.gz
# D/DU/DUNCAND/Muldis-D-Manual-0.7.0.tar.gz
# D/DU/DUNCS/App-ClusterSSH-4.00_02.tar.gz
# D/DU/DUNCS/App-ClusterSSH-4.00_03.tar.gz
# D/DU/DUNCS/App-ClusterSSH-4.00_04.tar.gz
# D/DU/DUNCS/App-ClusterSSH-4.00_05.tar.gz
# D/DW/DWHEELER/Encode-ZapCP1252-0.31.tar.gz
# D/DW/DWHEELER/Encode-ZapCP1252-0.32.tar.gz
# E/ED/EDECA/HTTP-Parser-0.05.tar.gz
# E/EG/EGILES/X11-Terminal-0.2.tar.gz
# E/EG/EGILES/X11-Terminal-0.3.tar.gz
# E/EL/ELLIOTJS/MooseX-Getopt-Defanged-v1.17.0.tar.gz
# E/EL/ELLIOTJS/Perl-Critic-1.107_001.tar.gz
# E/EM/EMAZEP/DBIx-MultiStatementDo-0.05000.tar.gz
# E/EM/EMAZEP/SQL-SplitStatement-0.05000.tar.gz
# E/EM/EMAZEP/SQL-SplitStatement-0.05001.tar.gz
# E/EM/EMAZEP/SQL-SplitStatement-0.05002.tar.gz
# E/EM/EMAZEP/SQL-SplitStatement-0.05003.tar.gz
# F/FL/FLORA/Catalyst-Authentication-Store-DBIx-Class-0.1300.tar.gz
# F/FL/FLORA/Class-C3-0.23.tar.gz
# F/FL/FLORA/Dist-Zilla-PluginBundle-FLORA-0.12.tar.gz
# F/FL/FLORA/MooseX-Getopt-0.29.tar.gz
# F/FL/FLORA/Test-EOL-0.9.tar.gz
# F/FR/FRANCKC/Dancer-Debug-0.01.tar.gz
# F/FR/FRANCKC/Dancer-Logger-PSGI-0.02.tar.gz
# F/FR/FRANCKC/Net-Riak-0.01.tar.gz
# F/FR/FRANCKC/Net-Riak-0.02.tar.gz
# F/FR/FRANCKC/Net-Riak-0.03.tar.gz
# F/FR/FRANCKC/Net-Riak-0.04.tar.gz
# F/FR/FREW/Devel-REPL-1.003011.tar.gz
# F/FR/FRODWITH/Flea-0.02.tar.gz
# F/FR/FRODWITH/Plack-Middleware-Inline-0.01.tar.gz
# F/FR/FRODWITH/Plack-Middleware-Inline-0.02.tar.gz
# F/FS/FSEITZ/ClassLoader-1.00006.tar.gz
# G/GA/GARU/Alien-SDL-1.407.tar.gz
# G/GB/GBROWN/WWW-CNic-0.37.tar.gz
# G/GE/GENE/MIDI-Simple-Drummer-0.00_22.tar.gz
# G/GE/GENE/MIDI-Simple-Drummer-0.00_23.tar.gz
# G/GF/GFUJI/Mouse-0.61.tar.gz
# G/GF/GFUJI/Test-LeakTrace-0.11.tar.gz
# G/GF/GFUJI/Text-Xslate-0.1034.tar.gz
# G/GF/GFUJI/Text-Xslate-0.1035.tar.gz
# G/GO/GOMOR/Lib-Sonypi-0.80.tar.gz
# G/GP/GPHAT/Test-Net-RabbitMQ-0.04.tar.gz
# G/GR/GRAY/Geo-Coder-Bing-0.08.tar.gz
# G/GR/GRAY/Geo-Coder-Bing-0.09.tar.gz
# G/GR/GRAY/Geo-Coder-Mapquest-0.04.tar.gz
# G/GR/GREENBEAN/Asterisk-AMI-v0.2.0.tar.gz
# G/GU/GUGOD/Binding-0.06.tar.gz
# G/GU/GUGOD/Object-Method-0.01.tar.gz
# G/GU/GUGOD/PerlX-MethodCallWithBlock-0.05.tar.gz
# G/GW/GWILLIAMS/RDF-Trine-0.124_01.tar.gz
# G/GW/GWILLIAMS/RDF-Trine-0.124_02.tar.gz
# G/GW/GWILLIAMS/RDF-Trine-0.124_03.tar.gz
# G/GW/GWILLIAMS/RDF-Trine-0.124_04.tar.gz
# H/HI/HINRIK/grok-0.20.tar.gz
# H/HI/HINRIK/grok-0.21.tar.gz
# I/IN/INA/HP15/HP15-0.60.tar.gz
# I/IN/INA/INFORMIXV6ALS/INFORMIXV6ALS-0.60.tar.gz
# I/IN/INA/Sjis/Sjis-0.60.tar.gz
# I/IN/INGY/JSYNC-0.01.tar.gz
# I/IN/INGY/JSYNC-0.02.tar.gz
# I/IN/INGY/JSYNC-0.03.tar.gz
# I/IN/INGY/XXX-0.16.tar.gz
# J/JE/JETEVE/Class-TLB-0.01.tar.gz
# J/JF/JFITZ/List-Uniq-0.13.tar.gz
# J/JF/JFITZ/List-Uniq-0.20.tar.gz
# J/JG/JGAMBLE/Math-Polynomial-Solve-2.52.tar.gz
# J/JH/JHTHORSEN/App-Mypp-0.09.tar.gz
# J/JH/JHTHORSEN/Fuse-Template-0.02.tar.gz
# J/JH/JHTHORSEN/Fuse-Template-0.0201.tar.gz
# J/JH/JHTHORSEN/Net-ISC-DHCPd-0.06.tar.gz
# J/JH/JHTHORSEN/Net-ISC-DHCPd-0.07.tar.gz
# J/JH/JHTHORSEN/POE-Filter-DHCPd-Lease-0.0502.tar.gz
# J/JH/JHTHORSEN/SNMP-Effective-1.07.tar.gz
# J/JH/JHTHORSEN/Var-State-0.05.tar.gz
# J/JJ/JJORE/Alien-Judy-0.17.tar.gz
# J/JJ/JJORE/Alien-Judy-0.18.tar.gz
# J/JJ/JJORE/Data-Dump-Streamer-2.19.tar.gz
# J/JJ/JJORE/Data-Dump-Streamer-2.21.tar.gz
# J/JJ/JJORE/Judy-0.35.tar.gz
# J/JJ/JJORE/Judy-0.36.tar.gz
# J/JJ/JJORE/Judy-0.37.tar.gz
# J/JK/JKEGL/Marpa-0.103_001.tar.gz
# J/JK/JKEGL/Marpa-0.103_002.tar.gz
# J/JK/JKUTEJ/App-whichpm-0.02.tar.gz
# J/JK/JKUTEJ/App-whichpm-0.03.tar.gz
# J/JK/JKVA/Postscript-TextDecode-0.2.tar.gz
# J/JM/JMATES/Config-OpenSSH-Authkey-0.99.tar.gz
# J/JM/JMATES/File-AtomicWrite-1.02.tar.gz
# J/JM/JMATES/Term-CallEditor-0.60.tar.gz
# J/JM/JMGDOC/ODF-lpOD-0.110.tar.gz
# J/JN/JNW/Text-GuessEncoding-0.06.tar.gz
# J/JO/JOHAYEK/app-xlstar-1-36.tar.gz
# J/JO/JONADAB/resched-0.7.8.zip
# J/JP/JPIERCE/clobber-0.02.tgz
# J/JP/JPIERCE/clobber-0.04.tgz
# J/JP/JPIERCE/clobber-0.10_1.tgz
# J/JQ/JQUELIN/Dist-Zilla-Plugin-Git-1.101650.tar.gz
# J/JQ/JQUELIN/Dist-Zilla-Plugin-Git-1.101680.tar.gz
# J/JS/JSIRACUSA/Time-Clock-1.02.tar.gz
# J/JS/JSWARTZ/CHI-Driver-BerkeleyDB-0.02.tar.gz
# J/JS/JSWARTZ/CHI-Driver-BerkeleyDB-0.03.tar.gz
# J/JV/JV/PostScript-Font-1.10.02.tar.gz
# K/KA/KARMAN/Net-LDAP-Server-Test-0.10.tar.gz
# K/KG/KGRENNAN/Net-OAuth-0.26.tar.gz
# K/KG/KGRENNAN/Net-OAuth-0.27.tar.gz
# K/KN/KNORR/File-Checksum-0.01.tar.gz
# K/KN/KNTH/ProgressMonitor-0.33.tar.gz
# K/KR/KRISTINA/MongoDB-0.34.tar.gz
# K/KR/KRYDE/rss2leafnode-29.tar.gz
# K/KT/KTAT/Data-RuledValidator-0.12.tar.gz
# K/KU/KURIANJA/HTML-Defang-1.03.tar.gz
# L/LD/LDS/Bio-Graphics-2.10.tar.gz
# L/LD/LDS/GBrowse-2.10.tar.gz
# L/LE/LEEDO/IRC-Formatting-HTML-0.21.tar.gz
# L/LE/LEEDO/IRC-Formatting-HTML-0.22.tar.gz
# L/LE/LEEDO/WWW-Discogs-0.09.tar.gz
# L/LE/LEONT/POSIX-RT-Timer-0.001.tar.gz
# L/LE/LEONT/POSIX-RT-Timer-0.002.tar.gz
# L/LE/LEONT/POSIX-RT-Timer-0.003.tar.gz
# L/LE/LEONT/POSIX-RT-Timer-0.004.tar.gz
# L/LG/LGEHLEN/SVG-Rasterize-0.003004.tar.gz
# M/MA/MAKAMAKA/Text-CSV-1.18.tar.gz
# M/MA/MAMAWE/GeNUScreen-Config-0.0.5.tar.gz
# M/MA/MAMAWE/GeNUScreen-Config-0.0.6.tar.gz
# M/MA/MAMAWE/GeNUScreen-Config-0.0.7.tar.gz
# M/MA/MARCEL/Attribute-TieClasses-1.101700.tar.gz
# M/MA/MARCEL/Class-Value-Net-1.101690.tar.gz
# M/MA/MARCEL/Data-Conveyor-1.101690.tar.gz
# M/MA/MARCEL/Data-Storage-1.101700.tar.gz
# M/MA/MARCEL/Dist-Zilla-Plugin-ReportVersions-1.101700.tar.gz
# M/MA/MARCEL/Dist-Zilla-PluginBundle-MARCEL-1.101700.tar.gz
# M/MA/MARCEL/Error-Hierarchy-1.101690.tar.gz
# M/MA/MARCEL/Getopt-Attribute-2.101700.tar.gz
# M/MA/MARCEL/Mail-Field-Received-0.25.tar.gz
# M/MA/MARCEL/Mail-Field-Received-0.26.tar.gz
# M/MA/MARCEL/Net-IP-Match-1.101700.tar.gz
# M/MA/MARCEL/Text-Pipe-Encoding-1.101700.tar.gz
# M/MA/MARKOV/Data-DublinCore-0.04.tar.gz
# M/MA/MARKOV/XML-Compile-1.16.tar.gz
# M/MA/MARKOV/XML-Compile-RPC-0.15.tar.gz
# M/MA/MARKOV/XML-Compile-SOAP-2.15.tar.gz
# M/MA/MARKOV/XML-Compile-SOAP-WSA-0.10.tar.gz
# M/MA/MARKOV/XML-Compile-SOAP-WSA-0.11.tar.gz
# M/MA/MARKOV/XML-Compile-Tester-0.06.tar.gz
# M/MA/MARKSTOS/MojoX-Encode-Gzip-1.10.tar.gz
# M/MA/MAROS/Business-UPS-Tracking-1.06.tar.gz
# M/MC/MCMAHON/Test-WWW-Simple-0.30.tar.gz
# M/ME/MEMOWE/Mojolicious-Plugin-ContentManagement-0.011.tar.gz
# M/ME/MENDEL/DBIx-Class-MooseColumns-0.06.tar.gz
# M/ME/MENDEL/DBIx-Class-MooseColumns-0.07.tar.gz
# M/ME/MENDEL/MooseX-DBIC-AddColumn-0.05.tar.gz
# M/ME/MERIXZON/WebService-Google-Closure-0.05.tar.gz
# M/MK/MKANAT/RPC-Any-1.00.tar.gz
# M/MK/MKANAT/RPC-Any-1.00_1.tar.gz
# M/MK/MKANAT/RPC-Any-1.00_2.tar.gz
# M/MK/MKANAT/RPC-Any-1.00_3.tar.gz
# M/ML/MLEHMANN/AnyEvent-DBus-0.1.tar.gz
# M/ML/MLEHMANN/AnyEvent-HTTP-1.45.tar.gz
# M/MM/MMCLERIC/Ubic-1.06.tar.gz
# M/MM/MMIMS/Net-Twitter-3.13004.tar.gz
# M/MM/MMIMS/Net-Twitter-3.13005.tar.gz
# M/MM/MMIMS/Net-Twitter-3.13006.tar.gz
# M/MP/MPIOTR/Lingua-Ident-1.7.tar.gz
# M/MR/MRAMBERG/WebService-PutIo-0.1.tar.gz
# M/MS/MSCHILLI/Log-Log4perl-1.29.tar.gz
# M/MS/MSTPLBG/AnyEvent-I3-0.06.tar.gz
# M/MY/MYSTERYTE/Gallery-Remote-API-v0.1.1.tar.gz
# M/MY/MYSTERYTE/Gallery-Remote-API-v0.1.4.tar.gz
# N/NA/NAIM/AnyEvent-HTTPBenchmark-0.05.tar.gz
# N/NA/NAIM/AnyEvent-HTTPBenchmark-0.06.tar.gz
# N/NA/NAIM/AnyEvent-HTTPBenchmark-0.07.tar.gz
# N/NE/NEZUMI/MIME-EncWords-1.012.tar.gz
# N/NI/NIERLEIN/Monitoring-Availability-0.14.tar.gz
# N/NP/NPEREZ/Fancy-Middleware-1.101680.tar.gz
# N/NU/NUFFIN/Data-UUID-LibUUID-0.05_01.tar.gz
# N/NU/NUFFIN/Directory-Transactional-0.09.tar.gz
# N/NU/NUFFIN/KiokuDB-0.46_01.tar.gz
# N/NX/NXONEP/Acme-AGMorse-0.01.tar.gz
# N/NX/NXONEP/Acme-AGMorse-0.02.tar.gz
# O/OP/OPI/IPC-ScoreBoard-0.01.tar.gz
# O/OP/OPI/TX-0.09.tar.gz
# O/OP/OPI/Text-Template-Library-0.04.tar.gz
# P/PA/PAIXAOP/WWW-Salesforce-Report-0.02.tar.gz
# P/PA/PAIXAOP/WWW-Salesforce-Report-0.03.tar.gz
# P/PD/PDONELAN/Plack-App-JSP-0.101680.tar.gz
# P/PE/PERIGRIN/Adam-0.08.tar.gz
# P/PE/PERIGRIN/Git-Wrapper-0.010.tar.gz
# P/PE/PERLER/CatalystX-ExtJS-1.101670.tar.gz
# P/PE/PERLER/CatalystX-ExtJS-1.101700.tar.gz
# P/PE/PERLER/MooseX-Attribute-Deflator-1.101670.tar.gz
# P/PE/PETDANCE/podium-0.01.tar.gz
# P/PI/PIP/Math-BaseCnv-1.4.A6FAbEb.tgz
# P/PI/PIP/Math-BaseCnv-1.6.A6FGHKE.tgz
# P/PI/PIP/Time-DayOfWeek-1.4.A6FCO7V.tgz
# P/PI/PIP/Time-DayOfWeek-1.6.A6FFxZB.tgz
# P/PM/PMAKHOLM/Encode-IMAPUTF7-1.05.tar.gz
# P/PR/PRIVI/POE-Component-SSLify-NonBlock-0.41.tar.gz
# P/PR/PRIVI/POE-Filter-SSL-0.01.tar.gz
# P/PR/PRIVI/POE-Filter-SSL-0.02.tar.gz
# P/PR/PRIVI/POE-Filter-SSL-0.03.tar.gz
# P/PR/PRIVI/POE-Filter-SSL-0.04.tar.gz
# P/PR/PRIVI/POE-Filter-SSL-0.05.tar.gz
# P/PR/PRIVI/POE-Filter-SSL-0.06.tar.gz
# P/PR/PRIVI/POE-Filter-SSL-0.07.tar.gz
# P/PR/PRIVI/POE-Filter-SSL-0.08.tar.gz
# P/PR/PRIVI/POE-Filter-SSL-0.09.tar.gz
# P/PR/PRIVI/POE-Filter-SSL-0.10.tar.gz
# P/PR/PRIVI/POE-Filter-SSL-0.11.tar.gz
# P/PR/PRO/Net-DirectConnect-0.06.tar.gz
# R/RE/REHSACK/SQL-Statement-1.27_01.tar.gz
# R/RJ/RJBS/App-Cronjob-1.101660.tar.gz
# R/RJ/RJBS/CPAN-Uploader-0.101670.tar.gz
# R/RJ/RJBS/Config-MVP-2.101650.tar.gz
# R/RO/ROKR/App-PAUSE-cleanup-0.0011.tar.gz
# R/RO/ROKR/Config-Identity-0.0016.tar.gz
# R/RO/ROKR/Doc-Simply-0.032.tar.gz
# R/RO/ROKR/Net-ClientServer-0.0007.tar.gz
# R/RO/ROKR/Path-Mapper-0.012.tar.gz
# R/RO/ROKR/Term-EditorEdit-0.0011.tar.gz
# R/RO/ROSCIO/Term-Emit-0.0.3.tar.gz
# R/RO/ROSCIO/Tk-FmtEntry-0.1.tar.gz
# R/RO/ROSCIO/Tk-FullKeypad-1.0.tar.gz
# R/RO/ROSCIO/Tk-NumKeypad-1.0.tar.gz
# R/RP/RPETTETT/Bio-Das-Lite-2.04.tar.gz
# R/RP/RPETTETT/ClearPress-372.tar.gz
# R/RS/RSRCHBOY/Archive-RPM-0.07.tar.gz
# R/RS/RSRCHBOY/MooseX-MarkAsMethods-0.10.tar.gz
# R/RY/RYBSKEJ/forks-0.34.tar.gz
# S/SA/SABECK/Data-SPath-0.0001.tar.gz
# S/SA/SABECK/Data-SPath-0.0002.tar.gz
# S/SA/SABECK/Data-SPath-0.0003.tar.gz
# S/SA/SANKO/AnyEvent-Handle-Throttle-0.000001.tar.gz
# S/SA/SANKO/AnyEvent-Handle-Throttle-0.000002.tar.gz
# S/SA/SANKO/AnyEvent-Handle-Throttle-0.000002001.tar.gz
# S/SA/SAPER/Module-ThirdParty-0.27.tar.gz
# S/SA/SAPER/Time-Duration-fr-1.00.tar.gz
# S/SA/SAPER/Time-Duration-fr-1.01.tar.gz
# S/SC/SCHUBIGER/DateTime-Format-Natural-0.88.tar.gz
# S/SE/SEKIA/Math-Random-Xorshift-0.02.tar.gz
# S/SE/SEKIA/Math-Random-Xorshift-0.03.tar.gz
# S/SE/SEKIA/Math-Random-Xorshift-0.04.tar.gz
# S/SH/SHARIFULN/Acme-CPANAuthors-Russian-1.02.tar.gz
# S/SH/SHARIFULN/Acme-CPANAuthors-Ukrainian-0.15.tar.gz
# S/SH/SHARYANTO/Finance-Bank-ID-BCA-0.09.tar.gz
# S/SH/SHARYANTO/Finance-Bank-ID-Mandiri-0.09.tar.gz
# S/SH/SHARYANTO/Language-Expr-0.04.tar.gz
# S/SH/SHARYANTO/Language-Expr-0.05.tar.gz
# S/SH/SHLOMIF/Statistics-Descriptive-3.0101.tar.gz
# S/SH/SHLOMIF/Statistics-Descriptive-3.0102.tar.gz
# S/SH/SHLOMIF/Statistics-Descriptive-3.0200.tar.gz
# S/SH/SHLOMIF/Test-Run-Plugin-CollectStats-0.0102.tar.gz
# S/SH/SHLOMIF/Test-WWW-Mechanize-Mojo-v0.0.5.tar.gz
# S/SI/SILASMONK/CGI-Application-Plugin-Authentication-0.17_7.tar.gz
# S/SI/SISYPHUS/Math-GMPf-0.32.tar.gz
# S/SI/SISYPHUS/Math-GMPq-0.31.tar.gz
# S/SI/SISYPHUS/Math-GMPz-0.31.tar.gz
# S/SJ/SJN/App-Kaizendo-0.000_001.tar.gz
# S/SL/SLAFFAN/Geo-Converter-dms2dd-0.02.tar.gz
# S/SO/SOREAR/Devel-CountOps-0.01.tar.gz
# S/SO/SORTIZ/JSP-1.01.tar.gz
# S/SP/SPROUT/JE-0.049.tar.gz
# S/SP/SPROUT/Module-ConfigureRequires-0.01.tar.gz
# S/SP/SPROUT/Module-ConfigureRequires-0.02.tar.gz
# S/SP/SPROUT/MoneyWorks-pm-0.07.tar.gz
# S/SP/SPROUT/WWW-Scripter-0.015.tar.gz
# S/SP/SPROUT/WWW-Scripter-Plugin-Ajax-0.07.tar.gz
# S/SQ/SQUEEK/WWW-Pusher-0.05.tar.gz
# S/ST/STELLAR/HTML-CTPP2-2.6.1.tar.gz
# S/SU/SUKRIA/Dancer-1.1804.tar.gz
# T/TB/TBONE/Parse-RecDescent-FAQ-7.2.tar.gz
# T/TB/TBONE/Parse-RecDescent-FAQ-7.3.tar.gz
# T/TI/TIMB/DBI-1.611_91.tar.gz
# T/TI/TIMB/DBI-1.611_92.tar.gz
# T/TI/TIMB/Devel-NYTProf-4.01.tar.gz
# T/TI/TIMB/Devel-NYTProf-4.01_90.tar.gz
# T/TI/TIMB/Devel-NYTProf-4.02.tar.gz
# T/TI/TIMB/Devel-NYTProf-4.03.tar.gz
# T/TI/TIMB/Yahoo-Search-1.11.1.tar.gz
# T/TI/TIMB/Yahoo-Search-1.11.2.tar.gz
# T/TI/TIMB/Yahoo-Search-1.11.3.tar.gz
# T/TI/TINITA/Parse-BBCode-0.10.tar.gz
# T/TK/TKEEFER/eBay-API-Simple-0.15.tar.gz
# T/TL/TLOUSKY/Algorithm-Shape-RandomTree-0.01.tar.gz
# T/TO/TOBYINK/RDF-ACL-0.100.tar.gz
# T/TO/TOBYINK/RDF-RDFa-Parser-1.09_11.tar.gz
# T/TO/TOBYINK/Spreadsheet-Write-0.100.tar.gz
# T/TO/TOBYINK/Spreadsheet-Write-0.101_01.tar.gz
# T/TO/TODDR/Net-Ident-1.23.tar.gz
# T/TO/TOKUHIROM/Geo-Coordinates-Converter-iArea-0.11.tar.gz
# T/TO/TOKUHIROM/HTML-DateSelector-0.03.tar.gz
# T/TO/TOKUHIROM/HTML-DateSelector-0.04.tar.gz
# T/TO/TOKUHIROM/Net-POP3-SSLWrapper-0.04.tar.gz
# T/TO/TOKUHIROM/Proc-Guard-0.01.tar.gz
# T/TO/TOKUHIROM/Router-Simple-0.06.tar.gz
# T/TO/TONYC/Imager-0.75.tar.gz
# T/TO/TONYC/Imager-Screenshot-0.009.tar.gz
# T/TU/TURNERJW/Net-xFTP-0.41.tar.gz
# T/TY/TYPESTER/FormValidator-Lite-0.14.tar.gz
# T/TY/TYPESTER/FormValidator-Lite-0.15.tar.gz
# V/VI/VIY/HTML-Template-Pro-0.9501.tar.gz
# W/WS/WSNYDER/Parallel-Forker-1.230.tar.gz
# W/WY/WYANT/Geo-WebService-Elevation-USGS-0.005_01.tar.gz
# W/WY/WYANT/Geo-WebService-Elevation-USGS-0.005_02.tar.gz
# X/XE/XENO/Dist-Zilla-Plugin-SubmittingPatches-0.02.tar.gz
# X/XE/XENO/Software-License-GPL3andArtistic2-0.07.tar.gz
# X/XE/XENO/Template-ShowStartStop-0.12.tar.gz
# X/XS/XSAWYERX/Module-Version-0.09.tar.gz
# Z/ZA/ZAG/Flow-0.1.tar.gz
t/06_fileurl.t ......... ok
# K/KO/KOORCHIK/Mojolicious-Plugin-JSUrlFor-0.05.tar.gz
# M/MA/MARKOV/POSIX-1003-0.06.tar.gz
# K/KR/KRYDE/Math-NumSeq-24.tar.gz
# K/KR/KRYDE/math-image-87.tar.gz
# K/KI/KIWANAMI/RPC-EPC-Service-v0.0.1.tar.gz
# M/ML/MLEHMANN/BDB-1.9.tar.gz
# T/TR/TRLORENZ/MooseX-OmniTrigger-0.04.tar.gz
# P/PA/PATCH/Text-Ligature-0.02.tar.gz
# P/PA/PATCH/Template-Plugin-Ligature-0.03.tar.gz
# X/XA/XAOC/Cairo-1.082.tar.gz
# M/MS/MSCHILLI/App-Daemon-0.14.tar.gz
# X/XA/XAOC/Glib-Object-Introspection-0.005.tar.gz
# K/KI/KIWANAMI/RPC-EPC-Service-v0.0.2.tar.gz
# K/KO/KOORCHIK/Mojolicious-Plugin-JSUrlFor-0.06.tar.gz
# K/KI/KIWANAMI/RPC-EPC-Service-v0.0.3.tar.gz
# R/RE/RENEEB/Nexmo-SMS-0.06.tar.gz
# S/SD/SDEN/Medical-NHSNumber-0.04.tar.gz
# M/ME/MELEZHIK/CPAN-Repo-v0.0.2.tar.gz
# S/SH/SHOOTNIX/Mojolicious-Plugin-AnyData-1.12.tar.gz
# R/RI/RIBASUSHI/Class-Accessor-Grouped-0.10005.tar.gz
# R/RI/RIBASUSHI/namespace-clean-0.22.tar.gz
# M/ME/MELEZHIK/CPANPLUS-Shell-Default-Plugins-Repo-v0.0.1.tar.gz
# K/KM/KMCGRATH/Any-Renderer-1.15_01.tar.gz
# B/BO/BOOK/Git-Repository-1.24.tar.gz
# K/KM/KMCGRATH/Any-Renderer-1.015_01.tar.gz
# M/ME/MELEZHIK/CPAN-Repo-v0.0.3.tar.gz
# M/ME/MELEZHIK/CPAN-Repo-v0.0.4.tar.gz
# S/SS/SSINYAGIN/SIAM-0.10.tar.gz
# O/OL/OLIVER/Net-CLI-Interact-1.113600.tar.gz
# O/OL/OLIVER/Net-Appliance-Session-3.113600.tar.gz
# X/XA/XAICRON/Test-Flatten-0.07.tar.gz
# K/KU/KUMY/Graphics-HotMap-0.0001.tar.gz
# K/KM/KMCGRATH/Rose-DBx-Object-Cached-FastMmap-0.05.tar.gz
# D/DE/DESPAIR/Net-Whois-Raw-2.39.tar.gz
# J/JO/JONASBN/Task-Jenkins-0.01.tar.gz
t/06_live_epoch.t ...... ok
# GET ///authors/RECENT-1h.yaml
# Connection: TE, close
# Host: 127.0.0.1:43360
# TE: deflate,gzip;q=0.3
# User-Agent: libwww-perl/6.03
# X-HTTP-Version: 1.1
# 
# GET ///RECENT
# Host: 127.0.0.1:43360
# User-Agent: POE-Component-SmokeBox-Recent-HTTP/1.36 (perl; N; POE; en; rv:1.360000)
# X-HTTP-Version: 1.1
# 
t/07_epoch_fail.t ...... ok
All tests successful.
Files=18, Tests=235, 350 wallclock secs ( 2.70 usr  0.64 sys + 121.63 cusr 10.82 csys = 135.79 CPU)
Result: PASS

------------------------------
PREREQUISITES
------------------------------

Prerequisite modules loaded:

requires:

    Module                      Need  Have    
    --------------------------- ----- --------
    CPAN::Recent::Uploads       0.06  0.06    
    HTTP::Request               0     6.00    
    Net::IP::Minimal            0     0.02    
    perl                        5.006 5.012003
    POE                         0.38  1.350   
    POE::Component::Client::DNS 1.02  1.051   
    POE::Filter::HTTP::Parser   1.06  1.06    
    Test::POE::Client::TCP      0.08  1.10    
    URI                         0     1.59    

build_requires:

    Module                      Need  Have    
    --------------------------- ----- --------
    ExtUtils::MakeMaker         6.62  6.62    
    HTTP::Date                  0     6.00    
    HTTP::Response              0     6.01    
    Test::More                  0.47  0.94    
    Test::POE::Server::TCP      0.14  1.16    

configure_requires:

    Module                      Need  Have    
    --------------------------- ----- --------
    ExtUtils::MakeMaker         6.62  6.62    


------------------------------
ENVIRONMENT AND OTHER CONTEXT
------------------------------

Environment variables:

    LANG = en_GB.UTF-8
    PATH = /home/njh/perl5/perlbrew/bin:/home/njh/perl5/perlbrew/perls/perl-5.12.3/bin:/usr/local/bin:/usr/bin:/bin:/usr/games:/home/njh/bin:/sbin
    PATH_WITHOUT_PERLBREW = /usr/local/bin:/usr/bin:/bin:/usr/games:/home/njh/bin:/sbin
    PERL5LIB = 
    PERL5OPT = 
    PERL5_CPANPLUS_IS_RUNNING = 4253
    PERL5_CPAN_IS_RUNNING = 4253
    PERLBREW_BASHRC_VERSION = 0.30
    PERLBREW_HOME = /home/njh/.perlbrew
    PERLBREW_PATH = /home/njh/perl5/perlbrew/bin:/home/njh/perl5/perlbrew/perls/perl-5.12.3/bin
    PERLBREW_PERL = perl-5.12.3
    PERLBREW_ROOT = /home/njh/perl5/perlbrew
    PERLBREW_VERSION = 0.30
    SHELL = /bin/bash
    TERM = xterm

Perl special variables (and OS-specific diagnostics, for MSWin32):

    $^X = /home/njh/perl5/perlbrew/perls/perl-5.12.3/bin/perl
    $UID/$EUID = 1001 / 1001
    $GID = 1001 1001
    $EGID = 1001 1001

Perl module toolchain versions installed:

    Module              Have    
    ------------------- --------
    CPAN                1.94_56 
    CPAN::Meta          2.112150
    Cwd                 3.31    
    ExtUtils::CBuilder  0.27    
    ExtUtils::Command   1.16    
    ExtUtils::Install   1.55    
    ExtUtils::MakeMaker 6.62    
    ExtUtils::Manifest  1.58    
    ExtUtils::ParseXS   2.21    
    File::Spec          3.31_01 
    JSON                n/a     
    JSON::PP            2.27104 
    Module::Build       0.3603  
    Module::Signature   n/a     
    Parse::CPAN::Meta   1.4401  
    Test::Harness       3.17    
    Test::More          0.94    
    YAML                0.77    
    YAML::Syck          1.19    
    version             0.88    


--

Summary of my perl5 (revision 5 version 12 subversion 3) configuration:
   
  Platform:
    osname=linux, osvers=2.6.26-2-powerpc, archname=ppc-linux
    uname='linux qemu-powerpc-debian.bandsman.co.uk 2.6.26-2-powerpc #1 thu jan 27 03:07:30 utc 2011 ppc gnulinux '
    config_args='-de -Dprefix=/home/njh/perl5/perlbrew/perls/perl-5.12.3 -D_FORTIFY_SOURCE=2 -Accflags=-O2'
    hint=recommended, useposix=true, d_sigaction=define
    useithreads=undef, usemultiplicity=undef
    useperlio=define, d_sfio=undef, uselargefiles=define, usesocks=undef
    use64bitint=undef, use64bitall=undef, uselongdouble=undef
    usemymalloc=n, bincompat5005=undef
  Compiler:
    cc='cc', ccflags ='-O2 -fno-strict-aliasing -pipe -fstack-protector -I/usr/local/include -D_LARGEFILE_SOURCE -D_FILE_OFFSET_BITS=64',
    optimize='-O1',
    cppflags='-O2 -fno-strict-aliasing -pipe -fstack-protector -I/usr/local/include'
    ccversion='', gccversion='4.3.2', gccosandvers=''
    intsize=4, longsize=4, ptrsize=4, doublesize=8, byteorder=4321
    d_longlong=define, longlongsize=8, d_longdbl=define, longdblsize=16
    ivtype='long', ivsize=4, nvtype='double', nvsize=8, Off_t='off_t', lseeksize=8
    alignbytes=8, prototype=define
  Linker and Libraries:
    ld='cc', ldflags =' -fstack-protector -L/usr/local/lib'
    libpth=/usr/local/lib /lib/../lib /usr/lib/../lib /lib /usr/lib
    libs=-lnsl -ldb -ldl -lm -lcrypt -lutil -lc
    perllibs=-lnsl -ldl -lm -lcrypt -lutil -lc
    libc=/lib/libc-2.7.so, so=so, useshrplib=false, libperl=libperl.a
    gnulibc_version='2.7'
  Dynamic Linking:
    dlsrc=dl_dlopen.xs, dlext=so, d_dlsymun=undef, ccdlflags='-Wl,-E'
    cccdlflags='-fPIC', lddlflags='-shared -O1 -L/usr/local/lib -fstack-protector'


Characteristics of this binary (from libperl): 
  Compile-time options: PERL_DONT_CREATE_GVSV PERL_MALLOC_WRAP
                        USE_LARGE_FILES USE_PERLIO USE_PERL_ATOF
  Built under linux
  Compiled at Dec 25 2011 16:29:34
  %ENV:
    PERL5LIB=""
    PERL5OPT=""
    PERL5_CPANPLUS_IS_RUNNING="4253"
    PERL5_CPAN_IS_RUNNING="4253"
    PERLBREW_BASHRC_VERSION="0.30"
    PERLBREW_HOME="/home/njh/.perlbrew"
    PERLBREW_PATH="/home/njh/perl5/perlbrew/bin:/home/njh/perl5/perlbrew/perls/perl-5.12.3/bin"
    PERLBREW_PERL="perl-5.12.3"
    PERLBREW_ROOT="/home/njh/perl5/perlbrew"
    PERLBREW_VERSION="0.30"
  @INC:
    /home/njh/perl5/perlbrew/perls/perl-5.12.3/lib/site_perl/5.12.3/ppc-linux
    /home/njh/perl5/perlbrew/perls/perl-5.12.3/lib/site_perl/5.12.3
    /home/njh/perl5/perlbrew/perls/perl-5.12.3/lib/5.12.3/ppc-linux
    /home/njh/perl5/perlbrew/perls/perl-5.12.3/lib/5.12.3
    .