Dist-Zilla-Plugin-Test-Compile-PerFile v0.004000 Perl 5 v5.24.3 RC1 x86_64-linux
- Status
- Pass
- From
- Andreas J. König (ANDK)
- Dist
-
Dist-Zilla-Plugin-Test-Compile-PerFile v0.004000
- Platform
- Perl 5 v5.24.3 RC1 x86_64-linux
- Date
- 2017-09-21 03:55:29
- ID
- b52eb25c-9e80-11e7-9b7c-6f9f57eef806
This distribution has been tested as part of the CPAN Testers
project, supporting the Perl programming language. See
http://wiki.cpantesters.org/ for more information or email
questions to cpan-testers-discuss@perl.org
--
Dear Kent Fredric,
This is a computer-generated report for Dist-Zilla-Plugin-Test-Compile-PerFile-0.004000
on perl 5.24.3, created by CPAN-Reporter-1.2018.
Thank you for uploading your work to CPAN. Congratulations!
All tests were successful.
Sections of this report:
* Tester comments
* Program output
* Prerequisites
* Environment and other context
------------------------------
TESTER COMMENTS
------------------------------
Additional comments from tester:
this report is from an automated smoke testing program
and was not reviewed by a human for accuracy
------------------------------
PROGRAM OUTPUT
------------------------------
Output from '/usr/bin/make test':
Skip blib/lib/auto/share/dist/Dist-Zilla-Plugin-Test-Compile-PerFile/01-basic.t.tpl (unchanged)
Skip blib/lib/auto/share/dist/Dist-Zilla-Plugin-Test-Compile-PerFile/.keep (unchanged)
Skip blib/lib/auto/share/dist/Dist-Zilla-Plugin-Test-Compile-PerFile/02-raw-require.t.tpl (unchanged)
PERL_DL_NONLAZY=1 "/tmp/basesmoker-reloperl-8cVK/bin/perl" "-MExtUtils::Command::MM" "-MTest::Harness" "-e" "undef *Test::Harness::Switches; test_harness(0, 'blib/lib', 'blib/arch')" t/*.t t/00-compile/*.t
t/00-compile/lib_Dist_Zilla_Plugin_Test_Compile_PerFile_pm.t .. ok
#
# Versions for all modules listed in MYMETA.json (including optional ones):
#
# === Configure Requires ===
#
# Module Want Have
# ----------------------- ---- ----
# ExtUtils::MakeMaker any 7.30
# File::ShareDir::Install 0.06 0.11
#
# === Configure Recommends ===
#
# Module Want Have
# ----------------------- ---- ----
# ExtUtils::MakeMaker 7.00 7.30
# File::ShareDir::Install 0.10 0.11
#
# === Build Requires ===
#
# Module Want Have
# ------------------- ---- ----
# ExtUtils::MakeMaker any 7.30
#
# === Test Requires ===
#
# Module Want Have
# -------------------------- ---- --------
# Capture::Tiny any 0.46
# ExtUtils::MakeMaker any 7.30
# File::Spec any 3.63_01
# Test::DZil any 6.010
# Test::File::ShareDir::Dist any 1.001002
# Test::More any 1.302096
#
# === Test Recommends ===
#
# Module Want Have
# ------------------- -------- --------
# CPAN::Meta 2.120900 2.150010
# ExtUtils::MakeMaker 7.00 7.30
# Test::More 0.99 1.302096
#
# === Runtime Requires ===
#
# Module Want Have
# ------------------------------- ---- ------
# B any 1.62
# Dist::Zilla::File::FromCode any 6.010
# Dist::Zilla::Plugin::FinderCode any 6.010
# Dist::Zilla::Role::FileGatherer any 6.010
# Dist::Zilla::Role::TextTemplate any 6.010
# File::ShareDir any 1.104
# Moose any 2.2006
# Moose::Util::TypeConstraints any 2.2006
# MooseX::LazyRequire any 0.11
# Path::Tiny any 0.104
# strict any 1.11
# warnings any 1.36
#
# === Runtime Recommends ===
#
# Module Want Have
# ---------- ----- ------
# Moose 2.000 2.2006
# Path::Tiny 0.058 0.104
#
t/00-report-prereqs.t ......................................... ok
t/attr_file.t ................................................. ok
t/attr_finder.t ............................................... ok
t/attr_path_translator_mimic_source.t ......................... ok
t/attr_skip.t ................................................. ok
t/attr_xtmode.t ............................................... ok
t/basic.t ..................................................... ok
t/failtest.t .................................................. ok
t/oktest.t .................................................... ok
All tests successful.
Files=10, Tests=11, 10 wallclock secs ( 0.04 usr 0.05 sys + 7.21 cusr 0.93 csys = 8.23 CPU)
Result: PASS
------------------------------
PREREQUISITES
------------------------------
Prerequisite modules loaded:
requires:
Module Need Have
------------------------------- ----- --------
B 0 1.62
Dist::Zilla::File::FromCode 0 6.010
Dist::Zilla::Plugin::FinderCode 0 6.010
Dist::Zilla::Role::FileGatherer 0 6.010
Dist::Zilla::Role::TextTemplate 0 6.010
File::ShareDir 0 1.104
Moose 0 2.2006
Moose::Util::TypeConstraints 0 2.2006
MooseX::LazyRequire 0 0.11
Path::Tiny 0 0.104
perl 5.006 5.024003
strict 0 1.11
warnings 0 1.36
build_requires:
Module Need Have
------------------------------- ----- --------
Capture::Tiny 0 0.46
ExtUtils::MakeMaker 0 7.30
File::Spec 0 3.63_01
Test::DZil 0 6.010
Test::File::ShareDir::Dist 0 1.001002
Test::More 0 1.302096
configure_requires:
Module Need Have
------------------------------- ----- --------
ExtUtils::MakeMaker 0 7.30
File::ShareDir::Install 0.06 0.11
perl 5.006 5.024003
------------------------------
ENVIRONMENT AND OTHER CONTEXT
------------------------------
Environment variables:
AUTOMATED_TESTING = 1
LANG = en_US.UTF-8
PATH = /home/sand/bin:/usr/local/bin:/usr/local/sbin:/usr/sbin:/usr/bin:/sbin:/bin:/usr/games:/usr/local/games:/usr/local/perl/bin:/usr/X11/bin
PERL5LIB = /tmp/loop_over_bdir-2652-qyuWkM/Net-DNS-1.12-0/blib/arch:/tmp/loop_over_bdir-2652-qyuWkM/Net-DNS-1.12-0/blib/lib
PERL5OPT =
PERL5_CPANPLUS_IS_RUNNING = 25684
PERL5_CPAN_IS_RUNNING = 25684
PERL_CANARY_STABILITY_NOPROMPT = 1
PERL_MM_USE_DEFAULT = 1
PERL_USE_UNSAFE_INC = 1
SHELL = /usr/bin/zsh
TERM = screen
Perl special variables (and OS-specific diagnostics, for MSWin32):
$^X = /tmp/basesmoker-reloperl-8cVK/bin/perl
$UID/$EUID = 1005 / 1005
$GID = 1005 1005
$EGID = 1005 1005
Perl module toolchain versions installed:
Module Have
------------------- ----------
CPAN 2.18
CPAN::Meta 2.150010
Cwd 3.63_01
ExtUtils::CBuilder 0.280226
ExtUtils::Command 7.30
ExtUtils::Install 2.06
ExtUtils::MakeMaker 7.30
ExtUtils::Manifest 1.70
ExtUtils::ParseXS 3.31
File::Spec 3.63_01
JSON 2.94
JSON::PP 2.27300_01
Module::Build 0.4224
Module::Signature 0.81
Parse::CPAN::Meta 2.150010
Test::Harness 3.39
Test::More 1.302096
YAML 1.23
YAML::Syck 1.30
version 0.9918
--
Summary of my perl5 (revision 5 version 24 subversion 3) configuration:
Derived from: 752cb96a6b7f420187942e917feea72e8bbeb461
Platform:
osname=linux, osvers=4.10.0-35-generic, archname=x86_64-linux
uname='linux k93zesty 4.10.0-35-generic #39-ubuntu smp wed sep 13 07:46:59 utc 2017 x86_64 x86_64 x86_64 gnulinux '
config_args='-Dprefix=/home/sand/src/perl/repoperls/installed-perls/host/k93zesty/v5.24.3-RC1/e2d0 -Dmyhostname=k93zesty -Dinstallusrbinperl=n -Uversiononly -Dusedevel -des -Ui_db -Dlibswanted=cl pthread socket inet nsl gdbm dbm malloc dl ld sun m crypt sec util c cposix posix ucb BSD gdbm_compat -Uuseithreads -Uuselongdouble -DDEBUGGING=-g'
hint=recommended, useposix=true, d_sigaction=define
useithreads=undef, usemultiplicity=undef
use64bitint=define, use64bitall=define, uselongdouble=undef
usemymalloc=n, bincompat5005=undef
Compiler:
cc='cc', ccflags ='-fwrapv -fno-strict-aliasing -pipe -fstack-protector-strong -I/usr/local/include -D_LARGEFILE_SOURCE -D_FILE_OFFSET_BITS=64',
optimize='-O2 -g',
cppflags='-fwrapv -fno-strict-aliasing -pipe -fstack-protector-strong -I/usr/local/include'
ccversion='', gccversion='6.3.0 20170406', gccosandvers=''
intsize=4, longsize=8, ptrsize=8, doublesize=8, byteorder=12345678, doublekind=3
d_longlong=define, longlongsize=8, d_longdbl=define, longdblsize=16, longdblkind=3
ivtype='long', ivsize=8, nvtype='double', nvsize=8, Off_t='off_t', lseeksize=8
alignbytes=8, prototype=define
Linker and Libraries:
ld='cc', ldflags =' -fstack-protector-strong -L/usr/local/lib'
libpth=/usr/local/lib /usr/lib/gcc/x86_64-linux-gnu/6/include-fixed /usr/include/x86_64-linux-gnu /usr/lib /lib/x86_64-linux-gnu /lib/../lib /usr/lib/x86_64-linux-gnu /usr/lib/../lib /lib
libs=-lpthread -lnsl -ldl -lm -lcrypt -lutil -lc
perllibs=-lpthread -lnsl -ldl -lm -lcrypt -lutil -lc
libc=libc-2.24.so, so=so, useshrplib=false, libperl=libperl.a
gnulibc_version='2.24'
Dynamic Linking:
dlsrc=dl_dlopen.xs, dlext=so, d_dlsymun=undef, ccdlflags='-Wl,-E'
cccdlflags='-fPIC', lddlflags='-shared -O2 -g -L/usr/local/lib -fstack-protector-strong'
Characteristics of this binary (from libperl):
Compile-time options: HAS_TIMES PERLIO_LAYERS PERL_COPY_ON_WRITE
PERL_DONT_CREATE_GVSV
PERL_HASH_FUNC_ONE_AT_A_TIME_HARD PERL_MALLOC_WRAP
PERL_PRESERVE_IVUV PERL_USE_DEVEL USE_64_BIT_ALL
USE_64_BIT_INT USE_LARGE_FILES USE_LOCALE
USE_LOCALE_COLLATE USE_LOCALE_CTYPE
USE_LOCALE_NUMERIC USE_LOCALE_TIME USE_PERLIO
USE_PERL_ATOF
Locally applied patches:
RC1
uncommitted-changes
Built under linux
Compiled at Sep 20 2017 02:58:33
%ENV:
PERL5LIB="/tmp/loop_over_bdir-2652-qyuWkM/Net-DNS-1.12-0/blib/arch:/tmp/loop_over_bdir-2652-qyuWkM/Net-DNS-1.12-0/blib/lib"
PERL5OPT=""
PERL5_CPANPLUS_IS_RUNNING="25684"
PERL5_CPAN_IS_RUNNING="25684"
PERL_CANARY_STABILITY_NOPROMPT="1"
PERL_MM_USE_DEFAULT="1"
PERL_USE_UNSAFE_INC="1"
@INC:
/tmp/loop_over_bdir-2652-qyuWkM/Net-DNS-1.12-0/blib/arch
/tmp/loop_over_bdir-2652-qyuWkM/Net-DNS-1.12-0/blib/lib
/home/sand/src/perl/repoperls/installed-perls/host/k93zesty/v5.24.3-RC1/e2d0/lib/site_perl/5.24.3/x86_64-linux
/home/sand/src/perl/repoperls/installed-perls/host/k93zesty/v5.24.3-RC1/e2d0/lib/site_perl/5.24.3
/home/sand/src/perl/repoperls/installed-perls/host/k93zesty/v5.24.3-RC1/e2d0/lib/5.24.3/x86_64-linux
/home/sand/src/perl/repoperls/installed-perls/host/k93zesty/v5.24.3-RC1/e2d0/lib/5.24.3
.