Module-FromPerlVer v0.030000 Perl 5 v5.37.11 x86_64-linux-ld

Status
Pass
From
Andreas J. König (ANDK)
Dist
Module-FromPerlVer v0.030000
Platform
Perl 5 v5.37.11 x86_64-linux-ld
Date
2023-04-30 07:50:42
ID
b522c3a8-e72b-11ed-bf40-43d7c3f35b9c
This distribution has been tested as part of the CPAN Testers
project, supporting the Perl programming language.  See
http://wiki.cpantesters.org/ for more information or email
questions to cpan-testers-discuss@perl.org


--
Dear Steven Lembark,

This is a computer-generated report for Module-FromPerlVer-0.030000
on perl 5.37.11, created by CPAN-Reporter-1.2018.

Thank you for uploading your work to CPAN.  Congratulations!
All tests were successful.

Sections of this report:

    * Tester comments
    * Program output
    * Prerequisites
    * Environment and other context

------------------------------
TESTER COMMENTS
------------------------------

Additional comments from tester:

this report is from an automated smoke testing program
and was not reviewed by a human for accuracy

------------------------------
PROGRAM OUTPUT
------------------------------

Output from '/usr/bin/make test':

PERL_DL_NONLAZY=1 "/tmp/basesmoker-reloperl-9NH6/bin/perl" "-MExtUtils::Command::MM" "-MTest::Harness" "-e" "undef *Test::Harness::Switches; test_harness(0, 'blib/lib', 'blib/arch')" t/*.t t/dynamic/*.t
# Working dir: '/tmp/loop_over_bdir-1128535-bh7ZiA/Module-FromPerlVer-0.030000-0'
# Executable:  't/00-usable.t'
# Found 'lib' directory
# Search: '/tmp/loop_over_bdir-1128535-bh7ZiA/Module-FromPerlVer-0.030000-0' for files with 'File::Copy::Recursive'
# Module-FromPerlVer-0.030000-0/CHANGES  5 : '    out File::Copy::Recursive, which is not used in the Makefile.PL,
# '
# Module-FromPerlVer-0.030000-0/CHANGES  6 : '    module, or test code. File::Copy::Recursive is not installed 
# '
# Module-FromPerlVer-0.030000-0/CHANGES  13 : '    "File::Copy::Recursive" and dumping the result along with 
# '
# Module-FromPerlVer-0.030000-0/CHANGES  27 : '    File::Copy::Recursive may still have problems; revert to 
# '
# Module-FromPerlVer-0.030000-0/CHANGES  28 : '    File::Copy::Recursive::Reduced.
# '
# Module-FromPerlVer-0.030000-0/META.json  37 : '            "File::Copy::Recursive::Reduced" : "0.006000",
# '
# Module-FromPerlVer-0.030000-0/META.json  60 : '      "File::Copy::Recursive::Reduced" : "0.006000",
# '
# Module-FromPerlVer-0.030000-0/MYMETA.json  37 : '            "File::Copy::Recursive::Reduced" : "0.006000",
# '
# Module-FromPerlVer-0.030000-0/MYMETA.json  60 : '      "File::Copy::Recursive::Reduced" : "0.006000",
# '
# Module-FromPerlVer-0.030000-0/Makefile  19 : '#     META_MERGE => { CONFIGURE_REQUIRES=>{ ExtUtils::MakeMaker=>undef, strict=>q[0], version=>q[0] }, TEST_REQUIRES=>{ Archive::Tar=>q[0], Cwd=>q[3.073000], File::Basename=>q[0], File::Copy::Recursive::Reduced=>q[0.006000], File::Find=>q[0], File::Spec::Functions=>q[0], File::Temp=>q[0], FindBin=>q[0], List::MoreUtils=>q[0], List::Util=>q[1.046000], Symbol=>q[0], Test::Deep=>q[0], Test::More=>q[0], lib=>q[0], strict=>q[0], version=>q[0] }, dynamic_config=>q[1], meta-spec=>{ version=>q[2] } }
# '
# Module-FromPerlVer-0.030000-0/Makefile  21 : '#     PREREQ_PM => { Cwd=>q[3.073000], File::Basename=>q[0], File::Copy::Recursive::Reduced=>q[0.006000], File::Find=>q[0], File::Spec::Functions=>q[0], FindBin=>q[0], List::Util=>q[1.046000], Symbol=>q[0], Test::More=>q[0], strict=>q[0], version=>q[0] }
# '
# Module-FromPerlVer-0.030000-0/Makefile  510 : '	$(NOECHO) $(ECHO) '  File::Copy::Recursive::Reduced: '\''0.006000'\''' >> META_new.yml
# '
# Module-FromPerlVer-0.030000-0/Makefile  528 : '	$(NOECHO) $(ECHO) '  File::Copy::Recursive::Reduced: '\''0.006000'\''' >> META_new.yml
# '
# Module-FromPerlVer-0.030000-0/Makefile  580 : '	$(NOECHO) $(ECHO) '            "File::Copy::Recursive::Reduced" : "0.006000",' >> META_new.json
# '
# Module-FromPerlVer-0.030000-0/Makefile  603 : '	$(NOECHO) $(ECHO) '      "File::Copy::Recursive::Reduced" : "0.006000",' >> META_new.json
# '
# Module-FromPerlVer-0.030000-0/Makefile  932 : '	$(NOECHO) $(ECHO) '        <REQUIRE NAME="File::Copy::Recursive::Reduced" VERSION="0.006000" />' >> Module-FromPerlVer.ppd
# '
# Module-FromPerlVer-0.030000-0/Makefile.PL  81 : '                    [ qw( File::Copy::Recursive::Reduced    v0.6.0  ) ],
# '
# Module-FromPerlVer-0.030000-0/Makefile.PL  112 : '            [ qw( File::Copy::Recursive::Reduced    v0.6.0  ) ],
# '
# Module-FromPerlVer-0.030000-0/MYMETA.yml  23 : '  File::Copy::Recursive::Reduced: '0.006000'
# '
# Module-FromPerlVer-0.030000-0/MYMETA.yml  41 : '  File::Copy::Recursive::Reduced: '0.006000'
# '
# Module-FromPerlVer-0.030000-0/META.yml  23 : '  File::Copy::Recursive::Reduced: '0.006000'
# '
# Module-FromPerlVer-0.030000-0/META.yml  41 : '  File::Copy::Recursive::Reduced: '0.006000'
# '
# man3/Module::FromPerlVer.3  404 : '.IP File::Copy::Recursive 4
# '
# man3/Module::FromPerlVer.3  405 : '.IX Item "File::Copy::Recursive"
# '
# Module/FromPerlVer.pm  6 : '# File::Copy::Recursive & friends -- yeah, ancient.
# '
# Module/FromPerlVer.pm  21 : 'use File::Copy::Recursive::Reduced  qw( dircopy );
# '
# Module/FromPerlVer.pm  460 : '    # this returns the count from File::Copy::Recursive,
# '
# Module/FromPerlVer.pm  828 : '=item File::Copy::Recursive
# '
# t/00-usable.t  39 : '            -1 < index  $line, 'File::Copy::Recursive'
# '
# t/00-usable.t  50 : 'diag "Search: '$cwd' for files with 'File::Copy::Recursive'";
# '
# Module/FromPerlVer.pm  6 : '# File::Copy::Recursive & friends -- yeah, ancient.
# '
# Module/FromPerlVer.pm  21 : 'use File::Copy::Recursive::Reduced  qw( dircopy );
# '
# Module/FromPerlVer.pm  460 : '    # this returns the count from File::Copy::Recursive,
# '
# Module/FromPerlVer.pm  828 : '=item File::Copy::Recursive
# '
t/00-usable.t ................................ ok

# Search: 't' (/tmp/loop_over_bdir-1128535-bh7ZiA/Module-FromPerlVer-0.030000-0/t)
# Created:  '/tmp/loop_over_bdir-1128535-bh7ZiA/Module-FromPerlVer-0.030000-0/t/sandbox'.
# Search: 't' (/tmp/loop_over_bdir-1128535-bh7ZiA/Module-FromPerlVer-0.030000-0/t)
# Existing: '/tmp/loop_over_bdir-1128535-bh7ZiA/Module-FromPerlVer-0.030000-0/t/sandbox'.
# Work dir: 't/sandbox/10-perl-version.t-awOR't/10-perl-version.t .......................... ok

# Search: 't' (/tmp/loop_over_bdir-1128535-bh7ZiA/Module-FromPerlVer-0.030000-0/t)
# Existing: '/tmp/loop_over_bdir-1128535-bh7ZiA/Module-FromPerlVer-0.030000-0/t/sandbox'.
# Search: 't' (/tmp/loop_over_bdir-1128535-bh7ZiA/Module-FromPerlVer-0.030000-0/t)
# Existing: '/tmp/loop_over_bdir-1128535-bh7ZiA/Module-FromPerlVer-0.030000-0/t/sandbox'.
# Work dir: 't/sandbox/11-env-version.t-ump8't/11-env-version.t ........................... ok

# Search: 't' (/tmp/loop_over_bdir-1128535-bh7ZiA/Module-FromPerlVer-0.030000-0/t)
# Existing: '/tmp/loop_over_bdir-1128535-bh7ZiA/Module-FromPerlVer-0.030000-0/t/sandbox'.
# Search: 't' (/tmp/loop_over_bdir-1128535-bh7ZiA/Module-FromPerlVer-0.030000-0/t)
# Existing: '/tmp/loop_over_bdir-1128535-bh7ZiA/Module-FromPerlVer-0.030000-0/t/sandbox'.
# Work dir: 't/sandbox/12-path-version.t-fpz1't/12-path-version.t .......................... ok
t/13-reject-bogus-no-5.0.t ................... ok

# Search: 't' (/tmp/loop_over_bdir-1128535-bh7ZiA/Module-FromPerlVer-0.030000-0/t)
# Existing: '/tmp/loop_over_bdir-1128535-bh7ZiA/Module-FromPerlVer-0.030000-0/t/sandbox'.
# Search: 't' (/tmp/loop_over_bdir-1128535-bh7ZiA/Module-FromPerlVer-0.030000-0/t)
# Existing: '/tmp/loop_over_bdir-1128535-bh7ZiA/Module-FromPerlVer-0.030000-0/t/sandbox'.
# Work dir: 't/sandbox/20-file-defaults-5.0.1.t-hhAn'
# Testing perl version: '5.0.1' (20-file-defaults-5.0.1).
t/dynamic/20-file-defaults-5.0.1.t ........... ok

# Search: 't' (/tmp/loop_over_bdir-1128535-bh7ZiA/Module-FromPerlVer-0.030000-0/t)
# Existing: '/tmp/loop_over_bdir-1128535-bh7ZiA/Module-FromPerlVer-0.030000-0/t/sandbox'.
# Search: 't' (/tmp/loop_over_bdir-1128535-bh7ZiA/Module-FromPerlVer-0.030000-0/t)
# Existing: '/tmp/loop_over_bdir-1128535-bh7ZiA/Module-FromPerlVer-0.030000-0/t/sandbox'.
# Work dir: 't/sandbox/20-file-defaults-5.000.001.t-WrWo'
# Testing perl version: '5.000.001' (20-file-defaults-5.000.001).
t/dynamic/20-file-defaults-5.000.001.t ....... ok

# Search: 't' (/tmp/loop_over_bdir-1128535-bh7ZiA/Module-FromPerlVer-0.030000-0/t)
# Existing: '/tmp/loop_over_bdir-1128535-bh7ZiA/Module-FromPerlVer-0.030000-0/t/sandbox'.
# Search: 't' (/tmp/loop_over_bdir-1128535-bh7ZiA/Module-FromPerlVer-0.030000-0/t)
# Existing: '/tmp/loop_over_bdir-1128535-bh7ZiA/Module-FromPerlVer-0.030000-0/t/sandbox'.
# Work dir: 't/sandbox/20-file-defaults-5.000001.t-OKPj'
# Testing perl version: '5.000001' (20-file-defaults-5.000001).
t/dynamic/20-file-defaults-5.000001.t ........ ok

# Search: 't' (/tmp/loop_over_bdir-1128535-bh7ZiA/Module-FromPerlVer-0.030000-0/t)
# Existing: '/tmp/loop_over_bdir-1128535-bh7ZiA/Module-FromPerlVer-0.030000-0/t/sandbox'.
# Search: 't' (/tmp/loop_over_bdir-1128535-bh7ZiA/Module-FromPerlVer-0.030000-0/t)
# Existing: '/tmp/loop_over_bdir-1128535-bh7ZiA/Module-FromPerlVer-0.030000-0/t/sandbox'.
# Work dir: 't/sandbox/20-file-defaults-5.000_001.t-HUjZ'
# Testing perl version: '5.000_001' (20-file-defaults-5.000_001).
t/dynamic/20-file-defaults-5.000_001.t ....... ok

# Search: 't' (/tmp/loop_over_bdir-1128535-bh7ZiA/Module-FromPerlVer-0.030000-0/t)
# Existing: '/tmp/loop_over_bdir-1128535-bh7ZiA/Module-FromPerlVer-0.030000-0/t/sandbox'.
# Search: 't' (/tmp/loop_over_bdir-1128535-bh7ZiA/Module-FromPerlVer-0.030000-0/t)
# Existing: '/tmp/loop_over_bdir-1128535-bh7ZiA/Module-FromPerlVer-0.030000-0/t/sandbox'.
# Work dir: 't/sandbox/20-file-defaults-5.006.000.t-LnP4'
# Testing perl version: '5.006.000' (20-file-defaults-5.006.000).
t/dynamic/20-file-defaults-5.006.000.t ....... ok

# Search: 't' (/tmp/loop_over_bdir-1128535-bh7ZiA/Module-FromPerlVer-0.030000-0/t)
# Existing: '/tmp/loop_over_bdir-1128535-bh7ZiA/Module-FromPerlVer-0.030000-0/t/sandbox'.
# Search: 't' (/tmp/loop_over_bdir-1128535-bh7ZiA/Module-FromPerlVer-0.030000-0/t)
# Existing: '/tmp/loop_over_bdir-1128535-bh7ZiA/Module-FromPerlVer-0.030000-0/t/sandbox'.
# Work dir: 't/sandbox/20-file-defaults-5.006000.t-zoIu'
# Testing perl version: '5.006000' (20-file-defaults-5.006000).
t/dynamic/20-file-defaults-5.006000.t ........ ok

# Search: 't' (/tmp/loop_over_bdir-1128535-bh7ZiA/Module-FromPerlVer-0.030000-0/t)
# Existing: '/tmp/loop_over_bdir-1128535-bh7ZiA/Module-FromPerlVer-0.030000-0/t/sandbox'.
# Search: 't' (/tmp/loop_over_bdir-1128535-bh7ZiA/Module-FromPerlVer-0.030000-0/t)
# Existing: '/tmp/loop_over_bdir-1128535-bh7ZiA/Module-FromPerlVer-0.030000-0/t/sandbox'.
# Work dir: 't/sandbox/20-file-defaults-5.006_000.t-_Uxl'
# Testing perl version: '5.006_000' (20-file-defaults-5.006_000).
t/dynamic/20-file-defaults-5.006_000.t ....... ok

# Search: 't' (/tmp/loop_over_bdir-1128535-bh7ZiA/Module-FromPerlVer-0.030000-0/t)
# Existing: '/tmp/loop_over_bdir-1128535-bh7ZiA/Module-FromPerlVer-0.030000-0/t/sandbox'.
# Search: 't' (/tmp/loop_over_bdir-1128535-bh7ZiA/Module-FromPerlVer-0.030000-0/t)
# Existing: '/tmp/loop_over_bdir-1128535-bh7ZiA/Module-FromPerlVer-0.030000-0/t/sandbox'.
# Work dir: 't/sandbox/20-file-defaults-5.008.008.t-j1gl'
# Testing perl version: '5.008.008' (20-file-defaults-5.008.008).
t/dynamic/20-file-defaults-5.008.008.t ....... ok

# Search: 't' (/tmp/loop_over_bdir-1128535-bh7ZiA/Module-FromPerlVer-0.030000-0/t)
# Existing: '/tmp/loop_over_bdir-1128535-bh7ZiA/Module-FromPerlVer-0.030000-0/t/sandbox'.
# Search: 't' (/tmp/loop_over_bdir-1128535-bh7ZiA/Module-FromPerlVer-0.030000-0/t)
# Existing: '/tmp/loop_over_bdir-1128535-bh7ZiA/Module-FromPerlVer-0.030000-0/t/sandbox'.
# Work dir: 't/sandbox/20-file-defaults-5.008008.t-Wb5L'
# Testing perl version: '5.008008' (20-file-defaults-5.008008).
t/dynamic/20-file-defaults-5.008008.t ........ ok

# Search: 't' (/tmp/loop_over_bdir-1128535-bh7ZiA/Module-FromPerlVer-0.030000-0/t)
# Existing: '/tmp/loop_over_bdir-1128535-bh7ZiA/Module-FromPerlVer-0.030000-0/t/sandbox'.
# Search: 't' (/tmp/loop_over_bdir-1128535-bh7ZiA/Module-FromPerlVer-0.030000-0/t)
# Existing: '/tmp/loop_over_bdir-1128535-bh7ZiA/Module-FromPerlVer-0.030000-0/t/sandbox'.
# Work dir: 't/sandbox/20-file-defaults-5.008_008.t-mDPC'
# Testing perl version: '5.008_008' (20-file-defaults-5.008_008).
t/dynamic/20-file-defaults-5.008_008.t ....... ok

# Search: 't' (/tmp/loop_over_bdir-1128535-bh7ZiA/Module-FromPerlVer-0.030000-0/t)
# Existing: '/tmp/loop_over_bdir-1128535-bh7ZiA/Module-FromPerlVer-0.030000-0/t/sandbox'.
# Search: 't' (/tmp/loop_over_bdir-1128535-bh7ZiA/Module-FromPerlVer-0.030000-0/t)
# Existing: '/tmp/loop_over_bdir-1128535-bh7ZiA/Module-FromPerlVer-0.030000-0/t/sandbox'.
# Work dir: 't/sandbox/20-file-defaults-5.6.0.t-uJwJ'
# Testing perl version: '5.6.0' (20-file-defaults-5.6.0).
t/dynamic/20-file-defaults-5.6.0.t ........... ok

# Search: 't' (/tmp/loop_over_bdir-1128535-bh7ZiA/Module-FromPerlVer-0.030000-0/t)
# Existing: '/tmp/loop_over_bdir-1128535-bh7ZiA/Module-FromPerlVer-0.030000-0/t/sandbox'.
# Search: 't' (/tmp/loop_over_bdir-1128535-bh7ZiA/Module-FromPerlVer-0.030000-0/t)
# Existing: '/tmp/loop_over_bdir-1128535-bh7ZiA/Module-FromPerlVer-0.030000-0/t/sandbox'.
# Work dir: 't/sandbox/20-file-defaults-5.8.8.t-WsqC'
# Testing perl version: '5.8.8' (20-file-defaults-5.8.8).
t/dynamic/20-file-defaults-5.8.8.t ........... ok

# Search: 't' (/tmp/loop_over_bdir-1128535-bh7ZiA/Module-FromPerlVer-0.030000-0/t)
# Existing: '/tmp/loop_over_bdir-1128535-bh7ZiA/Module-FromPerlVer-0.030000-0/t/sandbox'.
# Search: 't' (/tmp/loop_over_bdir-1128535-bh7ZiA/Module-FromPerlVer-0.030000-0/t)
# Existing: '/tmp/loop_over_bdir-1128535-bh7ZiA/Module-FromPerlVer-0.030000-0/t/sandbox'.
# Work dir: 't/sandbox/20-file-defaults-5.888.888.t-xxuI'
# Testing perl version: '5.888.888' (20-file-defaults-5.888.888).
t/dynamic/20-file-defaults-5.888.888.t ....... ok

# Search: 't' (/tmp/loop_over_bdir-1128535-bh7ZiA/Module-FromPerlVer-0.030000-0/t)
# Existing: '/tmp/loop_over_bdir-1128535-bh7ZiA/Module-FromPerlVer-0.030000-0/t/sandbox'.
# Search: 't' (/tmp/loop_over_bdir-1128535-bh7ZiA/Module-FromPerlVer-0.030000-0/t)
# Existing: '/tmp/loop_over_bdir-1128535-bh7ZiA/Module-FromPerlVer-0.030000-0/t/sandbox'.
# Work dir: 't/sandbox/20-file-defaults-5.888888.t-WfUe'
# Testing perl version: '5.888888' (20-file-defaults-5.888888).
t/dynamic/20-file-defaults-5.888888.t ........ ok

# Search: 't' (/tmp/loop_over_bdir-1128535-bh7ZiA/Module-FromPerlVer-0.030000-0/t)
# Existing: '/tmp/loop_over_bdir-1128535-bh7ZiA/Module-FromPerlVer-0.030000-0/t/sandbox'.
# Search: 't' (/tmp/loop_over_bdir-1128535-bh7ZiA/Module-FromPerlVer-0.030000-0/t)
# Existing: '/tmp/loop_over_bdir-1128535-bh7ZiA/Module-FromPerlVer-0.030000-0/t/sandbox'.
# Work dir: 't/sandbox/20-file-defaults-5.888_888.t-Q22z'
# Testing perl version: '5.888_888' (20-file-defaults-5.888_888).
t/dynamic/20-file-defaults-5.888_888.t ....... ok

# Search: 't' (/tmp/loop_over_bdir-1128535-bh7ZiA/Module-FromPerlVer-0.030000-0/t)
# Existing: '/tmp/loop_over_bdir-1128535-bh7ZiA/Module-FromPerlVer-0.030000-0/t/sandbox'.
# Search: 't' (/tmp/loop_over_bdir-1128535-bh7ZiA/Module-FromPerlVer-0.030000-0/t)
# Existing: '/tmp/loop_over_bdir-1128535-bh7ZiA/Module-FromPerlVer-0.030000-0/t/sandbox'.
# Work dir: 't/sandbox/20-file-defaults-5.999.999.t-olBN'
# Testing perl version: '5.999.999' (20-file-defaults-5.999.999).
t/dynamic/20-file-defaults-5.999.999.t ....... ok

# Search: 't' (/tmp/loop_over_bdir-1128535-bh7ZiA/Module-FromPerlVer-0.030000-0/t)
# Existing: '/tmp/loop_over_bdir-1128535-bh7ZiA/Module-FromPerlVer-0.030000-0/t/sandbox'.
# Search: 't' (/tmp/loop_over_bdir-1128535-bh7ZiA/Module-FromPerlVer-0.030000-0/t)
# Existing: '/tmp/loop_over_bdir-1128535-bh7ZiA/Module-FromPerlVer-0.030000-0/t/sandbox'.
# Work dir: 't/sandbox/20-file-defaults-5.999999.t-U6o4'
# Testing perl version: '5.999999' (20-file-defaults-5.999999).
t/dynamic/20-file-defaults-5.999999.t ........ ok

# Search: 't' (/tmp/loop_over_bdir-1128535-bh7ZiA/Module-FromPerlVer-0.030000-0/t)
# Existing: '/tmp/loop_over_bdir-1128535-bh7ZiA/Module-FromPerlVer-0.030000-0/t/sandbox'.
# Search: 't' (/tmp/loop_over_bdir-1128535-bh7ZiA/Module-FromPerlVer-0.030000-0/t)
# Existing: '/tmp/loop_over_bdir-1128535-bh7ZiA/Module-FromPerlVer-0.030000-0/t/sandbox'.
# Work dir: 't/sandbox/20-file-defaults-5.999_999.t-lpzw'
# Testing perl version: '5.999_999' (20-file-defaults-5.999_999).
t/dynamic/20-file-defaults-5.999_999.t ....... ok

# Search: 't' (/tmp/loop_over_bdir-1128535-bh7ZiA/Module-FromPerlVer-0.030000-0/t)
# Existing: '/tmp/loop_over_bdir-1128535-bh7ZiA/Module-FromPerlVer-0.030000-0/t/sandbox'.
# Search: 't' (/tmp/loop_over_bdir-1128535-bh7ZiA/Module-FromPerlVer-0.030000-0/t)
# Existing: '/tmp/loop_over_bdir-1128535-bh7ZiA/Module-FromPerlVer-0.030000-0/t/sandbox'.
# Work dir: 't/sandbox/20-file-defaults-v5.0.1.t-GtLj'
# Testing perl version: 'v5.0.1' (20-file-defaults-v5.0.1).
t/dynamic/20-file-defaults-v5.0.1.t .......... ok

# Search: 't' (/tmp/loop_over_bdir-1128535-bh7ZiA/Module-FromPerlVer-0.030000-0/t)
# Existing: '/tmp/loop_over_bdir-1128535-bh7ZiA/Module-FromPerlVer-0.030000-0/t/sandbox'.
# Search: 't' (/tmp/loop_over_bdir-1128535-bh7ZiA/Module-FromPerlVer-0.030000-0/t)
# Existing: '/tmp/loop_over_bdir-1128535-bh7ZiA/Module-FromPerlVer-0.030000-0/t/sandbox'.
# Work dir: 't/sandbox/20-file-defaults-v5.000.001.t-VDq6'
# Testing perl version: 'v5.000.001' (20-file-defaults-v5.000.001).
t/dynamic/20-file-defaults-v5.000.001.t ...... ok

# Search: 't' (/tmp/loop_over_bdir-1128535-bh7ZiA/Module-FromPerlVer-0.030000-0/t)
# Existing: '/tmp/loop_over_bdir-1128535-bh7ZiA/Module-FromPerlVer-0.030000-0/t/sandbox'.
# Search: 't' (/tmp/loop_over_bdir-1128535-bh7ZiA/Module-FromPerlVer-0.030000-0/t)
# Existing: '/tmp/loop_over_bdir-1128535-bh7ZiA/Module-FromPerlVer-0.030000-0/t/sandbox'.
# Work dir: 't/sandbox/20-file-defaults-v5.000001.t-jXhq'
# Testing perl version: 'v5.000001' (20-file-defaults-v5.000001).
t/dynamic/20-file-defaults-v5.000001.t ....... ok

# Search: 't' (/tmp/loop_over_bdir-1128535-bh7ZiA/Module-FromPerlVer-0.030000-0/t)
# Existing: '/tmp/loop_over_bdir-1128535-bh7ZiA/Module-FromPerlVer-0.030000-0/t/sandbox'.
# Search: 't' (/tmp/loop_over_bdir-1128535-bh7ZiA/Module-FromPerlVer-0.030000-0/t)
# Existing: '/tmp/loop_over_bdir-1128535-bh7ZiA/Module-FromPerlVer-0.030000-0/t/sandbox'.
# Work dir: 't/sandbox/20-file-defaults-v5.000_001.t-nTXi'
# Testing perl version: 'v5.000_001' (20-file-defaults-v5.000_001).
t/dynamic/20-file-defaults-v5.000_001.t ...... ok

# Search: 't' (/tmp/loop_over_bdir-1128535-bh7ZiA/Module-FromPerlVer-0.030000-0/t)
# Existing: '/tmp/loop_over_bdir-1128535-bh7ZiA/Module-FromPerlVer-0.030000-0/t/sandbox'.
# Search: 't' (/tmp/loop_over_bdir-1128535-bh7ZiA/Module-FromPerlVer-0.030000-0/t)
# Existing: '/tmp/loop_over_bdir-1128535-bh7ZiA/Module-FromPerlVer-0.030000-0/t/sandbox'.
# Work dir: 't/sandbox/20-file-defaults-v5.006.000.t-s_eM'
# Testing perl version: 'v5.006.000' (20-file-defaults-v5.006.000).
t/dynamic/20-file-defaults-v5.006.000.t ...... ok

# Search: 't' (/tmp/loop_over_bdir-1128535-bh7ZiA/Module-FromPerlVer-0.030000-0/t)
# Existing: '/tmp/loop_over_bdir-1128535-bh7ZiA/Module-FromPerlVer-0.030000-0/t/sandbox'.
# Search: 't' (/tmp/loop_over_bdir-1128535-bh7ZiA/Module-FromPerlVer-0.030000-0/t)
# Existing: '/tmp/loop_over_bdir-1128535-bh7ZiA/Module-FromPerlVer-0.030000-0/t/sandbox'.
# Work dir: 't/sandbox/20-file-defaults-v5.006000.t-Y7yp'
# Testing perl version: 'v5.006000' (20-file-defaults-v5.006000).
t/dynamic/20-file-defaults-v5.006000.t ....... ok

# Search: 't' (/tmp/loop_over_bdir-1128535-bh7ZiA/Module-FromPerlVer-0.030000-0/t)
# Existing: '/tmp/loop_over_bdir-1128535-bh7ZiA/Module-FromPerlVer-0.030000-0/t/sandbox'.
# Search: 't' (/tmp/loop_over_bdir-1128535-bh7ZiA/Module-FromPerlVer-0.030000-0/t)
# Existing: '/tmp/loop_over_bdir-1128535-bh7ZiA/Module-FromPerlVer-0.030000-0/t/sandbox'.
# Work dir: 't/sandbox/20-file-defaults-v5.006_000.t-zVj4'
# Testing perl version: 'v5.006_000' (20-file-defaults-v5.006_000).
t/dynamic/20-file-defaults-v5.006_000.t ...... ok

# Search: 't' (/tmp/loop_over_bdir-1128535-bh7ZiA/Module-FromPerlVer-0.030000-0/t)
# Existing: '/tmp/loop_over_bdir-1128535-bh7ZiA/Module-FromPerlVer-0.030000-0/t/sandbox'.
# Search: 't' (/tmp/loop_over_bdir-1128535-bh7ZiA/Module-FromPerlVer-0.030000-0/t)
# Existing: '/tmp/loop_over_bdir-1128535-bh7ZiA/Module-FromPerlVer-0.030000-0/t/sandbox'.
# Work dir: 't/sandbox/20-file-defaults-v5.008.008.t-N3E3'
# Testing perl version: 'v5.008.008' (20-file-defaults-v5.008.008).
t/dynamic/20-file-defaults-v5.008.008.t ...... ok

# Search: 't' (/tmp/loop_over_bdir-1128535-bh7ZiA/Module-FromPerlVer-0.030000-0/t)
# Existing: '/tmp/loop_over_bdir-1128535-bh7ZiA/Module-FromPerlVer-0.030000-0/t/sandbox'.
# Search: 't' (/tmp/loop_over_bdir-1128535-bh7ZiA/Module-FromPerlVer-0.030000-0/t)
# Existing: '/tmp/loop_over_bdir-1128535-bh7ZiA/Module-FromPerlVer-0.030000-0/t/sandbox'.
# Work dir: 't/sandbox/20-file-defaults-v5.008008.t-pTE1'
# Testing perl version: 'v5.008008' (20-file-defaults-v5.008008).
t/dynamic/20-file-defaults-v5.008008.t ....... ok

# Search: 't' (/tmp/loop_over_bdir-1128535-bh7ZiA/Module-FromPerlVer-0.030000-0/t)
# Existing: '/tmp/loop_over_bdir-1128535-bh7ZiA/Module-FromPerlVer-0.030000-0/t/sandbox'.
# Search: 't' (/tmp/loop_over_bdir-1128535-bh7ZiA/Module-FromPerlVer-0.030000-0/t)
# Existing: '/tmp/loop_over_bdir-1128535-bh7ZiA/Module-FromPerlVer-0.030000-0/t/sandbox'.
# Work dir: 't/sandbox/20-file-defaults-v5.008_008.t-ZBB1'
# Testing perl version: 'v5.008_008' (20-file-defaults-v5.008_008).
t/dynamic/20-file-defaults-v5.008_008.t ...... ok

# Search: 't' (/tmp/loop_over_bdir-1128535-bh7ZiA/Module-FromPerlVer-0.030000-0/t)
# Existing: '/tmp/loop_over_bdir-1128535-bh7ZiA/Module-FromPerlVer-0.030000-0/t/sandbox'.
# Search: 't' (/tmp/loop_over_bdir-1128535-bh7ZiA/Module-FromPerlVer-0.030000-0/t)
# Existing: '/tmp/loop_over_bdir-1128535-bh7ZiA/Module-FromPerlVer-0.030000-0/t/sandbox'.
# Work dir: 't/sandbox/20-file-defaults-v5.6.0.t-dpS0'
# Testing perl version: 'v5.6.0' (20-file-defaults-v5.6.0).
t/dynamic/20-file-defaults-v5.6.0.t .......... ok

# Search: 't' (/tmp/loop_over_bdir-1128535-bh7ZiA/Module-FromPerlVer-0.030000-0/t)
# Existing: '/tmp/loop_over_bdir-1128535-bh7ZiA/Module-FromPerlVer-0.030000-0/t/sandbox'.
# Search: 't' (/tmp/loop_over_bdir-1128535-bh7ZiA/Module-FromPerlVer-0.030000-0/t)
# Existing: '/tmp/loop_over_bdir-1128535-bh7ZiA/Module-FromPerlVer-0.030000-0/t/sandbox'.
# Work dir: 't/sandbox/20-file-defaults-v5.8.8.t-kjyt'
# Testing perl version: 'v5.8.8' (20-file-defaults-v5.8.8).
t/dynamic/20-file-defaults-v5.8.8.t .......... ok

# Search: 't' (/tmp/loop_over_bdir-1128535-bh7ZiA/Module-FromPerlVer-0.030000-0/t)
# Existing: '/tmp/loop_over_bdir-1128535-bh7ZiA/Module-FromPerlVer-0.030000-0/t/sandbox'.
# Search: 't' (/tmp/loop_over_bdir-1128535-bh7ZiA/Module-FromPerlVer-0.030000-0/t)
# Existing: '/tmp/loop_over_bdir-1128535-bh7ZiA/Module-FromPerlVer-0.030000-0/t/sandbox'.
# Work dir: 't/sandbox/20-file-defaults-v5.888.888.t-2GZ2'
# Testing perl version: 'v5.888.888' (20-file-defaults-v5.888.888).
t/dynamic/20-file-defaults-v5.888.888.t ...... ok

# Search: 't' (/tmp/loop_over_bdir-1128535-bh7ZiA/Module-FromPerlVer-0.030000-0/t)
# Existing: '/tmp/loop_over_bdir-1128535-bh7ZiA/Module-FromPerlVer-0.030000-0/t/sandbox'.
# Search: 't' (/tmp/loop_over_bdir-1128535-bh7ZiA/Module-FromPerlVer-0.030000-0/t)
# Existing: '/tmp/loop_over_bdir-1128535-bh7ZiA/Module-FromPerlVer-0.030000-0/t/sandbox'.
# Work dir: 't/sandbox/20-file-defaults-v5.888888.t-EZqh'
# Testing perl version: 'v5.888888' (20-file-defaults-v5.888888).
t/dynamic/20-file-defaults-v5.888888.t ....... ok

# Search: 't' (/tmp/loop_over_bdir-1128535-bh7ZiA/Module-FromPerlVer-0.030000-0/t)
# Existing: '/tmp/loop_over_bdir-1128535-bh7ZiA/Module-FromPerlVer-0.030000-0/t/sandbox'.
# Search: 't' (/tmp/loop_over_bdir-1128535-bh7ZiA/Module-FromPerlVer-0.030000-0/t)
# Existing: '/tmp/loop_over_bdir-1128535-bh7ZiA/Module-FromPerlVer-0.030000-0/t/sandbox'.
# Work dir: 't/sandbox/20-file-defaults-v5.888_888.t-zm5g'
# Testing perl version: 'v5.888_888' (20-file-defaults-v5.888_888).
t/dynamic/20-file-defaults-v5.888_888.t ...... ok

# Search: 't' (/tmp/loop_over_bdir-1128535-bh7ZiA/Module-FromPerlVer-0.030000-0/t)
# Existing: '/tmp/loop_over_bdir-1128535-bh7ZiA/Module-FromPerlVer-0.030000-0/t/sandbox'.
# Search: 't' (/tmp/loop_over_bdir-1128535-bh7ZiA/Module-FromPerlVer-0.030000-0/t)
# Existing: '/tmp/loop_over_bdir-1128535-bh7ZiA/Module-FromPerlVer-0.030000-0/t/sandbox'.
# Work dir: 't/sandbox/20-file-defaults-v5.999.999.t-g0UZ'
# Testing perl version: 'v5.999.999' (20-file-defaults-v5.999.999).
t/dynamic/20-file-defaults-v5.999.999.t ...... ok

# Search: 't' (/tmp/loop_over_bdir-1128535-bh7ZiA/Module-FromPerlVer-0.030000-0/t)
# Existing: '/tmp/loop_over_bdir-1128535-bh7ZiA/Module-FromPerlVer-0.030000-0/t/sandbox'.
# Search: 't' (/tmp/loop_over_bdir-1128535-bh7ZiA/Module-FromPerlVer-0.030000-0/t)
# Existing: '/tmp/loop_over_bdir-1128535-bh7ZiA/Module-FromPerlVer-0.030000-0/t/sandbox'.
# Work dir: 't/sandbox/20-file-defaults-v5.999999.t-l0Jh'
# Testing perl version: 'v5.999999' (20-file-defaults-v5.999999).
t/dynamic/20-file-defaults-v5.999999.t ....... ok

# Search: 't' (/tmp/loop_over_bdir-1128535-bh7ZiA/Module-FromPerlVer-0.030000-0/t)
# Existing: '/tmp/loop_over_bdir-1128535-bh7ZiA/Module-FromPerlVer-0.030000-0/t/sandbox'.
# Search: 't' (/tmp/loop_over_bdir-1128535-bh7ZiA/Module-FromPerlVer-0.030000-0/t)
# Existing: '/tmp/loop_over_bdir-1128535-bh7ZiA/Module-FromPerlVer-0.030000-0/t/sandbox'.
# Work dir: 't/sandbox/20-file-defaults-v5.999_999.t-ajy6'
# Testing perl version: 'v5.999_999' (20-file-defaults-v5.999_999).
t/dynamic/20-file-defaults-v5.999_999.t ...... ok

# Search: 't' (/tmp/loop_over_bdir-1128535-bh7ZiA/Module-FromPerlVer-0.030000-0/t)
# Existing: '/tmp/loop_over_bdir-1128535-bh7ZiA/Module-FromPerlVer-0.030000-0/t/sandbox'.
# Search: 't' (/tmp/loop_over_bdir-1128535-bh7ZiA/Module-FromPerlVer-0.030000-0/t)
# Existing: '/tmp/loop_over_bdir-1128535-bh7ZiA/Module-FromPerlVer-0.030000-0/t/sandbox'.
# Work dir: 't/sandbox/30-file-version-from-5.0.1.t-VVcZ'
# Testing perl version: '5.0.1' (30-file-version-from-5.0.1).

# Search: 'sandbox' (/tmp/loop_over_bdir-1128535-bh7ZiA/Module-FromPerlVer-0.030000-0/t/sandbox)t/dynamic/30-file-version-from-5.0.1.t ....... ok

# Search: 't' (/tmp/loop_over_bdir-1128535-bh7ZiA/Module-FromPerlVer-0.030000-0/t)
# Existing: '/tmp/loop_over_bdir-1128535-bh7ZiA/Module-FromPerlVer-0.030000-0/t/sandbox'.
# Search: 't' (/tmp/loop_over_bdir-1128535-bh7ZiA/Module-FromPerlVer-0.030000-0/t)
# Existing: '/tmp/loop_over_bdir-1128535-bh7ZiA/Module-FromPerlVer-0.030000-0/t/sandbox'.
# Work dir: 't/sandbox/30-file-version-from-5.000.001.t-ox2l'
# Testing perl version: '5.000.001' (30-file-version-from-5.000.001).

# Search: 'sandbox' (/tmp/loop_over_bdir-1128535-bh7ZiA/Module-FromPerlVer-0.030000-0/t/sandbox)t/dynamic/30-file-version-from-5.000.001.t ... ok

# Search: 't' (/tmp/loop_over_bdir-1128535-bh7ZiA/Module-FromPerlVer-0.030000-0/t)
# Existing: '/tmp/loop_over_bdir-1128535-bh7ZiA/Module-FromPerlVer-0.030000-0/t/sandbox'.
# Search: 't' (/tmp/loop_over_bdir-1128535-bh7ZiA/Module-FromPerlVer-0.030000-0/t)
# Existing: '/tmp/loop_over_bdir-1128535-bh7ZiA/Module-FromPerlVer-0.030000-0/t/sandbox'.
# Work dir: 't/sandbox/30-file-version-from-5.000001.t-TNlk'
# Testing perl version: '5.000001' (30-file-version-from-5.000001).

# Search: 'sandbox' (/tmp/loop_over_bdir-1128535-bh7ZiA/Module-FromPerlVer-0.030000-0/t/sandbox)t/dynamic/30-file-version-from-5.000001.t .... ok

# Search: 't' (/tmp/loop_over_bdir-1128535-bh7ZiA/Module-FromPerlVer-0.030000-0/t)
# Existing: '/tmp/loop_over_bdir-1128535-bh7ZiA/Module-FromPerlVer-0.030000-0/t/sandbox'.
# Search: 't' (/tmp/loop_over_bdir-1128535-bh7ZiA/Module-FromPerlVer-0.030000-0/t)
# Existing: '/tmp/loop_over_bdir-1128535-bh7ZiA/Module-FromPerlVer-0.030000-0/t/sandbox'.
# Work dir: 't/sandbox/30-file-version-from-5.000_001.t-wZM2'
# Testing perl version: '5.000_001' (30-file-version-from-5.000_001).

# Search: 'sandbox' (/tmp/loop_over_bdir-1128535-bh7ZiA/Module-FromPerlVer-0.030000-0/t/sandbox)t/dynamic/30-file-version-from-5.000_001.t ... ok

# Search: 't' (/tmp/loop_over_bdir-1128535-bh7ZiA/Module-FromPerlVer-0.030000-0/t)
# Existing: '/tmp/loop_over_bdir-1128535-bh7ZiA/Module-FromPerlVer-0.030000-0/t/sandbox'.
# Search: 't' (/tmp/loop_over_bdir-1128535-bh7ZiA/Module-FromPerlVer-0.030000-0/t)
# Existing: '/tmp/loop_over_bdir-1128535-bh7ZiA/Module-FromPerlVer-0.030000-0/t/sandbox'.
# Work dir: 't/sandbox/30-file-version-from-5.006.000.t-UKlU'
# Testing perl version: '5.006.000' (30-file-version-from-5.006.000).

# Search: 'sandbox' (/tmp/loop_over_bdir-1128535-bh7ZiA/Module-FromPerlVer-0.030000-0/t/sandbox)t/dynamic/30-file-version-from-5.006.000.t ... ok

# Search: 't' (/tmp/loop_over_bdir-1128535-bh7ZiA/Module-FromPerlVer-0.030000-0/t)
# Existing: '/tmp/loop_over_bdir-1128535-bh7ZiA/Module-FromPerlVer-0.030000-0/t/sandbox'.
# Search: 't' (/tmp/loop_over_bdir-1128535-bh7ZiA/Module-FromPerlVer-0.030000-0/t)
# Existing: '/tmp/loop_over_bdir-1128535-bh7ZiA/Module-FromPerlVer-0.030000-0/t/sandbox'.
# Work dir: 't/sandbox/30-file-version-from-5.006000.t-VCto'
# Testing perl version: '5.006000' (30-file-version-from-5.006000).

# Search: 'sandbox' (/tmp/loop_over_bdir-1128535-bh7ZiA/Module-FromPerlVer-0.030000-0/t/sandbox)t/dynamic/30-file-version-from-5.006000.t .... ok

# Search: 't' (/tmp/loop_over_bdir-1128535-bh7ZiA/Module-FromPerlVer-0.030000-0/t)
# Existing: '/tmp/loop_over_bdir-1128535-bh7ZiA/Module-FromPerlVer-0.030000-0/t/sandbox'.
# Search: 't' (/tmp/loop_over_bdir-1128535-bh7ZiA/Module-FromPerlVer-0.030000-0/t)
# Existing: '/tmp/loop_over_bdir-1128535-bh7ZiA/Module-FromPerlVer-0.030000-0/t/sandbox'.
# Work dir: 't/sandbox/30-file-version-from-5.006_000.t-pGLq'
# Testing perl version: '5.006_000' (30-file-version-from-5.006_000).

# Search: 'sandbox' (/tmp/loop_over_bdir-1128535-bh7ZiA/Module-FromPerlVer-0.030000-0/t/sandbox)t/dynamic/30-file-version-from-5.006_000.t ... ok

# Search: 't' (/tmp/loop_over_bdir-1128535-bh7ZiA/Module-FromPerlVer-0.030000-0/t)
# Existing: '/tmp/loop_over_bdir-1128535-bh7ZiA/Module-FromPerlVer-0.030000-0/t/sandbox'.
# Search: 't' (/tmp/loop_over_bdir-1128535-bh7ZiA/Module-FromPerlVer-0.030000-0/t)
# Existing: '/tmp/loop_over_bdir-1128535-bh7ZiA/Module-FromPerlVer-0.030000-0/t/sandbox'.
# Work dir: 't/sandbox/30-file-version-from-5.008.008.t-X4es'
# Testing perl version: '5.008.008' (30-file-version-from-5.008.008).

# Search: 'sandbox' (/tmp/loop_over_bdir-1128535-bh7ZiA/Module-FromPerlVer-0.030000-0/t/sandbox)t/dynamic/30-file-version-from-5.008.008.t ... ok

# Search: 't' (/tmp/loop_over_bdir-1128535-bh7ZiA/Module-FromPerlVer-0.030000-0/t)
# Existing: '/tmp/loop_over_bdir-1128535-bh7ZiA/Module-FromPerlVer-0.030000-0/t/sandbox'.
# Search: 't' (/tmp/loop_over_bdir-1128535-bh7ZiA/Module-FromPerlVer-0.030000-0/t)
# Existing: '/tmp/loop_over_bdir-1128535-bh7ZiA/Module-FromPerlVer-0.030000-0/t/sandbox'.
# Work dir: 't/sandbox/30-file-version-from-5.008008.t-jqin'
# Testing perl version: '5.008008' (30-file-version-from-5.008008).

# Search: 'sandbox' (/tmp/loop_over_bdir-1128535-bh7ZiA/Module-FromPerlVer-0.030000-0/t/sandbox)t/dynamic/30-file-version-from-5.008008.t .... ok

# Search: 't' (/tmp/loop_over_bdir-1128535-bh7ZiA/Module-FromPerlVer-0.030000-0/t)
# Existing: '/tmp/loop_over_bdir-1128535-bh7ZiA/Module-FromPerlVer-0.030000-0/t/sandbox'.
# Search: 't' (/tmp/loop_over_bdir-1128535-bh7ZiA/Module-FromPerlVer-0.030000-0/t)
# Existing: '/tmp/loop_over_bdir-1128535-bh7ZiA/Module-FromPerlVer-0.030000-0/t/sandbox'.
# Work dir: 't/sandbox/30-file-version-from-5.008_008.t-qp7Q'
# Testing perl version: '5.008_008' (30-file-version-from-5.008_008).

# Search: 'sandbox' (/tmp/loop_over_bdir-1128535-bh7ZiA/Module-FromPerlVer-0.030000-0/t/sandbox)t/dynamic/30-file-version-from-5.008_008.t ... ok

# Search: 't' (/tmp/loop_over_bdir-1128535-bh7ZiA/Module-FromPerlVer-0.030000-0/t)
# Existing: '/tmp/loop_over_bdir-1128535-bh7ZiA/Module-FromPerlVer-0.030000-0/t/sandbox'.
# Search: 't' (/tmp/loop_over_bdir-1128535-bh7ZiA/Module-FromPerlVer-0.030000-0/t)
# Existing: '/tmp/loop_over_bdir-1128535-bh7ZiA/Module-FromPerlVer-0.030000-0/t/sandbox'.
# Work dir: 't/sandbox/30-file-version-from-5.6.0.t-xY98'
# Testing perl version: '5.6.0' (30-file-version-from-5.6.0).

# Search: 'sandbox' (/tmp/loop_over_bdir-1128535-bh7ZiA/Module-FromPerlVer-0.030000-0/t/sandbox)t/dynamic/30-file-version-from-5.6.0.t ....... ok

# Search: 't' (/tmp/loop_over_bdir-1128535-bh7ZiA/Module-FromPerlVer-0.030000-0/t)
# Existing: '/tmp/loop_over_bdir-1128535-bh7ZiA/Module-FromPerlVer-0.030000-0/t/sandbox'.
# Search: 't' (/tmp/loop_over_bdir-1128535-bh7ZiA/Module-FromPerlVer-0.030000-0/t)
# Existing: '/tmp/loop_over_bdir-1128535-bh7ZiA/Module-FromPerlVer-0.030000-0/t/sandbox'.
# Work dir: 't/sandbox/30-file-version-from-5.8.8.t-tGLn'
# Testing perl version: '5.8.8' (30-file-version-from-5.8.8).

# Search: 'sandbox' (/tmp/loop_over_bdir-1128535-bh7ZiA/Module-FromPerlVer-0.030000-0/t/sandbox)t/dynamic/30-file-version-from-5.8.8.t ....... ok

# Search: 't' (/tmp/loop_over_bdir-1128535-bh7ZiA/Module-FromPerlVer-0.030000-0/t)
# Existing: '/tmp/loop_over_bdir-1128535-bh7ZiA/Module-FromPerlVer-0.030000-0/t/sandbox'.
# Search: 't' (/tmp/loop_over_bdir-1128535-bh7ZiA/Module-FromPerlVer-0.030000-0/t)
# Existing: '/tmp/loop_over_bdir-1128535-bh7ZiA/Module-FromPerlVer-0.030000-0/t/sandbox'.
# Work dir: 't/sandbox/30-file-version-from-5.888.888.t-Gw6l'
# Testing perl version: '5.888.888' (30-file-version-from-5.888.888).

# Search: 'sandbox' (/tmp/loop_over_bdir-1128535-bh7ZiA/Module-FromPerlVer-0.030000-0/t/sandbox)t/dynamic/30-file-version-from-5.888.888.t ... ok

# Search: 't' (/tmp/loop_over_bdir-1128535-bh7ZiA/Module-FromPerlVer-0.030000-0/t)
# Existing: '/tmp/loop_over_bdir-1128535-bh7ZiA/Module-FromPerlVer-0.030000-0/t/sandbox'.
# Search: 't' (/tmp/loop_over_bdir-1128535-bh7ZiA/Module-FromPerlVer-0.030000-0/t)
# Existing: '/tmp/loop_over_bdir-1128535-bh7ZiA/Module-FromPerlVer-0.030000-0/t/sandbox'.
# Work dir: 't/sandbox/30-file-version-from-5.888888.t-ucLY'
# Testing perl version: '5.888888' (30-file-version-from-5.888888).

# Search: 'sandbox' (/tmp/loop_over_bdir-1128535-bh7ZiA/Module-FromPerlVer-0.030000-0/t/sandbox)t/dynamic/30-file-version-from-5.888888.t .... ok

# Search: 't' (/tmp/loop_over_bdir-1128535-bh7ZiA/Module-FromPerlVer-0.030000-0/t)
# Existing: '/tmp/loop_over_bdir-1128535-bh7ZiA/Module-FromPerlVer-0.030000-0/t/sandbox'.
# Search: 't' (/tmp/loop_over_bdir-1128535-bh7ZiA/Module-FromPerlVer-0.030000-0/t)
# Existing: '/tmp/loop_over_bdir-1128535-bh7ZiA/Module-FromPerlVer-0.030000-0/t/sandbox'.
# Work dir: 't/sandbox/30-file-version-from-5.888_888.t-96Fk'
# Testing perl version: '5.888_888' (30-file-version-from-5.888_888).

# Search: 'sandbox' (/tmp/loop_over_bdir-1128535-bh7ZiA/Module-FromPerlVer-0.030000-0/t/sandbox)t/dynamic/30-file-version-from-5.888_888.t ... ok

# Search: 't' (/tmp/loop_over_bdir-1128535-bh7ZiA/Module-FromPerlVer-0.030000-0/t)
# Existing: '/tmp/loop_over_bdir-1128535-bh7ZiA/Module-FromPerlVer-0.030000-0/t/sandbox'.
# Search: 't' (/tmp/loop_over_bdir-1128535-bh7ZiA/Module-FromPerlVer-0.030000-0/t)
# Existing: '/tmp/loop_over_bdir-1128535-bh7ZiA/Module-FromPerlVer-0.030000-0/t/sandbox'.
# Work dir: 't/sandbox/30-file-version-from-5.999.999.t-R_Gu'
# Testing perl version: '5.999.999' (30-file-version-from-5.999.999).

# Search: 'sandbox' (/tmp/loop_over_bdir-1128535-bh7ZiA/Module-FromPerlVer-0.030000-0/t/sandbox)t/dynamic/30-file-version-from-5.999.999.t ... ok

# Search: 't' (/tmp/loop_over_bdir-1128535-bh7ZiA/Module-FromPerlVer-0.030000-0/t)
# Existing: '/tmp/loop_over_bdir-1128535-bh7ZiA/Module-FromPerlVer-0.030000-0/t/sandbox'.
# Search: 't' (/tmp/loop_over_bdir-1128535-bh7ZiA/Module-FromPerlVer-0.030000-0/t)
# Existing: '/tmp/loop_over_bdir-1128535-bh7ZiA/Module-FromPerlVer-0.030000-0/t/sandbox'.
# Work dir: 't/sandbox/30-file-version-from-5.999999.t-qLF3'
# Testing perl version: '5.999999' (30-file-version-from-5.999999).

# Search: 'sandbox' (/tmp/loop_over_bdir-1128535-bh7ZiA/Module-FromPerlVer-0.030000-0/t/sandbox)t/dynamic/30-file-version-from-5.999999.t .... ok

# Search: 't' (/tmp/loop_over_bdir-1128535-bh7ZiA/Module-FromPerlVer-0.030000-0/t)
# Existing: '/tmp/loop_over_bdir-1128535-bh7ZiA/Module-FromPerlVer-0.030000-0/t/sandbox'.
# Search: 't' (/tmp/loop_over_bdir-1128535-bh7ZiA/Module-FromPerlVer-0.030000-0/t)
# Existing: '/tmp/loop_over_bdir-1128535-bh7ZiA/Module-FromPerlVer-0.030000-0/t/sandbox'.
# Work dir: 't/sandbox/30-file-version-from-5.999_999.t-S88y'
# Testing perl version: '5.999_999' (30-file-version-from-5.999_999).

# Search: 'sandbox' (/tmp/loop_over_bdir-1128535-bh7ZiA/Module-FromPerlVer-0.030000-0/t/sandbox)t/dynamic/30-file-version-from-5.999_999.t ... ok

# Search: 't' (/tmp/loop_over_bdir-1128535-bh7ZiA/Module-FromPerlVer-0.030000-0/t)
# Existing: '/tmp/loop_over_bdir-1128535-bh7ZiA/Module-FromPerlVer-0.030000-0/t/sandbox'.
# Search: 't' (/tmp/loop_over_bdir-1128535-bh7ZiA/Module-FromPerlVer-0.030000-0/t)
# Existing: '/tmp/loop_over_bdir-1128535-bh7ZiA/Module-FromPerlVer-0.030000-0/t/sandbox'.
# Work dir: 't/sandbox/30-file-version-from-v5.0.1.t-QuEq'
# Testing perl version: 'v5.0.1' (30-file-version-from-v5.0.1).

# Search: 'sandbox' (/tmp/loop_over_bdir-1128535-bh7ZiA/Module-FromPerlVer-0.030000-0/t/sandbox)t/dynamic/30-file-version-from-v5.0.1.t ...... ok

# Search: 't' (/tmp/loop_over_bdir-1128535-bh7ZiA/Module-FromPerlVer-0.030000-0/t)
# Existing: '/tmp/loop_over_bdir-1128535-bh7ZiA/Module-FromPerlVer-0.030000-0/t/sandbox'.
# Search: 't' (/tmp/loop_over_bdir-1128535-bh7ZiA/Module-FromPerlVer-0.030000-0/t)
# Existing: '/tmp/loop_over_bdir-1128535-bh7ZiA/Module-FromPerlVer-0.030000-0/t/sandbox'.
# Work dir: 't/sandbox/30-file-version-from-v5.000.001.t-ABY8'
# Testing perl version: 'v5.000.001' (30-file-version-from-v5.000.001).

# Search: 'sandbox' (/tmp/loop_over_bdir-1128535-bh7ZiA/Module-FromPerlVer-0.030000-0/t/sandbox)t/dynamic/30-file-version-from-v5.000.001.t .. ok

# Search: 't' (/tmp/loop_over_bdir-1128535-bh7ZiA/Module-FromPerlVer-0.030000-0/t)
# Existing: '/tmp/loop_over_bdir-1128535-bh7ZiA/Module-FromPerlVer-0.030000-0/t/sandbox'.
# Search: 't' (/tmp/loop_over_bdir-1128535-bh7ZiA/Module-FromPerlVer-0.030000-0/t)
# Existing: '/tmp/loop_over_bdir-1128535-bh7ZiA/Module-FromPerlVer-0.030000-0/t/sandbox'.
# Work dir: 't/sandbox/30-file-version-from-v5.000001.t-Ont3'
# Testing perl version: 'v5.000001' (30-file-version-from-v5.000001).

# Search: 'sandbox' (/tmp/loop_over_bdir-1128535-bh7ZiA/Module-FromPerlVer-0.030000-0/t/sandbox)t/dynamic/30-file-version-from-v5.000001.t ... ok

# Search: 't' (/tmp/loop_over_bdir-1128535-bh7ZiA/Module-FromPerlVer-0.030000-0/t)
# Existing: '/tmp/loop_over_bdir-1128535-bh7ZiA/Module-FromPerlVer-0.030000-0/t/sandbox'.
# Search: 't' (/tmp/loop_over_bdir-1128535-bh7ZiA/Module-FromPerlVer-0.030000-0/t)
# Existing: '/tmp/loop_over_bdir-1128535-bh7ZiA/Module-FromPerlVer-0.030000-0/t/sandbox'.
# Work dir: 't/sandbox/30-file-version-from-v5.000_001.t-INhz'
# Testing perl version: 'v5.000_001' (30-file-version-from-v5.000_001).

# Search: 'sandbox' (/tmp/loop_over_bdir-1128535-bh7ZiA/Module-FromPerlVer-0.030000-0/t/sandbox)t/dynamic/30-file-version-from-v5.000_001.t .. ok

# Search: 't' (/tmp/loop_over_bdir-1128535-bh7ZiA/Module-FromPerlVer-0.030000-0/t)
# Existing: '/tmp/loop_over_bdir-1128535-bh7ZiA/Module-FromPerlVer-0.030000-0/t/sandbox'.
# Search: 't' (/tmp/loop_over_bdir-1128535-bh7ZiA/Module-FromPerlVer-0.030000-0/t)
# Existing: '/tmp/loop_over_bdir-1128535-bh7ZiA/Module-FromPerlVer-0.030000-0/t/sandbox'.
# Work dir: 't/sandbox/30-file-version-from-v5.006.000.t-GOMU'
# Testing perl version: 'v5.006.000' (30-file-version-from-v5.006.000).

# Search: 'sandbox' (/tmp/loop_over_bdir-1128535-bh7ZiA/Module-FromPerlVer-0.030000-0/t/sandbox)t/dynamic/30-file-version-from-v5.006.000.t .. ok

# Search: 't' (/tmp/loop_over_bdir-1128535-bh7ZiA/Module-FromPerlVer-0.030000-0/t)
# Existing: '/tmp/loop_over_bdir-1128535-bh7ZiA/Module-FromPerlVer-0.030000-0/t/sandbox'.
# Search: 't' (/tmp/loop_over_bdir-1128535-bh7ZiA/Module-FromPerlVer-0.030000-0/t)
# Existing: '/tmp/loop_over_bdir-1128535-bh7ZiA/Module-FromPerlVer-0.030000-0/t/sandbox'.
# Work dir: 't/sandbox/30-file-version-from-v5.006000.t-6KtT'
# Testing perl version: 'v5.006000' (30-file-version-from-v5.006000).

# Search: 'sandbox' (/tmp/loop_over_bdir-1128535-bh7ZiA/Module-FromPerlVer-0.030000-0/t/sandbox)t/dynamic/30-file-version-from-v5.006000.t ... ok

# Search: 't' (/tmp/loop_over_bdir-1128535-bh7ZiA/Module-FromPerlVer-0.030000-0/t)
# Existing: '/tmp/loop_over_bdir-1128535-bh7ZiA/Module-FromPerlVer-0.030000-0/t/sandbox'.
# Search: 't' (/tmp/loop_over_bdir-1128535-bh7ZiA/Module-FromPerlVer-0.030000-0/t)
# Existing: '/tmp/loop_over_bdir-1128535-bh7ZiA/Module-FromPerlVer-0.030000-0/t/sandbox'.
# Work dir: 't/sandbox/30-file-version-from-v5.006_000.t-ylcC'
# Testing perl version: 'v5.006_000' (30-file-version-from-v5.006_000).

# Search: 'sandbox' (/tmp/loop_over_bdir-1128535-bh7ZiA/Module-FromPerlVer-0.030000-0/t/sandbox)t/dynamic/30-file-version-from-v5.006_000.t .. ok

# Search: 't' (/tmp/loop_over_bdir-1128535-bh7ZiA/Module-FromPerlVer-0.030000-0/t)
# Existing: '/tmp/loop_over_bdir-1128535-bh7ZiA/Module-FromPerlVer-0.030000-0/t/sandbox'.
# Search: 't' (/tmp/loop_over_bdir-1128535-bh7ZiA/Module-FromPerlVer-0.030000-0/t)
# Existing: '/tmp/loop_over_bdir-1128535-bh7ZiA/Module-FromPerlVer-0.030000-0/t/sandbox'.
# Work dir: 't/sandbox/30-file-version-from-v5.008.008.t-CTtB'
# Testing perl version: 'v5.008.008' (30-file-version-from-v5.008.008).

# Search: 'sandbox' (/tmp/loop_over_bdir-1128535-bh7ZiA/Module-FromPerlVer-0.030000-0/t/sandbox)t/dynamic/30-file-version-from-v5.008.008.t .. ok

# Search: 't' (/tmp/loop_over_bdir-1128535-bh7ZiA/Module-FromPerlVer-0.030000-0/t)
# Existing: '/tmp/loop_over_bdir-1128535-bh7ZiA/Module-FromPerlVer-0.030000-0/t/sandbox'.
# Search: 't' (/tmp/loop_over_bdir-1128535-bh7ZiA/Module-FromPerlVer-0.030000-0/t)
# Existing: '/tmp/loop_over_bdir-1128535-bh7ZiA/Module-FromPerlVer-0.030000-0/t/sandbox'.
# Work dir: 't/sandbox/30-file-version-from-v5.008008.t-kjLP'
# Testing perl version: 'v5.008008' (30-file-version-from-v5.008008).

# Search: 'sandbox' (/tmp/loop_over_bdir-1128535-bh7ZiA/Module-FromPerlVer-0.030000-0/t/sandbox)t/dynamic/30-file-version-from-v5.008008.t ... ok

# Search: 't' (/tmp/loop_over_bdir-1128535-bh7ZiA/Module-FromPerlVer-0.030000-0/t)
# Existing: '/tmp/loop_over_bdir-1128535-bh7ZiA/Module-FromPerlVer-0.030000-0/t/sandbox'.
# Search: 't' (/tmp/loop_over_bdir-1128535-bh7ZiA/Module-FromPerlVer-0.030000-0/t)
# Existing: '/tmp/loop_over_bdir-1128535-bh7ZiA/Module-FromPerlVer-0.030000-0/t/sandbox'.
# Work dir: 't/sandbox/30-file-version-from-v5.008_008.t-AyZc'
# Testing perl version: 'v5.008_008' (30-file-version-from-v5.008_008).

# Search: 'sandbox' (/tmp/loop_over_bdir-1128535-bh7ZiA/Module-FromPerlVer-0.030000-0/t/sandbox)t/dynamic/30-file-version-from-v5.008_008.t .. ok

# Search: 't' (/tmp/loop_over_bdir-1128535-bh7ZiA/Module-FromPerlVer-0.030000-0/t)
# Existing: '/tmp/loop_over_bdir-1128535-bh7ZiA/Module-FromPerlVer-0.030000-0/t/sandbox'.
# Search: 't' (/tmp/loop_over_bdir-1128535-bh7ZiA/Module-FromPerlVer-0.030000-0/t)
# Existing: '/tmp/loop_over_bdir-1128535-bh7ZiA/Module-FromPerlVer-0.030000-0/t/sandbox'.
# Work dir: 't/sandbox/30-file-version-from-v5.6.0.t-BQDN'
# Testing perl version: 'v5.6.0' (30-file-version-from-v5.6.0).

# Search: 'sandbox' (/tmp/loop_over_bdir-1128535-bh7ZiA/Module-FromPerlVer-0.030000-0/t/sandbox)t/dynamic/30-file-version-from-v5.6.0.t ...... ok

# Search: 't' (/tmp/loop_over_bdir-1128535-bh7ZiA/Module-FromPerlVer-0.030000-0/t)
# Existing: '/tmp/loop_over_bdir-1128535-bh7ZiA/Module-FromPerlVer-0.030000-0/t/sandbox'.
# Search: 't' (/tmp/loop_over_bdir-1128535-bh7ZiA/Module-FromPerlVer-0.030000-0/t)
# Existing: '/tmp/loop_over_bdir-1128535-bh7ZiA/Module-FromPerlVer-0.030000-0/t/sandbox'.
# Work dir: 't/sandbox/30-file-version-from-v5.8.8.t-FpUJ'
# Testing perl version: 'v5.8.8' (30-file-version-from-v5.8.8).

# Search: 'sandbox' (/tmp/loop_over_bdir-1128535-bh7ZiA/Module-FromPerlVer-0.030000-0/t/sandbox)t/dynamic/30-file-version-from-v5.8.8.t ...... ok

# Search: 't' (/tmp/loop_over_bdir-1128535-bh7ZiA/Module-FromPerlVer-0.030000-0/t)
# Existing: '/tmp/loop_over_bdir-1128535-bh7ZiA/Module-FromPerlVer-0.030000-0/t/sandbox'.
# Search: 't' (/tmp/loop_over_bdir-1128535-bh7ZiA/Module-FromPerlVer-0.030000-0/t)
# Existing: '/tmp/loop_over_bdir-1128535-bh7ZiA/Module-FromPerlVer-0.030000-0/t/sandbox'.
# Work dir: 't/sandbox/30-file-version-from-v5.888.888.t-KKBu'
# Testing perl version: 'v5.888.888' (30-file-version-from-v5.888.888).

# Search: 'sandbox' (/tmp/loop_over_bdir-1128535-bh7ZiA/Module-FromPerlVer-0.030000-0/t/sandbox)t/dynamic/30-file-version-from-v5.888.888.t .. ok

# Search: 't' (/tmp/loop_over_bdir-1128535-bh7ZiA/Module-FromPerlVer-0.030000-0/t)
# Existing: '/tmp/loop_over_bdir-1128535-bh7ZiA/Module-FromPerlVer-0.030000-0/t/sandbox'.
# Search: 't' (/tmp/loop_over_bdir-1128535-bh7ZiA/Module-FromPerlVer-0.030000-0/t)
# Existing: '/tmp/loop_over_bdir-1128535-bh7ZiA/Module-FromPerlVer-0.030000-0/t/sandbox'.
# Work dir: 't/sandbox/30-file-version-from-v5.888888.t-zC0N'
# Testing perl version: 'v5.888888' (30-file-version-from-v5.888888).

# Search: 'sandbox' (/tmp/loop_over_bdir-1128535-bh7ZiA/Module-FromPerlVer-0.030000-0/t/sandbox)t/dynamic/30-file-version-from-v5.888888.t ... ok

# Search: 't' (/tmp/loop_over_bdir-1128535-bh7ZiA/Module-FromPerlVer-0.030000-0/t)
# Existing: '/tmp/loop_over_bdir-1128535-bh7ZiA/Module-FromPerlVer-0.030000-0/t/sandbox'.
# Search: 't' (/tmp/loop_over_bdir-1128535-bh7ZiA/Module-FromPerlVer-0.030000-0/t)
# Existing: '/tmp/loop_over_bdir-1128535-bh7ZiA/Module-FromPerlVer-0.030000-0/t/sandbox'.
# Work dir: 't/sandbox/30-file-version-from-v5.888_888.t-SC56'
# Testing perl version: 'v5.888_888' (30-file-version-from-v5.888_888).

# Search: 'sandbox' (/tmp/loop_over_bdir-1128535-bh7ZiA/Module-FromPerlVer-0.030000-0/t/sandbox)t/dynamic/30-file-version-from-v5.888_888.t .. ok

# Search: 't' (/tmp/loop_over_bdir-1128535-bh7ZiA/Module-FromPerlVer-0.030000-0/t)
# Existing: '/tmp/loop_over_bdir-1128535-bh7ZiA/Module-FromPerlVer-0.030000-0/t/sandbox'.
# Search: 't' (/tmp/loop_over_bdir-1128535-bh7ZiA/Module-FromPerlVer-0.030000-0/t)
# Existing: '/tmp/loop_over_bdir-1128535-bh7ZiA/Module-FromPerlVer-0.030000-0/t/sandbox'.
# Work dir: 't/sandbox/30-file-version-from-v5.999.999.t-RupB'
# Testing perl version: 'v5.999.999' (30-file-version-from-v5.999.999).

# Search: 'sandbox' (/tmp/loop_over_bdir-1128535-bh7ZiA/Module-FromPerlVer-0.030000-0/t/sandbox)t/dynamic/30-file-version-from-v5.999.999.t .. ok

# Search: 't' (/tmp/loop_over_bdir-1128535-bh7ZiA/Module-FromPerlVer-0.030000-0/t)
# Existing: '/tmp/loop_over_bdir-1128535-bh7ZiA/Module-FromPerlVer-0.030000-0/t/sandbox'.
# Search: 't' (/tmp/loop_over_bdir-1128535-bh7ZiA/Module-FromPerlVer-0.030000-0/t)
# Existing: '/tmp/loop_over_bdir-1128535-bh7ZiA/Module-FromPerlVer-0.030000-0/t/sandbox'.
# Work dir: 't/sandbox/30-file-version-from-v5.999999.t-bHVK'
# Testing perl version: 'v5.999999' (30-file-version-from-v5.999999).

# Search: 'sandbox' (/tmp/loop_over_bdir-1128535-bh7ZiA/Module-FromPerlVer-0.030000-0/t/sandbox)t/dynamic/30-file-version-from-v5.999999.t ... ok

# Search: 't' (/tmp/loop_over_bdir-1128535-bh7ZiA/Module-FromPerlVer-0.030000-0/t)
# Existing: '/tmp/loop_over_bdir-1128535-bh7ZiA/Module-FromPerlVer-0.030000-0/t/sandbox'.
# Search: 't' (/tmp/loop_over_bdir-1128535-bh7ZiA/Module-FromPerlVer-0.030000-0/t)
# Existing: '/tmp/loop_over_bdir-1128535-bh7ZiA/Module-FromPerlVer-0.030000-0/t/sandbox'.
# Work dir: 't/sandbox/30-file-version-from-v5.999_999.t-M7Bz'
# Testing perl version: 'v5.999_999' (30-file-version-from-v5.999_999).

# Search: 'sandbox' (/tmp/loop_over_bdir-1128535-bh7ZiA/Module-FromPerlVer-0.030000-0/t/sandbox)t/dynamic/30-file-version-from-v5.999_999.t .. ok
All tests successful.
Files=77, Tests=1049, 15 wallclock secs ( 0.28 usr  0.10 sys + 11.12 cusr  3.03 csys = 14.53 CPU)
Result: PASS

------------------------------
PREREQUISITES
------------------------------

Prerequisite modules loaded:

requires:

    Module                         Need     Have    
    ------------------------------ -------- --------
    Cwd                            3.073000 3.89    
    File::Basename                 0        2.86    
  ! File::Copy::Recursive::Reduced 0.006000 0.006   
    File::Find                     0        1.43    
    File::Spec::Functions          0        3.88    
    FindBin                        0        1.53    
    List::Util                     1.046000 1.63    
    strict                         0        1.12    
    Symbol                         0        1.09    
    Test::More                     0        1.302194
    version                        0        0.9929  

build_requires:

    Module                         Need     Have    
    ------------------------------ -------- --------
    ExtUtils::MakeMaker            0        7.70    

configure_requires:

    Module                         Need     Have    
    ------------------------------ -------- --------
    ExtUtils::MakeMaker            0        7.70    


------------------------------
ENVIRONMENT AND OTHER CONTEXT
------------------------------

Environment variables:

    AUTOMATED_TESTING = 1
    LANG = en_US.UTF-8
    LC_ADDRESS = de_DE.UTF-8
    LC_IDENTIFICATION = de_DE.UTF-8
    LC_MEASUREMENT = de_DE.UTF-8
    LC_MONETARY = de_DE.UTF-8
    LC_NAME = de_DE.UTF-8
    LC_NUMERIC = de_DE.UTF-8
    LC_PAPER = de_DE.UTF-8
    LC_TELEPHONE = de_DE.UTF-8
    LC_TIME = de_DE.UTF-8
    PATH = /home/sand/bin:/usr/local/bin:/usr/local/sbin:/usr/sbin:/usr/bin:/sbin:/bin:/usr/games:/usr/local/games:/snap/bin:/usr/local/perl/bin:/usr/X11/bin
    PERL = /tmp/basesmoker-reloperl-9NH6/bin/perl
    PERL5LIB = /tmp/loop_over_bdir-1128535-bh7ZiA/Net-ISP-Balance-1.31-0/blib/arch:/tmp/loop_over_bdir-1128535-bh7ZiA/Net-ISP-Balance-1.31-0/blib/lib:/tmp/loop_over_bdir-1128535-bh7ZiA/CGI-Application-NetNewsIface-0.0204-0/blib/arch:/tmp/loop_over_bdir-1128535-bh7ZiA/CGI-Application-NetNewsIface-0.0204-0/blib/lib:/tmp/loop_over_bdir-1128535-bh7ZiA/RDF-NLP-SPARQLQuery-0.1-0/blib/arch:/tmp/loop_over_bdir-1128535-bh7ZiA/RDF-NLP-SPARQLQuery-0.1-0/blib/lib:/tmp/loop_over_bdir-1128535-bh7ZiA/Net-Async-WebService-lxd-0.03-0/blib/arch:/tmp/loop_over_bdir-1128535-bh7ZiA/Net-Async-WebService-lxd-0.03-0/blib/lib:/tmp/loop_over_bdir-1128535-bh7ZiA/Net-OpenVPN-DDNS-0.1-0/blib/arch:/tmp/loop_over_bdir-1128535-bh7ZiA/Net-OpenVPN-DDNS-0.1-0/blib/lib:/tmp/loop_over_bdir-1128535-bh7ZiA/ProjectBuilder-0.14.1-0/blib/arch:/tmp/loop_over_bdir-1128535-bh7ZiA/ProjectBuilder-0.14.1-0/blib/lib:/tmp/loop_over_bdir-1128535-bh7ZiA/Device-Kiln-0.03-0/blib/arch:/tmp/loop_over_bdir-1128535-bh7ZiA/Device-Kiln-0.03-0/blib/lib:/tmp/loop_over_bdir-1128535-bh7ZiA/Business-Shipping-DataFiles-1.02-0/blib/arch:/tmp/loop_over_bdir-1128535-bh7ZiA/Business-Shipping-DataFiles-1.02-0/blib/lib:/tmp/loop_over_bdir-1128535-bh7ZiA/DBIx-Migration-Directories-0.12-0/blib/arch:/tmp/loop_over_bdir-1128535-bh7ZiA/DBIx-Migration-Directories-0.12-0/blib/lib:/tmp/loop_over_bdir-1128535-bh7ZiA/makepp-1.19-0/blib/arch:/tmp/loop_over_bdir-1128535-bh7ZiA/makepp-1.19-0/blib/lib:/tmp/loop_over_bdir-1128535-bh7ZiA/Lemonldap-NG-Cli-0.2-0/blib/arch:/tmp/loop_over_bdir-1128535-bh7ZiA/Lemonldap-NG-Cli-0.2-0/blib/lib:/tmp/loop_over_bdir-1128535-bh7ZiA/Lingua-YaTeA-0.626-0/blib/arch:/tmp/loop_over_bdir-1128535-bh7ZiA/Lingua-YaTeA-0.626-0/blib/lib:/tmp/loop_over_bdir-1128535-bh7ZiA/Simulation-Automate-1.0.1-0/blib/arch:/tmp/loop_over_bdir-1128535-bh7ZiA/Simulation-Automate-1.0.1-0/blib/lib:/tmp/loop_over_bdir-1128535-bh7ZiA/Alien-SNMP-MIBDEV-2.020000-0/blib/arch:/tmp/loop_over_bdir-1128535-bh7ZiA/Alien-SNMP-MIBDEV-2.020000-0/blib/lib:/tmp/loop_over_bdir-1128535-bh7ZiA/dta-tokwrap-0.98-0/blib/arch:/tmp/loop_over_bdir-1128535-bh7ZiA/dta-tokwrap-0.98-0/blib/lib:/tmp/loop_over_bdir-1128535-bh7ZiA/Dpkg-1.21.19-0/blib/arch:/tmp/loop_over_bdir-1128535-bh7ZiA/Dpkg-1.21.19-0/blib/lib:/tmp/loop_over_bdir-1128535-bh7ZiA/EJBCA-CrlPublish-0.60-0/blib/arch:/tmp/loop_over_bdir-1128535-bh7ZiA/EJBCA-CrlPublish-0.60-0/blib/lib:/tmp/loop_over_bdir-1128535-bh7ZiA/Devel-Required-0.16-0/blib/arch:/tmp/loop_over_bdir-1128535-bh7ZiA/Devel-Required-0.16-0/blib/lib:/tmp/loop_over_bdir-1128535-bh7ZiA/Debian-Packages-0.03-0/blib/arch:/tmp/loop_over_bdir-1128535-bh7ZiA/Debian-Packages-0.03-0/blib/lib:/tmp/loop_over_bdir-1128535-bh7ZiA/Mail-SPF-v2.9.0-0/blib/arch:/tmp/loop_over_bdir-1128535-bh7ZiA/Mail-SPF-v2.9.0-0/blib/lib
    PERL5OPT = 
    PERL5_CPANPLUS_IS_RUNNING = 1128544
    PERL5_CPAN_IS_RUNNING = 1128544
    PERL_CANARY_STABILITY_NOPROMPT = 1
    PERL_MM_USE_DEFAULT = 1
    PERL_USE_UNSAFE_INC = 1
    SHELL = /usr/bin/zsh
    TERM = screen

Perl special variables (and OS-specific diagnostics, for MSWin32):

    $^X = /tmp/basesmoker-reloperl-9NH6/bin/perl
    $UID/$EUID = 1005 / 1005
    $GID = 1005 1005
    $EGID = 1005 1005

Perl module toolchain versions installed:

    Module              Have    
    ------------------- --------
    CPAN                2.34    
    CPAN::Meta          2.150010
    Cwd                 3.89    
    ExtUtils::CBuilder  0.280238
    ExtUtils::Command   7.70    
    ExtUtils::Install   2.22    
    ExtUtils::MakeMaker 7.70    
    ExtUtils::Manifest  1.73    
    ExtUtils::ParseXS   3.50    
    File::Spec          3.88    
    JSON                4.10    
    JSON::PP            4.16    
    Module::Build       0.4232  
    Module::Signature   0.88    
    Parse::CPAN::Meta   2.150010
    Test::Harness       3.44    
    Test::More          1.302194
    YAML                1.30    
    YAML::Syck          1.34    
    version             0.9929  


--

Summary of my perl5 (revision 5 version 37 subversion 11) configuration:
  Commit id: f94aafcf7b0649f7058ce2679b1be428d0b1bca8
  Platform:
    osname=linux
    osvers=5.19.0-38-generic
    archname=x86_64-linux-ld
    uname='linux k93jammy 5.19.0-38-generic #39~22.04.1-ubuntu smp preempt_dynamic fri mar 17 21:16:15 utc 2 x86_64 x86_64 x86_64 gnulinux '
    config_args='-Dprefix=/home/sand/src/perl/repoperls/installed-perls/host/k93jammy/v5.37.11/5674 -Dmyhostname=k93jammy -Dinstallusrbinperl=n -Uversiononly -Dusedevel -des -Ui_db -Dlibswanted=cl pthread socket inet nsl gdbm dbm malloc dl ld sun m crypt sec util c cposix posix ucb BSD gdbm_compat -Uuseithreads -Duselongdouble -DEBUGGING=-g'
    hint=recommended
    useposix=true
    d_sigaction=define
    useithreads=undef
    usemultiplicity=undef
    use64bitint=define
    use64bitall=define
    uselongdouble=define
    usemymalloc=n
    default_inc_excludes_dot=define
  Compiler:
    cc='cc'
    ccflags ='-fwrapv -fno-strict-aliasing -pipe -fstack-protector-strong -I/usr/local/include -D_LARGEFILE_SOURCE -D_FILE_OFFSET_BITS=64'
    optimize='-O2 -g'
    cppflags='-fwrapv -fno-strict-aliasing -pipe -fstack-protector-strong -I/usr/local/include'
    ccversion=''
    gccversion='11.3.0'
    gccosandvers=''
    intsize=4
    longsize=8
    ptrsize=8
    doublesize=8
    byteorder=12345678
    doublekind=3
    d_longlong=define
    longlongsize=8
    d_longdbl=define
    longdblsize=16
    longdblkind=3
    ivtype='long'
    ivsize=8
    nvtype='long double'
    nvsize=16
    Off_t='off_t'
    lseeksize=8
    alignbytes=16
    prototype=define
  Linker and Libraries:
    ld='cc'
    ldflags =' -fstack-protector-strong -L/usr/local/lib'
    libpth=/usr/local/lib /usr/lib/x86_64-linux-gnu /usr/lib /usr/lib64
    libs=-lpthread -lnsl -ldl -lm -lcrypt -lutil -lc
    perllibs=-lpthread -lnsl -ldl -lm -lcrypt -lutil -lc
    libc=/lib/x86_64-linux-gnu/libc.so.6
    so=so
    useshrplib=false
    libperl=libperl.a
    gnulibc_version='2.35'
  Dynamic Linking:
    dlsrc=dl_dlopen.xs
    dlext=so
    d_dlsymun=undef
    ccdlflags='-Wl,-E'
    cccdlflags='-fPIC'
    lddlflags='-shared -O2 -g -L/usr/local/lib -fstack-protector-strong'


Characteristics of this binary (from libperl): 
  Compile-time options:
    HAS_LONG_DOUBLE
    HAS_STRTOLD
    HAS_TIMES
    PERLIO_LAYERS
    PERL_COPY_ON_WRITE
    PERL_DONT_CREATE_GVSV
    PERL_HASH_FUNC_SIPHASH13
    PERL_HASH_USE_SBOX32
    PERL_MALLOC_WRAP
    PERL_OP_PARENT
    PERL_PRESERVE_IVUV
    PERL_USE_DEVEL
    PERL_USE_SAFE_PUTENV
    USE_64_BIT_ALL
    USE_64_BIT_INT
    USE_LARGE_FILES
    USE_LOCALE
    USE_LOCALE_COLLATE
    USE_LOCALE_CTYPE
    USE_LOCALE_NUMERIC
    USE_LOCALE_TIME
    USE_LONG_DOUBLE
    USE_PERLIO
    USE_PERL_ATOF
  Built under linux
  Compiled at Apr 23 2023 19:59:22
  %ENV:
    PERL="/tmp/basesmoker-reloperl-9NH6/bin/perl"
    PERL5LIB="/tmp/loop_over_bdir-1128535-bh7ZiA/Net-ISP-Balance-1.31-0/blib/arch:/tmp/loop_over_bdir-1128535-bh7ZiA/Net-ISP-Balance-1.31-0/blib/lib:/tmp/loop_over_bdir-1128535-bh7ZiA/CGI-Application-NetNewsIface-0.0204-0/blib/arch:/tmp/loop_over_bdir-1128535-bh7ZiA/CGI-Application-NetNewsIface-0.0204-0/blib/lib:/tmp/loop_over_bdir-1128535-bh7ZiA/RDF-NLP-SPARQLQuery-0.1-0/blib/arch:/tmp/loop_over_bdir-1128535-bh7ZiA/RDF-NLP-SPARQLQuery-0.1-0/blib/lib:/tmp/loop_over_bdir-1128535-bh7ZiA/Net-Async-WebService-lxd-0.03-0/blib/arch:/tmp/loop_over_bdir-1128535-bh7ZiA/Net-Async-WebService-lxd-0.03-0/blib/lib:/tmp/loop_over_bdir-1128535-bh7ZiA/Net-OpenVPN-DDNS-0.1-0/blib/arch:/tmp/loop_over_bdir-1128535-bh7ZiA/Net-OpenVPN-DDNS-0.1-0/blib/lib:/tmp/loop_over_bdir-1128535-bh7ZiA/ProjectBuilder-0.14.1-0/blib/arch:/tmp/loop_over_bdir-1128535-bh7ZiA/ProjectBuilder-0.14.1-0/blib/lib:/tmp/loop_over_bdir-1128535-bh7ZiA/Device-Kiln-0.03-0/blib/arch:/tmp/loop_over_bdir-1128535-bh7ZiA/Device-Kiln-0.03-0/blib/lib:/tmp/loop_over_bdir-1128535-bh7ZiA/Business-Shipping-DataFiles-1.02-0/blib/arch:/tmp/loop_over_bdir-1128535-bh7ZiA/Business-Shipping-DataFiles-1.02-0/blib/lib:/tmp/loop_over_bdir-1128535-bh7ZiA/DBIx-Migration-Directories-0.12-0/blib/arch:/tmp/loop_over_bdir-1128535-bh7ZiA/DBIx-Migration-Directories-0.12-0/blib/lib:/tmp/loop_over_bdir-1128535-bh7ZiA/makepp-1.19-0/blib/arch:/tmp/loop_over_bdir-1128535-bh7ZiA/makepp-1.19-0/blib/lib:/tmp/loop_over_bdir-1128535-bh7ZiA/Lemonldap-NG-Cli-0.2-0/blib/arch:/tmp/loop_over_bdir-1128535-bh7ZiA/Lemonldap-NG-Cli-0.2-0/blib/lib:/tmp/loop_over_bdir-1128535-bh7ZiA/Lingua-YaTeA-0.626-0/blib/arch:/tmp/loop_over_bdir-1128535-bh7ZiA/Lingua-YaTeA-0.626-0/blib/lib:/tmp/loop_over_bdir-1128535-bh7ZiA/Simulation-Automate-1.0.1-0/blib/arch:/tmp/loop_over_bdir-1128535-bh7ZiA/Simulation-Automate-1.0.1-0/blib/lib:/tmp/loop_over_bdir-1128535-bh7ZiA/Alien-SNMP-MIBDEV-2.020000-0/blib/arch:/tmp/loop_over_bdir-1128535-bh7ZiA/Alien-SNMP-MIBDEV-2.020000-0/blib/lib:/tmp/loop_over_bdir-1128535-bh7ZiA/dta-tokwrap-0.98-0/blib/arch:/tmp/loop_over_bdir-1128535-bh7ZiA/dta-tokwrap-0.98-0/blib/lib:/tmp/loop_over_bdir-1128535-bh7ZiA/Dpkg-1.21.19-0/blib/arch:/tmp/loop_over_bdir-1128535-bh7ZiA/Dpkg-1.21.19-0/blib/lib:/tmp/loop_over_bdir-1128535-bh7ZiA/EJBCA-CrlPublish-0.60-0/blib/arch:/tmp/loop_over_bdir-1128535-bh7ZiA/EJBCA-CrlPublish-0.60-0/blib/lib:/tmp/loop_over_bdir-1128535-bh7ZiA/Devel-Required-0.16-0/blib/arch:/tmp/loop_over_bdir-1128535-bh7ZiA/Devel-Required-0.16-0/blib/lib:/tmp/loop_over_bdir-1128535-bh7ZiA/Debian-Packages-0.03-0/blib/arch:/tmp/loop_over_bdir-1128535-bh7ZiA/Debian-Packages-0.03-0/blib/lib:/tmp/loop_over_bdir-1128535-bh7ZiA/Mail-SPF-v2.9.0-0/blib/arch:/tmp/loop_over_bdir-1128535-bh7ZiA/Mail-SPF-v2.9.0-0/blib/lib"
    PERL5OPT=""
    PERL5_CPANPLUS_IS_RUNNING="1128544"
    PERL5_CPAN_IS_RUNNING="1128544"
    PERL_CANARY_STABILITY_NOPROMPT="1"
    PERL_MM_USE_DEFAULT="1"
    PERL_USE_UNSAFE_INC="1"
  @INC:
    /tmp/loop_over_bdir-1128535-bh7ZiA/Net-ISP-Balance-1.31-0/blib/arch
    /tmp/loop_over_bdir-1128535-bh7ZiA/Net-ISP-Balance-1.31-0/blib/lib
    /tmp/loop_over_bdir-1128535-bh7ZiA/CGI-Application-NetNewsIface-0.0204-0/blib/arch
    /tmp/loop_over_bdir-1128535-bh7ZiA/CGI-Application-NetNewsIface-0.0204-0/blib/lib
    /tmp/loop_over_bdir-1128535-bh7ZiA/RDF-NLP-SPARQLQuery-0.1-0/blib/arch
    /tmp/loop_over_bdir-1128535-bh7ZiA/RDF-NLP-SPARQLQuery-0.1-0/blib/lib
    /tmp/loop_over_bdir-1128535-bh7ZiA/Net-Async-WebService-lxd-0.03-0/blib/arch
    /tmp/loop_over_bdir-1128535-bh7ZiA/Net-Async-WebService-lxd-0.03-0/blib/lib
    /tmp/loop_over_bdir-1128535-bh7ZiA/Net-OpenVPN-DDNS-0.1-0/blib/arch
    /tmp/loop_over_bdir-1128535-bh7ZiA/Net-OpenVPN-DDNS-0.1-0/blib/lib
    /tmp/loop_over_bdir-1128535-bh7ZiA/ProjectBuilder-0.14.1-0/blib/arch
    /tmp/loop_over_bdir-1128535-bh7ZiA/ProjectBuilder-0.14.1-0/blib/lib
    /tmp/loop_over_bdir-1128535-bh7ZiA/Device-Kiln-0.03-0/blib/arch
    /tmp/loop_over_bdir-1128535-bh7ZiA/Device-Kiln-0.03-0/blib/lib
    /tmp/loop_over_bdir-1128535-bh7ZiA/Business-Shipping-DataFiles-1.02-0/blib/arch
    /tmp/loop_over_bdir-1128535-bh7ZiA/Business-Shipping-DataFiles-1.02-0/blib/lib
    /tmp/loop_over_bdir-1128535-bh7ZiA/DBIx-Migration-Directories-0.12-0/blib/arch
    /tmp/loop_over_bdir-1128535-bh7ZiA/DBIx-Migration-Directories-0.12-0/blib/lib
    /tmp/loop_over_bdir-1128535-bh7ZiA/makepp-1.19-0/blib/arch
    /tmp/loop_over_bdir-1128535-bh7ZiA/makepp-1.19-0/blib/lib
    /tmp/loop_over_bdir-1128535-bh7ZiA/Lemonldap-NG-Cli-0.2-0/blib/arch
    /tmp/loop_over_bdir-1128535-bh7ZiA/Lemonldap-NG-Cli-0.2-0/blib/lib
    /tmp/loop_over_bdir-1128535-bh7ZiA/Lingua-YaTeA-0.626-0/blib/arch
    /tmp/loop_over_bdir-1128535-bh7ZiA/Lingua-YaTeA-0.626-0/blib/lib
    /tmp/loop_over_bdir-1128535-bh7ZiA/Simulation-Automate-1.0.1-0/blib/arch
    /tmp/loop_over_bdir-1128535-bh7ZiA/Simulation-Automate-1.0.1-0/blib/lib
    /tmp/loop_over_bdir-1128535-bh7ZiA/Alien-SNMP-MIBDEV-2.020000-0/blib/arch
    /tmp/loop_over_bdir-1128535-bh7ZiA/Alien-SNMP-MIBDEV-2.020000-0/blib/lib
    /tmp/loop_over_bdir-1128535-bh7ZiA/dta-tokwrap-0.98-0/blib/arch
    /tmp/loop_over_bdir-1128535-bh7ZiA/dta-tokwrap-0.98-0/blib/lib
    /tmp/loop_over_bdir-1128535-bh7ZiA/Dpkg-1.21.19-0/blib/arch
    /tmp/loop_over_bdir-1128535-bh7ZiA/Dpkg-1.21.19-0/blib/lib
    /tmp/loop_over_bdir-1128535-bh7ZiA/EJBCA-CrlPublish-0.60-0/blib/arch
    /tmp/loop_over_bdir-1128535-bh7ZiA/EJBCA-CrlPublish-0.60-0/blib/lib
    /tmp/loop_over_bdir-1128535-bh7ZiA/Devel-Required-0.16-0/blib/arch
    /tmp/loop_over_bdir-1128535-bh7ZiA/Devel-Required-0.16-0/blib/lib
    /tmp/loop_over_bdir-1128535-bh7ZiA/Debian-Packages-0.03-0/blib/arch
    /tmp/loop_over_bdir-1128535-bh7ZiA/Debian-Packages-0.03-0/blib/lib
    /tmp/loop_over_bdir-1128535-bh7ZiA/Mail-SPF-v2.9.0-0/blib/arch
    /tmp/loop_over_bdir-1128535-bh7ZiA/Mail-SPF-v2.9.0-0/blib/lib
    /home/sand/src/perl/repoperls/installed-perls/host/k93jammy/v5.37.11/5674/lib/site_perl/5.37.11/x86_64-linux-ld
    /home/sand/src/perl/repoperls/installed-perls/host/k93jammy/v5.37.11/5674/lib/site_perl/5.37.11
    /home/sand/src/perl/repoperls/installed-perls/host/k93jammy/v5.37.11/5674/lib/5.37.11/x86_64-linux-ld
    /home/sand/src/perl/repoperls/installed-perls/host/k93jammy/v5.37.11/5674/lib/5.37.11
    .